{"text_format":"3","workbook":"xlsx","n_sheets":2,"sheets":["HOME","CALC"],"not_rendered":{"charts":2,"images":12,"macros":1},"cells_cut":1,"read":"whole","date_system":"1900"}

{"sheet":"HOME","index":0,"n_rows":116,"n_cols":34,"rows_kept":116,"merged":[[1,19,4,20],[1,22,4,23],[6,19,6,21],[9,19,9,21],[13,22,13,23],[19,22,19,23],[23,22,23,23],[24,22,25,22],[24,23,25,23],[27,22,27,23],[47,22,47,23]]}
[]
[{"$nulls":19},{"$f":"IF(CALC!G1=1,\"         NEXT\",IF(CALC!F5>0,\"    TRY AGAIN\",\"\"))","v":""},null,null,"       RESET ",{"$nulls":9},"scrollbars"]
[{"$nulls":32},"sc1",59]
[{"$nulls":32},"sc2",45]
[]
[{"$nulls":32},"trajectory",false]
[{"$nulls":19},"stretching distance",null,null,{"$f":"CALC!B17","v":0.41000000000000003},"m",{"$nulls":8},"vectors",false]
[]
[]
[{"$nulls":19},"shooting angle",null,null,{"$f":"CALC!B3","v":45},"deg"]
[]
[]
[]
[{"$nulls":19},"Stage No.","Tries",null,"Positions:"]
[{"$nulls":19},{"$f":"IF(CALC!L3=\"\",\"\",\"Stage\"&CALC!L3)","v":"Stage1"},{"$f":"IF(CALC!M3=\"\",\"\",CALC!M3)","v":1},null,"Bird_x(m)",{"$f":"CALC!B4","v":1.5}]
[{"$nulls":19},{"$f":"IF(CALC!L4=\"\",\"\",\"Stage\"&CALC!L4)","v":""},{"$f":"IF(CALC!M4=\"\",\"\",CALC!M4)","v":""},null,"Bird_y(m)",{"$f":"CALC!B5","v":1.5}]
[{"$nulls":19},{"$f":"IF(CALC!L5=\"\",\"\",\"Stage\"&CALC!L5)","v":""},{"$f":"IF(CALC!M5=\"\",\"\",CALC!M5)","v":""},null,"Pig_x(m)",{"$f":"CALC!B6","v":8}]
[{"$nulls":19},{"$f":"IF(CALC!L6=\"\",\"\",\"Stage\"&CALC!L6)","v":""},{"$f":"IF(CALC!M6=\"\",\"\",CALC!M6)","v":""},null,"Pig_y(m)",{"$f":"CALC!B7","v":3}]
[{"$nulls":19},{"$f":"IF(CALC!L7=\"\",\"\",\"Stage\"&CALC!L7)","v":""},{"$f":"IF(CALC!M7=\"\",\"\",CALC!M7)","v":""}]
[{"$nulls":19},{"$f":"IF(CALC!L8=\"\",\"\",\"Stage\"&CALC!L8)","v":""},{"$f":"IF(CALC!M8=\"\",\"\",CALC!M8)","v":""},null,"Results"]
[{"$nulls":19},{"$f":"IF(CALC!L9=\"\",\"\",\"Stage\"&CALC!L9)","v":""},{"$f":"IF(CALC!M9=\"\",\"\",CALC!M9)","v":""},null,"Completed","All"]
[{"$nulls":19},{"$f":"IF(CALC!L10=\"\",\"\",\"Stage\"&CALC!L10)","v":""},{"$f":"IF(CALC!M10=\"\",\"\",CALC!M10)","v":""},null,"Stages","Tries"]
[{"$nulls":19},{"$f":"IF(CALC!L11=\"\",\"\",\"Stage\"&CALC!L11)","v":""},{"$f":"IF(CALC!M11=\"\",\"\",CALC!M11)","v":""},null,{"$f":"COUNT(CALC!L3:L102)-1","v":0},{"$f":"SUM(CALC!M3:M102)-1","v":0}]
[{"$nulls":19},{"$f":"IF(CALC!L12=\"\",\"\",\"Stage\"&CALC!L12)","v":""},{"$f":"IF(CALC!M12=\"\",\"\",CALC!M12)","v":""},null,"Shooting %"]
[{"$nulls":19},{"$f":"IF(CALC!L13=\"\",\"\",\"Stage\"&CALC!L13)","v":""},{"$f":"IF(CALC!M13=\"\",\"\",CALC!M13)","v":""},null,{"$f":"IF(AND(W23=0,X23=0),\"\",(W23/X23)*100)","v":""},"%"]
[{"$nulls":19},{"$f":"IF(CALC!L14=\"\",\"\",\"Stage\"&CALC!L14)","v":""},{"$f":"IF(CALC!M14=\"\",\"\",CALC!M14)","v":""}]
[{"$nulls":19},{"$f":"IF(CALC!L15=\"\",\"\",\"Stage\"&CALC!L15)","v":""},{"$f":"IF(CALC!M15=\"\",\"\",CALC!M15)","v":""}]
[{"$nulls":19},{"$f":"IF(CALC!L16=\"\",\"\",\"Stage\"&CALC!L16)","v":""},{"$f":"IF(CALC!M16=\"\",\"\",CALC!M16)","v":""},null,"Advanced Settings"]
[{"$nulls":19},{"$f":"IF(CALC!L17=\"\",\"\",\"Stage\"&CALC!L17)","v":""},{"$f":"IF(CALC!M17=\"\",\"\",CALC!M17)","v":""},null,null,{"$f":"IF(AH6=TRUE,\"ON\",\"OFF\")","v":"OFF"}]
[{"$nulls":19},{"$f":"IF(CALC!L18=\"\",\"\",\"Stage\"&CALC!L18)","v":""},{"$f":"IF(CALC!M18=\"\",\"\",CALC!M18)","v":""},null,null,{"$f":"IF(AH7=TRUE,\"ON\",\"OFF\")","v":"OFF"}]
[{"$nulls":19},{"$f":"IF(CALC!L19=\"\",\"\",\"Stage\"&CALC!L19)","v":""},{"$f":"IF(CALC!M19=\"\",\"\",CALC!M19)","v":""},null,"k (N/m)",600]
[{"$nulls":19},{"$f":"IF(CALC!L20=\"\",\"\",\"Stage\"&CALC!L20)","v":""},{"$f":"IF(CALC!M20=\"\",\"\",CALC!M20)","v":""},null,"m (kg)",3]
[{"$nulls":19},{"$f":"IF(CALC!L21=\"\",\"\",\"Stage\"&CALC!L21)","v":""},{"$f":"IF(CALC!M21=\"\",\"\",CALC!M21)","v":""},null,"dt (s)",0.02]
[{"$nulls":18},{"$cut":{"chars":26061,"head":"                                                                                                                                                                                                                                                                                                                                                                                                                                                                                                                                                                                                                                                                                                                                                                                                                                                                                                                                                                                                                                                                                                                                                                                                                                                                                                                                                                                                                                                                                                                                                                                                                                                                                                                                                                                                                                                                                                                                                                                                                                                                                                                                                                                                                                                                                                                                                                                                                                                                                                                                                                                                                                                                                                                                                                                                                                                                                                                                                                                                                                                                                                                                                                                                                                                                                                                                                                                                                                                                                                                                                                                                                                                                                                                                                                                                                                                                                                                                                                                                                                                                                                                                                                                                                                                                "}},{"$f":"IF(CALC!L22=\"\",\"\",\"Stage\"&CALC!L22)","v":""},{"$f":"IF(CALC!M22=\"\",\"\",CALC!M22)","v":""},null,"ax(m/s2)",0]
[{"$nulls":19},{"$f":"IF(CALC!L23=\"\",\"\",\"Stage\"&CALC!L23)","v":""},{"$f":"IF(CALC!M23=\"\",\"\",CALC!M23)","v":""},null,"ay(m/s2)",-10]
[{"$nulls":19},{"$f":"IF(CALC!L24=\"\",\"\",\"Stage\"&CALC!L24)","v":""},{"$f":"IF(CALC!M24=\"\",\"\",CALC!M24)","v":""}]
[{"$nulls":19},{"$f":"IF(CALC!L25=\"\",\"\",\"Stage\"&CALC!L25)","v":""},{"$f":"IF(CALC!M25=\"\",\"\",CALC!M25)","v":""},null,"tolerances"]
[{"$nulls":19},{"$f":"IF(CALC!L26=\"\",\"\",\"Stage\"&CALC!L26)","v":""},{"$f":"IF(CALC!M26=\"\",\"\",CALC!M26)","v":""},null,"bird_H",0.08]
[{"$nulls":19},{"$f":"IF(CALC!L27=\"\",\"\",\"Stage\"&CALC!L27)","v":""},{"$f":"IF(CALC!M27=\"\",\"\",CALC!M27)","v":""},null,"bird_V",0.08]
[{"$nulls":19},{"$f":"IF(CALC!L28=\"\",\"\",\"Stage\"&CALC!L28)","v":""},{"$f":"IF(CALC!M28=\"\",\"\",CALC!M28)","v":""},null,"pig_H",0.12]
[{"$nulls":19},{"$f":"IF(CALC!L29=\"\",\"\",\"Stage\"&CALC!L29)","v":""},{"$f":"IF(CALC!M29=\"\",\"\",CALC!M29)","v":""},null,"pig_V",0.12]
[{"$nulls":19},{"$f":"IF(CALC!L30=\"\",\"\",\"Stage\"&CALC!L30)","v":""},{"$f":"IF(CALC!M30=\"\",\"\",CALC!M30)","v":""}]
[{"$nulls":19},{"$f":"IF(CALC!L31=\"\",\"\",\"Stage\"&CALC!L31)","v":""},{"$f":"IF(CALC!M31=\"\",\"\",CALC!M31)","v":""},null,"manual position"]
[{"$nulls":19},{"$f":"IF(CALC!L32=\"\",\"\",\"Stage\"&CALC!L32)","v":""},{"$f":"IF(CALC!M32=\"\",\"\",CALC!M32)","v":""},null,"Bird_x",1.5]
[{"$nulls":19},{"$f":"IF(CALC!L33=\"\",\"\",\"Stage\"&CALC!L33)","v":""},{"$f":"IF(CALC!M33=\"\",\"\",CALC!M33)","v":""},null,"Bird_y",1.5]
[{"$nulls":19},{"$f":"IF(CALC!L34=\"\",\"\",\"Stage\"&CALC!L34)","v":""},{"$f":"IF(CALC!M34=\"\",\"\",CALC!M34)","v":""},null,"Pig_x",8]
[{"$nulls":19},{"$f":"IF(CALC!L35=\"\",\"\",\"Stage\"&CALC!L35)","v":""},{"$f":"IF(CALC!M35=\"\",\"\",CALC!M35)","v":""},null,"Pig_y",3]
[{"$nulls":19},{"$f":"IF(CALC!L36=\"\",\"\",\"Stage\"&CALC!L36)","v":""},{"$f":"IF(CALC!M36=\"\",\"\",CALC!M36)","v":""},null,"Apply"]
[{"$nulls":19},{"$f":"IF(CALC!L37=\"\",\"\",\"Stage\"&CALC!L37)","v":""},{"$f":"IF(CALC!M37=\"\",\"\",CALC!M37)","v":""}]
[{"$nulls":19},{"$f":"IF(CALC!L38=\"\",\"\",\"Stage\"&CALC!L38)","v":""},{"$f":"IF(CALC!M38=\"\",\"\",CALC!M38)","v":""}]
[{"$nulls":19},{"$f":"IF(CALC!L39=\"\",\"\",\"Stage\"&CALC!L39)","v":""},{"$f":"IF(CALC!M39=\"\",\"\",CALC!M39)","v":""}]
[{"$nulls":19},{"$f":"IF(CALC!L40=\"\",\"\",\"Stage\"&CALC!L40)","v":""},{"$f":"IF(CALC!M40=\"\",\"\",CALC!M40)","v":""}]
[{"$nulls":19},{"$f":"IF(CALC!L41=\"\",\"\",\"Stage\"&CALC!L41)","v":""},{"$f":"IF(CALC!M41=\"\",\"\",CALC!M41)","v":""}]
[{"$nulls":19},{"$f":"IF(CALC!L42=\"\",\"\",\"Stage\"&CALC!L42)","v":""},{"$f":"IF(CALC!M42=\"\",\"\",CALC!M42)","v":""}]
[{"$nulls":19},{"$f":"IF(CALC!L43=\"\",\"\",\"Stage\"&CALC!L43)","v":""},{"$f":"IF(CALC!M43=\"\",\"\",CALC!M43)","v":""}]
[{"$nulls":19},{"$f":"IF(CALC!L44=\"\",\"\",\"Stage\"&CALC!L44)","v":""},{"$f":"IF(CALC!M44=\"\",\"\",CALC!M44)","v":""}]
[{"$nulls":19},{"$f":"IF(CALC!L45=\"\",\"\",\"Stage\"&CALC!L45)","v":""},{"$f":"IF(CALC!M45=\"\",\"\",CALC!M45)","v":""}]
[{"$nulls":19},{"$f":"IF(CALC!L46=\"\",\"\",\"Stage\"&CALC!L46)","v":""},{"$f":"IF(CALC!M46=\"\",\"\",CALC!M46)","v":""}]
[{"$nulls":19},{"$f":"IF(CALC!L47=\"\",\"\",\"Stage\"&CALC!L47)","v":""},{"$f":"IF(CALC!M47=\"\",\"\",CALC!M47)","v":""}]
[{"$nulls":19},{"$f":"IF(CALC!L48=\"\",\"\",\"Stage\"&CALC!L48)","v":""},{"$f":"IF(CALC!M48=\"\",\"\",CALC!M48)","v":""}]
[{"$nulls":19},{"$f":"IF(CALC!L49=\"\",\"\",\"Stage\"&CALC!L49)","v":""},{"$f":"IF(CALC!M49=\"\",\"\",CALC!M49)","v":""}]
[{"$nulls":19},{"$f":"IF(CALC!L50=\"\",\"\",\"Stage\"&CALC!L50)","v":""},{"$f":"IF(CALC!M50=\"\",\"\",CALC!M50)","v":""}]
[{"$nulls":19},{"$f":"IF(CALC!L51=\"\",\"\",\"Stage\"&CALC!L51)","v":""},{"$f":"IF(CALC!M51=\"\",\"\",CALC!M51)","v":""}]
[{"$nulls":19},{"$f":"IF(CALC!L52=\"\",\"\",\"Stage\"&CALC!L52)","v":""},{"$f":"IF(CALC!M52=\"\",\"\",CALC!M52)","v":""}]
[{"$nulls":19},{"$f":"IF(CALC!L53=\"\",\"\",\"Stage\"&CALC!L53)","v":""},{"$f":"IF(CALC!M53=\"\",\"\",CALC!M53)","v":""}]
[{"$nulls":19},{"$f":"IF(CALC!L54=\"\",\"\",\"Stage\"&CALC!L54)","v":""},{"$f":"IF(CALC!M54=\"\",\"\",CALC!M54)","v":""}]
[{"$nulls":19},{"$f":"IF(CALC!L55=\"\",\"\",\"Stage\"&CALC!L55)","v":""},{"$f":"IF(CALC!M55=\"\",\"\",CALC!M55)","v":""}]
[{"$nulls":19},{"$f":"IF(CALC!L56=\"\",\"\",\"Stage\"&CALC!L56)","v":""},{"$f":"IF(CALC!M56=\"\",\"\",CALC!M56)","v":""}]
[{"$nulls":19},{"$f":"IF(CALC!L57=\"\",\"\",\"Stage\"&CALC!L57)","v":""},{"$f":"IF(CALC!M57=\"\",\"\",CALC!M57)","v":""}]
[{"$nulls":19},{"$f":"IF(CALC!L58=\"\",\"\",\"Stage\"&CALC!L58)","v":""},{"$f":"IF(CALC!M58=\"\",\"\",CALC!M58)","v":""}]
[{"$nulls":19},{"$f":"IF(CALC!L59=\"\",\"\",\"Stage\"&CALC!L59)","v":""},{"$f":"IF(CALC!M59=\"\",\"\",CALC!M59)","v":""}]
[{"$nulls":19},{"$f":"IF(CALC!L60=\"\",\"\",\"Stage\"&CALC!L60)","v":""},{"$f":"IF(CALC!M60=\"\",\"\",CALC!M60)","v":""}]
[{"$nulls":19},{"$f":"IF(CALC!L61=\"\",\"\",\"Stage\"&CALC!L61)","v":""},{"$f":"IF(CALC!M61=\"\",\"\",CALC!M61)","v":""}]
[{"$nulls":19},{"$f":"IF(CALC!L62=\"\",\"\",\"Stage\"&CALC!L62)","v":""},{"$f":"IF(CALC!M62=\"\",\"\",CALC!M62)","v":""}]
[{"$nulls":19},{"$f":"IF(CALC!L63=\"\",\"\",\"Stage\"&CALC!L63)","v":""},{"$f":"IF(CALC!M63=\"\",\"\",CALC!M63)","v":""}]
[{"$nulls":19},{"$f":"IF(CALC!L64=\"\",\"\",\"Stage\"&CALC!L64)","v":""},{"$f":"IF(CALC!M64=\"\",\"\",CALC!M64)","v":""}]
[{"$nulls":19},{"$f":"IF(CALC!L65=\"\",\"\",\"Stage\"&CALC!L65)","v":""},{"$f":"IF(CALC!M65=\"\",\"\",CALC!M65)","v":""}]
[{"$nulls":19},{"$f":"IF(CALC!L66=\"\",\"\",\"Stage\"&CALC!L66)","v":""},{"$f":"IF(CALC!M66=\"\",\"\",CALC!M66)","v":""}]
[{"$nulls":19},{"$f":"IF(CALC!L67=\"\",\"\",\"Stage\"&CALC!L67)","v":""},{"$f":"IF(CALC!M67=\"\",\"\",CALC!M67)","v":""}]
[{"$nulls":19},{"$f":"IF(CALC!L68=\"\",\"\",\"Stage\"&CALC!L68)","v":""},{"$f":"IF(CALC!M68=\"\",\"\",CALC!M68)","v":""}]
[{"$nulls":19},{"$f":"IF(CALC!L69=\"\",\"\",\"Stage\"&CALC!L69)","v":""},{"$f":"IF(CALC!M69=\"\",\"\",CALC!M69)","v":""}]
[{"$nulls":19},{"$f":"IF(CALC!L70=\"\",\"\",\"Stage\"&CALC!L70)","v":""},{"$f":"IF(CALC!M70=\"\",\"\",CALC!M70)","v":""}]
[{"$nulls":19},{"$f":"IF(CALC!L71=\"\",\"\",\"Stage\"&CALC!L71)","v":""},{"$f":"IF(CALC!M71=\"\",\"\",CALC!M71)","v":""}]
[{"$nulls":19},{"$f":"IF(CALC!L72=\"\",\"\",\"Stage\"&CALC!L72)","v":""},{"$f":"IF(CALC!M72=\"\",\"\",CALC!M72)","v":""}]
[{"$nulls":19},{"$f":"IF(CALC!L73=\"\",\"\",\"Stage\"&CALC!L73)","v":""},{"$f":"IF(CALC!M73=\"\",\"\",CALC!M73)","v":""}]
[{"$nulls":19},{"$f":"IF(CALC!L74=\"\",\"\",\"Stage\"&CALC!L74)","v":""},{"$f":"IF(CALC!M74=\"\",\"\",CALC!M74)","v":""}]
[{"$nulls":19},{"$f":"IF(CALC!L75=\"\",\"\",\"Stage\"&CALC!L75)","v":""},{"$f":"IF(CALC!M75=\"\",\"\",CALC!M75)","v":""}]
[{"$nulls":19},{"$f":"IF(CALC!L76=\"\",\"\",\"Stage\"&CALC!L76)","v":""},{"$f":"IF(CALC!M76=\"\",\"\",CALC!M76)","v":""}]
[{"$nulls":19},{"$f":"IF(CALC!L77=\"\",\"\",\"Stage\"&CALC!L77)","v":""},{"$f":"IF(CALC!M77=\"\",\"\",CALC!M77)","v":""}]
[{"$nulls":19},{"$f":"IF(CALC!L78=\"\",\"\",\"Stage\"&CALC!L78)","v":""},{"$f":"IF(CALC!M78=\"\",\"\",CALC!M78)","v":""}]
[{"$nulls":19},{"$f":"IF(CALC!L79=\"\",\"\",\"Stage\"&CALC!L79)","v":""},{"$f":"IF(CALC!M79=\"\",\"\",CALC!M79)","v":""}]
[{"$nulls":19},{"$f":"IF(CALC!L80=\"\",\"\",\"Stage\"&CALC!L80)","v":""},{"$f":"IF(CALC!M80=\"\",\"\",CALC!M80)","v":""}]
[{"$nulls":19},{"$f":"IF(CALC!L81=\"\",\"\",\"Stage\"&CALC!L81)","v":""},{"$f":"IF(CALC!M81=\"\",\"\",CALC!M81)","v":""}]
[{"$nulls":19},{"$f":"IF(CALC!L82=\"\",\"\",\"Stage\"&CALC!L82)","v":""},{"$f":"IF(CALC!M82=\"\",\"\",CALC!M82)","v":""}]
[{"$nulls":19},{"$f":"IF(CALC!L83=\"\",\"\",\"Stage\"&CALC!L83)","v":""},{"$f":"IF(CALC!M83=\"\",\"\",CALC!M83)","v":""}]
[{"$nulls":19},{"$f":"IF(CALC!L84=\"\",\"\",\"Stage\"&CALC!L84)","v":""},{"$f":"IF(CALC!M84=\"\",\"\",CALC!M84)","v":""}]
[{"$nulls":19},{"$f":"IF(CALC!L85=\"\",\"\",\"Stage\"&CALC!L85)","v":""},{"$f":"IF(CALC!M85=\"\",\"\",CALC!M85)","v":""}]
[{"$nulls":19},{"$f":"IF(CALC!L86=\"\",\"\",\"Stage\"&CALC!L86)","v":""},{"$f":"IF(CALC!M86=\"\",\"\",CALC!M86)","v":""}]
[{"$nulls":19},{"$f":"IF(CALC!L87=\"\",\"\",\"Stage\"&CALC!L87)","v":""},{"$f":"IF(CALC!M87=\"\",\"\",CALC!M87)","v":""}]
[{"$nulls":19},{"$f":"IF(CALC!L88=\"\",\"\",\"Stage\"&CALC!L88)","v":""},{"$f":"IF(CALC!M88=\"\",\"\",CALC!M88)","v":""}]
[{"$nulls":19},{"$f":"IF(CALC!L89=\"\",\"\",\"Stage\"&CALC!L89)","v":""},{"$f":"IF(CALC!M89=\"\",\"\",CALC!M89)","v":""}]
[{"$nulls":19},{"$f":"IF(CALC!L90=\"\",\"\",\"Stage\"&CALC!L90)","v":""},{"$f":"IF(CALC!M90=\"\",\"\",CALC!M90)","v":""}]
[{"$nulls":19},{"$f":"IF(CALC!L91=\"\",\"\",\"Stage\"&CALC!L91)","v":""},{"$f":"IF(CALC!M91=\"\",\"\",CALC!M91)","v":""}]
[{"$nulls":19},{"$f":"IF(CALC!L92=\"\",\"\",\"Stage\"&CALC!L92)","v":""},{"$f":"IF(CALC!M92=\"\",\"\",CALC!M92)","v":""}]
[{"$nulls":19},{"$f":"IF(CALC!L93=\"\",\"\",\"Stage\"&CALC!L93)","v":""},{"$f":"IF(CALC!M93=\"\",\"\",CALC!M93)","v":""}]
[{"$nulls":19},{"$f":"IF(CALC!L94=\"\",\"\",\"Stage\"&CALC!L94)","v":""},{"$f":"IF(CALC!M94=\"\",\"\",CALC!M94)","v":""}]
[{"$nulls":19},{"$f":"IF(CALC!L95=\"\",\"\",\"Stage\"&CALC!L95)","v":""},{"$f":"IF(CALC!M95=\"\",\"\",CALC!M95)","v":""}]
[{"$nulls":19},{"$f":"IF(CALC!L96=\"\",\"\",\"Stage\"&CALC!L96)","v":""},{"$f":"IF(CALC!M96=\"\",\"\",CALC!M96)","v":""}]
[{"$nulls":19},{"$f":"IF(CALC!L97=\"\",\"\",\"Stage\"&CALC!L97)","v":""},{"$f":"IF(CALC!M97=\"\",\"\",CALC!M97)","v":""}]
[{"$nulls":19},{"$f":"IF(CALC!L98=\"\",\"\",\"Stage\"&CALC!L98)","v":""},{"$f":"IF(CALC!M98=\"\",\"\",CALC!M98)","v":""}]
[{"$nulls":19},{"$f":"IF(CALC!L99=\"\",\"\",\"Stage\"&CALC!L99)","v":""},{"$f":"IF(CALC!M99=\"\",\"\",CALC!M99)","v":""}]
[{"$nulls":19},{"$f":"IF(CALC!L100=\"\",\"\",\"Stage\"&CALC!L100)","v":""},{"$f":"IF(CALC!M100=\"\",\"\",CALC!M100)","v":""}]
[{"$nulls":19},{"$f":"IF(CALC!L101=\"\",\"\",\"Stage\"&CALC!L101)","v":""},{"$f":"IF(CALC!M101=\"\",\"\",CALC!M101)","v":""}]
[{"$nulls":19},{"$f":"IF(CALC!L102=\"\",\"\",\"Stage\"&CALC!L102)","v":""},{"$f":"IF(CALC!M102=\"\",\"\",CALC!M102)","v":""}]
[{"$nulls":19},{"$f":"IF(CALC!L103=\"\",\"\",\"Stage\"&CALC!L103)","v":""},{"$f":"IF(CALC!M103=\"\",\"\",CALC!M103)","v":""}]
[{"$nulls":19},{"$f":"IF(CALC!L104=\"\",\"\",\"Stage\"&CALC!L104)","v":""},{"$f":"IF(CALC!M104=\"\",\"\",CALC!M104)","v":""}]

{"sheet":"CALC","index":1,"n_rows":45,"n_cols":17,"rows_kept":45}
["INPUT",{"$nulls":3},"disznó eliminálva?",null,{"$f":"IF(AND(G5+B33>G40-B35,G5-B33<G40+B35,H5+B34>H40-B36,H5-B34<H40+B36),1,0)","v":0},"madár leesett?",{"$f":"IF(AND(H5<=0,F5>0),1,0)","v":0},null,null,-1,1]
["v",{"$f":"((B18*B17^2/B19)-(2*ABS(B11)*B17*SIN(B3*PI()/180)))^0.5","v":5.274630261380443},{"$nulls":12},"vectors",{"$f":"IF(HOME!AH7=TRUE,1,0)","v":0}]
["alfa",{"$f":"HOME!AH4","v":45},null,null,5,null,"madar",null,"palyagorbe",null,null,1,1,null,null,{"$f":"IF(P2=1,1,NA())","v":{"$error":"#N/A"}}]
["xA",1.5,"m",{"$f":"HOME!X44","v":1.5},"t_cs","t_r","x","y","x","y",{"$nulls":4},"x","y"]
["yA",1.5,"m",{"$f":"HOME!X45","v":1.5},0,0,{"$f":"IF(E5<B21,B4-(B17*COS(B20*E5))*COS(B3*PI()/180),B4+B8*F5+0.5*B10*F5^2)","v":1.2100862197135154},{"$f":"IF(E5<B21,B5-(B17*COS(B20*E5))*SIN(B3*PI()/180),B5+B9*F5+0.5*B11*F5^2)","v":1.2100862197135156},{"$f":"B4+B8*F5+0.5*B10*F5^2","v":1.5},{"$f":"B5+B9*F5+0.5*B11*F5^2","v":1.5},{"$nulls":3},"x",0,0]
["xC",8,"m",{"$f":"HOME!X46","v":8},{"$nulls":10},{"$f":"P3*IF(F5=0,B4,G5)","v":{"$error":"#N/A"}},0]
["yC",3,"m",{"$f":"HOME!X47","v":3},null,null,"csúzli gumi",{"$nulls":6},"arr",{"$f":"P3*O6-N8*COS(N9*PI()/180)","v":{"$error":"#N/A"}},{"$f":"P3*P6+N8*SIN(N9*PI()/180)","v":{"$error":"#N/A"}}]
["v0x",{"$f":"B2*COS(B3*PI()/180)","v":3.729726826073883},"m/s",{"$nulls":3},{"$f":"IF(E5<(PI()/(2*B20)),B4-(B17*COS(B20*E5))*COS(B3*PI()/180),B4)","v":1.2100862197135154},{"$f":"IF(E5<(PI()/(2*B20)),B5-(B17*COS(B20*E5))*SIN(B3*PI()/180),B5)","v":1.2100862197135156},{"$nulls":5},0.5,{"$f":"O6","v":{"$error":"#N/A"}},{"$f":"P6","v":0}]
["v0y",{"$f":"B2*SIN(B3*PI()/180)","v":3.7297268260738825},"m/s",{"$nulls":3},{"$f":"B4-B24/2","v":1.3},{"$f":"B5","v":1.5},{"$nulls":5},30,{"$f":"P3*O6-N8*COS(N9*PI()/180)","v":{"$error":"#N/A"}},{"$f":"P3*P6-N8*SIN(N9*PI()/180)","v":{"$error":"#N/A"}}]
["a_x",{"$f":"HOME!X34","v":0},"m/s^2"]
["a_y",{"$f":"HOME!X35","v":-10},"m/s^2",{"$nulls":3},{"$f":"IF(E5<(PI()/(2*B20)),B4-(B17*COS(B20*E5))*COS(B3*PI()/180),B4)","v":1.2100862197135154},{"$f":"IF(E5<(PI()/(2*B20)),B5-(B17*COS(B20*E5))*SIN(B3*PI()/180),B5)","v":1.2100862197135156},{"$nulls":5},"y",0,0]
[{"$nulls":6},{"$f":"B4+B24/2","v":1.7},{"$f":"B5","v":1.5},{"$nulls":6},0,{"$f":"P3*IF(F5=0,B5,H5)","v":{"$error":"#N/A"}}]
["dt",{"$f":"HOME!X33","v":0.02},"s",{"$nulls":10},"arr",{"$f":"P3*O12-N14*SIN(N15*PI()/180)","v":{"$error":"#N/A"}},{"$f":"P3*P12-N14*COS(N15*PI()/180)","v":{"$error":"#N/A"}}]
[{"$nulls":6},"csúzli ág",{"$nulls":6},0.5,0,{"$f":"P12","v":{"$error":"#N/A"}}]
["curve",{"$f":"IF(HOME!AH6=TRUE,1,0)","v":0},{"$nulls":4},{"$f":"B4-B24/2","v":1.3},{"$f":"B5","v":1.5},{"$nulls":5},30,{"$f":"P3*O12+N14*SIN(N15*PI()/180)","v":{"$error":"#N/A"}},{"$f":"P13","v":{"$error":"#N/A"}}]
[{"$nulls":6},{"$f":"B4","v":1.5},{"$f":"B5-B25","v":0.9}]
["q0",{"$f":"1-HOME!AH3/100","v":0.41000000000000003},"m",147,{"$nulls":9},"Xydot",{"$f":"P3*IF(F5=0,B4,G5)","v":{"$error":"#N/A"}},{"$f":"P6","v":0}]
["k",{"$f":"HOME!X31","v":600},"N/m",{"$nulls":3},{"$f":"B4+B24/2","v":1.7},{"$f":"B5","v":1.5},{"$nulls":6},{"$f":"P3*IF(F5=0,B4,G5)","v":{"$error":"#N/A"}},{"$f":"P3*IF(F5=0,B5,H5)","v":{"$error":"#N/A"}}]
["m",{"$f":"HOME!X32","v":3},"kg",{"$nulls":3},{"$f":"B4","v":1.5},{"$f":"B5-B25","v":0.9}]
["nf",{"$f":"(B18/B19)^(0.5)","v":14.142135623730951},{"$nulls":12},0,{"$f":"P3*IF(F5=0,B5,H5)","v":{"$error":"#N/A"}}]
["starttime",{"$f":"PI()/(2*B20)","v":0.11107207345395914},{"$nulls":4},{"$f":"B4","v":1.5},{"$f":"B5-B25","v":0.9},{"$nulls":6},{"$f":"P3*IF(F5=0,B4,G5)","v":{"$error":"#N/A"}},{"$f":"P3*IF(F5=0,B5,H5)","v":{"$error":"#N/A"}}]
[{"$nulls":6},{"$f":"B4","v":1.5},{"$f":"B5-B25-B26","v":0.30000000000000004}]
["csuzli",{"$nulls":12},"vx",{"$f":"IF(F5=0,NA(),G5)","v":{"$error":"#N/A"}},{"$f":"P3*IF(F5=0,NA(),H5)","v":{"$error":"#N/A"}}]
["A",0.4,{"$nulls":4},"kilövő állás",{"$nulls":6},0.2,{"$f":"P3*IF(F5=0,NA(),G5+N24*B8)","v":{"$error":"#N/A"}},{"$f":"P3*IF(F5=0,NA(),H5)","v":{"$error":"#N/A"}}]
["B",0.6,{"$nulls":4},{"$f":"B4-B27","v":0.9},0,{"$nulls":5},"arr",{"$f":"P3*O24-N26*COS(N27*PI()/180)","v":{"$error":"#N/A"}},{"$f":"P3*P23+N26*SIN(N27*PI()/180)","v":{"$error":"#N/A"}}]
["C",0.6,{"$nulls":4},{"$f":"B4","v":1.5},{"$f":"H22","v":0.30000000000000004},{"$nulls":5},0.3,{"$f":"O24","v":{"$error":"#N/A"}},{"$f":"P23","v":{"$error":"#N/A"}}]
["D",0.6,{"$nulls":4},{"$f":"B4","v":1.5},0,{"$nulls":5},30,{"$f":"P3*O24-N26*COS(N27*PI()/180)","v":{"$error":"#N/A"}},{"$f":"P3*P23-N26*SIN(N27*PI()/180)","v":{"$error":"#N/A"}}]
[{"$nulls":6},{"$f":"G27","v":1.5},0]
["disznómagaslat",{"$nulls":5},{"$f":"B4","v":1.5},{"$f":"H26","v":0.30000000000000004},{"$nulls":5},"vy",{"$f":"IF(F5=0,NA(),G5)","v":{"$error":"#N/A"}},{"$f":"P3*IF(F5=0,NA(),H5)","v":{"$error":"#N/A"}},{"$f":"SIGN(P29-P30)","v":{"$error":"#N/A"}}]
["E",0.3,{"$nulls":4},{"$f":"G29+B27","v":2.1},0,{"$nulls":6},{"$f":"P3*IF(F5=0,NA(),G5)","v":{"$error":"#N/A"}},{"$f":"P3*IF(F5=0,NA(),H5+N24*(B9+B11*F5))","v":{"$error":"#N/A"}}]
[{"$nulls":13},"arr",{"$f":"P3*O30-N32*SIN(N33*PI()/180)","v":{"$error":"#N/A"}},{"$f":"P3*P30+Q29*N32*COS(N33*PI()/180)","v":{"$error":"#N/A"}}]
["tűrések",{"$nulls":12},0.3,{"$f":"O30","v":{"$error":"#N/A"}},{"$f":"P30","v":{"$error":"#N/A"}}]
["bird_H",{"$f":"HOME!X38","v":0.08},{"$nulls":4},"disznómagaslat",{"$nulls":6},30,{"$f":"P3*O30+N32*SIN(N33*PI()/180)","v":{"$error":"#N/A"}},{"$f":"P31","v":{"$error":"#N/A"}}]
["bird_V",{"$f":"HOME!X39","v":0.08},{"$nulls":4},{"$f":"B6","v":8},0]
["pig_H",{"$f":"HOME!X40","v":0.12},{"$nulls":4},{"$f":"B6","v":8},{"$f":"B7-B36","v":2.88},{"$nulls":5},"a_y",{"$f":"IF(F5=0,NA(),G5)","v":{"$error":"#N/A"}},{"$f":"P3*IF(F5=0,NA(),H5)","v":{"$error":"#N/A"}}]
["pig_V",{"$f":"HOME!X41","v":0.12},{"$nulls":4},{"$f":"B6-B30","v":7.7},{"$f":"H35","v":2.88},{"$nulls":5},0.15,{"$f":"O35","v":{"$error":"#N/A"}},{"$f":"P35+N36*B11","v":{"$error":"#N/A"}}]
[{"$nulls":6},{"$f":"B6+B30","v":8.3},{"$f":"H36","v":2.88},{"$nulls":5},"arr",{"$f":"P3*O36-N38*SIN(N39*PI()/180)","v":{"$error":"#N/A"}},{"$f":"P3*P36+N38*COS(N39*PI()/180)","v":{"$error":"#N/A"}}]
[0.5338730812072754,{"$nulls":12},0.3,{"$f":"O36","v":{"$error":"#N/A"}},{"$f":"P36","v":{"$error":"#N/A"}}]
[{"$nulls":6},"disznó",{"$nulls":6},30,{"$f":"P3*O36+N38*SIN(N39*PI()/180)","v":{"$error":"#N/A"}},{"$f":"P37","v":{"$error":"#N/A"}}]
[{"$nulls":6},{"$f":"B6","v":8},{"$f":"B7","v":3}]
[]
[{"$nulls":6},"felirat1"]
[{"$nulls":6},5,{"$f":"IF(G1=0,-10,4)","v":-10}]
[{"$nulls":6},"felirat2"]
[{"$nulls":6},5,{"$f":"IF(I1=0,-10,4)","v":-10}]