{"text_format":"3","workbook":"xlsx","n_sheets":3,"sheets":["HOME","CALC","Munka3"],"not_rendered":{"charts":2,"images":32,"macros":1},"read":"whole","date_system":"1900"}

{"sheet":"HOME","index":0,"n_rows":49,"n_cols":42,"rows_kept":49,"merged":[[1,1,1,6],[1,8,1,18],[1,21,1,31],[7,2,7,6],[14,2,14,6],[21,2,21,6]]}
[]
[null,"ADATBEVITEL",{"$nulls":6},"PÁLYAGÖRBE",{"$nulls":12},"HODOGRÁF"]
[{"$nulls":36},240,null,240,true,true,true]
[{"$nulls":36},180,null,180,true,true,true]
[{"$nulls":17},2,{"$nulls":18},50,null,50,true,true,true]
[{"$nulls":35},10,{"$f":"AJ6*0.1","v":1},4,{"$f":"AL6*0.1","v":0.4},true,true,true]
[{"$nulls":35},10,{"$f":"(AJ7-10)*-1","v":0},10,{"$f":"(AL7-10)*-1","v":0},true,true,true]
[null,null,"x irányú vetület",{"$nulls":32},10,{"$f":"AJ8-10","v":0},10,{"$f":"AL8-10","v":0},true,true,true]
[null,null,"*t0","*t1","*t2","*t3","*t4",{"$nulls":32},true,true,true]
[null,"fx(t)",{"$nulls":37},true]
[null,"gx(t)",3]
[null,"αx(t)",null,5,{"$nulls":31},"axonometrikus",null,"axonometrikus"]
[null,"hx(t)",0,{"$nulls":32},"perspektívikus"]
[null,"βx(t)",null,5]
[null,null,"y irányú vetület"]
[null,null,"*t0","*t1","*t2","*t3","*t4"]
[null,"fy(t)"]
[null,"gy(t)",4]
[null,"αy(t)",null,5]
[null,"hy(t)",1]
[null,"βy(t)",null,5]
[null,null,"z irányú vetület"]
[null,null,"*t0","*t1","*t2","*t3","*t4"]
[null,"fz(t)"]
[null,"gz(t)",0]
[null,"αz(t)",null,5]
[null,"hz(t)",2]
[null,"βz(t)",null,5]
[]
[null,"t0",0,"sec"]
[null,"dt",0.01,"sec"]
[]
[null,"idő:",0,"sec"]
[]
[null,"eredmények:",null,"x","y","z"]
[null,"helyvektor",null,{"$f":"CALC!C15","v":3},{"$f":"CALC!D15","v":4},{"$f":"CALC!E15","v":0}]
[null,"sebességvektor",null,{"$f":"CALC!F15","v":0},{"$f":"CALC!G15","v":5},{"$f":"CALC!H15","v":10}]
[null,"gyorsulásvektor",null,{"$f":"CALC!I15","v":-75},{"$f":"CALC!J15","v":-100},{"$f":"CALC!K15","v":0},{"$nulls":15},"tengelyek mérete",null,5,null,"síkok mérete",null,5]
[null,"érintő ",null,{"$f":"CALC!AB15","v":0},{"$f":"CALC!AC15","v":0.4472135954999579},{"$f":"CALC!AD15","v":0.8944271909999159}]
[null,"főnormális",null,{"$f":"CALC!AH15","v":-0.6425294053171791},{"$f":"CALC!AI15","v":-0.685364699004991},{"$f":"CALC!AJ15","v":0.3426823495024955}]
[null,"binormális ",null,{"$f":"CALC!AE15","v":0.7662610281769212},{"$f":"CALC!AF15","v":-0.5746957711326909},{"$f":"CALC!AG15","v":0.28734788556634544},{"$nulls":10},"megjelenítési mód:"]
[]
[null,"görbületi sugár",null,{"$f":"CALC!AC69","v":1.0708823421952987},{"$nulls":14},"mérete:"]
[null,"előre definiált görbék:",{"$nulls":14},"DKR tengelyek",null,5]
[{"$nulls":16},"DKR síkok",null,5]
[{"$nulls":16},"TKR tengelyek",null,1]
[{"$nulls":16},"TKR síkok",null,1]
[{"$nulls":16},"sebességvektor",null,0.7]
[{"$nulls":16},"gyorsulásvektor",null,1]

{"sheet":"CALC","index":1,"n_rows":1016,"n_cols":49,"rows_kept":1016,"merged":[[12,2,12,4],[12,5,12,7],[12,8,12,10],[12,11,12,13],[12,14,12,15],[12,16,12,18],[12,19,12,20],[12,24,12,32],[28,30,28,32],[28,33,28,34],[28,39,28,41],[28,42,28,43],[32,30,32,32],[32,33,32,34],[54,30,54,32],[54,33,54,34],[58,30,58,32],[58,33,58,34],[62,30,62,32],[62,33,62,34]]}
[1,2,3,4,5,6,7,8,9,10,11,12,13,14,15,16,17,18,19,20,21,22,23,24]
[2,0,"x","y","z","x","y","z","x","y","z","x","y","z","x","y","z","t0",{"$f":"HOME!C30","v":0}]
[3,{"$f":"HOME!C33","v":0},"t0","t0","t0","t1","t1","t1","t2","t2","t2","t3","t3","t3","t4","t4","t4","dt",{"$f":"HOME!C31","v":0.01},"a1",{"$f":"HOME!AK3","v":240},{"$f":"HOME!AM3","v":240},"axis_l",{"$f":"HOME!S44","v":5},{"$f":"HOME!X38","v":5},null,"x",{"$f":"IF(HOME!AN3=TRUE,1,0)","v":1},"y",{"$f":"IF(HOME!AO3=TRUE,1,0)","v":1},"z",{"$f":"IF(HOME!AP3=TRUE,1,0)","v":1},"vetítő",{"$f":"IF(HOME!AN9=TRUE,1,0)","v":1},null,"belső nézet:"]
[4,"f0",{"$f":"HOME!C10","v":0},{"$f":"HOME!C17","v":0},{"$f":"HOME!C24","v":0},{"$f":"HOME!D10","v":0},{"$f":"HOME!D17","v":0},{"$f":"HOME!D24","v":0},{"$f":"HOME!E10","v":0},{"$f":"HOME!E17","v":0},{"$f":"HOME!E24","v":0},{"$f":"HOME!F10","v":0},{"$f":"HOME!F17","v":0},{"$f":"HOME!F24","v":0},{"$f":"HOME!G10","v":0},{"$f":"HOME!G17","v":0},{"$f":"HOME!G24","v":0},null,null,"a2",{"$f":"HOME!AK4","v":180},{"$f":"HOME!AM4","v":180},"zoom",{"$f":"HOME!AK6","v":1},{"$f":"HOME!AM6","v":0.4},null,"tpont",{"$f":"IF(HOME!AN4=TRUE,1,0)","v":1},"görbe",{"$f":"IF(HOME!AO4=TRUE,1,0)","v":1},"helyvekt",{"$f":"IF(HOME!AP4=TRUE,1,0)","v":1},"ae",{"$f":"IF(AL15=0,0,IF(HOME!AO9=TRUE,1,0))","v":1},null,0]
[5,"g(t)",{"$f":"HOME!C11","v":3},{"$f":"HOME!C18","v":4},{"$f":"HOME!C25","v":0},{"$f":"HOME!D11","v":0},{"$f":"HOME!D18","v":0},{"$f":"HOME!D25","v":0},{"$f":"HOME!E11","v":0},{"$f":"HOME!E18","v":0},{"$f":"HOME!E25","v":0},{"$f":"HOME!F11","v":0},{"$f":"HOME!F18","v":0},{"$f":"HOME!F25","v":0},{"$f":"HOME!G11","v":0},{"$f":"HOME!G18","v":0},{"$f":"HOME!G25","v":0},2,null,"a3",{"$f":"HOME!AK5","v":50},{"$f":"HOME!AM5","v":50},"move_x",{"$f":"HOME!AK7","v":0},{"$f":"HOME!AM7","v":0},null,"érintő",{"$f":"IF(AL15=0,0,IF(HOME!AN5=TRUE,1,0))","v":1},"binormális",{"$f":"IF(AL15=0,0,IF(HOME!AO5=TRUE,1,0))","v":1},"főnormális",{"$f":"IF(AL15=0,0,IF(HOME!AP5=TRUE,1,0))","v":1},"an",{"$f":"IF(AL15=0,0,IF(HOME!AP9=TRUE,1,0))","v":1}]
[6,"α(t)",{"$f":"HOME!C12","v":0},{"$f":"HOME!C19","v":0},{"$f":"HOME!C26","v":0},{"$f":"HOME!D12","v":5},{"$f":"HOME!D19","v":5},{"$f":"HOME!D26","v":5},{"$f":"HOME!E12","v":0},{"$f":"HOME!E19","v":0},{"$f":"HOME!E26","v":0},{"$f":"HOME!F12","v":0},{"$f":"HOME!F19","v":0},{"$f":"HOME!F26","v":0},{"$f":"HOME!G12","v":0},{"$f":"HOME!G19","v":0},{"$f":"HOME!G26","v":0},null,null,"ES",5,null,"move_y",{"$f":"HOME!AK8","v":0},{"$f":"HOME!AM8","v":0},null,"sebvekt",{"$f":"IF(HOME!AN6=TRUE,1,0)","v":1},"gyorsvekt",{"$f":"IF(HOME!AO6=TRUE,1,0)","v":1},"simulókör",{"$f":"IF(HOME!AP6=TRUE,1,0)","v":1},"a_vetítő",{"$f":"IF(AL15=0,0,IF(HOME!AN10=TRUE,1,0))","v":1}]
[7,"h(t)",{"$f":"HOME!C13","v":0},{"$f":"HOME!C20","v":1},{"$f":"HOME!C27","v":2},{"$f":"HOME!D13","v":0},{"$f":"HOME!D20","v":0},{"$f":"HOME!D27","v":0},{"$f":"HOME!E13","v":0},{"$f":"HOME!E20","v":0},{"$f":"HOME!E27","v":0},{"$f":"HOME!F13","v":0},{"$f":"HOME!F20","v":0},{"$f":"HOME!F27","v":0},{"$f":"HOME!G13","v":0},{"$f":"HOME!G20","v":0},{"$f":"HOME!G27","v":0},null,null,"SO",4,{"$nulls":5},"z",{"$f":"IF(HOME!AN7=TRUE,1,0)","v":1},"y",{"$f":"IF(HOME!AO7=TRUE,1,0)","v":1},"x",{"$f":"IF(HOME!AP7=TRUE,1,0)","v":1}]
[8,"β(t)",{"$f":"HOME!C14","v":0},{"$f":"HOME!C21","v":0},{"$f":"HOME!C28","v":0},{"$f":"HOME!D14","v":5},{"$f":"HOME!D21","v":5},{"$f":"HOME!D28","v":5},{"$f":"HOME!E14","v":0},{"$f":"HOME!E21","v":0},{"$f":"HOME!E28","v":0},{"$f":"HOME!F14","v":0},{"$f":"HOME!F21","v":0},{"$f":"HOME!F28","v":0},{"$f":"HOME!G14","v":0},{"$f":"HOME!G21","v":0},{"$f":"HOME!G28","v":0},null,null,"ax:1p:2",{"$f":"IF(HOME!AL12=\"axonometrikus\",1,2)","v":1},{"$nulls":5},"b",{"$f":"IF(HOME!AN8=TRUE,1,0)","v":1},"n",{"$f":"IF(HOME!AO8=TRUE,1,0)","v":1},"e",{"$f":"IF(HOME!AP8=TRUE,1,0)","v":1}]
[9,"4*OZ4*ZB15^3+3*LZ4*ZB15^2+2*IZ4*ZB15+FZ4"]
[10,null,1,0,0,null,{"$f":"COS(U4*PI()/180)","v":-1},0,{"$f":"-1*SIN(U4*PI()/180)","v":-1.22514845490862E-16},null,{"$f":"COS(U5*PI()/180)","v":0.6427876096865394},{"$f":"-1*SIN(U5*PI()/180)","v":-0.766044443118978},0,null,{"$f":"MMULT(G10:I12,MMULT(C10:E12,K10:M12))","v":-0.6427876096865393},0.7660444431189781,6.125742274543105E-17,null,1,0,0,null,{"$f":"COS(V4*PI()/180)","v":-1},0,{"$f":"-1*SIN(V4*PI()/180)","v":-1.22514845490862E-16},null,{"$f":"COS(V5*PI()/180)","v":0.6427876096865394},{"$f":"-1*SIN(V5*PI()/180)","v":-0.766044443118978},0,null,{"$f":"MMULT(W10:Y12,MMULT(S10:U12,AA10:AC12))","v":-0.6427876096865393},0.7660444431189781,6.125742274543105E-17]
[11,"Rx=",0,{"$f":"COS(U3*PI()/180)","v":-0.5000000000000004},{"$f":"-1*SIN(U3*PI()/180)","v":0.8660254037844384},"Ry=",0,1,0,"Rz=",{"$f":"SIN(U5*PI()/180)","v":0.766044443118978},{"$f":"COS(U5*PI()/180)","v":0.6427876096865394},0,"R=",-0.38302222155948934,-0.32139380484326996,0.8660254037844384,"Rx=",0,{"$f":"COS(V3*PI()/180)","v":-0.5000000000000004},{"$f":"-1*SIN(V3*PI()/180)","v":0.8660254037844384},"Ry=",0,1,0,"Rz=",{"$f":"SIN(V5*PI()/180)","v":0.766044443118978},{"$f":"COS(V5*PI()/180)","v":0.6427876096865394},0,"R=",-0.38302222155948934,-0.32139380484326996,0.8660254037844384]
[12,null,0,{"$f":"SIN(U3*PI()/180)","v":-0.8660254037844384},{"$f":"COS(U3*PI()/180)","v":-0.5000000000000004},null,{"$f":"SIN(U4*PI()/180)","v":1.22514845490862E-16},0,{"$f":"COS(U4*PI()/180)","v":-1},null,0,0,1,null,0.6634139481689383,0.5566703992264191,0.5000000000000004,null,0,{"$f":"SIN(V3*PI()/180)","v":-0.8660254037844384},{"$f":"COS(V3*PI()/180)","v":-0.5000000000000004},null,{"$f":"SIN(V4*PI()/180)","v":1.22514845490862E-16},0,{"$f":"COS(V4*PI()/180)","v":-1},null,0,0,1,null,0.6634139481689383,0.5566703992264191,0.5000000000000004]
[13,null,"elmozdulás",null,null,"sebesség",null,null,"gyorsulás",null,null,"axonometrikus",null,null,"perspektívikus",null,"axonometrikus",null,null,"perspektívikus",{"$nulls":4},"kísérő triéder"]
[14,"t","rx","ry","rz","vx","vy","vz","ax","a_y","az","x","y","z","u","v","vx","vy","vz","u","v","báziscsere után",{"$nulls":5},"ex","e_y","ez","bx","by","bz","nx","ny","nz"]
[15,{"$f":"B3","v":0},{"$f":"(C$4+F$4*$B15+I$4*$B15^2+L$4*$B15^3+O$4*$B15^4)+(C$5+F$5*$B15+I$5*$B15^2+L$5*$B15^3+O$5*$B15^4)*(COS(C$6+F$6*$B15+I$6*$B15^2+L$6*$B15^3+O$6*$B15^4))+(C$7+F$7*$B15+I$7*$B15^2+L$7*$B15^3+O$7*$B15^4)*(SIN(C$8+F$8*$B15+I$8*$B15^2+L$8*$B15^3+O$8*$B15^4))","v":3},{"$f":"(D$4+G$4*$B15+J$4*$B15^2+M$4*$B15^3+P$4*$B15^4)+(D$5+G$5*$B15+J$5*$B15^2+M$5*$B15^3+P$5*$B15^5)*(COS(D$6+G$6*$B15+J$6*$B15^2+M$6*$B15^3+P$6*$B15^4))+(D$7+G$7*$B15+J$7*$B15^2+M$7*$B15^3+P$7*$B15^4)*(SIN(D$8+G$8*$B15+J$8*$B15^2+M$8*$B15^3+P$8*$B15^4))","v":4},{"$f":"(E$4+H$4*$B15+K$4*$B15^2+N$4*$B15^3+Q$4*$B15^4)+(E$5+H$5*$B15+K$5*$B15^2+N$5*$B15^3+Q$5*$B15^5)*(COS(E$6+H$6*$B15+K$6*$B15^2+N$6*$B15^3+Q$6*$B15^4))+(E$7+H$7*$B15+K$7*$B15^2+N$7*$B15^3+Q$7*$B15^4)*(SIN(E$8+H$8*$B15+K$8*$B15^2+N$8*$B15^3+Q$8*$B15^4))","v":0},{"$f":"(F$7+2*I$7*$B15+3*L$7*$B15^2+4*O$7*$B15^3)*SIN(O$8*$B15^4+L$8*$B15^3+I$8*$B15^2+F$8*$B15+C$8)+(F$8+2*I$8*$B15+3*L$8*$B15^2+4*O$8*$B15^3)*(C$7+F$7*$B15+I$7*$B15^2+L$7*$B15^3+O$7*$B15^4)*COS(O$8*$B15^4+L$8*$B15^3+I$8*$B15^2+F$8*$B15+C$8)-(F$6+2*I$6*$B15+3*L$6*$B15^2+4*O$6*$B15^3)*(C$5+F$5*$B15+I$5*$B15^2+L$5*$B15^3+O$5*$B15^4)*SIN(O$6*$B15^4+L$6*$B15^3+I$6*$B15^2+F$6*$B15+C$6)+(F$5+2*I$5*$B15+3*L$5*$B15^2+4*O$5*$B15^3)*COS(O$6*$B15^4+L$6*$B15^3+I$6*$B15^2+F$6*$B15+C$6)+4*O$4*$B15^3+3*L$4*$B15^2+2*I$4*$B15+F$4","v":0},{"$f":"(G$7+2*J$7*$B15+3*M$7*$B15^2+4*P$7*$B15^3)*SIN(P$8*$B15^4+M$8*$B15^3+J$8*$B15^2+G$8*$B15+D$8)+(G$8+2*J$8*$B15+3*M$8*$B15^2+4*P$8*$B15^3)*(D$7+G$7*$B15+J$7*$B15^2+M$7*$B15^3+P$7*$B15^4)*COS(P$8*$B15^4+M$8*$B15^3+J$8*$B15^2+G$8*$B15+D$8)-(G$6+2*J$6*$B15+3*M$6*$B15^2+4*P$6*$B15^3)*(D$5+G$5*$B15+J$5*$B15^2+M$5*$B15^3+P$5*$B15^4)*SIN(P$6*$B15^4+M$6*$B15^3+J$6*$B15^2+G$6*$B15+D$6)+(G$5+2*J$5*$B15+3*M$5*$B15^2+4*P$5*$B15^3)*COS(P$6*$B15^4+M$6*$B15^3+J$6*$B15^2+G$6*$B15+D$6)+4*P$4*$B15^3+3*M$4*$B15^2+2*J$4*$B15+G$4","v":5},10,{"$f":"-1*(F$8+2*I$8*$B15+3*L$8*$B15^2+4*O$8*$B15^3)^2*(C$7+F$7*$B15+I$7*$B15^2+L$7*$B15^3+O$7*$B15^4)*SIN(O$8*$B15^4+L$8*$B15^3+I$8*$B15^2+F$8*$B15+C$8)+(2*I$7+6*L$7*$B15+12*O$7*$B15^2)*SIN(O$8*$B15^4+L$8*$B15^3+I$8*$B15^2+F$8*$B15+C$8)+(2*I$8+6*L$8*$B15+12*O$8*$B15^2)*(C$7+F$7*$B15+I$7*$B15^2+L$7*$B15^3+O$7*$B15^4)*COS(O$8*$B15^4+L$8*$B15^3+I$8*$B15^2+F$8*$B15+C$8)+2*(F$7+2*I$7*$B15+3*L$7*$B15^2+4*O$7*$B15^3)*(F$8+2*I$8*$B15+3*L$8*$B15^2+4*O$8*$B15^3)*COS(O$8*$B15^4+L$8*$B15^3+I$8*$B15^2+F$8*$B15+C$8)-(2*I$6+6*L$6*$B15+12*O$6*$B15^2)*(C$5+F$5*$B15+I$5*$B15^2+L$5*$B15^3+O$5*$B15^4)*SIN(O$6*$B15^4+L$6*$B15^3+I$6*$B15^2+F$6*$B15+C$6)-2*(F$5+2*I$5*$B15+3*L$5*$B15^2+4*O$5*$B15^3)*(F$6+2*I$6*$B15+3*L$6*$B15^2+4*O$6*$B15^3)*SIN(O$6*$B15^4+L$6*$B15^3+I$6*$B15^2+F$6*$B15+C$6)-(F$6+2*I$6*$B15+3*L$6*$B15^2+4*O$6*$B15^3)^2*(C$5+F$5*$B15+I$5*$B15^2+L$5*$B15^3+O$5*$B15^4)*COS(O$6*$B15^4+L$6*$B15^3+I$6*$B15^2+F$6*$B15+C$6)+(2*I$5+6*L$5*$B15+12*O$5*$B15^2)*COS(O$6*$B15^4+L$6*$B15^3+I$6*$B15^2+F$6*$B15+C$6)+12*O$4*$B15^2+6*L$4*$B15+2*I$4","v":-75},{"$f":"-1*(G$8+2*J$8*$B15+3*M$8*$B15^2+4*P$8*$B15^3)^2*(D$7+G$7*$B15+J$7*$B15^2+M$7*$B15^3+P$7*$B15^4)*SIN(P$8*$B15^4+M$8*$B15^3+J$8*$B15^2+G$8*$B15+D$8)+(2*J$7+6*M$7*$B15+12*P$7*$B15^2)*SIN(P$8*$B15^4+M$8*$B15^3+J$8*$B15^2+G$8*$B15+D$8)+(2*J$8+6*M$8*$B15+12*P$8*$B15^2)*(D$7+G$7*$B15+J$7*$B15^2+M$7*$B15^3+P$7*$B15^4)*COS(P$8*$B15^4+M$8*$B15^3+J$8*$B15^2+G$8*$B15+D$8)+2*(G$7+2*J$7*$B15+3*M$7*$B15^2+4*P$7*$B15^3)*(G$8+2*J$8*$B15+3*M$8*$B15^2+4*P$8*$B15^3)*COS(P$8*$B15^4+M$8*$B15^3+J$8*$B15^2+G$8*$B15+D$8)-(2*J$6+6*M$6*$B15+12*P$6*$B15^2)*(D$5+G$5*$B15+J$5*$B15^2+M$5*$B15^3+P$5*$B15^4)*SIN(P$6*$B15^4+M$6*$B15^3+J$6*$B15^2+G$6*$B15+D$6)-2*(G$5+2*J$5*$B15+3*M$5*$B15^2+4*P$5*$B15^3)*(G$6+2*J$6*$B15+3*M$6*$B15^2+4*P$6*$B15^3)*SIN(P$6*$B15^4+M$6*$B15^3+J$6*$B15^2+G$6*$B15+D$6)-(G$6+2*J$6*$B15+3*M$6*$B15^2+4*P$6*$B15^3)^2*(D$5+G$5*$B15+J$5*$B15^2+M$5*$B15^3+P$5*$B15^4)*COS(P$6*$B15^4+M$6*$B15^3+J$6*$B15^2+G$6*$B15+D$6)+(2*J$5+6*M$5*$B15+12*P$5*$B15^2)*COS(P$6*$B15^4+M$6*$B15^3+J$6*$B15^2+G$6*$B15+D$6)+12*P$4*$B15^2+6*M$4*$B15+2*J$4","v":-100},0,{"$f":"IF($AK$38=0,TRANSPOSE(MMULT($O$10:$Q$12,TRANSPOSE(C15:E15))),TRANSPOSE(MMULT($O$10:$Q$12,TRANSPOSE(Y15:AA15))))","v":1.1358149434162947},-2.4346418840515476,4.216923441412492,{"$f":"$X$5+$X$4*IF($U$8=1,L15,(L15*$U$6)/($U$6+$U$7+M15))","v":1.1358149434162947},{"$f":"$X$6+$X$4*IF($U$8=1,M15,(N15*$U$6)/($U$6+$U$7+M15))","v":-2.4346418840515476},{"$f":"TRANSPOSE(MMULT($AE$10:$AG$12,TRANSPOSE(F15:H15)))","v":3.830222215594891},7.0532850136280345,7.7833519961321,{"$f":"$Y$5+$Y$4*IF($U$8=1,Q15,(Q15*$U$6)/($U$6+$U$7+R15))","v":1.5320888862379565},{"$f":"$Y$6+$Y$4*IF($U$8=1,R15,(S15*$U$6)/($U$6+$U$7+R15))","v":2.821314005451214},{"$f":"TRANSPOSE(MMULT($AO$40:$AQ$42,TRANSPOSE(C15:E15)))","v":1.788854381999832},-3,-3.5777087639996634,{"$f":"V15+$AL$46","v":0},{"$f":"W15+$AL$47","v":0},{"$f":"X15+$AL$48","v":0},{"$f":"F15/($F$15^2+$G$15^2+$H$15^2)^0.5","v":0},{"$f":"G15/($F$15^2+$G$15^2+$H$15^2)^0.5","v":0.4472135954999579},{"$f":"H15/($F$15^2+$G$15^2+$H$15^2)^0.5","v":0.8944271909999159},{"$f":"(G15*K15-H15*J15)/((G15*K15-H15*J15)^2+(F15*K15-H15*I15)^2+(F15*J15-G15*I15)^2)^0.5","v":0.7662610281769212},{"$f":"-1*(F15*K15-H15*I15)/((G15*K15-H15*J15)^2+(F15*K15-H15*I15)^2+(F15*J15-G15*I15)^2)^0.5","v":-0.5746957711326909},{"$f":"(F15*J15-G15*I15)/((G15*K15-H15*J15)^2+(F15*K15-H15*I15)^2+(F15*J15-G15*I15)^2)^0.5","v":0.28734788556634544},{"$f":"AF15*AD15-AC15*AG15","v":-0.6425294053171791},{"$f":"-1*(AE15*AD15-AG15*AB15)","v":-0.685364699004991},{"$f":"AE15*AC15-AB15*AF15","v":0.3426823495024955},{"$f":"SUM(AB15:AJ15)","v":0.835342174290775},{"$f":"IF(ISNUMBER(AK15),1,0)","v":1}]
[16,0,{"$f":"(C$4+F$4*$B16+I$4*$B16^2+L$4*$B16^3+O$4*$B16^4)+(C$5+F$5*$B16+I$5*$B16^2+L$5*$B16^3+O$5*$B16^5)*(COS(C$6+F$6*$B16+I$6*$B16^2+L$6*$B16^3+O$6*$B16^4))+(C$7+F$7*$B16+I$7*$B16^2+L$7*$B16^3+O$7*$B16^4)*(SIN(C$8+F$8*$B16+I$8*$B16^2+L$8*$B16^3+O$8*$B16^4))","v":3},{"$f":"(D$4+G$4*$B16+J$4*$B16^2+M$4*$B16^3+P$4*$B16^4)+(D$5+G$5*$B16+J$5*$B16^2+M$5*$B16^3+P$5*$B16^5)*(COS(D$6+G$6*$B16+J$6*$B16^2+M$6*$B16^3+P$6*$B16^4))+(D$7+G$7*$B16+J$7*$B16^2+M$7*$B16^3+P$7*$B16^4)*(SIN(D$8+G$8*$B16+J$8*$B16^2+M$8*$B16^3+P$8*$B16^4))","v":4},0,{"$f":"(F$7+2*I$7*$B16+3*L$7*$B16^2+4*O$7*$B16^3)*SIN(O$8*$B16^4+L$8*$B16^3+I$8*$B16^2+F$8*$B16+C$8)+(F$8+2*I$8*$B16+3*L$8*$B16^2+4*O$8*$B16^3)*(C$7+F$7*$B16+I$7*$B16^2+L$7*$B16^3+O$7*$B16^4)*COS(O$8*$B16^4+L$8*$B16^3+I$8*$B16^2+F$8*$B16+C$8)-(F$6+2*I$6*$B16+3*L$6*$B16^2+4*O$6*$B16^3)*(C$5+F$5*$B16+I$5*$B16^2+L$5*$B16^3+O$5*$B16^4)*SIN(O$6*$B16^4+L$6*$B16^3+I$6*$B16^2+F$6*$B16+C$6)+(F$5+2*I$5*$B16+3*L$5*$B16^2+4*O$5*$B16^3)*COS(O$6*$B16^4+L$6*$B16^3+I$6*$B16^2+F$6*$B16+C$6)+4*O$4*$B16^3+3*L$4*$B16^2+2*I$4*$B16+F$4","v":0},{"$f":"(G$7+2*J$7*$B16+3*M$7*$B16^2+4*P$7*$B16^3)*SIN(P$8*$B16^4+M$8*$B16^3+J$8*$B16^2+G$8*$B16+D$8)+(G$8+2*J$8*$B16+3*M$8*$B16^2+4*P$8*$B16^3)*(D$7+G$7*$B16+J$7*$B16^2+M$7*$B16^3+P$7*$B16^4)*COS(P$8*$B16^4+M$8*$B16^3+J$8*$B16^2+G$8*$B16+D$8)-(G$6+2*J$6*$B16+3*M$6*$B16^2+4*P$6*$B16^3)*(D$5+G$5*$B16+J$5*$B16^2+M$5*$B16^3+P$5*$B16^4)*SIN(P$6*$B16^4+M$6*$B16^3+J$6*$B16^2+G$6*$B16+D$6)+(G$5+2*J$5*$B16+3*M$5*$B16^2+4*P$5*$B16^3)*COS(P$6*$B16^4+M$6*$B16^3+J$6*$B16^2+G$6*$B16+D$6)+4*P$4*$B16^3+3*M$4*$B16^2+2*J$4*$B16+G$4","v":5},{"$f":"(H$7+2*K$7*$B16+3*N$7*$B16^2+4*Q$7*$B16^3)*SIN(Q$8*$B16^4+N$8*$B16^3+K$8*$B16^2+H$8*$B16+E$8)+(H$8+2*K$8*$B16+3*N$8*$B16^2+4*Q$8*$B16^3)*(E$7+H$7*$B16+K$7*$B16^2+N$7*$B16^3+Q$7*$B16^4)*COS(Q$8*$B16^4+N$8*$B16^3+K$8*$B16^2+H$8*$B16+E$8)-(H$6+2*K$6*$B16+3*N$6*$B16^2+4*Q$6*$B16^3)*(E$5+H$5*$B16+K$5*$B16^2+N$5*$B16^3+Q$5*$B16^4)*SIN(Q$6*$B16^4+N$6*$B16^3+K$6*$B16^2+H$6*$B16+E$6)+(H$5+2*K$5*$B16+3*N$5*$B16^2+4*Q$5*$B16^3)*COS(Q$6*$B16^4+N$6*$B16^3+K$6*$B16^2+H$6*$B16+E$6)+4*Q$4*$B16^3+3*N$4*$B16^2+2*K$4*$B16+H$4","v":10},{"$f":"-1*(F$8+2*I$8*$B16+3*L$8*$B16^2+4*O$8*$B16^3)^2*(C$7+F$7*$B16+I$7*$B16^2+L$7*$B16^3+O$7*$B16^4)*SIN(O$8*$B16^4+L$8*$B16^3+I$8*$B16^2+F$8*$B16+C$8)+(2*I$7+6*L$7*$B16+12*O$7*$B16^2)*SIN(O$8*$B16^4+L$8*$B16^3+I$8*$B16^2+F$8*$B16+C$8)+(2*I$8+6*L$8*$B16+12*O$8*$B16^2)*(C$7+F$7*$B16+I$7*$B16^2+L$7*$B16^3+O$7*$B16^4)*COS(O$8*$B16^4+L$8*$B16^3+I$8*$B16^2+F$8*$B16+C$8)+2*(F$7+2*I$7*$B16+3*L$7*$B16^2+4*O$7*$B16^3)*(F$8+2*I$8*$B16+3*L$8*$B16^2+4*O$8*$B16^3)*COS(O$8*$B16^4+L$8*$B16^3+I$8*$B16^2+F$8*$B16+C$8)-(2*I$6+6*L$6*$B16+12*O$6*$B16^2)*(C$5+F$5*$B16+I$5*$B16^2+L$5*$B16^3+O$5*$B16^4)*SIN(O$6*$B16^4+L$6*$B16^3+I$6*$B16^2+F$6*$B16+C$6)-2*(F$5+2*I$5*$B16+3*L$5*$B16^2+4*O$5*$B16^3)*(F$6+2*I$6*$B16+3*L$6*$B16^2+4*O$6*$B16^3)*SIN(O$6*$B16^4+L$6*$B16^3+I$6*$B16^2+F$6*$B16+C$6)-(F$6+2*I$6*$B16+3*L$6*$B16^2+4*O$6*$B16^3)^2*(C$5+F$5*$B16+I$5*$B16^2+L$5*$B16^3+O$5*$B16^4)*COS(O$6*$B16^4+L$6*$B16^3+I$6*$B16^2+F$6*$B16+C$6)+(2*I$5+6*L$5*$B16+12*O$5*$B16^2)*COS(O$6*$B16^4+L$6*$B16^3+I$6*$B16^2+F$6*$B16+C$6)+12*O$4*$B16^2+6*L$4*$B16+2*I$4","v":-75},{"$f":"-1*(G$8+2*J$8*$B16+3*M$8*$B16^2+4*P$8*$B16^3)^2*(D$7+G$7*$B16+J$7*$B16^2+M$7*$B16^3+P$7*$B16^4)*SIN(P$8*$B16^4+M$8*$B16^3+J$8*$B16^2+G$8*$B16+D$8)+(2*J$7+6*M$7*$B16+12*P$7*$B16^2)*SIN(P$8*$B16^4+M$8*$B16^3+J$8*$B16^2+G$8*$B16+D$8)+(2*J$8+6*M$8*$B16+12*P$8*$B16^2)*(D$7+G$7*$B16+J$7*$B16^2+M$7*$B16^3+P$7*$B16^4)*COS(P$8*$B16^4+M$8*$B16^3+J$8*$B16^2+G$8*$B16+D$8)+2*(G$7+2*J$7*$B16+3*M$7*$B16^2+4*P$7*$B16^3)*(G$8+2*J$8*$B16+3*M$8*$B16^2+4*P$8*$B16^3)*COS(P$8*$B16^4+M$8*$B16^3+J$8*$B16^2+G$8*$B16+D$8)-(2*J$6+6*M$6*$B16+12*P$6*$B16^2)*(D$5+G$5*$B16+J$5*$B16^2+M$5*$B16^3+P$5*$B16^4)*SIN(P$6*$B16^4+M$6*$B16^3+J$6*$B16^2+G$6*$B16+D$6)-2*(G$5+2*J$5*$B16+3*M$5*$B16^2+4*P$5*$B16^3)*(G$6+2*J$6*$B16+3*M$6*$B16^2+4*P$6*$B16^3)*SIN(P$6*$B16^4+M$6*$B16^3+J$6*$B16^2+G$6*$B16+D$6)-(G$6+2*J$6*$B16+3*M$6*$B16^2+4*P$6*$B16^3)^2*(D$5+G$5*$B16+J$5*$B16^2+M$5*$B16^3+P$5*$B16^4)*COS(P$6*$B16^4+M$6*$B16^3+J$6*$B16^2+G$6*$B16+D$6)+(2*J$5+6*M$5*$B16+12*P$5*$B16^2)*COS(P$6*$B16^4+M$6*$B16^3+J$6*$B16^2+G$6*$B16+D$6)+12*P$4*$B16^2+6*M$4*$B16+2*J$4","v":-100},{"$f":"-1*(H$8+2*K$8*$B16+3*N$8*$B16^2+4*Q$8*$B16^3)^2*(E$7+H$7*$B16+K$7*$B16^2+N$7*$B16^3+Q$7*$B16^4)*SIN(Q$8*$B16^4+N$8*$B16^3+K$8*$B16^2+H$8*$B16+E$8)+(2*K$7+6*N$7*$B16+12*Q$7*$B16^2)*SIN(Q$8*$B16^4+N$8*$B16^3+K$8*$B16^2+H$8*$B16+E$8)+(2*K$8+6*N$8*$B16+12*Q$8*$B16^2)*(E$7+H$7*$B16+K$7*$B16^2+N$7*$B16^3+Q$7*$B16^4)*COS(Q$8*$B16^4+N$8*$B16^3+K$8*$B16^2+H$8*$B16+E$8)+2*(H$7+2*K$7*$B16+3*N$7*$B16^2+4*Q$7*$B16^3)*(H$8+2*K$8*$B16+3*N$8*$B16^2+4*Q$8*$B16^3)*COS(Q$8*$B16^4+N$8*$B16^3+K$8*$B16^2+H$8*$B16+E$8)-(2*K$6+6*N$6*$B16+12*Q$6*$B16^2)*(E$5+H$5*$B16+K$5*$B16^2+N$5*$B16^3+Q$5*$B16^4)*SIN(Q$6*$B16^4+N$6*$B16^3+K$6*$B16^2+H$6*$B16+E$6)-2*(H$5+2*K$5*$B16+3*N$5*$B16^2+4*Q$5*$B16^3)*(H$6+2*K$6*$B16+3*N$6*$B16^2+4*Q$6*$B16^3)*SIN(Q$6*$B16^4+N$6*$B16^3+K$6*$B16^2+H$6*$B16+E$6)-(H$6+2*K$6*$B16+3*N$6*$B16^2+4*Q$6*$B16^3)^2*(E$5+H$5*$B16+K$5*$B16^2+N$5*$B16^3+Q$5*$B16^4)*COS(Q$6*$B16^4+N$6*$B16^3+K$6*$B16^2+H$6*$B16+E$6)+(2*K$5+6*N$5*$B16+12*Q$5*$B16^2)*COS(Q$6*$B16^4+N$6*$B16^3+K$6*$B16^2+H$6*$B16+E$6)+12*Q$4*$B16^2+6*N$4*$B16+2*K$4","v":0},{"$f":"IF($AK$38=0,TRANSPOSE(MMULT($O$10:$Q$12,TRANSPOSE(C16:E16))),TRANSPOSE(MMULT($O$10:$Q$12,TRANSPOSE(Y16:AA16))))","v":1.1358149434162947},-2.4346418840515476,4.216923441412492,{"$f":"IF($AD$4=0,NA(),$X$5+$X$4*IF($U$8=1,L16,(L16*$U$6)/($U$6+$U$7+M16)))","v":1.1358149434162947},{"$f":"IF($AD$4=0,NA(),$X$6+$X$4*IF($U$8=1,M16,(N16*$U$6)/($U$6+$U$7+M16)))","v":-2.4346418840515476},{"$f":"TRANSPOSE(MMULT($AE$10:$AG$12,TRANSPOSE(F16:H16)))","v":3.830222215594891},7.0532850136280345,7.7833519961321,{"$f":"$Y$5+$Y$4*IF($U$8=1,Q16,(Q16*$U$6)/($U$6+$U$7+R16))","v":1.5320888862379565},{"$f":"$Y$6+$Y$4*IF($U$8=1,R16,(S16*$U$6)/($U$6+$U$7+R16))","v":2.821314005451214},{"$f":"TRANSPOSE(MMULT($AO$40:$AQ$42,TRANSPOSE(C16:E16)))","v":1.788854381999832},-3,-3.5777087639996634,{"$f":"V16+$AL$46","v":0},{"$f":"W16+$AL$47","v":0},{"$f":"X16+$AL$48","v":0}]
[17,{"$f":"IF(B16<$B$3,B16+$S$3,NA())","v":{"$error":"#N/A"}},{"$error":"#N/A"},{"$f":"(D$4+G$4*$B17+J$4*$B17^2+M$4*$B17^3+P$4*$B17^4)+(D$5+G$5*$B17+J$5*$B17^2+M$5*$B17^3+P$5*$B17^5)*(COS(D$6+G$6*$B17+J$6*$B17^2+M$6*$B17^3+P$6*$B17^4))+(D$7+G$7*$B17+J$7*$B17^2+M$7*$B17^3+P$7*$B17^4)*(SIN(D$8+G$8*$B17+J$8*$B17^2+M$8*$B17^3+P$8*$B17^4))","v":{"$error":"#N/A"}},{"$f":"(E$4+H$4*$B17+K$4*$B17^2+N$4*$B17^3+Q$4*$B17^4)+(E$5+H$5*$B17+K$5*$B17^2+N$5*$B17^3+Q$5*$B17^5)*(COS(E$6+H$6*$B17+K$6*$B17^2+N$6*$B17^3+Q$6*$B17^4))+(E$7+H$7*$B17+K$7*$B17^2+N$7*$B17^3+Q$7*$B17^4)*(SIN(E$8+H$8*$B17+K$8*$B17^2+N$8*$B17^3+Q$8*$B17^4))","v":{"$error":"#N/A"}},{"$error":"#N/A"},{"$error":"#N/A"},{"$error":"#N/A"},{"$error":"#N/A"},{"$error":"#N/A"},{"$error":"#N/A"},{"$f":"IF($AK$38=0,TRANSPOSE(MMULT($O$10:$Q$12,TRANSPOSE(C17:E17))),TRANSPOSE(MMULT($O$10:$Q$12,TRANSPOSE(Y17:AA17))))","v":{"$error":"#N/A"}},{"$error":"#N/A"},{"$error":"#N/A"},{"$f":"IF($AD$4=0,NA(),$X$5+$X$4*IF($U$8=1,L17,(L17*$U$6)/($U$6+$U$7+M17)))","v":{"$error":"#N/A"}},{"$f":"IF($AD$4=0,NA(),$X$6+$X$4*IF($U$8=1,M17,(N17*$U$6)/($U$6+$U$7+M17)))","v":{"$error":"#N/A"}},{"$f":"TRANSPOSE(MMULT($AE$10:$AG$12,TRANSPOSE(F17:H17)))","v":{"$error":"#N/A"}},{"$error":"#N/A"},{"$error":"#N/A"},{"$error":"#N/A"},{"$error":"#N/A"},{"$f":"TRANSPOSE(MMULT($AO$40:$AQ$42,TRANSPOSE(C17:E17)))","v":{"$error":"#N/A"}},{"$error":"#N/A"},{"$error":"#N/A"},{"$error":"#N/A"},{"$error":"#N/A"},{"$error":"#N/A"},"tpont",{"$f":"IF($AB$4=1,O15,NA())","v":1.1358149434162947},{"$f":"IF($AB$4=1,P15,NA())","v":-2.4346418840515476}]
[18,{"$f":"IF(B17<$B$3,B17+$S$3,NA())","v":{"$error":"#N/A"}},{"$error":"#N/A"},{"$error":"#N/A"},{"$error":"#N/A"},{"$error":"#N/A"},{"$error":"#N/A"},{"$error":"#N/A"},{"$error":"#N/A"},{"$error":"#N/A"},{"$error":"#N/A"},{"$f":"IF($AK$38=0,TRANSPOSE(MMULT($O$10:$Q$12,TRANSPOSE(C18:E18))),TRANSPOSE(MMULT($O$10:$Q$12,TRANSPOSE(Y18:AA18))))","v":{"$error":"#N/A"}},{"$error":"#N/A"},{"$error":"#N/A"},{"$error":"#N/A"},{"$error":"#N/A"},{"$f":"TRANSPOSE(MMULT($AE$10:$AG$12,TRANSPOSE(F18:H18)))","v":{"$error":"#N/A"}},{"$error":"#N/A"},{"$error":"#N/A"},{"$error":"#N/A"},{"$error":"#N/A"},{"$f":"TRANSPOSE(MMULT($AO$40:$AQ$42,TRANSPOSE(C18:E18)))","v":{"$error":"#N/A"}},{"$error":"#N/A"},{"$error":"#N/A"},{"$error":"#N/A"},{"$error":"#N/A"},{"$error":"#N/A"},"x_axis",{"$nulls":8},"x_axis"]
[19,{"$error":"#N/A"},{"$error":"#N/A"},{"$error":"#N/A"},{"$error":"#N/A"},{"$error":"#N/A"},{"$error":"#N/A"},{"$error":"#N/A"},{"$error":"#N/A"},{"$error":"#N/A"},{"$error":"#N/A"},{"$f":"IF($AK$38=0,TRANSPOSE(MMULT($O$10:$Q$12,TRANSPOSE(C19:E19))),TRANSPOSE(MMULT($O$10:$Q$12,TRANSPOSE(Y19:AA19))))","v":{"$error":"#N/A"}},{"$error":"#N/A"},{"$error":"#N/A"},{"$error":"#N/A"},{"$error":"#N/A"},{"$f":"TRANSPOSE(MMULT($AE$10:$AG$12,TRANSPOSE(F19:H19)))","v":{"$error":"#N/A"}},{"$error":"#N/A"},{"$error":"#N/A"},{"$error":"#N/A"},{"$error":"#N/A"},{"$f":"TRANSPOSE(MMULT($AO$40:$AQ$42,TRANSPOSE(C19:E19)))","v":{"$error":"#N/A"}},{"$error":"#N/A"},{"$error":"#N/A"},{"$error":"#N/A"},{"$error":"#N/A"},{"$error":"#N/A"},{"$f":"IF($AJ$4=1,-AM46,0)","v":0},{"$f":"IF($AJ$4=1,-AM47,0)","v":0},{"$f":"IF($AJ$4=1,-AM48,0)","v":0},{"$f":"TRANSPOSE(MMULT(O10:Q12,TRANSPOSE(AB19:AD19)))","v":0},0,0,{"$f":"IF(AB3=0,NA(),$X$5+$X$4*IF($U$8=1,AE19,(AE19*$U$6)/($U$6+$U$7+AF19)))","v":0},{"$f":"IF(AB3=0,NA(),$X$6+$X$4*IF($U$8=1,AF19,(AG19*$U$6)/($U$6+$U$7+AF19)))","v":0},null,0,0,0,0,0,0,{"$f":"$Y$5+$Y$4*IF($U$8=1,AN19,(AN19*$U$6)/($U$6+$U$7+AO19))","v":0},{"$f":"$Y$6+$Y$4*IF($U$8=1,AO19,(AP19*$U$6)/($U$6+$U$7+AO19))","v":0}]
[20,{"$error":"#N/A"},{"$error":"#N/A"},{"$error":"#N/A"},{"$error":"#N/A"},{"$error":"#N/A"},{"$error":"#N/A"},{"$error":"#N/A"},{"$error":"#N/A"},{"$error":"#N/A"},{"$error":"#N/A"},{"$f":"IF($AK$38=0,TRANSPOSE(MMULT($O$10:$Q$12,TRANSPOSE(C20:E20))),TRANSPOSE(MMULT($O$10:$Q$12,TRANSPOSE(Y20:AA20))))","v":{"$error":"#N/A"}},{"$error":"#N/A"},{"$error":"#N/A"},{"$error":"#N/A"},{"$error":"#N/A"},{"$f":"TRANSPOSE(MMULT($AE$10:$AG$12,TRANSPOSE(F20:H20)))","v":{"$error":"#N/A"}},{"$error":"#N/A"},{"$error":"#N/A"},{"$error":"#N/A"},{"$error":"#N/A"},{"$f":"TRANSPOSE(MMULT($AO$40:$AQ$42,TRANSPOSE(C20:E20)))","v":{"$error":"#N/A"}},{"$error":"#N/A"},{"$error":"#N/A"},{"$error":"#N/A"},{"$error":"#N/A"},{"$error":"#N/A"},{"$f":"IF($AJ$4=1,(AB19+$X$3*AN46),$X$3)","v":5},{"$f":"IF($AJ$4=1,(AC19+$X$3*AN47),0)","v":0},{"$f":"IF($AJ$4=1,(AD19+$X$3*AN48),0)","v":0},{"$f":"TRANSPOSE(MMULT(O10:Q12,TRANSPOSE(AB20:AD20)))","v":-3.2139380484326963},-1.9151111077974468,3.3170697408446914,{"$f":"IF(AB3=0,NA(),$X$5+$X$4*IF($U$8=1,AE20,(AE20*$U$6)/($U$6+$U$7+AF20)))","v":-3.2139380484326963},{"$f":"IF(AB3=0,NA(),$X$6+$X$4*IF($U$8=1,AF20,(AG20*$U$6)/($U$6+$U$7+AF20)))","v":-1.9151111077974468},null,{"$f":"Y3","v":5},0,0,{"$f":"TRANSPOSE(MMULT(AE10:AG12,TRANSPOSE(AK20:AM20)))","v":-3.2139380484326963},-1.9151111077974468,3.3170697408446914,{"$f":"$Y$5+$Y$4*IF($U$8=1,AN20,(AN20*$U$6)/($U$6+$U$7+AO20))","v":-1.2855752193730785},{"$f":"$Y$6+$Y$4*IF($U$8=1,AO20,(AP20*$U$6)/($U$6+$U$7+AO20))","v":-0.7660444431189788}]
[21,{"$error":"#N/A"},{"$error":"#N/A"},{"$error":"#N/A"},{"$error":"#N/A"},{"$error":"#N/A"},{"$error":"#N/A"},{"$error":"#N/A"},{"$error":"#N/A"},{"$error":"#N/A"},{"$error":"#N/A"},{"$f":"IF($AK$38=0,TRANSPOSE(MMULT($O$10:$Q$12,TRANSPOSE(C21:E21))),TRANSPOSE(MMULT($O$10:$Q$12,TRANSPOSE(Y21:AA21))))","v":{"$error":"#N/A"}},{"$error":"#N/A"},{"$error":"#N/A"},{"$error":"#N/A"},{"$error":"#N/A"},{"$f":"TRANSPOSE(MMULT($AE$10:$AG$12,TRANSPOSE(F21:H21)))","v":{"$error":"#N/A"}},{"$error":"#N/A"},{"$error":"#N/A"},{"$error":"#N/A"},{"$error":"#N/A"},{"$f":"TRANSPOSE(MMULT($AO$40:$AQ$42,TRANSPOSE(C21:E21)))","v":{"$error":"#N/A"}},{"$error":"#N/A"},{"$error":"#N/A"},{"$error":"#N/A"},{"$error":"#N/A"},{"$error":"#N/A"},"y_axis",{"$nulls":8},"y_axis"]
[22,{"$error":"#N/A"},{"$error":"#N/A"},{"$error":"#N/A"},{"$error":"#N/A"},{"$error":"#N/A"},{"$error":"#N/A"},{"$error":"#N/A"},{"$error":"#N/A"},{"$error":"#N/A"},{"$error":"#N/A"},{"$f":"IF($AK$38=0,TRANSPOSE(MMULT($O$10:$Q$12,TRANSPOSE(C22:E22))),TRANSPOSE(MMULT($O$10:$Q$12,TRANSPOSE(Y22:AA22))))","v":{"$error":"#N/A"}},{"$error":"#N/A"},{"$error":"#N/A"},{"$error":"#N/A"},{"$error":"#N/A"},{"$f":"TRANSPOSE(MMULT($AE$10:$AG$12,TRANSPOSE(F22:H22)))","v":{"$error":"#N/A"}},{"$error":"#N/A"},{"$error":"#N/A"},{"$error":"#N/A"},{"$error":"#N/A"},{"$f":"TRANSPOSE(MMULT($AO$40:$AQ$42,TRANSPOSE(C22:E22)))","v":{"$error":"#N/A"}},{"$error":"#N/A"},{"$error":"#N/A"},{"$error":"#N/A"},{"$error":"#N/A"},{"$error":"#N/A"},{"$f":"IF($AJ$4=1,-AM46,0)","v":0},{"$f":"IF($AJ$4=1,-AM47,0)","v":0},{"$f":"IF($AJ$4=1,-AM48,0)","v":0},{"$f":"TRANSPOSE(MMULT(O10:Q12,TRANSPOSE(AB22:AD22)))","v":0},0,0,{"$f":"IF(AD3=0,NA(),$X$5+$X$4*IF($U$8=1,AE22,(AE22*$U$6)/($U$6+$U$7+AF22)))","v":0},{"$f":"IF(AD3=0,NA(),$X$6+$X$4*IF($U$8=1,AF22,(AG22*$U$6)/($U$6+$U$7+AF22)))","v":0},null,0,0,0,0,0,0,{"$f":"$Y$5+$Y$4*IF($U$8=1,AN22,(AN22*$U$6)/($U$6+$U$7+AO22))","v":0},{"$f":"$Y$6+$Y$4*IF($U$8=1,AO22,(AP22*$U$6)/($U$6+$U$7+AO22))","v":0}]
[23,{"$error":"#N/A"},{"$error":"#N/A"},{"$error":"#N/A"},{"$error":"#N/A"},{"$error":"#N/A"},{"$error":"#N/A"},{"$error":"#N/A"},{"$error":"#N/A"},{"$error":"#N/A"},{"$error":"#N/A"},{"$f":"IF($AK$38=0,TRANSPOSE(MMULT($O$10:$Q$12,TRANSPOSE(C23:E23))),TRANSPOSE(MMULT($O$10:$Q$12,TRANSPOSE(Y23:AA23))))","v":{"$error":"#N/A"}},{"$error":"#N/A"},{"$error":"#N/A"},{"$error":"#N/A"},{"$error":"#N/A"},{"$f":"TRANSPOSE(MMULT($AE$10:$AG$12,TRANSPOSE(F23:H23)))","v":{"$error":"#N/A"}},{"$error":"#N/A"},{"$error":"#N/A"},{"$error":"#N/A"},{"$error":"#N/A"},{"$f":"TRANSPOSE(MMULT($AO$40:$AQ$42,TRANSPOSE(C23:E23)))","v":{"$error":"#N/A"}},{"$error":"#N/A"},{"$error":"#N/A"},{"$error":"#N/A"},{"$error":"#N/A"},{"$error":"#N/A"},{"$f":"IF($AJ$4=1,(AB22+$X$3*AO46),0)","v":0},{"$f":"IF($AJ$4=1,(AC22+$X$3*AO47),$X$3)","v":5},{"$f":"IF($AJ$4=1,(AD22+$X$3*AO48),0)","v":0},{"$f":"TRANSPOSE(MMULT(O10:Q12,TRANSPOSE(AB23:AD23)))","v":3.8302222155948904},-1.6069690242163497,2.7833519961320956,{"$f":"IF(AD3=0,NA(),$X$5+$X$4*IF($U$8=1,AE23,(AE23*$U$6)/($U$6+$U$7+AF23)))","v":3.8302222155948904},{"$f":"IF(AD3=0,NA(),$X$6+$X$4*IF($U$8=1,AF23,(AG23*$U$6)/($U$6+$U$7+AF23)))","v":-1.6069690242163497},null,0,{"$f":"Y3","v":5},0,{"$f":"TRANSPOSE(MMULT(AE10:AG12,TRANSPOSE(AK23:AM23)))","v":3.8302222155948904},-1.6069690242163497,2.7833519961320956,{"$f":"$Y$5+$Y$4*IF($U$8=1,AN23,(AN23*$U$6)/($U$6+$U$7+AO23))","v":1.5320888862379562},{"$f":"$Y$6+$Y$4*IF($U$8=1,AO23,(AP23*$U$6)/($U$6+$U$7+AO23))","v":-0.6427876096865399}]
[24,{"$error":"#N/A"},{"$error":"#N/A"},{"$error":"#N/A"},{"$error":"#N/A"},{"$error":"#N/A"},{"$error":"#N/A"},{"$error":"#N/A"},{"$error":"#N/A"},{"$error":"#N/A"},{"$error":"#N/A"},{"$f":"IF($AK$38=0,TRANSPOSE(MMULT($O$10:$Q$12,TRANSPOSE(C24:E24))),TRANSPOSE(MMULT($O$10:$Q$12,TRANSPOSE(Y24:AA24))))","v":{"$error":"#N/A"}},{"$error":"#N/A"},{"$error":"#N/A"},{"$error":"#N/A"},{"$error":"#N/A"},{"$f":"TRANSPOSE(MMULT($AE$10:$AG$12,TRANSPOSE(F24:H24)))","v":{"$error":"#N/A"}},{"$error":"#N/A"},{"$error":"#N/A"},{"$error":"#N/A"},{"$error":"#N/A"},{"$f":"TRANSPOSE(MMULT($AO$40:$AQ$42,TRANSPOSE(C24:E24)))","v":{"$error":"#N/A"}},{"$error":"#N/A"},{"$error":"#N/A"},{"$error":"#N/A"},{"$error":"#N/A"},{"$error":"#N/A"}]
[25,{"$error":"#N/A"},{"$error":"#N/A"},{"$error":"#N/A"},{"$error":"#N/A"},{"$error":"#N/A"},{"$error":"#N/A"},{"$error":"#N/A"},{"$error":"#N/A"},{"$error":"#N/A"},{"$error":"#N/A"},{"$f":"IF($AK$38=0,TRANSPOSE(MMULT($O$10:$Q$12,TRANSPOSE(C25:E25))),TRANSPOSE(MMULT($O$10:$Q$12,TRANSPOSE(Y25:AA25))))","v":{"$error":"#N/A"}},{"$error":"#N/A"},{"$error":"#N/A"},{"$error":"#N/A"},{"$error":"#N/A"},{"$f":"TRANSPOSE(MMULT($AE$10:$AG$12,TRANSPOSE(F25:H25)))","v":{"$error":"#N/A"}},{"$error":"#N/A"},{"$error":"#N/A"},{"$error":"#N/A"},{"$error":"#N/A"},{"$f":"TRANSPOSE(MMULT($AO$40:$AQ$42,TRANSPOSE(C25:E25)))","v":{"$error":"#N/A"}},{"$error":"#N/A"},{"$error":"#N/A"},{"$error":"#N/A"},{"$error":"#N/A"},{"$error":"#N/A"},"z_axis",{"$nulls":8},"z_axis"]
[26,{"$error":"#N/A"},{"$error":"#N/A"},{"$error":"#N/A"},{"$error":"#N/A"},{"$error":"#N/A"},{"$error":"#N/A"},{"$error":"#N/A"},{"$error":"#N/A"},{"$error":"#N/A"},{"$error":"#N/A"},{"$f":"IF($AK$38=0,TRANSPOSE(MMULT($O$10:$Q$12,TRANSPOSE(C26:E26))),TRANSPOSE(MMULT($O$10:$Q$12,TRANSPOSE(Y26:AA26))))","v":{"$error":"#N/A"}},{"$error":"#N/A"},{"$error":"#N/A"},{"$error":"#N/A"},{"$error":"#N/A"},{"$f":"TRANSPOSE(MMULT($AE$10:$AG$12,TRANSPOSE(F26:H26)))","v":{"$error":"#N/A"}},{"$error":"#N/A"},{"$error":"#N/A"},{"$error":"#N/A"},{"$error":"#N/A"},{"$f":"TRANSPOSE(MMULT($AO$40:$AQ$42,TRANSPOSE(C26:E26)))","v":{"$error":"#N/A"}},{"$error":"#N/A"},{"$error":"#N/A"},{"$error":"#N/A"},{"$error":"#N/A"},{"$error":"#N/A"},{"$f":"IF($AJ$4=1,-AM46,0)","v":0},{"$f":"IF($AJ$4=1,-AM47,0)","v":0},{"$f":"IF($AJ$4=1,-AM48,0)","v":0},{"$f":"TRANSPOSE(MMULT(O10:Q12,TRANSPOSE(AB26:AD26)))","v":0},0,0,{"$f":"IF(AF3=0,NA(),$X$5+$X$4*IF($U$8=1,AE26,(AE26*$U$6)/($U$6+$U$7+AF26)))","v":0},{"$f":"IF(AF3=0,NA(),$X$6+$X$4*IF($U$8=1,AF26,(AG26*$U$6)/($U$6+$U$7+AF26)))","v":0},null,0,0,0,0,0,0,{"$f":"$Y$5+$Y$4*IF($U$8=1,AN26,(AN26*$U$6)/($U$6+$U$7+AO26))","v":0},{"$f":"$Y$6+$Y$4*IF($U$8=1,AO26,(AP26*$U$6)/($U$6+$U$7+AO26))","v":0}]
[27,{"$error":"#N/A"},{"$error":"#N/A"},{"$error":"#N/A"},{"$error":"#N/A"},{"$error":"#N/A"},{"$error":"#N/A"},{"$error":"#N/A"},{"$error":"#N/A"},{"$error":"#N/A"},{"$error":"#N/A"},{"$f":"IF($AK$38=0,TRANSPOSE(MMULT($O$10:$Q$12,TRANSPOSE(C27:E27))),TRANSPOSE(MMULT($O$10:$Q$12,TRANSPOSE(Y27:AA27))))","v":{"$error":"#N/A"}},{"$error":"#N/A"},{"$error":"#N/A"},{"$error":"#N/A"},{"$error":"#N/A"},{"$f":"TRANSPOSE(MMULT($AE$10:$AG$12,TRANSPOSE(F27:H27)))","v":{"$error":"#N/A"}},{"$error":"#N/A"},{"$error":"#N/A"},{"$error":"#N/A"},{"$error":"#N/A"},{"$f":"TRANSPOSE(MMULT($AO$40:$AQ$42,TRANSPOSE(C27:E27)))","v":{"$error":"#N/A"}},{"$error":"#N/A"},{"$error":"#N/A"},{"$error":"#N/A"},{"$error":"#N/A"},{"$error":"#N/A"},{"$f":"IF($AJ$4=1,(AB26+$X$3*AP46),0)","v":0},{"$f":"IF($AJ$4=1,(AC26+$X$3*AP47),0)","v":0},{"$f":"IF($AJ$4=1,(AD26+$X$3*AP48),X3)","v":5},{"$f":"TRANSPOSE(MMULT(O10:Q12,TRANSPOSE(AB27:AD27)))","v":3.0628711372715525E-16},4.330127018922192,2.500000000000002,{"$f":"IF(AF3=0,NA(),$X$5+$X$4*IF($U$8=1,AE27,(AE27*$U$6)/($U$6+$U$7+AF27)))","v":3.0628711372715525E-16},{"$f":"IF(AF3=0,NA(),$X$6+$X$4*IF($U$8=1,AF27,(AG27*$U$6)/($U$6+$U$7+AF27)))","v":4.330127018922192},null,0,0,{"$f":"Y3","v":5},{"$f":"TRANSPOSE(MMULT(AE10:AG12,TRANSPOSE(AK27:AM27)))","v":3.0628711372715525E-16},4.330127018922192,2.500000000000002,{"$f":"$Y$5+$Y$4*IF($U$8=1,AN27,(AN27*$U$6)/($U$6+$U$7+AO27))","v":1.225148454908621E-16},{"$f":"$Y$6+$Y$4*IF($U$8=1,AO27,(AP27*$U$6)/($U$6+$U$7+AO27))","v":1.7320508075688767}]
[28,{"$error":"#N/A"},{"$error":"#N/A"},{"$error":"#N/A"},{"$error":"#N/A"},{"$error":"#N/A"},{"$error":"#N/A"},{"$error":"#N/A"},{"$error":"#N/A"},{"$error":"#N/A"},{"$error":"#N/A"},{"$f":"IF($AK$38=0,TRANSPOSE(MMULT($O$10:$Q$12,TRANSPOSE(C28:E28))),TRANSPOSE(MMULT($O$10:$Q$12,TRANSPOSE(Y28:AA28))))","v":{"$error":"#N/A"}},{"$error":"#N/A"},{"$error":"#N/A"},{"$error":"#N/A"},{"$error":"#N/A"},{"$f":"TRANSPOSE(MMULT($AE$10:$AG$12,TRANSPOSE(F28:H28)))","v":{"$error":"#N/A"}},{"$error":"#N/A"},{"$error":"#N/A"},{"$error":"#N/A"},{"$error":"#N/A"},{"$f":"TRANSPOSE(MMULT($AO$40:$AQ$42,TRANSPOSE(C28:E28)))","v":{"$error":"#N/A"}},{"$error":"#N/A"},{"$error":"#N/A"},{"$error":"#N/A"},{"$error":"#N/A"},{"$error":"#N/A"}]
[29,{"$error":"#N/A"},{"$error":"#N/A"},{"$error":"#N/A"},{"$error":"#N/A"},{"$error":"#N/A"},{"$error":"#N/A"},{"$error":"#N/A"},{"$error":"#N/A"},{"$error":"#N/A"},{"$error":"#N/A"},{"$f":"IF($AK$38=0,TRANSPOSE(MMULT($O$10:$Q$12,TRANSPOSE(C29:E29))),TRANSPOSE(MMULT($O$10:$Q$12,TRANSPOSE(Y29:AA29))))","v":{"$error":"#N/A"}},{"$error":"#N/A"},{"$error":"#N/A"},{"$error":"#N/A"},{"$error":"#N/A"},{"$f":"TRANSPOSE(MMULT($AE$10:$AG$12,TRANSPOSE(F29:H29)))","v":{"$error":"#N/A"}},{"$error":"#N/A"},{"$error":"#N/A"},{"$error":"#N/A"},{"$error":"#N/A"},{"$f":"TRANSPOSE(MMULT($AO$40:$AQ$42,TRANSPOSE(C29:E29)))","v":{"$error":"#N/A"}},{"$error":"#N/A"},{"$error":"#N/A"},{"$error":"#N/A"},{"$error":"#N/A"},{"$error":"#N/A"},null,null,"r:","axonometrikus",null,null,"perspektívikus",{"$nulls":4},"v:","axonometrikus",null,null,"perspektívikus"]
[30,{"$error":"#N/A"},{"$error":"#N/A"},{"$error":"#N/A"},{"$error":"#N/A"},{"$error":"#N/A"},{"$error":"#N/A"},{"$error":"#N/A"},{"$error":"#N/A"},{"$error":"#N/A"},{"$error":"#N/A"},{"$f":"IF($AK$38=0,TRANSPOSE(MMULT($O$10:$Q$12,TRANSPOSE(C30:E30))),TRANSPOSE(MMULT($O$10:$Q$12,TRANSPOSE(Y30:AA30))))","v":{"$error":"#N/A"}},{"$error":"#N/A"},{"$error":"#N/A"},{"$error":"#N/A"},{"$error":"#N/A"},{"$f":"TRANSPOSE(MMULT($AE$10:$AG$12,TRANSPOSE(F30:H30)))","v":{"$error":"#N/A"}},{"$error":"#N/A"},{"$error":"#N/A"},{"$error":"#N/A"},{"$error":"#N/A"},{"$f":"TRANSPOSE(MMULT($AO$40:$AQ$42,TRANSPOSE(C30:E30)))","v":{"$error":"#N/A"}},{"$error":"#N/A"},{"$error":"#N/A"},{"$error":"#N/A"},{"$error":"#N/A"},{"$error":"#N/A"},{"$nulls":3},0,0,0,{"$f":"IF(AF4=0,NA(),$X$5+$X$4*IF($U$8=1,AE30,(AE30*$U$6)/($U$6+$U$7+AF30)))","v":0},{"$f":"IF(AF4=0,NA(),$X$6+$X$4*IF($U$8=1,AF30,(AG30*$U$6)/($U$6+$U$7+AF30)))","v":0},{"$nulls":4},0,0,0,{"$f":"$Y$5+$Y$4*IF($U$8=1,AN30,(AN30*$U$6)/($U$6+$U$7+AO30))","v":0},{"$f":"$Y$6+$Y$4*IF($U$8=1,AO30,(AP30*$U$6)/($U$6+$U$7+AO30))","v":0}]
[31,{"$error":"#N/A"},{"$error":"#N/A"},{"$error":"#N/A"},{"$error":"#N/A"},{"$error":"#N/A"},{"$error":"#N/A"},{"$error":"#N/A"},{"$error":"#N/A"},{"$error":"#N/A"},{"$error":"#N/A"},{"$f":"IF($AK$38=0,TRANSPOSE(MMULT($O$10:$Q$12,TRANSPOSE(C31:E31))),TRANSPOSE(MMULT($O$10:$Q$12,TRANSPOSE(Y31:AA31))))","v":{"$error":"#N/A"}},{"$error":"#N/A"},{"$error":"#N/A"},{"$error":"#N/A"},{"$error":"#N/A"},{"$f":"TRANSPOSE(MMULT($AE$10:$AG$12,TRANSPOSE(F31:H31)))","v":{"$error":"#N/A"}},{"$error":"#N/A"},{"$error":"#N/A"},{"$error":"#N/A"},{"$error":"#N/A"},{"$f":"TRANSPOSE(MMULT($AO$40:$AQ$42,TRANSPOSE(C31:E31)))","v":{"$error":"#N/A"}},{"$error":"#N/A"},{"$error":"#N/A"},{"$error":"#N/A"},{"$error":"#N/A"},{"$error":"#N/A"},{"$nulls":3},{"$f":"L15","v":1.1358149434162947},{"$f":"M15","v":-2.4346418840515476},{"$f":"N15","v":4.216923441412492},{"$f":"IF(AF4=0,NA(),$X$5+$X$4*IF($U$8=1,AE31,(AE31*$U$6)/($U$6+$U$7+AF31)))","v":1.1358149434162947},{"$f":"IF(AF4=0,NA(),$X$6+$X$4*IF($U$8=1,AF31,(AG31*$U$6)/($U$6+$U$7+AF31)))","v":-2.4346418840515476},{"$nulls":4},{"$f":"Q15","v":3.830222215594891},{"$f":"R15","v":7.0532850136280345},{"$f":"S15","v":7.7833519961321},{"$f":"$Y$5+$Y$4*IF($U$8=1,AN31,(AN31*$U$6)/($U$6+$U$7+AO31))","v":1.5320888862379565},{"$f":"$Y$6+$Y$4*IF($U$8=1,AO31,(AP31*$U$6)/($U$6+$U$7+AO31))","v":2.821314005451214}]
[32,{"$error":"#N/A"},{"$error":"#N/A"},{"$error":"#N/A"},{"$error":"#N/A"},{"$error":"#N/A"},{"$error":"#N/A"},{"$error":"#N/A"},{"$error":"#N/A"},{"$error":"#N/A"},{"$error":"#N/A"},{"$f":"IF($AK$38=0,TRANSPOSE(MMULT($O$10:$Q$12,TRANSPOSE(C32:E32))),TRANSPOSE(MMULT($O$10:$Q$12,TRANSPOSE(Y32:AA32))))","v":{"$error":"#N/A"}},{"$error":"#N/A"},{"$error":"#N/A"},{"$error":"#N/A"},{"$error":"#N/A"},{"$f":"TRANSPOSE(MMULT($AE$10:$AG$12,TRANSPOSE(F32:H32)))","v":{"$error":"#N/A"}},{"$error":"#N/A"},{"$error":"#N/A"},{"$error":"#N/A"},{"$error":"#N/A"},{"$f":"TRANSPOSE(MMULT($AO$40:$AQ$42,TRANSPOSE(C32:E32)))","v":{"$error":"#N/A"}},{"$error":"#N/A"},{"$error":"#N/A"},{"$error":"#N/A"},{"$error":"#N/A"},{"$error":"#N/A"}]
[33,{"$error":"#N/A"},{"$error":"#N/A"},{"$error":"#N/A"},{"$error":"#N/A"},{"$error":"#N/A"},{"$error":"#N/A"},{"$error":"#N/A"},{"$error":"#N/A"},{"$error":"#N/A"},{"$error":"#N/A"},{"$f":"IF($AK$38=0,TRANSPOSE(MMULT($O$10:$Q$12,TRANSPOSE(C33:E33))),TRANSPOSE(MMULT($O$10:$Q$12,TRANSPOSE(Y33:AA33))))","v":{"$error":"#N/A"}},{"$error":"#N/A"},{"$error":"#N/A"},{"$error":"#N/A"},{"$error":"#N/A"},{"$f":"TRANSPOSE(MMULT($AE$10:$AG$12,TRANSPOSE(F33:H33)))","v":{"$error":"#N/A"}},{"$error":"#N/A"},{"$error":"#N/A"},{"$error":"#N/A"},{"$error":"#N/A"},{"$f":"TRANSPOSE(MMULT($AO$40:$AQ$42,TRANSPOSE(C33:E33)))","v":{"$error":"#N/A"}},{"$error":"#N/A"},{"$error":"#N/A"},{"$error":"#N/A"},{"$error":"#N/A"},{"$error":"#N/A"},"V_vektor",{"$f":"HOME!S48","v":0.7},null,"axonometrikus",null,null,"perspektívikus"]
[34,{"$error":"#N/A"},{"$error":"#N/A"},{"$error":"#N/A"},{"$error":"#N/A"},{"$error":"#N/A"},{"$error":"#N/A"},{"$error":"#N/A"},{"$error":"#N/A"},{"$error":"#N/A"},{"$error":"#N/A"},{"$f":"IF($AK$38=0,TRANSPOSE(MMULT($O$10:$Q$12,TRANSPOSE(C34:E34))),TRANSPOSE(MMULT($O$10:$Q$12,TRANSPOSE(Y34:AA34))))","v":{"$error":"#N/A"}},{"$error":"#N/A"},{"$error":"#N/A"},{"$error":"#N/A"},{"$error":"#N/A"},{"$f":"TRANSPOSE(MMULT($AE$10:$AG$12,TRANSPOSE(F34:H34)))","v":{"$error":"#N/A"}},{"$error":"#N/A"},{"$error":"#N/A"},{"$error":"#N/A"},{"$error":"#N/A"},{"$f":"TRANSPOSE(MMULT($AO$40:$AQ$42,TRANSPOSE(C34:E34)))","v":{"$error":"#N/A"}},{"$error":"#N/A"},{"$error":"#N/A"},{"$error":"#N/A"},{"$error":"#N/A"},{"$error":"#N/A"},{"$f":"IF(AJ4=1,0,C15)","v":3},{"$f":"IF(AJ4=1,0,D15)","v":4},{"$f":"IF(AJ4=1,0,E15)","v":0},{"$f":"TRANSPOSE(MMULT(O10:Q12,TRANSPOSE(AB34:AD34)))","v":1.1358149434162947},-2.4346418840515476,4.216923441412492,{"$f":"IF(AB6=0,NA(),$X$5+$X$4*IF($U$8=1,AE34,(AE34*$U$6)/($U$6+$U$7+AF34)))","v":1.1358149434162947},{"$f":"IF(AB6=0,NA(),$X$6+$X$4*IF($U$8=1,AF34,(AG34*$U$6)/($U$6+$U$7+AF34)))","v":-2.4346418840515476},null,"globális bázis",{"$nulls":3},"k=zxe","z*"]
[35,{"$error":"#N/A"},{"$error":"#N/A"},{"$error":"#N/A"},{"$error":"#N/A"},{"$error":"#N/A"},{"$error":"#N/A"},{"$error":"#N/A"},{"$error":"#N/A"},{"$error":"#N/A"},{"$error":"#N/A"},{"$f":"IF($AK$38=0,TRANSPOSE(MMULT($O$10:$Q$12,TRANSPOSE(C35:E35))),TRANSPOSE(MMULT($O$10:$Q$12,TRANSPOSE(Y35:AA35))))","v":{"$error":"#N/A"}},{"$error":"#N/A"},{"$error":"#N/A"},{"$error":"#N/A"},{"$error":"#N/A"},{"$f":"TRANSPOSE(MMULT($AE$10:$AG$12,TRANSPOSE(F35:H35)))","v":{"$error":"#N/A"}},{"$error":"#N/A"},{"$error":"#N/A"},{"$error":"#N/A"},{"$error":"#N/A"},{"$f":"TRANSPOSE(MMULT($AO$40:$AQ$42,TRANSPOSE(C35:E35)))","v":{"$error":"#N/A"}},{"$error":"#N/A"},{"$error":"#N/A"},{"$error":"#N/A"},{"$error":"#N/A"},{"$error":"#N/A"},{"$f":"IF(AJ4=0,AB34+$AC$33*(F15/($F$15^2+$G$15^2+$H$15^2)^0.5),AT46/($F$15^2+$G$15^2+$H$15^2)^0.5)","v":3},{"$f":"IF(AJ4=0,AC34+$AC$33*(G15/($F$15^2+$G$15^2+$H$15^2)^0.5),AT47/($F$15^2+$G$15^2+$H$15^2)^0.5)","v":4.31304951684997},{"$f":"IF(AJ4=0,AD34+$AC$33*(H15/($F$15^2+$G$15^2+$H$15^2)^0.5),AT48/($F$15^2+$G$15^2+$H$15^2)^0.5)","v":0.626099033699941},{"$f":"TRANSPOSE(MMULT(O10:Q12,TRANSPOSE(AB35:AD35)))","v":1.3756247862202953},-1.993036390907269,4.704238357784973,{"$f":"IF(AB6=0,NA(),$X$5+$X$4*IF($U$8=1,AE35,(AE35*$U$6)/($U$6+$U$7+AF35)))","v":1.3756247862202953},{"$f":"IF(AB6=0,NA(),$X$6+$X$4*IF($U$8=1,AF35,(AG35*$U$6)/($U$6+$U$7+AF35)))","v":-1.993036390907269},null,1,0,0,null,{"$f":"AM36*AD15-AM37*AC15","v":-0.4472135954999579},{"$f":"AC15*AO37-AD15*AO36","v":0}]
[36,{"$error":"#N/A"},{"$error":"#N/A"},{"$error":"#N/A"},{"$error":"#N/A"},{"$error":"#N/A"},{"$error":"#N/A"},{"$error":"#N/A"},{"$error":"#N/A"},{"$error":"#N/A"},{"$error":"#N/A"},{"$f":"IF($AK$38=0,TRANSPOSE(MMULT($O$10:$Q$12,TRANSPOSE(C36:E36))),TRANSPOSE(MMULT($O$10:$Q$12,TRANSPOSE(Y36:AA36))))","v":{"$error":"#N/A"}},{"$error":"#N/A"},{"$error":"#N/A"},{"$error":"#N/A"},{"$error":"#N/A"},{"$f":"TRANSPOSE(MMULT($AE$10:$AG$12,TRANSPOSE(F36:H36)))","v":{"$error":"#N/A"}},{"$error":"#N/A"},{"$error":"#N/A"},{"$error":"#N/A"},{"$error":"#N/A"},{"$f":"TRANSPOSE(MMULT($AO$40:$AQ$42,TRANSPOSE(C36:E36)))","v":{"$error":"#N/A"}},{"$error":"#N/A"},{"$error":"#N/A"},{"$error":"#N/A"},{"$error":"#N/A"},{"$error":"#N/A"},{"$nulls":9},0,1,0,null,{"$f":"-1*(AM35*AD15-AM37*AB15)","v":0},{"$f":"-1*(AB15*AO37-AD15*AO35)","v":-0.39999999999999997}]
[37,{"$error":"#N/A"},{"$error":"#N/A"},{"$error":"#N/A"},{"$error":"#N/A"},{"$error":"#N/A"},{"$error":"#N/A"},{"$error":"#N/A"},{"$error":"#N/A"},{"$error":"#N/A"},{"$error":"#N/A"},{"$f":"IF($AK$38=0,TRANSPOSE(MMULT($O$10:$Q$12,TRANSPOSE(C37:E37))),TRANSPOSE(MMULT($O$10:$Q$12,TRANSPOSE(Y37:AA37))))","v":{"$error":"#N/A"}},{"$error":"#N/A"},{"$error":"#N/A"},{"$error":"#N/A"},{"$error":"#N/A"},{"$f":"TRANSPOSE(MMULT($AE$10:$AG$12,TRANSPOSE(F37:H37)))","v":{"$error":"#N/A"}},{"$error":"#N/A"},{"$error":"#N/A"},{"$error":"#N/A"},{"$error":"#N/A"},{"$f":"TRANSPOSE(MMULT($AO$40:$AQ$42,TRANSPOSE(C37:E37)))","v":{"$error":"#N/A"}},{"$error":"#N/A"},{"$error":"#N/A"},{"$error":"#N/A"},{"$error":"#N/A"},{"$error":"#N/A"},"a_vektor",{"$f":"HOME!S49","v":1},{"$nulls":7},0,0,1,null,{"$f":"AM35*AC15-AM36*AB15","v":0},{"$f":"AB15*AO36-AC15*AO35","v":0.19999999999999998}]
[38,{"$error":"#N/A"},{"$error":"#N/A"},{"$error":"#N/A"},{"$error":"#N/A"},{"$error":"#N/A"},{"$error":"#N/A"},{"$error":"#N/A"},{"$error":"#N/A"},{"$error":"#N/A"},{"$error":"#N/A"},{"$f":"IF($AK$38=0,TRANSPOSE(MMULT($O$10:$Q$12,TRANSPOSE(C38:E38))),TRANSPOSE(MMULT($O$10:$Q$12,TRANSPOSE(Y38:AA38))))","v":{"$error":"#N/A"}},{"$error":"#N/A"},{"$error":"#N/A"},{"$error":"#N/A"},{"$error":"#N/A"},{"$f":"TRANSPOSE(MMULT($AE$10:$AG$12,TRANSPOSE(F38:H38)))","v":{"$error":"#N/A"}},{"$error":"#N/A"},{"$error":"#N/A"},{"$error":"#N/A"},{"$error":"#N/A"},{"$f":"TRANSPOSE(MMULT($AO$40:$AQ$42,TRANSPOSE(C38:E38)))","v":{"$error":"#N/A"}},{"$error":"#N/A"},{"$error":"#N/A"},{"$error":"#N/A"},{"$error":"#N/A"},{"$error":"#N/A"},{"$f":"IF(AJ4=1,0,C15)","v":3},{"$f":"IF(AJ4=1,0,D15)","v":4},{"$f":"IF(AJ4=1,0,E15)","v":0},{"$f":"TRANSPOSE(MMULT(O10:Q12,TRANSPOSE(AB38:AD38)))","v":1.1358149434162947},-2.4346418840515476,4.216923441412492,{"$f":"IF(AD6=0,NA(),$X$5+$X$4*IF($U$8=1,AE38,(AE38*$U$6)/($U$6+$U$7+AF38)))","v":1.1358149434162947},{"$f":"IF(AD6=0,NA(),$X$6+$X$4*IF($U$8=1,AF38,(AG38*$U$6)/($U$6+$U$7+AF38)))","v":-2.4346418840515476},null,0]
[39,{"$error":"#N/A"},{"$error":"#N/A"},{"$error":"#N/A"},{"$error":"#N/A"},{"$error":"#N/A"},{"$error":"#N/A"},{"$error":"#N/A"},{"$error":"#N/A"},{"$error":"#N/A"},{"$error":"#N/A"},{"$f":"IF($AK$38=0,TRANSPOSE(MMULT($O$10:$Q$12,TRANSPOSE(C39:E39))),TRANSPOSE(MMULT($O$10:$Q$12,TRANSPOSE(Y39:AA39))))","v":{"$error":"#N/A"}},{"$error":"#N/A"},{"$error":"#N/A"},{"$error":"#N/A"},{"$error":"#N/A"},{"$f":"TRANSPOSE(MMULT($AE$10:$AG$12,TRANSPOSE(F39:H39)))","v":{"$error":"#N/A"}},{"$error":"#N/A"},{"$error":"#N/A"},{"$error":"#N/A"},{"$error":"#N/A"},{"$f":"TRANSPOSE(MMULT($AO$40:$AQ$42,TRANSPOSE(C39:E39)))","v":{"$error":"#N/A"}},{"$error":"#N/A"},{"$error":"#N/A"},{"$error":"#N/A"},{"$error":"#N/A"},{"$error":"#N/A"},{"$f":"IF(AJ4=0,AB38+$AC$37*(I15/($I$15^2+$J$15^2+$K$15^2)^0.5),AU46/(($I$15^2+$J$15^2+$K$15^2)^0.5))","v":2.4},{"$f":"IF(AJ4=0,AC38+$AC$37*(J15/($I$15^2+$J$15^2+$K$15^2)^0.5),AU47/(($I$15^2+$J$15^2+$K$15^2)^0.5))","v":3.2},{"$f":"IF(AJ4=0,AD38+$AC$37*(K15/($I$15^2+$J$15^2+$K$15^2)^0.5),AU48/(($I$15^2+$J$15^2+$K$15^2)^0.5))","v":0},{"$f":"TRANSPOSE(MMULT(O10:Q12,TRANSPOSE(AB39:AD39)))","v":0.9086519547330361},-1.9477135072412382,3.373538753129993,{"$f":"IF(AD6=0,NA(),$X$5+$X$4*IF($U$8=1,AE39,(AE39*$U$6)/($U$6+$U$7+AF39)))","v":0.9086519547330361},{"$f":"IF(AD6=0,NA(),$X$6+$X$4*IF($U$8=1,AF39,(AG39*$U$6)/($U$6+$U$7+AF39)))","v":-1.9477135072412382},null,"kísérő triéder (global_base)",{"$nulls":3},"inverze (báziscsere):",{"$nulls":3},"új bázis gkrben"]
[40,{"$error":"#N/A"},{"$error":"#N/A"},{"$error":"#N/A"},{"$error":"#N/A"},{"$error":"#N/A"},{"$error":"#N/A"},{"$error":"#N/A"},{"$error":"#N/A"},{"$error":"#N/A"},{"$error":"#N/A"},{"$f":"IF($AK$38=0,TRANSPOSE(MMULT($O$10:$Q$12,TRANSPOSE(C40:E40))),TRANSPOSE(MMULT($O$10:$Q$12,TRANSPOSE(Y40:AA40))))","v":{"$error":"#N/A"}},{"$error":"#N/A"},{"$error":"#N/A"},{"$error":"#N/A"},{"$error":"#N/A"},{"$f":"TRANSPOSE(MMULT($AE$10:$AG$12,TRANSPOSE(F40:H40)))","v":{"$error":"#N/A"}},{"$error":"#N/A"},{"$error":"#N/A"},{"$error":"#N/A"},{"$error":"#N/A"},{"$f":"TRANSPOSE(MMULT($AO$40:$AQ$42,TRANSPOSE(C40:E40)))","v":{"$error":"#N/A"}},{"$error":"#N/A"},{"$error":"#N/A"},{"$error":"#N/A"},{"$error":"#N/A"},{"$error":"#N/A"},{"$nulls":9},{"$f":"TRANSPOSE(AB15:AD15)","v":0},{"$f":"TRANSPOSE(AH15:AJ15)","v":-0.6425294053171791},{"$f":"TRANSPOSE(AE15:AG15)","v":0.7662610281769212},null,{"$f":"MINVERSE(AS40:AU42)","v":0},0.447213595499958,0.894427190999916,null,{"$f":"TRANSPOSE(AB15:AD15)","v":0},{"$f":"IF(AK38=1,AH15,AO35/(AO35^2+AO36^2+AO37^2)^0.5)","v":-1},{"$f":"IF(AK38=1,AE15,AP35/(AP35^2+AP36^2+AP37^2)^0.5)","v":0}]
[41,{"$error":"#N/A"},{"$error":"#N/A"},{"$error":"#N/A"},{"$error":"#N/A"},{"$error":"#N/A"},{"$error":"#N/A"},{"$error":"#N/A"},{"$error":"#N/A"},{"$error":"#N/A"},{"$error":"#N/A"},{"$f":"IF($AK$38=0,TRANSPOSE(MMULT($O$10:$Q$12,TRANSPOSE(C41:E41))),TRANSPOSE(MMULT($O$10:$Q$12,TRANSPOSE(Y41:AA41))))","v":{"$error":"#N/A"}},{"$error":"#N/A"},{"$error":"#N/A"},{"$error":"#N/A"},{"$error":"#N/A"},{"$f":"TRANSPOSE(MMULT($AE$10:$AG$12,TRANSPOSE(F41:H41)))","v":{"$error":"#N/A"}},{"$error":"#N/A"},{"$error":"#N/A"},{"$error":"#N/A"},{"$error":"#N/A"},{"$f":"TRANSPOSE(MMULT($AO$40:$AQ$42,TRANSPOSE(C41:E41)))","v":{"$error":"#N/A"}},{"$error":"#N/A"},{"$error":"#N/A"},{"$error":"#N/A"},{"$error":"#N/A"},{"$error":"#N/A"},"ae_vektor",{"$nulls":8},0.4472135954999579,-0.685364699004991,-0.5746957711326909,null,-1,0,0,null,0.4472135954999579,{"$f":"IF(AK38=1,AI15,AO36/(AO35^2+AO36^2+AO37^2)^0.5)","v":0},{"$f":"IF(AK38=1,AF15,AP36/(AP35^2+AP36^2+AP37^2)^0.5)","v":-0.894427190999916}]
[42,{"$error":"#N/A"},{"$f":"(C$4+F$4*$B42+I$4*$B42^2+L$4*$B42^3+O$4*$B42^4)+(C$5+F$5*$B42+I$5*$B42^2+L$5*$B42^3+O$5*$B42^5)*(COS(C$6+F$6*$B42+I$6*$B42^2+L$6*$B42^3+O$6*$B42^4))+(C$7+F$7*$B42+I$7*$B42^2+L$7*$B42^3+O$7*$B42^4)*(SIN(C$8+F$8*$B42+I$8*$B42^2+L$8*$B42^3+O$8*$B42^4))","v":{"$error":"#N/A"}},{"$f":"(D$4+G$4*$B42+J$4*$B42^2+M$4*$B42^3+P$4*$B42^4)+(D$5+G$5*$B42+J$5*$B42^2+M$5*$B42^3+P$5*$B42^5)*(COS(D$6+G$6*$B42+J$6*$B42^2+M$6*$B42^3+P$6*$B42^4))+(D$7+G$7*$B42+J$7*$B42^2+M$7*$B42^3+P$7*$B42^4)*(SIN(D$8+G$8*$B42+J$8*$B42^2+M$8*$B42^3+P$8*$B42^4))","v":{"$error":"#N/A"}},{"$f":"(E$4+H$4*$B42+K$4*$B42^2+N$4*$B42^3+Q$4*$B42^4)+(E$5+H$5*$B42+K$5*$B42^2+N$5*$B42^3+Q$5*$B42^5)*(COS(E$6+H$6*$B42+K$6*$B42^2+N$6*$B42^3+Q$6*$B42^4))+(E$7+H$7*$B42+K$7*$B42^2+N$7*$B42^3+Q$7*$B42^4)*(SIN(E$8+H$8*$B42+K$8*$B42^2+N$8*$B42^3+Q$8*$B42^4))","v":{"$error":"#N/A"}},{"$error":"#N/A"},{"$error":"#N/A"},{"$error":"#N/A"},{"$error":"#N/A"},{"$error":"#N/A"},{"$error":"#N/A"},{"$f":"IF($AK$38=0,TRANSPOSE(MMULT($O$10:$Q$12,TRANSPOSE(C42:E42))),TRANSPOSE(MMULT($O$10:$Q$12,TRANSPOSE(Y42:AA42))))","v":{"$error":"#N/A"}},{"$error":"#N/A"},{"$error":"#N/A"},{"$error":"#N/A"},{"$error":"#N/A"},{"$f":"TRANSPOSE(MMULT($AE$10:$AG$12,TRANSPOSE(F42:H42)))","v":{"$error":"#N/A"}},{"$error":"#N/A"},{"$error":"#N/A"},{"$error":"#N/A"},{"$error":"#N/A"},{"$f":"TRANSPOSE(MMULT($AO$40:$AQ$42,TRANSPOSE(C42:E42)))","v":{"$error":"#N/A"}},{"$error":"#N/A"},{"$error":"#N/A"},{"$error":"#N/A"},{"$error":"#N/A"},{"$error":"#N/A"},{"$f":"AB38","v":3},{"$f":"AC38","v":4},0,{"$f":"TRANSPOSE(MMULT(O10:Q12,TRANSPOSE(AB42:AD42)))","v":1.1358149434162947},-2.4346418840515476,4.216923441412492,{"$f":"IF(AH4=0,NA(),$X$5+$X$4*IF($U$8=1,AE42,(AE42*$U$6)/($U$6+$U$7+AF42)))","v":1.1358149434162947},{"$f":"IF(AH4=0,NA(),$X$6+$X$4*IF($U$8=1,AF42,(AG42*$U$6)/($U$6+$U$7+AF42)))","v":-2.4346418840515476},null,0.8944271909999159,0.3426823495024955,0.28734788556634544,null,0,-0.8944271909999159,0.4472135954999579,null,0.8944271909999159,{"$f":"IF(AK38=1,AJ15,AO37/(AO35^2+AO36^2+AO37^2)^0.5)","v":0},{"$f":"IF(AK38=1,AG15,AP37/(AP35^2+AP36^2+AP37^2)^0.5)","v":0.447213595499958}]
[43,{"$error":"#N/A"},{"$error":"#N/A"},{"$error":"#N/A"},{"$error":"#N/A"},{"$error":"#N/A"},{"$error":"#N/A"},{"$error":"#N/A"},{"$error":"#N/A"},{"$error":"#N/A"},{"$error":"#N/A"},{"$f":"IF($AK$38=0,TRANSPOSE(MMULT($O$10:$Q$12,TRANSPOSE(C43:E43))),TRANSPOSE(MMULT($O$10:$Q$12,TRANSPOSE(Y43:AA43))))","v":{"$error":"#N/A"}},{"$error":"#N/A"},{"$error":"#N/A"},{"$error":"#N/A"},{"$error":"#N/A"},{"$f":"TRANSPOSE(MMULT($AE$10:$AG$12,TRANSPOSE(F43:H43)))","v":{"$error":"#N/A"}},{"$error":"#N/A"},{"$error":"#N/A"},{"$error":"#N/A"},{"$error":"#N/A"},{"$f":"TRANSPOSE(MMULT($AO$40:$AQ$42,TRANSPOSE(C43:E43)))","v":{"$error":"#N/A"}},{"$error":"#N/A"},{"$error":"#N/A"},{"$error":"#N/A"},{"$error":"#N/A"},{"$error":"#N/A"},{"$f":"AB42+AB44*AQ50","v":3},{"$f":"AC42+AC44*AQ51","v":3.84},{"$f":"AD42+AD44*AQ52","v":-0.32},{"$f":"TRANSPOSE(MMULT(O10:Q12,TRANSPOSE(AB43:AD43)))","v":1.013247832517258},-2.660347004487645,3.967856177536264,{"$f":"IF(AH4=0,NA(),$X$5+$X$4*IF($U$8=1,AE43,(AE43*$U$6)/($U$6+$U$7+AF43)))","v":1.013247832517258},{"$f":"IF(AH4=0,NA(),$X$6+$X$4*IF($U$8=1,AF43,(AG43*$U$6)/($U$6+$U$7+AF43)))","v":-2.660347004487645}]
[44,{"$error":"#N/A"},{"$error":"#N/A"},{"$error":"#N/A"},{"$error":"#N/A"},{"$error":"#N/A"},{"$error":"#N/A"},{"$error":"#N/A"},{"$error":"#N/A"},{"$error":"#N/A"},{"$error":"#N/A"},{"$f":"IF($AK$38=0,TRANSPOSE(MMULT($O$10:$Q$12,TRANSPOSE(C44:E44))),TRANSPOSE(MMULT($O$10:$Q$12,TRANSPOSE(Y44:AA44))))","v":{"$error":"#N/A"}},{"$error":"#N/A"},{"$error":"#N/A"},{"$error":"#N/A"},{"$error":"#N/A"},{"$f":"TRANSPOSE(MMULT($AE$10:$AG$12,TRANSPOSE(F44:H44)))","v":{"$error":"#N/A"}},{"$error":"#N/A"},{"$error":"#N/A"},{"$error":"#N/A"},{"$error":"#N/A"},{"$f":"TRANSPOSE(MMULT($AO$40:$AQ$42,TRANSPOSE(C44:E44)))","v":{"$error":"#N/A"}},{"$error":"#N/A"},{"$error":"#N/A"},{"$error":"#N/A"},{"$error":"#N/A"},{"$error":"#N/A"},{"$f":"MMULT(TRANSPOSE(AV50:AV52),$AQ$50:$AQ$52)","v":-0.35777087639996635},-0.35777087639996635,-0.35777087639996635,{"$nulls":15},{"$f":"AC33","v":0.7},{"$f":"AC37","v":1}]
[45,{"$error":"#N/A"},{"$error":"#N/A"},{"$error":"#N/A"},{"$error":"#N/A"},{"$error":"#N/A"},{"$error":"#N/A"},{"$error":"#N/A"},{"$error":"#N/A"},{"$error":"#N/A"},{"$error":"#N/A"},{"$f":"IF($AK$38=0,TRANSPOSE(MMULT($O$10:$Q$12,TRANSPOSE(C45:E45))),TRANSPOSE(MMULT($O$10:$Q$12,TRANSPOSE(Y45:AA45))))","v":{"$error":"#N/A"}},{"$error":"#N/A"},{"$error":"#N/A"},{"$error":"#N/A"},{"$error":"#N/A"},{"$f":"TRANSPOSE(MMULT($AE$10:$AG$12,TRANSPOSE(F45:H45)))","v":{"$error":"#N/A"}},{"$error":"#N/A"},{"$error":"#N/A"},{"$error":"#N/A"},{"$error":"#N/A"},{"$f":"TRANSPOSE(MMULT($AO$40:$AQ$42,TRANSPOSE(C45:E45)))","v":{"$error":"#N/A"}},{"$error":"#N/A"},{"$error":"#N/A"},{"$error":"#N/A"},{"$error":"#N/A"},{"$error":"#N/A"},{"$nulls":9},"helyvektor","origo","r","x","y","z","e","n","b","v","a"]
[46,{"$error":"#N/A"},{"$error":"#N/A"},{"$error":"#N/A"},{"$error":"#N/A"},{"$error":"#N/A"},{"$error":"#N/A"},{"$error":"#N/A"},{"$error":"#N/A"},{"$error":"#N/A"},{"$error":"#N/A"},{"$f":"IF($AK$38=0,TRANSPOSE(MMULT($O$10:$Q$12,TRANSPOSE(C46:E46))),TRANSPOSE(MMULT($O$10:$Q$12,TRANSPOSE(Y46:AA46))))","v":{"$error":"#N/A"}},{"$error":"#N/A"},{"$error":"#N/A"},{"$error":"#N/A"},{"$error":"#N/A"},{"$f":"TRANSPOSE(MMULT($AE$10:$AG$12,TRANSPOSE(F46:H46)))","v":{"$error":"#N/A"}},{"$error":"#N/A"},{"$error":"#N/A"},{"$error":"#N/A"},{"$error":"#N/A"},{"$f":"TRANSPOSE(MMULT($AO$40:$AQ$42,TRANSPOSE(C46:E46)))","v":{"$error":"#N/A"}},{"$error":"#N/A"},{"$error":"#N/A"},{"$error":"#N/A"},{"$error":"#N/A"},{"$error":"#N/A"},"an_vektor",{"$nulls":8},{"$f":"C15","v":3},{"$f":"-1*AM46","v":-1.788854381999832},{"$f":"MMULT(AO40:AQ42,AK46:AK48)","v":1.788854381999832},{"$f":"MMULT(AO40:AQ42,AK35:AK37)","v":0},{"$f":"MMULT(AO40:AQ42,AL35:AL37)","v":0.447213595499958},{"$f":"MMULT(AO40:AQ42,AM35:AM37)","v":0.894427190999916},{"$f":"MMULT(AO40:AQ42,AK40:AK42)","v":1},{"$f":"MMULT(AO40:AQ42,AL40:AL42)","v":0},{"$f":"MMULT(AO40:AQ42,AM40:AM42)","v":0},{"$f":"$AT$44*MMULT($AO$40:$AQ$42,TRANSPOSE($F$15:$H$15))","v":7.826237921249263},{"$f":"$AU$44*MMULT($AO$40:$AQ$42,TRANSPOSE($I$15:$K$15))","v":-44.721359549995796}]
[47,{"$error":"#N/A"},{"$error":"#N/A"},{"$error":"#N/A"},{"$error":"#N/A"},{"$error":"#N/A"},{"$error":"#N/A"},{"$error":"#N/A"},{"$error":"#N/A"},{"$error":"#N/A"},{"$error":"#N/A"},{"$f":"IF($AK$38=0,TRANSPOSE(MMULT($O$10:$Q$12,TRANSPOSE(C47:E47))),TRANSPOSE(MMULT($O$10:$Q$12,TRANSPOSE(Y47:AA47))))","v":{"$error":"#N/A"}},{"$error":"#N/A"},{"$error":"#N/A"},{"$error":"#N/A"},{"$error":"#N/A"},{"$f":"TRANSPOSE(MMULT($AE$10:$AG$12,TRANSPOSE(F47:H47)))","v":{"$error":"#N/A"}},{"$error":"#N/A"},{"$error":"#N/A"},{"$error":"#N/A"},{"$error":"#N/A"},{"$f":"TRANSPOSE(MMULT($AO$40:$AQ$42,TRANSPOSE(C47:E47)))","v":{"$error":"#N/A"}},{"$error":"#N/A"},{"$error":"#N/A"},{"$error":"#N/A"},{"$error":"#N/A"},{"$error":"#N/A"},{"$f":"AB38","v":3},{"$f":"AC38","v":4},{"$f":"AD38","v":0},{"$f":"TRANSPOSE(MMULT(O10:Q12,TRANSPOSE(AB47:AD47)))","v":1.1358149434162947},-2.4346418840515476,4.216923441412492,{"$f":"IF(AH5=0,NA(),$X$5+$X$4*IF($U$8=1,AE47,(AE47*$U$6)/($U$6+$U$7+AF47)))","v":1.1358149434162947},{"$f":"IF(AH5=0,NA(),$X$6+$X$4*IF($U$8=1,AF47,(AG47*$U$6)/($U$6+$U$7+AF47)))","v":-2.4346418840515476},null,{"$f":"D15","v":4},{"$f":"-1*AM47","v":3},-3,-1,0,0,0,0.6425294053171791,-0.7662610281769212,0,75]
[48,{"$error":"#N/A"},{"$error":"#N/A"},{"$error":"#N/A"},{"$error":"#N/A"},{"$error":"#N/A"},{"$error":"#N/A"},{"$error":"#N/A"},{"$error":"#N/A"},{"$error":"#N/A"},{"$error":"#N/A"},{"$f":"IF($AK$38=0,TRANSPOSE(MMULT($O$10:$Q$12,TRANSPOSE(C48:E48))),TRANSPOSE(MMULT($O$10:$Q$12,TRANSPOSE(Y48:AA48))))","v":{"$error":"#N/A"}},{"$error":"#N/A"},{"$error":"#N/A"},{"$error":"#N/A"},{"$error":"#N/A"},{"$f":"TRANSPOSE(MMULT($AE$10:$AG$12,TRANSPOSE(F48:H48)))","v":{"$error":"#N/A"}},{"$error":"#N/A"},{"$error":"#N/A"},{"$error":"#N/A"},{"$error":"#N/A"},{"$f":"TRANSPOSE(MMULT($AO$40:$AQ$42,TRANSPOSE(C48:E48)))","v":{"$error":"#N/A"}},{"$error":"#N/A"},{"$error":"#N/A"},{"$error":"#N/A"},{"$error":"#N/A"},{"$error":"#N/A"},{"$f":"AB47+AB49*AR50","v":2.4},{"$f":"AC47+AC49*AR51","v":3.36},{"$f":"AD47+AD49*AR52","v":0.32},{"$f":"TRANSPOSE(MMULT(O10:Q12,TRANSPOSE(AB48:AD48)))","v":1.0312190656320723},-1.722008386805141,3.62260601700622,{"$f":"IF(AH5=0,NA(),$X$5+$X$4*IF($U$8=1,AE48,(AE48*$U$6)/($U$6+$U$7+AF48)))","v":1.0312190656320723},{"$f":"IF(AH5=0,NA(),$X$6+$X$4*IF($U$8=1,AF48,(AG48*$U$6)/($U$6+$U$7+AF48)))","v":-1.722008386805141},null,{"$f":"E15","v":0},3.5777087639996634,-3.5777087639996634,0,-0.8944271909999159,0.4472135954999579,0,0.7662610281769211,0.6425294053171791,0,89.44271909999159]
[49,{"$error":"#N/A"},{"$error":"#N/A"},{"$error":"#N/A"},{"$error":"#N/A"},{"$error":"#N/A"},{"$error":"#N/A"},{"$error":"#N/A"},{"$error":"#N/A"},{"$error":"#N/A"},{"$error":"#N/A"},{"$f":"IF($AK$38=0,TRANSPOSE(MMULT($O$10:$Q$12,TRANSPOSE(C49:E49))),TRANSPOSE(MMULT($O$10:$Q$12,TRANSPOSE(Y49:AA49))))","v":{"$error":"#N/A"}},{"$error":"#N/A"},{"$error":"#N/A"},{"$error":"#N/A"},{"$error":"#N/A"},{"$f":"TRANSPOSE(MMULT($AE$10:$AG$12,TRANSPOSE(F49:H49)))","v":{"$error":"#N/A"}},{"$error":"#N/A"},{"$error":"#N/A"},{"$error":"#N/A"},{"$error":"#N/A"},{"$f":"TRANSPOSE(MMULT($AO$40:$AQ$42,TRANSPOSE(C49:E49)))","v":{"$error":"#N/A"}},{"$error":"#N/A"},{"$error":"#N/A"},{"$error":"#N/A"},{"$error":"#N/A"},{"$error":"#N/A"},{"$f":"MMULT(TRANSPOSE(AV50:AV52),$AR$50:$AR$52)","v":0.9338094023943002},0.9338094023943002,0.9338094023943002]
[50,{"$error":"#N/A"},{"$error":"#N/A"},{"$error":"#N/A"},{"$error":"#N/A"},{"$error":"#N/A"},{"$error":"#N/A"},{"$error":"#N/A"},{"$error":"#N/A"},{"$error":"#N/A"},{"$error":"#N/A"},{"$f":"IF($AK$38=0,TRANSPOSE(MMULT($O$10:$Q$12,TRANSPOSE(C50:E50))),TRANSPOSE(MMULT($O$10:$Q$12,TRANSPOSE(Y50:AA50))))","v":{"$error":"#N/A"}},{"$error":"#N/A"},{"$error":"#N/A"},{"$error":"#N/A"},{"$error":"#N/A"},{"$f":"TRANSPOSE(MMULT($AE$10:$AG$12,TRANSPOSE(F50:H50)))","v":{"$error":"#N/A"}},{"$error":"#N/A"},{"$error":"#N/A"},{"$error":"#N/A"},{"$error":"#N/A"},{"$f":"TRANSPOSE(MMULT($AO$40:$AQ$42,TRANSPOSE(C50:E50)))","v":{"$error":"#N/A"}},{"$error":"#N/A"},{"$error":"#N/A"},{"$error":"#N/A"},{"$error":"#N/A"},{"$error":"#N/A"},{"$nulls":15},{"$f":"IF($AJ$4=0,AB15,AQ46)","v":0},{"$f":"IF($AJ$4=0,AH15,AR46)","v":-0.6425294053171791},{"$f":"IF($AJ$4=0,AE15,AS46)","v":0.7662610281769212},null,{"$f":"IF(AJ4=0,I15,AU46)","v":-75},{"$f":"AU50/($AU$50^2+$AU$51^2+$AU$52^2)^0.5","v":-0.6}]
[51,{"$error":"#N/A"},{"$error":"#N/A"},{"$error":"#N/A"},{"$error":"#N/A"},{"$error":"#N/A"},{"$error":"#N/A"},{"$error":"#N/A"},{"$error":"#N/A"},{"$error":"#N/A"},{"$error":"#N/A"},{"$f":"IF($AK$38=0,TRANSPOSE(MMULT($O$10:$Q$12,TRANSPOSE(C51:E51))),TRANSPOSE(MMULT($O$10:$Q$12,TRANSPOSE(Y51:AA51))))","v":{"$error":"#N/A"}},{"$error":"#N/A"},{"$error":"#N/A"},{"$error":"#N/A"},{"$error":"#N/A"},{"$f":"TRANSPOSE(MMULT($AE$10:$AG$12,TRANSPOSE(F51:H51)))","v":{"$error":"#N/A"}},{"$error":"#N/A"},{"$error":"#N/A"},{"$error":"#N/A"},{"$error":"#N/A"},{"$f":"TRANSPOSE(MMULT($AO$40:$AQ$42,TRANSPOSE(C51:E51)))","v":{"$error":"#N/A"}},{"$error":"#N/A"},{"$error":"#N/A"},{"$error":"#N/A"},{"$error":"#N/A"},{"$error":"#N/A"},{"$f":"AB48","v":2.4},{"$f":"AC48","v":3.36},0.32,{"$f":"TRANSPOSE(MMULT(O10:Q12,TRANSPOSE(AB51:AD51)))","v":1.0312190656320723},-1.722008386805141,3.62260601700622,{"$f":"IF(AH6=0,NA(),$X$5+$X$4*IF($U$8=1,AE51,(AE51*$U$6)/($U$6+$U$7+AF51)))","v":1.0312190656320723},{"$f":"IF(AH6=0,NA(),$X$6+$X$4*IF($U$8=1,AF51,(AG51*$U$6)/($U$6+$U$7+AF51)))","v":-1.722008386805141},{"$nulls":7},{"$f":"IF($AJ$4=0,AC15,AQ47)","v":0.4472135954999579},{"$f":"IF($AJ$4=0,AI15,AR47)","v":-0.685364699004991},{"$f":"IF($AJ$4=0,AF15,AS47)","v":-0.5746957711326909},null,{"$f":"IF(AJ4=0,J15,AU47)","v":-100},{"$f":"AU51/($AU$50^2+$AU$51^2+$AU$52^2)^0.5","v":-0.8}]
[52,{"$error":"#N/A"},{"$f":"(C$4+F$4*$B52+I$4*$B52^2+L$4*$B52^3+O$4*$B52^4)+(C$5+F$5*$B52+I$5*$B52^2+L$5*$B52^3+O$5*$B52^5)*(COS(C$6+F$6*$B52+I$6*$B52^2+L$6*$B52^3+O$6*$B52^4))+(C$7+F$7*$B52+I$7*$B52^2+L$7*$B52^3+O$7*$B52^4)*(SIN(C$8+F$8*$B52+I$8*$B52^2+L$8*$B52^3+O$8*$B52^4))","v":{"$error":"#N/A"}},{"$f":"(D$4+G$4*$B52+J$4*$B52^2+M$4*$B52^3+P$4*$B52^4)+(D$5+G$5*$B52+J$5*$B52^2+M$5*$B52^3+P$5*$B52^5)*(COS(D$6+G$6*$B52+J$6*$B52^2+M$6*$B52^3+P$6*$B52^4))+(D$7+G$7*$B52+J$7*$B52^2+M$7*$B52^3+P$7*$B52^4)*(SIN(D$8+G$8*$B52+J$8*$B52^2+M$8*$B52^3+P$8*$B52^4))","v":{"$error":"#N/A"}},{"$f":"(E$4+H$4*$B52+K$4*$B52^2+N$4*$B52^3+Q$4*$B52^4)+(E$5+H$5*$B52+K$5*$B52^2+N$5*$B52^3+Q$5*$B52^5)*(COS(E$6+H$6*$B52+K$6*$B52^2+N$6*$B52^3+Q$6*$B52^4))+(E$7+H$7*$B52+K$7*$B52^2+N$7*$B52^3+Q$7*$B52^4)*(SIN(E$8+H$8*$B52+K$8*$B52^2+N$8*$B52^3+Q$8*$B52^4))","v":{"$error":"#N/A"}},{"$error":"#N/A"},{"$error":"#N/A"},{"$error":"#N/A"},{"$error":"#N/A"},{"$error":"#N/A"},{"$error":"#N/A"},{"$f":"IF($AK$38=0,TRANSPOSE(MMULT($O$10:$Q$12,TRANSPOSE(C52:E52))),TRANSPOSE(MMULT($O$10:$Q$12,TRANSPOSE(Y52:AA52))))","v":{"$error":"#N/A"}},{"$error":"#N/A"},{"$error":"#N/A"},{"$error":"#N/A"},{"$error":"#N/A"},{"$f":"TRANSPOSE(MMULT($AE$10:$AG$12,TRANSPOSE(F52:H52)))","v":{"$error":"#N/A"}},{"$error":"#N/A"},{"$error":"#N/A"},{"$error":"#N/A"},{"$error":"#N/A"},{"$f":"TRANSPOSE(MMULT($AO$40:$AQ$42,TRANSPOSE(C52:E52)))","v":{"$error":"#N/A"}},{"$error":"#N/A"},{"$error":"#N/A"},{"$error":"#N/A"},{"$error":"#N/A"},{"$error":"#N/A"},{"$f":"AB39","v":2.4},{"$f":"AC39","v":3.2},0,{"$f":"TRANSPOSE(MMULT(O10:Q12,TRANSPOSE(AB52:AD52)))","v":0.9086519547330361},-1.9477135072412382,3.373538753129993,{"$f":"IF(AH6=0,NA(),$X$5+$X$4*IF($U$8=1,AE52,(AE52*$U$6)/($U$6+$U$7+AF52)))","v":0.9086519547330361},{"$f":"IF(AH6=0,NA(),$X$6+$X$4*IF($U$8=1,AF52,(AG52*$U$6)/($U$6+$U$7+AF52)))","v":-1.9477135072412382},{"$nulls":7},{"$f":"IF($AJ$4=0,AD15,AQ48)","v":0.8944271909999159},{"$f":"IF($AJ$4=0,AJ15,AR48)","v":0.3426823495024955},{"$f":"IF($AJ$4=0,AG15,AS48)","v":0.28734788556634544},null,{"$f":"IF(AJ4=0,K15,AU48)","v":0},0]
[53,{"$error":"#N/A"},{"$error":"#N/A"},{"$error":"#N/A"},{"$error":"#N/A"},{"$error":"#N/A"},{"$error":"#N/A"},{"$error":"#N/A"},{"$error":"#N/A"},{"$error":"#N/A"},{"$error":"#N/A"},{"$f":"IF($AK$38=0,TRANSPOSE(MMULT($O$10:$Q$12,TRANSPOSE(C53:E53))),TRANSPOSE(MMULT($O$10:$Q$12,TRANSPOSE(Y53:AA53))))","v":{"$error":"#N/A"}},{"$error":"#N/A"},{"$error":"#N/A"},{"$error":"#N/A"},{"$error":"#N/A"},{"$f":"TRANSPOSE(MMULT($AE$10:$AG$12,TRANSPOSE(F53:H53)))","v":{"$error":"#N/A"}},{"$error":"#N/A"},{"$error":"#N/A"},{"$error":"#N/A"},{"$error":"#N/A"},{"$f":"TRANSPOSE(MMULT($AO$40:$AQ$42,TRANSPOSE(C53:E53)))","v":{"$error":"#N/A"}},{"$error":"#N/A"},{"$error":"#N/A"},{"$error":"#N/A"},{"$error":"#N/A"},{"$error":"#N/A"},{"$f":"AB43","v":3},{"$f":"AC43","v":3.84},-0.32,{"$f":"TRANSPOSE(MMULT(O10:Q12,TRANSPOSE(AB53:AD53)))","v":1.013247832517258},-2.660347004487645,3.967856177536264,{"$f":"IF(AH6=0,NA(),$X$5+$X$4*IF($U$8=1,AE53,(AE53*$U$6)/($U$6+$U$7+AF53)))","v":1.013247832517258},{"$f":"IF(AH6=0,NA(),$X$6+$X$4*IF($U$8=1,AF53,(AG53*$U$6)/($U$6+$U$7+AF53)))","v":-2.660347004487645}]
[54,{"$error":"#N/A"},{"$error":"#N/A"},{"$error":"#N/A"},{"$error":"#N/A"},{"$error":"#N/A"},{"$error":"#N/A"},{"$error":"#N/A"},{"$error":"#N/A"},{"$error":"#N/A"},{"$error":"#N/A"},{"$f":"IF($AK$38=0,TRANSPOSE(MMULT($O$10:$Q$12,TRANSPOSE(C54:E54))),TRANSPOSE(MMULT($O$10:$Q$12,TRANSPOSE(Y54:AA54))))","v":{"$error":"#N/A"}},{"$error":"#N/A"},{"$error":"#N/A"},{"$error":"#N/A"},{"$error":"#N/A"},{"$f":"TRANSPOSE(MMULT($AE$10:$AG$12,TRANSPOSE(F54:H54)))","v":{"$error":"#N/A"}},{"$error":"#N/A"},{"$error":"#N/A"},{"$error":"#N/A"},{"$error":"#N/A"},{"$f":"TRANSPOSE(MMULT($AO$40:$AQ$42,TRANSPOSE(C54:E54)))","v":{"$error":"#N/A"}},{"$error":"#N/A"},{"$error":"#N/A"},{"$error":"#N/A"},{"$error":"#N/A"},{"$error":"#N/A"},{"$nulls":14},"e",{"$f":"TRANSPOSE(AQ50:AQ52)","v":0},0.4472135954999579,0.8944271909999159]
[55,{"$error":"#N/A"},{"$error":"#N/A"},{"$error":"#N/A"},{"$error":"#N/A"},{"$error":"#N/A"},{"$error":"#N/A"},{"$error":"#N/A"},{"$error":"#N/A"},{"$error":"#N/A"},{"$error":"#N/A"},{"$f":"IF($AK$38=0,TRANSPOSE(MMULT($O$10:$Q$12,TRANSPOSE(C55:E55))),TRANSPOSE(MMULT($O$10:$Q$12,TRANSPOSE(Y55:AA55))))","v":{"$error":"#N/A"}},{"$error":"#N/A"},{"$error":"#N/A"},{"$error":"#N/A"},{"$error":"#N/A"},{"$f":"TRANSPOSE(MMULT($AE$10:$AG$12,TRANSPOSE(F55:H55)))","v":{"$error":"#N/A"}},{"$error":"#N/A"},{"$error":"#N/A"},{"$error":"#N/A"},{"$error":"#N/A"},{"$f":"TRANSPOSE(MMULT($AO$40:$AQ$42,TRANSPOSE(C55:E55)))","v":{"$error":"#N/A"}},{"$error":"#N/A"},{"$error":"#N/A"},{"$error":"#N/A"},{"$error":"#N/A"},{"$error":"#N/A"},{"$nulls":3},"axonometrikus",null,null,"perspektívikus",{"$nulls":7},"n",{"$f":"TRANSPOSE(AR50:AR52)","v":-0.6425294053171791},-0.685364699004991,0.3426823495024955]
[56,{"$error":"#N/A"},{"$error":"#N/A"},{"$error":"#N/A"},{"$error":"#N/A"},{"$error":"#N/A"},{"$error":"#N/A"},{"$error":"#N/A"},{"$error":"#N/A"},{"$error":"#N/A"},{"$error":"#N/A"},{"$f":"IF($AK$38=0,TRANSPOSE(MMULT($O$10:$Q$12,TRANSPOSE(C56:E56))),TRANSPOSE(MMULT($O$10:$Q$12,TRANSPOSE(Y56:AA56))))","v":{"$error":"#N/A"}},{"$error":"#N/A"},{"$error":"#N/A"},{"$error":"#N/A"},{"$error":"#N/A"},{"$f":"TRANSPOSE(MMULT($AE$10:$AG$12,TRANSPOSE(F56:H56)))","v":{"$error":"#N/A"}},{"$error":"#N/A"},{"$error":"#N/A"},{"$error":"#N/A"},{"$error":"#N/A"},{"$f":"TRANSPOSE(MMULT($AO$40:$AQ$42,TRANSPOSE(C56:E56)))","v":{"$error":"#N/A"}},{"$error":"#N/A"},{"$error":"#N/A"},{"$error":"#N/A"},{"$error":"#N/A"},{"$error":"#N/A"},"e:",{"$f":"HOME!S46","v":1},null,"x","y","z","u","v",{"$nulls":6},"b",{"$f":"TRANSPOSE(AS50:AS52)","v":0.7662610281769212},-0.5746957711326909,0.28734788556634544]
[57,{"$error":"#N/A"},{"$error":"#N/A"},{"$error":"#N/A"},{"$error":"#N/A"},{"$error":"#N/A"},{"$error":"#N/A"},{"$error":"#N/A"},{"$error":"#N/A"},{"$error":"#N/A"},{"$error":"#N/A"},{"$f":"IF($AK$38=0,TRANSPOSE(MMULT($O$10:$Q$12,TRANSPOSE(C57:E57))),TRANSPOSE(MMULT($O$10:$Q$12,TRANSPOSE(Y57:AA57))))","v":{"$error":"#N/A"}},{"$error":"#N/A"},{"$error":"#N/A"},{"$error":"#N/A"},{"$error":"#N/A"},{"$f":"TRANSPOSE(MMULT($AE$10:$AG$12,TRANSPOSE(F57:H57)))","v":{"$error":"#N/A"}},{"$error":"#N/A"},{"$error":"#N/A"},{"$error":"#N/A"},{"$error":"#N/A"},{"$f":"TRANSPOSE(MMULT($AO$40:$AQ$42,TRANSPOSE(C57:E57)))","v":{"$error":"#N/A"}},{"$error":"#N/A"},{"$error":"#N/A"},{"$error":"#N/A"},{"$error":"#N/A"},{"$error":"#N/A"},{"$f":"IF(AJ4=1,0,C15)","v":3},{"$f":"IF(AJ4=1,0,D15)","v":4},{"$f":"IF(AJ4=1,0,E15)","v":0},{"$f":"TRANSPOSE(MMULT(O10:Q12,TRANSPOSE(AB57:AD57)))","v":1.1358149434162947},-2.4346418840515476,4.216923441412492,{"$f":"IF(AB5=0,NA(),$X$5+$X$4*IF($U$8=1,AE57,(AE57*$U$6)/($U$6+$U$7+AF57)))","v":1.1358149434162947},{"$f":"IF(AB5=0,NA(),$X$6+$X$4*IF($U$8=1,AF57,(AG57*$U$6)/($U$6+$U$7+AF57)))","v":-2.4346418840515476}]
[58,{"$error":"#N/A"},{"$error":"#N/A"},{"$error":"#N/A"},{"$error":"#N/A"},{"$error":"#N/A"},{"$error":"#N/A"},{"$error":"#N/A"},{"$error":"#N/A"},{"$error":"#N/A"},{"$error":"#N/A"},{"$f":"IF($AK$38=0,TRANSPOSE(MMULT($O$10:$Q$12,TRANSPOSE(C58:E58))),TRANSPOSE(MMULT($O$10:$Q$12,TRANSPOSE(Y58:AA58))))","v":{"$error":"#N/A"}},{"$error":"#N/A"},{"$error":"#N/A"},{"$error":"#N/A"},{"$error":"#N/A"},{"$f":"TRANSPOSE(MMULT($AE$10:$AG$12,TRANSPOSE(F58:H58)))","v":{"$error":"#N/A"}},{"$error":"#N/A"},{"$error":"#N/A"},{"$error":"#N/A"},{"$error":"#N/A"},{"$f":"TRANSPOSE(MMULT($AO$40:$AQ$42,TRANSPOSE(C58:E58)))","v":{"$error":"#N/A"}},{"$error":"#N/A"},{"$error":"#N/A"},{"$error":"#N/A"},{"$error":"#N/A"},{"$error":"#N/A"},{"$f":"IF(AJ4=1,$AC$56*AQ46,AB57+AC56*AB15)","v":3},{"$f":"IF(AJ4=1,AC56*AQ47,AC57+AC56*AC15)","v":4.447213595499958},{"$f":"IF(AJ4=1,AC56*AQ48,AD57+AC56*AD15)","v":0.8944271909999159},{"$f":"TRANSPOSE(MMULT(O10:Q12,TRANSPOSE(AB58:AD58)))","v":1.4784004331362963},-1.8037768938454355,4.913087607658894,{"$f":"IF(AB5=0,NA(),$X$5+$X$4*IF($U$8=1,AE58,(AE58*$U$6)/($U$6+$U$7+AF58)))","v":1.4784004331362963},{"$f":"IF(AB5=0,NA(),$X$6+$X$4*IF($U$8=1,AF58,(AG58*$U$6)/($U$6+$U$7+AF58)))","v":-1.8037768938454355}]
[59,{"$error":"#N/A"},{"$error":"#N/A"},{"$error":"#N/A"},{"$error":"#N/A"},{"$error":"#N/A"},{"$error":"#N/A"},{"$error":"#N/A"},{"$error":"#N/A"},{"$error":"#N/A"},{"$error":"#N/A"},{"$f":"IF($AK$38=0,TRANSPOSE(MMULT($O$10:$Q$12,TRANSPOSE(C59:E59))),TRANSPOSE(MMULT($O$10:$Q$12,TRANSPOSE(Y59:AA59))))","v":{"$error":"#N/A"}},{"$error":"#N/A"},{"$error":"#N/A"},{"$error":"#N/A"},{"$error":"#N/A"},{"$f":"TRANSPOSE(MMULT($AE$10:$AG$12,TRANSPOSE(F59:H59)))","v":{"$error":"#N/A"}},{"$error":"#N/A"},{"$error":"#N/A"},{"$error":"#N/A"},{"$error":"#N/A"},{"$f":"TRANSPOSE(MMULT($AO$40:$AQ$42,TRANSPOSE(C59:E59)))","v":{"$error":"#N/A"}},{"$error":"#N/A"},{"$error":"#N/A"},{"$error":"#N/A"},{"$error":"#N/A"},{"$error":"#N/A"},{"$nulls":3},"axonometrikus",null,null,"perspektívikus"]
[60,{"$error":"#N/A"},{"$error":"#N/A"},{"$error":"#N/A"},{"$error":"#N/A"},{"$error":"#N/A"},{"$error":"#N/A"},{"$error":"#N/A"},{"$error":"#N/A"},{"$error":"#N/A"},{"$error":"#N/A"},{"$f":"IF($AK$38=0,TRANSPOSE(MMULT($O$10:$Q$12,TRANSPOSE(C60:E60))),TRANSPOSE(MMULT($O$10:$Q$12,TRANSPOSE(Y60:AA60))))","v":{"$error":"#N/A"}},{"$error":"#N/A"},{"$error":"#N/A"},{"$error":"#N/A"},{"$error":"#N/A"},{"$f":"TRANSPOSE(MMULT($AE$10:$AG$12,TRANSPOSE(F60:H60)))","v":{"$error":"#N/A"}},{"$error":"#N/A"},{"$error":"#N/A"},{"$error":"#N/A"},{"$error":"#N/A"},{"$f":"TRANSPOSE(MMULT($AO$40:$AQ$42,TRANSPOSE(C60:E60)))","v":{"$error":"#N/A"}},{"$error":"#N/A"},{"$error":"#N/A"},{"$error":"#N/A"},{"$error":"#N/A"},{"$error":"#N/A"},"b:",null,null,"x","y","z","u","v"]
[61,{"$error":"#N/A"},{"$error":"#N/A"},{"$error":"#N/A"},{"$error":"#N/A"},{"$error":"#N/A"},{"$error":"#N/A"},{"$error":"#N/A"},{"$error":"#N/A"},{"$error":"#N/A"},{"$error":"#N/A"},{"$f":"IF($AK$38=0,TRANSPOSE(MMULT($O$10:$Q$12,TRANSPOSE(C61:E61))),TRANSPOSE(MMULT($O$10:$Q$12,TRANSPOSE(Y61:AA61))))","v":{"$error":"#N/A"}},{"$error":"#N/A"},{"$error":"#N/A"},{"$error":"#N/A"},{"$error":"#N/A"},{"$f":"TRANSPOSE(MMULT($AE$10:$AG$12,TRANSPOSE(F61:H61)))","v":{"$error":"#N/A"}},{"$error":"#N/A"},{"$error":"#N/A"},{"$error":"#N/A"},{"$error":"#N/A"},{"$f":"TRANSPOSE(MMULT($AO$40:$AQ$42,TRANSPOSE(C61:E61)))","v":{"$error":"#N/A"}},{"$error":"#N/A"},{"$error":"#N/A"},{"$error":"#N/A"},{"$error":"#N/A"},{"$error":"#N/A"},{"$f":"IF(AJ4=1,0,C15)","v":3},{"$f":"IF(AJ4=1,0,D15)","v":4},{"$f":"IF(AJ4=1,0,E15)","v":0},{"$f":"TRANSPOSE(MMULT(O10:Q12,TRANSPOSE(AB61:AD61)))","v":1.1358149434162947},-2.4346418840515476,4.216923441412492,{"$f":"IF(AD5=0,NA(),$X$5+$X$4*IF($U$8=1,AE61,(AE61*$U$6)/($U$6+$U$7+AF61)))","v":1.1358149434162947},{"$f":"IF(AD5=0,NA(),$X$6+$X$4*IF($U$8=1,AF61,(AG61*$U$6)/($U$6+$U$7+AF61)))","v":-2.4346418840515476}]
[62,{"$error":"#N/A"},{"$error":"#N/A"},{"$error":"#N/A"},{"$error":"#N/A"},{"$error":"#N/A"},{"$error":"#N/A"},{"$error":"#N/A"},{"$error":"#N/A"},{"$error":"#N/A"},{"$error":"#N/A"},{"$f":"IF($AK$38=0,TRANSPOSE(MMULT($O$10:$Q$12,TRANSPOSE(C62:E62))),TRANSPOSE(MMULT($O$10:$Q$12,TRANSPOSE(Y62:AA62))))","v":{"$error":"#N/A"}},{"$error":"#N/A"},{"$error":"#N/A"},{"$error":"#N/A"},{"$error":"#N/A"},{"$f":"TRANSPOSE(MMULT($AE$10:$AG$12,TRANSPOSE(F62:H62)))","v":{"$error":"#N/A"}},{"$error":"#N/A"},{"$error":"#N/A"},{"$error":"#N/A"},{"$error":"#N/A"},{"$f":"TRANSPOSE(MMULT($AO$40:$AQ$42,TRANSPOSE(C62:E62)))","v":{"$error":"#N/A"}},{"$error":"#N/A"},{"$error":"#N/A"},{"$error":"#N/A"},{"$error":"#N/A"},{"$error":"#N/A"},{"$f":"IF(AJ4=1,AC56*AS46,AB61+AC56*AE15)","v":3.7662610281769213},{"$f":"IF(AJ4=1,AC56*AS47,AC61+AC56*AF15)","v":3.4253042288673092},{"$f":"IF(AJ4=1,AC56*AS48,AD61+AC56*AG15)","v":0.28734788556634544},{"$f":"TRANSPOSE(MMULT(O10:Q12,TRANSPOSE(AB62:AD62)))","v":0.20302934675832776},-2.294582656222459,4.549029513876336,{"$f":"IF(AD5=0,NA(),$X$5+$X$4*IF($U$8=1,AE62,(AE62*$U$6)/($U$6+$U$7+AF62)))","v":0.20302934675832776},{"$f":"IF(AD5=0,NA(),$X$6+$X$4*IF($U$8=1,AF62,(AG62*$U$6)/($U$6+$U$7+AF62)))","v":-2.294582656222459}]
[63,{"$error":"#N/A"},{"$error":"#N/A"},{"$error":"#N/A"},{"$error":"#N/A"},{"$error":"#N/A"},{"$error":"#N/A"},{"$error":"#N/A"},{"$error":"#N/A"},{"$error":"#N/A"},{"$error":"#N/A"},{"$f":"IF($AK$38=0,TRANSPOSE(MMULT($O$10:$Q$12,TRANSPOSE(C63:E63))),TRANSPOSE(MMULT($O$10:$Q$12,TRANSPOSE(Y63:AA63))))","v":{"$error":"#N/A"}},{"$error":"#N/A"},{"$error":"#N/A"},{"$error":"#N/A"},{"$error":"#N/A"},{"$f":"TRANSPOSE(MMULT($AE$10:$AG$12,TRANSPOSE(F63:H63)))","v":{"$error":"#N/A"}},{"$error":"#N/A"},{"$error":"#N/A"},{"$error":"#N/A"},{"$error":"#N/A"},{"$f":"TRANSPOSE(MMULT($AO$40:$AQ$42,TRANSPOSE(C63:E63)))","v":{"$error":"#N/A"}},{"$error":"#N/A"},{"$error":"#N/A"},{"$error":"#N/A"},{"$error":"#N/A"},{"$error":"#N/A"},{"$nulls":3},"axonometrikus",null,null,"perspektívikus"]
[64,{"$error":"#N/A"},{"$error":"#N/A"},{"$error":"#N/A"},{"$error":"#N/A"},{"$error":"#N/A"},{"$error":"#N/A"},{"$error":"#N/A"},{"$error":"#N/A"},{"$error":"#N/A"},{"$error":"#N/A"},{"$f":"IF($AK$38=0,TRANSPOSE(MMULT($O$10:$Q$12,TRANSPOSE(C64:E64))),TRANSPOSE(MMULT($O$10:$Q$12,TRANSPOSE(Y64:AA64))))","v":{"$error":"#N/A"}},{"$error":"#N/A"},{"$error":"#N/A"},{"$error":"#N/A"},{"$error":"#N/A"},{"$f":"TRANSPOSE(MMULT($AE$10:$AG$12,TRANSPOSE(F64:H64)))","v":{"$error":"#N/A"}},{"$error":"#N/A"},{"$error":"#N/A"},{"$error":"#N/A"},{"$error":"#N/A"},{"$f":"TRANSPOSE(MMULT($AO$40:$AQ$42,TRANSPOSE(C64:E64)))","v":{"$error":"#N/A"}},{"$error":"#N/A"},{"$error":"#N/A"},{"$error":"#N/A"},{"$error":"#N/A"},{"$error":"#N/A"},"n:",null,null,"x","y","z","u","v"]
[65,{"$error":"#N/A"},{"$error":"#N/A"},{"$error":"#N/A"},{"$error":"#N/A"},{"$error":"#N/A"},{"$error":"#N/A"},{"$error":"#N/A"},{"$error":"#N/A"},{"$error":"#N/A"},{"$error":"#N/A"},{"$f":"IF($AK$38=0,TRANSPOSE(MMULT($O$10:$Q$12,TRANSPOSE(C65:E65))),TRANSPOSE(MMULT($O$10:$Q$12,TRANSPOSE(Y65:AA65))))","v":{"$error":"#N/A"}},{"$error":"#N/A"},{"$error":"#N/A"},{"$error":"#N/A"},{"$error":"#N/A"},{"$f":"TRANSPOSE(MMULT($AE$10:$AG$12,TRANSPOSE(F65:H65)))","v":{"$error":"#N/A"}},{"$error":"#N/A"},{"$error":"#N/A"},{"$error":"#N/A"},{"$error":"#N/A"},{"$f":"TRANSPOSE(MMULT($AO$40:$AQ$42,TRANSPOSE(C65:E65)))","v":{"$error":"#N/A"}},{"$error":"#N/A"},{"$error":"#N/A"},{"$error":"#N/A"},{"$error":"#N/A"},{"$error":"#N/A"},{"$f":"IF(AJ4=1,0,C15)","v":3},{"$f":"IF(AJ4=1,0,D15)","v":4},{"$f":"IF(AJ4=1,0,E15)","v":0},{"$f":"TRANSPOSE(MMULT(O10:Q12,TRANSPOSE(AB65:AD65)))","v":1.1358149434162947},-2.4346418840515476,4.216923441412492,{"$f":"IF(AF5=0,NA(),$X$5+$X$4*IF($U$8=1,AE65,(AE65*$U$6)/($U$6+$U$7+AF65)))","v":1.1358149434162947},{"$f":"IF(AF5=0,NA(),$X$6+$X$4*IF($U$8=1,AF65,(AG65*$U$6)/($U$6+$U$7+AF65)))","v":-2.4346418840515476}]
[66,{"$error":"#N/A"},{"$error":"#N/A"},{"$error":"#N/A"},{"$error":"#N/A"},{"$error":"#N/A"},{"$error":"#N/A"},{"$error":"#N/A"},{"$error":"#N/A"},{"$error":"#N/A"},{"$error":"#N/A"},{"$f":"IF($AK$38=0,TRANSPOSE(MMULT($O$10:$Q$12,TRANSPOSE(C66:E66))),TRANSPOSE(MMULT($O$10:$Q$12,TRANSPOSE(Y66:AA66))))","v":{"$error":"#N/A"}},{"$error":"#N/A"},{"$error":"#N/A"},{"$error":"#N/A"},{"$error":"#N/A"},{"$f":"TRANSPOSE(MMULT($AE$10:$AG$12,TRANSPOSE(F66:H66)))","v":{"$error":"#N/A"}},{"$error":"#N/A"},{"$error":"#N/A"},{"$error":"#N/A"},{"$error":"#N/A"},{"$f":"TRANSPOSE(MMULT($AO$40:$AQ$42,TRANSPOSE(C66:E66)))","v":{"$error":"#N/A"}},{"$error":"#N/A"},{"$error":"#N/A"},{"$error":"#N/A"},{"$error":"#N/A"},{"$error":"#N/A"},{"$f":"IF(AJ4=1,AC56*AR46,AB65+AC56*AH15)","v":2.357470594682821},{"$f":"IF(AJ4=1,AC56*AR47,AC65+AC56*AI15)","v":3.314635300995009},{"$f":"IF(AJ4=1,AC56*AR48,AD65+AC56*AJ15)","v":0.3426823495024955},{"$f":"TRANSPOSE(MMULT(O10:Q12,TRANSPOSE(AB66:AD66)))","v":1.0238050648307535},-1.6714952553934892,3.580479405956827,{"$f":"IF(AF5=0,NA(),$X$5+$X$4*IF($U$8=1,AE66,(AE66*$U$6)/($U$6+$U$7+AF66)))","v":1.0238050648307535},{"$f":"IF(AF5=0,NA(),$X$6+$X$4*IF($U$8=1,AF66,(AG66*$U$6)/($U$6+$U$7+AF66)))","v":-1.6714952553934892}]
[67,{"$error":"#N/A"},{"$error":"#N/A"},{"$error":"#N/A"},{"$error":"#N/A"},{"$error":"#N/A"},{"$error":"#N/A"},{"$error":"#N/A"},{"$error":"#N/A"},{"$error":"#N/A"},{"$error":"#N/A"},{"$f":"IF($AK$38=0,TRANSPOSE(MMULT($O$10:$Q$12,TRANSPOSE(C67:E67))),TRANSPOSE(MMULT($O$10:$Q$12,TRANSPOSE(Y67:AA67))))","v":{"$error":"#N/A"}},{"$error":"#N/A"},{"$error":"#N/A"},{"$error":"#N/A"},{"$error":"#N/A"},{"$f":"TRANSPOSE(MMULT($AE$10:$AG$12,TRANSPOSE(F67:H67)))","v":{"$error":"#N/A"}},{"$error":"#N/A"},{"$error":"#N/A"},{"$error":"#N/A"},{"$error":"#N/A"},{"$f":"TRANSPOSE(MMULT($AO$40:$AQ$42,TRANSPOSE(C67:E67)))","v":{"$error":"#N/A"}},{"$error":"#N/A"},{"$error":"#N/A"},{"$error":"#N/A"},{"$error":"#N/A"},{"$error":"#N/A"}]
[68,{"$error":"#N/A"},{"$error":"#N/A"},{"$error":"#N/A"},{"$error":"#N/A"},{"$error":"#N/A"},{"$error":"#N/A"},{"$error":"#N/A"},{"$error":"#N/A"},{"$error":"#N/A"},{"$error":"#N/A"},{"$f":"IF($AK$38=0,TRANSPOSE(MMULT($O$10:$Q$12,TRANSPOSE(C68:E68))),TRANSPOSE(MMULT($O$10:$Q$12,TRANSPOSE(Y68:AA68))))","v":{"$error":"#N/A"}},{"$error":"#N/A"},{"$error":"#N/A"},{"$error":"#N/A"},{"$error":"#N/A"},{"$f":"TRANSPOSE(MMULT($AE$10:$AG$12,TRANSPOSE(F68:H68)))","v":{"$error":"#N/A"}},{"$error":"#N/A"},{"$error":"#N/A"},{"$error":"#N/A"},{"$error":"#N/A"},{"$f":"TRANSPOSE(MMULT($AO$40:$AQ$42,TRANSPOSE(C68:E68)))","v":{"$error":"#N/A"}},{"$error":"#N/A"},{"$error":"#N/A"},{"$error":"#N/A"},{"$error":"#N/A"},{"$error":"#N/A"},"görbület:",{"$f":"(((G15*K15-H15*J15)^2+(F15*K15-H15*I15)^2+(F15*J15-G15*I15)^2)^0.5)/(((F15^2+G15^2+H15^2)^0.5)^3)","v":0.9338094023942999}]
[69,{"$error":"#N/A"},{"$error":"#N/A"},{"$error":"#N/A"},{"$error":"#N/A"},{"$error":"#N/A"},{"$error":"#N/A"},{"$error":"#N/A"},{"$error":"#N/A"},{"$error":"#N/A"},{"$error":"#N/A"},{"$f":"IF($AK$38=0,TRANSPOSE(MMULT($O$10:$Q$12,TRANSPOSE(C69:E69))),TRANSPOSE(MMULT($O$10:$Q$12,TRANSPOSE(Y69:AA69))))","v":{"$error":"#N/A"}},{"$error":"#N/A"},{"$error":"#N/A"},{"$error":"#N/A"},{"$error":"#N/A"},{"$f":"TRANSPOSE(MMULT($AE$10:$AG$12,TRANSPOSE(F69:H69)))","v":{"$error":"#N/A"}},{"$error":"#N/A"},{"$error":"#N/A"},{"$error":"#N/A"},{"$error":"#N/A"},{"$f":"TRANSPOSE(MMULT($AO$40:$AQ$42,TRANSPOSE(C69:E69)))","v":{"$error":"#N/A"}},{"$error":"#N/A"},{"$error":"#N/A"},{"$error":"#N/A"},{"$error":"#N/A"},{"$error":"#N/A"},"R=",{"$f":"1/AC68","v":1.0708823421952987}]
[70,{"$error":"#N/A"},{"$error":"#N/A"},{"$error":"#N/A"},{"$error":"#N/A"},{"$error":"#N/A"},{"$error":"#N/A"},{"$error":"#N/A"},{"$error":"#N/A"},{"$error":"#N/A"},{"$error":"#N/A"},{"$f":"IF($AK$38=0,TRANSPOSE(MMULT($O$10:$Q$12,TRANSPOSE(C70:E70))),TRANSPOSE(MMULT($O$10:$Q$12,TRANSPOSE(Y70:AA70))))","v":{"$error":"#N/A"}},{"$error":"#N/A"},{"$error":"#N/A"},{"$error":"#N/A"},{"$error":"#N/A"},{"$f":"TRANSPOSE(MMULT($AE$10:$AG$12,TRANSPOSE(F70:H70)))","v":{"$error":"#N/A"}},{"$error":"#N/A"},{"$error":"#N/A"},{"$error":"#N/A"},{"$error":"#N/A"},{"$f":"TRANSPOSE(MMULT($AO$40:$AQ$42,TRANSPOSE(C70:E70)))","v":{"$error":"#N/A"}},{"$error":"#N/A"},{"$error":"#N/A"},{"$error":"#N/A"},{"$error":"#N/A"},{"$error":"#N/A"}]
[71,{"$error":"#N/A"},{"$error":"#N/A"},{"$error":"#N/A"},{"$error":"#N/A"},{"$error":"#N/A"},{"$error":"#N/A"},{"$error":"#N/A"},{"$error":"#N/A"},{"$error":"#N/A"},{"$error":"#N/A"},{"$f":"IF($AK$38=0,TRANSPOSE(MMULT($O$10:$Q$12,TRANSPOSE(C71:E71))),TRANSPOSE(MMULT($O$10:$Q$12,TRANSPOSE(Y71:AA71))))","v":{"$error":"#N/A"}},{"$error":"#N/A"},{"$error":"#N/A"},{"$error":"#N/A"},{"$error":"#N/A"},{"$f":"TRANSPOSE(MMULT($AE$10:$AG$12,TRANSPOSE(F71:H71)))","v":{"$error":"#N/A"}},{"$error":"#N/A"},{"$error":"#N/A"},{"$error":"#N/A"},{"$error":"#N/A"},{"$f":"TRANSPOSE(MMULT($AO$40:$AQ$42,TRANSPOSE(C71:E71)))","v":{"$error":"#N/A"}},{"$error":"#N/A"},{"$error":"#N/A"},{"$error":"#N/A"},{"$error":"#N/A"},{"$error":"#N/A"},"simuló kör"]
[72,{"$error":"#N/A"},{"$error":"#N/A"},{"$error":"#N/A"},{"$error":"#N/A"},{"$error":"#N/A"},{"$error":"#N/A"},{"$error":"#N/A"},{"$error":"#N/A"},{"$error":"#N/A"},{"$error":"#N/A"},{"$f":"IF($AK$38=0,TRANSPOSE(MMULT($O$10:$Q$12,TRANSPOSE(C72:E72))),TRANSPOSE(MMULT($O$10:$Q$12,TRANSPOSE(Y72:AA72))))","v":{"$error":"#N/A"}},{"$error":"#N/A"},{"$error":"#N/A"},{"$error":"#N/A"},{"$error":"#N/A"},{"$f":"TRANSPOSE(MMULT($AE$10:$AG$12,TRANSPOSE(F72:H72)))","v":{"$error":"#N/A"}},{"$error":"#N/A"},{"$error":"#N/A"},{"$error":"#N/A"},{"$error":"#N/A"},{"$f":"TRANSPOSE(MMULT($AO$40:$AQ$42,TRANSPOSE(C72:E72)))","v":{"$error":"#N/A"}},{"$error":"#N/A"},{"$error":"#N/A"},{"$error":"#N/A"},{"$error":"#N/A"},{"$error":"#N/A"},"x","y","z"]
[73,{"$error":"#N/A"},{"$error":"#N/A"},{"$error":"#N/A"},{"$error":"#N/A"},{"$error":"#N/A"},{"$error":"#N/A"},{"$error":"#N/A"},{"$error":"#N/A"},{"$error":"#N/A"},{"$error":"#N/A"},{"$f":"IF($AK$38=0,TRANSPOSE(MMULT($O$10:$Q$12,TRANSPOSE(C73:E73))),TRANSPOSE(MMULT($O$10:$Q$12,TRANSPOSE(Y73:AA73))))","v":{"$error":"#N/A"}},{"$error":"#N/A"},{"$error":"#N/A"},{"$error":"#N/A"},{"$error":"#N/A"},{"$f":"TRANSPOSE(MMULT($AE$10:$AG$12,TRANSPOSE(F73:H73)))","v":{"$error":"#N/A"}},{"$error":"#N/A"},{"$error":"#N/A"},{"$error":"#N/A"},{"$error":"#N/A"},{"$f":"TRANSPOSE(MMULT($AO$40:$AQ$42,TRANSPOSE(C73:E73)))","v":{"$error":"#N/A"}},{"$error":"#N/A"},{"$error":"#N/A"},{"$error":"#N/A"},{"$error":"#N/A"},{"$error":"#N/A"},{"$f":"C15+AH15*AC69","v":2.311926605504587},{"$f":"D15+AI15*AC69","v":3.2660550458715596},{"$f":"E15+AJ15*AC69","v":0.3669724770642203},{"$f":"TRANSPOSE(MMULT(O10:Q12,TRANSPOSE(AB73:AD73)))","v":1.0158655422875993},-1.6174016349157603,3.5353667620475018,{"$f":"IF($U$8=1,AE73,(AE73*$U$6)/($U$6+$U$7+AF73))","v":1.0158655422875993},{"$f":"IF($U$8=1,AF73,(AG73*$U$6)/($U$6+$U$7+AF73))","v":-1.6174016349157603}]
[74,{"$error":"#N/A"},{"$error":"#N/A"},{"$error":"#N/A"},{"$error":"#N/A"},{"$error":"#N/A"},{"$error":"#N/A"},{"$error":"#N/A"},{"$error":"#N/A"},{"$error":"#N/A"},{"$error":"#N/A"},{"$f":"IF($AK$38=0,TRANSPOSE(MMULT($O$10:$Q$12,TRANSPOSE(C74:E74))),TRANSPOSE(MMULT($O$10:$Q$12,TRANSPOSE(Y74:AA74))))","v":{"$error":"#N/A"}},{"$error":"#N/A"},{"$error":"#N/A"},{"$error":"#N/A"},{"$error":"#N/A"},{"$f":"TRANSPOSE(MMULT($AE$10:$AG$12,TRANSPOSE(F74:H74)))","v":{"$error":"#N/A"}},{"$error":"#N/A"},{"$error":"#N/A"},{"$error":"#N/A"},{"$error":"#N/A"},{"$f":"TRANSPOSE(MMULT($AO$40:$AQ$42,TRANSPOSE(C74:E74)))","v":{"$error":"#N/A"}},{"$error":"#N/A"},{"$error":"#N/A"},{"$error":"#N/A"},{"$error":"#N/A"},{"$error":"#N/A"}]
[75,{"$error":"#N/A"},{"$error":"#N/A"},{"$error":"#N/A"},{"$error":"#N/A"},{"$error":"#N/A"},{"$error":"#N/A"},{"$error":"#N/A"},{"$error":"#N/A"},{"$error":"#N/A"},{"$error":"#N/A"},{"$f":"IF($AK$38=0,TRANSPOSE(MMULT($O$10:$Q$12,TRANSPOSE(C75:E75))),TRANSPOSE(MMULT($O$10:$Q$12,TRANSPOSE(Y75:AA75))))","v":{"$error":"#N/A"}},{"$error":"#N/A"},{"$error":"#N/A"},{"$error":"#N/A"},{"$error":"#N/A"},{"$f":"TRANSPOSE(MMULT($AE$10:$AG$12,TRANSPOSE(F75:H75)))","v":{"$error":"#N/A"}},{"$error":"#N/A"},{"$error":"#N/A"},{"$error":"#N/A"},{"$error":"#N/A"},{"$f":"TRANSPOSE(MMULT($AO$40:$AQ$42,TRANSPOSE(C75:E75)))","v":{"$error":"#N/A"}},{"$error":"#N/A"},{"$error":"#N/A"},{"$error":"#N/A"},{"$error":"#N/A"},{"$error":"#N/A"},null,0,{"$f":"$AC$69*COS(AC75*PI()/180)","v":1.0708823421952987},{"$f":"$AC$69*SIN(AC75*PI()/180)","v":0},{"$f":"IF($AF$6=1,0,NA())","v":0},{"$f":"TRANSPOSE(MMULT($AK$40:$AM$42,TRANSPOSE(AD75:AF75)))","v":0},0.4789131426105758,0.9578262852211517,{"$f":"$AB$73+AG75","v":2.311926605504587},{"$f":"$AC$73+AH75","v":3.7449681884821353},{"$f":"$AD$73+AI75","v":1.324798762285372},{"$f":"TRANSPOSE(MMULT($O$10:$Q$12,TRANSPOSE(AJ75:AL75)))","v":1.3827342939210776},-0.9418194565948241,4.280876674949886,{"$f":"$X$5+$X$4*IF($U$8=1,AM75,(AM75*$U$6)/($U$6+$U$7+AN75))","v":1.3827342939210776},{"$f":"$X$6+$X$4*IF($U$8=1,AN75,(AO75*$U$6)/($U$6+$U$7+AN75))","v":-0.9418194565948241}]
[76,{"$error":"#N/A"},{"$error":"#N/A"},{"$error":"#N/A"},{"$error":"#N/A"},{"$error":"#N/A"},{"$error":"#N/A"},{"$error":"#N/A"},{"$error":"#N/A"},{"$error":"#N/A"},{"$error":"#N/A"},{"$f":"IF($AK$38=0,TRANSPOSE(MMULT($O$10:$Q$12,TRANSPOSE(C76:E76))),TRANSPOSE(MMULT($O$10:$Q$12,TRANSPOSE(Y76:AA76))))","v":{"$error":"#N/A"}},{"$error":"#N/A"},{"$error":"#N/A"},{"$error":"#N/A"},{"$error":"#N/A"},{"$f":"TRANSPOSE(MMULT($AE$10:$AG$12,TRANSPOSE(F76:H76)))","v":{"$error":"#N/A"}},{"$error":"#N/A"},{"$error":"#N/A"},{"$error":"#N/A"},{"$error":"#N/A"},{"$f":"TRANSPOSE(MMULT($AO$40:$AQ$42,TRANSPOSE(C76:E76)))","v":{"$error":"#N/A"}},{"$error":"#N/A"},{"$error":"#N/A"},{"$error":"#N/A"},{"$error":"#N/A"},{"$error":"#N/A"},null,10,1.0546132331578024,0.18595676721790771,0,{"$f":"TRANSPOSE(MMULT($AK$40:$AM$42,TRANSPOSE(AD76:AF76)))","v":-0.11948269105522734},0.3441891720700938,1.0069988536207939,2.1924439144493597,3.6102442179416534,1.373971330685014,{"$f":"TRANSPOSE(MMULT($O$10:$Q$12,TRANSPOSE(AJ76:AL76)))","v":1.3563317383159215},-0.8101707879299289,4.151199628872771,{"$f":"$X$5+$X$4*IF($U$8=1,AM76,(AM76*$U$6)/($U$6+$U$7+AN76))","v":1.3563317383159215},{"$f":"$X$6+$X$4*IF($U$8=1,AN76,(AO76*$U$6)/($U$6+$U$7+AN76))","v":-0.8101707879299289}]
[77,{"$error":"#N/A"},{"$error":"#N/A"},{"$error":"#N/A"},{"$error":"#N/A"},{"$error":"#N/A"},{"$error":"#N/A"},{"$error":"#N/A"},{"$error":"#N/A"},{"$error":"#N/A"},{"$error":"#N/A"},{"$f":"IF($AK$38=0,TRANSPOSE(MMULT($O$10:$Q$12,TRANSPOSE(C77:E77))),TRANSPOSE(MMULT($O$10:$Q$12,TRANSPOSE(Y77:AA77))))","v":{"$error":"#N/A"}},{"$error":"#N/A"},{"$error":"#N/A"},{"$error":"#N/A"},{"$error":"#N/A"},{"$f":"TRANSPOSE(MMULT($AE$10:$AG$12,TRANSPOSE(F77:H77)))","v":{"$error":"#N/A"}},{"$error":"#N/A"},{"$error":"#N/A"},{"$error":"#N/A"},{"$error":"#N/A"},{"$f":"TRANSPOSE(MMULT($AO$40:$AQ$42,TRANSPOSE(C77:E77)))","v":{"$error":"#N/A"}},{"$error":"#N/A"},{"$error":"#N/A"},{"$error":"#N/A"},{"$error":"#N/A"},{"$error":"#N/A"},null,20,1.0063002346908523,0.36626333216256385,0,{"$f":"TRANSPOSE(MMULT($AK$40:$AM$42,TRANSPOSE(AD77:AF77)))","v":-0.23533496100390058},0.19900718770438697,1.0255742714191753,2.0765916445006867,3.4650622335759467,1.3925467484833955,{"$f":"TRANSPOSE(MMULT($O$10:$Q$12,TRANSPOSE(AJ77:AL77)))","v":1.3195842896286525},-0.7030494200721797,4.002810812763637,1.3195842896286525,-0.7030494200721797]
[78,{"$error":"#N/A"},{"$error":"#N/A"},{"$error":"#N/A"},{"$error":"#N/A"},{"$error":"#N/A"},{"$error":"#N/A"},{"$error":"#N/A"},{"$error":"#N/A"},{"$error":"#N/A"},{"$error":"#N/A"},{"$f":"IF($AK$38=0,TRANSPOSE(MMULT($O$10:$Q$12,TRANSPOSE(C78:E78))),TRANSPOSE(MMULT($O$10:$Q$12,TRANSPOSE(Y78:AA78))))","v":{"$error":"#N/A"}},{"$error":"#N/A"},{"$error":"#N/A"},{"$error":"#N/A"},{"$error":"#N/A"},{"$f":"TRANSPOSE(MMULT($AE$10:$AG$12,TRANSPOSE(F78:H78)))","v":{"$error":"#N/A"}},{"$error":"#N/A"},{"$error":"#N/A"},{"$error":"#N/A"},{"$error":"#N/A"},{"$f":"TRANSPOSE(MMULT($AO$40:$AQ$42,TRANSPOSE(C78:E78)))","v":{"$error":"#N/A"}},{"$error":"#N/A"},{"$error":"#N/A"},{"$error":"#N/A"},{"$error":"#N/A"},{"$error":"#N/A"},null,30,0.927411312805309,0.5354411710976492,0,{"$f":"TRANSPOSE(MMULT($AK$40:$AM$42,TRANSPOSE(AD78:AF78)))","v":-0.34403669724770647},0.04777847064277818,1.0129881339461069,1.9678899082568806,3.3138335165143378,1.3799606110103273,{"$f":"TRANSPOSE(MMULT($O$10:$Q$12,TRANSPOSE(AJ78:AL78)))","v":1.2736085004925275},-0.6237101815779074,3.8402189457115963,1.2736085004925275,-0.6237101815779074]
[79,{"$error":"#N/A"},{"$error":"#N/A"},{"$error":"#N/A"},{"$error":"#N/A"},{"$error":"#N/A"},{"$error":"#N/A"},{"$error":"#N/A"},{"$error":"#N/A"},{"$error":"#N/A"},{"$error":"#N/A"},{"$f":"IF($AK$38=0,TRANSPOSE(MMULT($O$10:$Q$12,TRANSPOSE(C79:E79))),TRANSPOSE(MMULT($O$10:$Q$12,TRANSPOSE(Y79:AA79))))","v":{"$error":"#N/A"}},{"$error":"#N/A"},{"$error":"#N/A"},{"$error":"#N/A"},{"$error":"#N/A"},{"$f":"TRANSPOSE(MMULT($AE$10:$AG$12,TRANSPOSE(F79:H79)))","v":{"$error":"#N/A"}},{"$error":"#N/A"},{"$error":"#N/A"},{"$error":"#N/A"},{"$error":"#N/A"},{"$f":"TRANSPOSE(MMULT($AO$40:$AQ$42,TRANSPOSE(C79:E79)))","v":{"$error":"#N/A"}},{"$error":"#N/A"},{"$error":"#N/A"},{"$error":"#N/A"},{"$error":"#N/A"},{"$error":"#N/A"},null,40,0.8203434674729444,0.6883499009952386,0,{"$f":"TRANSPOSE(MMULT($AK$40:$AM$42,TRANSPOSE(AD79:AF79)))","v":-0.44228505253660977},-0.10490197107223881,0.9696228646198151,1.8696415529679773,3.1611530747993206,1.3365953416840353,{"$f":"TRANSPOSE(MMULT($O$10:$Q$12,TRANSPOSE(AJ79:AL79)))","v":1.219801321995576},-0.574563755061168,3.6683642993215697,1.219801321995576,-0.574563755061168]
[80,{"$error":"#N/A"},{"$error":"#N/A"},{"$error":"#N/A"},{"$error":"#N/A"},{"$f":"(F$7+2*I$7*$B80+3*L$7*$B80^2+4*O$7*$B80^3)*SIN(O$8*$B80^4+L$8*$B80^3+I$8*$B80^2+F$8*$B80+C$8)+(F$8+2*I$8*$B80+3*L$8*$B80^2+4*O$8*$B80^3)*(C$7+F$7*$B80+I$7*$B80^2+L$7*$B80^3+O$7*$B80^4)*COS(O$8*$B80^4+L$8*$B80^3+I$8*$B80^2+F$8*$B80+C$8)-(F$6+2*I$6*$B80+3*L$6*$B80^2+4*O$6*$B80^3)*(C$5+F$5*$B80+I$5*$B80^2+L$5*$B80^3+O$5*$B80^4)*SIN(O$6*$B80^4+L$6*$B80^3+I$6*$B80^2+F$6*$B80+C$6)+(F$5+2*I$5*$B80+3*L$5*$B80^2+4*O$5*$B80^3)*COS(O$6*$B80^4+L$6*$B80^3+I$6*$B80^2+F$6*$B80+C$6)+4*O$4*$B80^3+3*L$4*$B80^2+2*I$4*$B80+F$4","v":{"$error":"#N/A"}},{"$f":"(G$7+2*J$7*$B80+3*M$7*$B80^2+4*P$7*$B80^3)*SIN(P$8*$B80^4+M$8*$B80^3+J$8*$B80^2+G$8*$B80+D$8)+(G$8+2*J$8*$B80+3*M$8*$B80^2+4*P$8*$B80^3)*(D$7+G$7*$B80+J$7*$B80^2+M$7*$B80^3+P$7*$B80^4)*COS(P$8*$B80^4+M$8*$B80^3+J$8*$B80^2+G$8*$B80+D$8)-(G$6+2*J$6*$B80+3*M$6*$B80^2+4*P$6*$B80^3)*(D$5+G$5*$B80+J$5*$B80^2+M$5*$B80^3+P$5*$B80^4)*SIN(P$6*$B80^4+M$6*$B80^3+J$6*$B80^2+G$6*$B80+D$6)+(G$5+2*J$5*$B80+3*M$5*$B80^2+4*P$5*$B80^3)*COS(P$6*$B80^4+M$6*$B80^3+J$6*$B80^2+G$6*$B80+D$6)+4*P$4*$B80^3+3*M$4*$B80^2+2*J$4*$B80+G$4","v":{"$error":"#N/A"}},{"$f":"(H$7+2*K$7*$B80+3*N$7*$B80^2+4*Q$7*$B80^3)*SIN(Q$8*$B80^4+N$8*$B80^3+K$8*$B80^2+H$8*$B80+E$8)+(H$8+2*K$8*$B80+3*N$8*$B80^2+4*Q$8*$B80^3)*(E$7+H$7*$B80+K$7*$B80^2+N$7*$B80^3+Q$7*$B80^4)*COS(Q$8*$B80^4+N$8*$B80^3+K$8*$B80^2+H$8*$B80+E$8)-(H$6+2*K$6*$B80+3*N$6*$B80^2+4*Q$6*$B80^3)*(E$5+H$5*$B80+K$5*$B80^2+N$5*$B80^3+Q$5*$B80^4)*SIN(Q$6*$B80^4+N$6*$B80^3+K$6*$B80^2+H$6*$B80+E$6)+(H$5+2*K$5*$B80+3*N$5*$B80^2+4*Q$5*$B80^3)*COS(Q$6*$B80^4+N$6*$B80^3+K$6*$B80^2+H$6*$B80+E$6)+4*Q$4*$B80^3+3*N$4*$B80^2+2*K$4*$B80+H$4","v":{"$error":"#N/A"}},{"$f":"-1*(F$8+2*I$8*$B80+3*L$8*$B80^2+4*O$8*$B80^3)^2*(C$7+F$7*$B80+I$7*$B80^2+L$7*$B80^3+O$7*$B80^4)*SIN(O$8*$B80^4+L$8*$B80^3+I$8*$B80^2+F$8*$B80+C$8)+(2*I$7+6*L$7*$B80+12*O$7*$B80^2)*SIN(O$8*$B80^4+L$8*$B80^3+I$8*$B80^2+F$8*$B80+C$8)+(2*I$8+6*L$8*$B80+12*O$8*$B80^2)*(C$7+F$7*$B80+I$7*$B80^2+L$7*$B80^3+O$7*$B80^4)*COS(O$8*$B80^4+L$8*$B80^3+I$8*$B80^2+F$8*$B80+C$8)+2*(F$7+2*I$7*$B80+3*L$7*$B80^2+4*O$7*$B80^3)*(F$8+2*I$8*$B80+3*L$8*$B80^2+4*O$8*$B80^3)*COS(O$8*$B80^4+L$8*$B80^3+I$8*$B80^2+F$8*$B80+C$8)-(2*I$6+6*L$6*$B80+12*O$6*$B80^2)*(C$5+F$5*$B80+I$5*$B80^2+L$5*$B80^3+O$5*$B80^4)*SIN(O$6*$B80^4+L$6*$B80^3+I$6*$B80^2+F$6*$B80+C$6)-2*(F$5+2*I$5*$B80+3*L$5*$B80^2+4*O$5*$B80^3)*(F$6+2*I$6*$B80+3*L$6*$B80^2+4*O$6*$B80^3)*SIN(O$6*$B80^4+L$6*$B80^3+I$6*$B80^2+F$6*$B80+C$6)-(F$6+2*I$6*$B80+3*L$6*$B80^2+4*O$6*$B80^3)^2*(C$5+F$5*$B80+I$5*$B80^2+L$5*$B80^3+O$5*$B80^4)*COS(O$6*$B80^4+L$6*$B80^3+I$6*$B80^2+F$6*$B80+C$6)+(2*I$5+6*L$5*$B80+12*O$5*$B80^2)*COS(O$6*$B80^4+L$6*$B80^3+I$6*$B80^2+F$6*$B80+C$6)+12*O$4*$B80^2+6*L$4*$B80+2*I$4","v":{"$error":"#N/A"}},{"$f":"-1*(G$8+2*J$8*$B80+3*M$8*$B80^2+4*P$8*$B80^3)^2*(D$7+G$7*$B80+J$7*$B80^2+M$7*$B80^3+P$7*$B80^4)*SIN(P$8*$B80^4+M$8*$B80^3+J$8*$B80^2+G$8*$B80+D$8)+(2*J$7+6*M$7*$B80+12*P$7*$B80^2)*SIN(P$8*$B80^4+M$8*$B80^3+J$8*$B80^2+G$8*$B80+D$8)+(2*J$8+6*M$8*$B80+12*P$8*$B80^2)*(D$7+G$7*$B80+J$7*$B80^2+M$7*$B80^3+P$7*$B80^4)*COS(P$8*$B80^4+M$8*$B80^3+J$8*$B80^2+G$8*$B80+D$8)+2*(G$7+2*J$7*$B80+3*M$7*$B80^2+4*P$7*$B80^3)*(G$8+2*J$8*$B80+3*M$8*$B80^2+4*P$8*$B80^3)*COS(P$8*$B80^4+M$8*$B80^3+J$8*$B80^2+G$8*$B80+D$8)-(2*J$6+6*M$6*$B80+12*P$6*$B80^2)*(D$5+G$5*$B80+J$5*$B80^2+M$5*$B80^3+P$5*$B80^4)*SIN(P$6*$B80^4+M$6*$B80^3+J$6*$B80^2+G$6*$B80+D$6)-2*(G$5+2*J$5*$B80+3*M$5*$B80^2+4*P$5*$B80^3)*(G$6+2*J$6*$B80+3*M$6*$B80^2+4*P$6*$B80^3)*SIN(P$6*$B80^4+M$6*$B80^3+J$6*$B80^2+G$6*$B80+D$6)-(G$6+2*J$6*$B80+3*M$6*$B80^2+4*P$6*$B80^3)^2*(D$5+G$5*$B80+J$5*$B80^2+M$5*$B80^3+P$5*$B80^4)*COS(P$6*$B80^4+M$6*$B80^3+J$6*$B80^2+G$6*$B80+D$6)+(2*J$5+6*M$5*$B80+12*P$5*$B80^2)*COS(P$6*$B80^4+M$6*$B80^3+J$6*$B80^2+G$6*$B80+D$6)+12*P$4*$B80^2+6*M$4*$B80+2*J$4","v":{"$error":"#N/A"}},{"$f":"-1*(H$8+2*K$8*$B80+3*N$8*$B80^2+4*Q$8*$B80^3)^2*(E$7+H$7*$B80+K$7*$B80^2+N$7*$B80^3+Q$7*$B80^4)*SIN(Q$8*$B80^4+N$8*$B80^3+K$8*$B80^2+H$8*$B80+E$8)+(2*K$7+6*N$7*$B80+12*Q$7*$B80^2)*SIN(Q$8*$B80^4+N$8*$B80^3+K$8*$B80^2+H$8*$B80+E$8)+(2*K$8+6*N$8*$B80+12*Q$8*$B80^2)*(E$7+H$7*$B80+K$7*$B80^2+N$7*$B80^3+Q$7*$B80^4)*COS(Q$8*$B80^4+N$8*$B80^3+K$8*$B80^2+H$8*$B80+E$8)+2*(H$7+2*K$7*$B80+3*N$7*$B80^2+4*Q$7*$B80^3)*(H$8+2*K$8*$B80+3*N$8*$B80^2+4*Q$8*$B80^3)*COS(Q$8*$B80^4+N$8*$B80^3+K$8*$B80^2+H$8*$B80+E$8)-(2*K$6+6*N$6*$B80+12*Q$6*$B80^2)*(E$5+H$5*$B80+K$5*$B80^2+N$5*$B80^3+Q$5*$B80^4)*SIN(Q$6*$B80^4+N$6*$B80^3+K$6*$B80^2+H$6*$B80+E$6)-2*(H$5+2*K$5*$B80+3*N$5*$B80^2+4*Q$5*$B80^3)*(H$6+2*K$6*$B80+3*N$6*$B80^2+4*Q$6*$B80^3)*SIN(Q$6*$B80^4+N$6*$B80^3+K$6*$B80^2+H$6*$B80+E$6)-(H$6+2*K$6*$B80+3*N$6*$B80^2+4*Q$6*$B80^3)^2*(E$5+H$5*$B80+K$5*$B80^2+N$5*$B80^3+Q$5*$B80^4)*COS(Q$6*$B80^4+N$6*$B80^3+K$6*$B80^2+H$6*$B80+E$6)+(2*K$5+6*N$5*$B80+12*Q$5*$B80^2)*COS(Q$6*$B80^4+N$6*$B80^3+K$6*$B80^2+H$6*$B80+E$6)+12*Q$4*$B80^2+6*N$4*$B80+2*K$4","v":{"$error":"#N/A"}},{"$f":"IF($AK$38=0,TRANSPOSE(MMULT($O$10:$Q$12,TRANSPOSE(C80:E80))),TRANSPOSE(MMULT($O$10:$Q$12,TRANSPOSE(Y80:AA80))))","v":{"$error":"#N/A"}},{"$error":"#N/A"},{"$error":"#N/A"},{"$error":"#N/A"},{"$error":"#N/A"},{"$f":"TRANSPOSE(MMULT($AE$10:$AG$12,TRANSPOSE(F80:H80)))","v":{"$error":"#N/A"}},{"$error":"#N/A"},{"$error":"#N/A"},{"$f":"$Y$5+$Y$4*IF($U$8=1,Q80,(Q80*$U$6)/($U$6+$U$7+R80))","v":{"$error":"#N/A"}},{"$f":"$Y$6+$Y$4*IF($U$8=1,R80,(S80*$U$6)/($U$6+$U$7+R80))","v":{"$error":"#N/A"}},{"$f":"TRANSPOSE(MMULT($AO$40:$AQ$42,TRANSPOSE(C80:E80)))","v":{"$error":"#N/A"}},{"$error":"#N/A"},{"$error":"#N/A"},{"$f":"V80+$AL$46","v":{"$error":"#N/A"}},{"$f":"W80+$AL$47","v":{"$error":"#N/A"}},{"$f":"X80+$AL$48","v":{"$error":"#N/A"}},null,50,0.6883499009952387,0.8203434674729444,0,{"$f":"TRANSPOSE(MMULT($AK$40:$AM$42,TRANSPOSE(AD80:AF80)))","v":-0.5270948003112236},-0.2543950194791843,0.8967960952048941,1.7848318051933636,3.0116600263923754,1.2637685722691145,{"$f":"TRANSPOSE(MMULT($O$10:$Q$12,TRANSPOSE(AJ80:AL80)))","v":1.1597976580286808},-0.5571034298223809,3.492468590061472,1.1597976580286808,-0.5571034298223809]
[81,{"$error":"#N/A"},{"$error":"#N/A"},{"$error":"#N/A"},{"$error":"#N/A"},{"$error":"#N/A"},{"$error":"#N/A"},{"$error":"#N/A"},{"$error":"#N/A"},{"$error":"#N/A"},{"$error":"#N/A"},{"$f":"IF($AK$38=0,TRANSPOSE(MMULT($O$10:$Q$12,TRANSPOSE(C81:E81))),TRANSPOSE(MMULT($O$10:$Q$12,TRANSPOSE(Y81:AA81))))","v":{"$error":"#N/A"}},{"$error":"#N/A"},{"$error":"#N/A"},{"$f":"IF($AD$4=0,NA(),$X$5+$X$4*IF($U$8=1,L81,(L81*$U$6)/($U$6+$U$7+M81)))","v":{"$error":"#N/A"}},{"$f":"IF($AD$4=0,NA(),$X$6+$X$4*IF($U$8=1,M81,(N81*$U$6)/($U$6+$U$7+M81)))","v":{"$error":"#N/A"}},{"$f":"TRANSPOSE(MMULT($AE$10:$AG$12,TRANSPOSE(F81:H81)))","v":{"$error":"#N/A"}},{"$error":"#N/A"},{"$error":"#N/A"},{"$error":"#N/A"},{"$error":"#N/A"},{"$f":"TRANSPOSE(MMULT($AO$40:$AQ$42,TRANSPOSE(C81:E81)))","v":{"$error":"#N/A"}},{"$error":"#N/A"},{"$error":"#N/A"},{"$error":"#N/A"},{"$error":"#N/A"},{"$error":"#N/A"},null,60,0.5354411710976494,0.9274113128053089,0,{"$f":"TRANSPOSE(MMULT($AK$40:$AM$42,TRANSPOSE(AD81:AF81)))","v":-0.5958890393012194},-0.3961584039493461,0.796720630237893,1.7160375662033678,2.8698966419222134,1.1636931073021133,{"$f":"TRANSPOSE(MMULT($O$10:$Q$12,TRANSPOSE(AJ81:AL81)))","v":1.0954206895581582},-0.5718597290085765,3.3178763200496473,1.0954206895581582,-0.5718597290085765]
[82,{"$f":"IF(B81<$B$3,B81+$S$3,NA())","v":{"$error":"#N/A"}},{"$error":"#N/A"},{"$error":"#N/A"},{"$error":"#N/A"},{"$error":"#N/A"},{"$error":"#N/A"},{"$error":"#N/A"},{"$error":"#N/A"},{"$error":"#N/A"},{"$error":"#N/A"},{"$f":"IF($AK$38=0,TRANSPOSE(MMULT($O$10:$Q$12,TRANSPOSE(C82:E82))),TRANSPOSE(MMULT($O$10:$Q$12,TRANSPOSE(Y82:AA82))))","v":{"$error":"#N/A"}},{"$error":"#N/A"},{"$error":"#N/A"},{"$error":"#N/A"},{"$error":"#N/A"},{"$f":"TRANSPOSE(MMULT($AE$10:$AG$12,TRANSPOSE(F82:H82)))","v":{"$error":"#N/A"}},{"$error":"#N/A"},{"$error":"#N/A"},{"$error":"#N/A"},{"$error":"#N/A"},{"$f":"TRANSPOSE(MMULT($AO$40:$AQ$42,TRANSPOSE(C82:E82)))","v":{"$error":"#N/A"}},{"$error":"#N/A"},{"$error":"#N/A"},{"$error":"#N/A"},{"$error":"#N/A"},{"$error":"#N/A"},null,70,0.36626333216256396,1.006300234690852,0,{"$f":"TRANSPOSE(MMULT($AK$40:$AM$42,TRANSPOSE(AD82:AF82)))","v":-0.6465774913664509},-0.525884715781332,0.672437212081205,1.6653491141381362,2.7401703300902276,1.0394096891454252,{"$f":"TRANSPOSE(MMULT($O$10:$Q$12,TRANSPOSE(AJ82:AL82)))","v":1.0286264781946668},-0.6183842899360293,3.1498923870624536,1.0286264781946668,-0.6183842899360293]
[83,{"$error":"#N/A"},{"$error":"#N/A"},{"$error":"#N/A"},{"$error":"#N/A"},{"$error":"#N/A"},{"$error":"#N/A"},{"$error":"#N/A"},{"$error":"#N/A"},{"$error":"#N/A"},{"$error":"#N/A"},{"$f":"IF($AK$38=0,TRANSPOSE(MMULT($O$10:$Q$12,TRANSPOSE(C83:E83))),TRANSPOSE(MMULT($O$10:$Q$12,TRANSPOSE(Y83:AA83))))","v":{"$error":"#N/A"}},{"$error":"#N/A"},{"$error":"#N/A"},{"$error":"#N/A"},{"$error":"#N/A"},{"$f":"TRANSPOSE(MMULT($AE$10:$AG$12,TRANSPOSE(F83:H83)))","v":{"$error":"#N/A"}},{"$error":"#N/A"},{"$error":"#N/A"},{"$error":"#N/A"},{"$error":"#N/A"},{"$f":"TRANSPOSE(MMULT($AO$40:$AQ$42,TRANSPOSE(C83:E83)))","v":{"$error":"#N/A"}},{"$error":"#N/A"},{"$error":"#N/A"},{"$error":"#N/A"},{"$error":"#N/A"},{"$error":"#N/A"},null,80,0.1859567672179078,1.0546132331578024,0,{"$f":"TRANSPOSE(MMULT($AK$40:$AM$42,TRANSPOSE(AD83:AF83)))","v":-0.6776200135405103},-0.6396322866348084,0.5277221295050774,1.634306591964077,2.626422759236751,0.8946946065692977,{"$f":"TRANSPOSE(MMULT($O$10:$Q$12,TRANSPOSE(AJ83:AL83)))","v":0.9614445322509837},-0.6952634873635223,2.993620897899735,0.9614445322509837,-0.6952634873635223]
[84,{"$error":"#N/A"},{"$error":"#N/A"},{"$error":"#N/A"},{"$error":"#N/A"},{"$error":"#N/A"},{"$error":"#N/A"},{"$error":"#N/A"},{"$error":"#N/A"},{"$error":"#N/A"},{"$error":"#N/A"},{"$f":"IF($AK$38=0,TRANSPOSE(MMULT($O$10:$Q$12,TRANSPOSE(C84:E84))),TRANSPOSE(MMULT($O$10:$Q$12,TRANSPOSE(Y84:AA84))))","v":{"$error":"#N/A"}},{"$error":"#N/A"},{"$error":"#N/A"},{"$error":"#N/A"},{"$error":"#N/A"},{"$f":"TRANSPOSE(MMULT($AE$10:$AG$12,TRANSPOSE(F84:H84)))","v":{"$error":"#N/A"}},{"$error":"#N/A"},{"$error":"#N/A"},{"$error":"#N/A"},{"$error":"#N/A"},{"$f":"TRANSPOSE(MMULT($AO$40:$AQ$42,TRANSPOSE(C84:E84)))","v":{"$error":"#N/A"}},{"$error":"#N/A"},{"$error":"#N/A"},{"$error":"#N/A"},{"$error":"#N/A"},{"$error":"#N/A"},null,90,6.559949234647471e-17,1.0708823421952987,0,{"$f":"TRANSPOSE(MMULT($AK$40:$AM$42,TRANSPOSE(AD84:AF84)))","v":-0.688073394495413},-0.7339449541284406,0.36697247706422037,1.6238532110091741,2.532110091743119,0.7339449541284406,{"$f":"TRANSPOSE(MMULT($O$10:$Q$12,TRANSPOSE(AJ84:AL84)))","v":0.8959161411589038},-0.8001613857799724,2.8538100826825117,0.8959161411589038,-0.8001613857799724]
[85,{"$error":"#N/A"},{"$error":"#N/A"},{"$error":"#N/A"},{"$error":"#N/A"},{"$error":"#N/A"},{"$error":"#N/A"},{"$error":"#N/A"},{"$error":"#N/A"},{"$error":"#N/A"},{"$error":"#N/A"},{"$f":"IF($AK$38=0,TRANSPOSE(MMULT($O$10:$Q$12,TRANSPOSE(C85:E85))),TRANSPOSE(MMULT($O$10:$Q$12,TRANSPOSE(Y85:AA85))))","v":{"$error":"#N/A"}},{"$error":"#N/A"},{"$error":"#N/A"},{"$error":"#N/A"},{"$error":"#N/A"},{"$f":"TRANSPOSE(MMULT($AE$10:$AG$12,TRANSPOSE(F85:H85)))","v":{"$error":"#N/A"}},{"$error":"#N/A"},{"$error":"#N/A"},{"$error":"#N/A"},{"$error":"#N/A"},{"$f":"TRANSPOSE(MMULT($AO$40:$AQ$42,TRANSPOSE(C85:E85)))","v":{"$error":"#N/A"}},{"$error":"#N/A"},{"$error":"#N/A"},{"$error":"#N/A"},{"$error":"#N/A"},{"$error":"#N/A"},null,100,-0.1859567672179077,1.0546132331578024,0,{"$f":"TRANSPOSE(MMULT($AK$40:$AM$42,TRANSPOSE(AD85:AF85)))","v":-0.6776200135405103},-0.8059570755849469,0.19507255160480041,1.634306591964077,2.4600979702866126,0.5620450286690207,{"$f":"TRANSPOSE(MMULT($O$10:$Q$12,TRANSPOSE(AJ85:AL85)))","v":0.8340323519227935},-0.9298907156228937,2.7347080222834728,0.8340323519227935,-0.9298907156228937]
[86,{"$error":"#N/A"},{"$error":"#N/A"},{"$error":"#N/A"},{"$error":"#N/A"},{"$error":"#N/A"},{"$error":"#N/A"},{"$error":"#N/A"},{"$error":"#N/A"},{"$error":"#N/A"},{"$error":"#N/A"},{"$f":"IF($AK$38=0,TRANSPOSE(MMULT($O$10:$Q$12,TRANSPOSE(C86:E86))),TRANSPOSE(MMULT($O$10:$Q$12,TRANSPOSE(Y86:AA86))))","v":{"$error":"#N/A"}},{"$error":"#N/A"},{"$error":"#N/A"},{"$error":"#N/A"},{"$error":"#N/A"},{"$f":"TRANSPOSE(MMULT($AE$10:$AG$12,TRANSPOSE(F86:H86)))","v":{"$error":"#N/A"}},{"$error":"#N/A"},{"$error":"#N/A"},{"$error":"#N/A"},{"$error":"#N/A"},{"$f":"TRANSPOSE(MMULT($AO$40:$AQ$42,TRANSPOSE(C86:E86)))","v":{"$error":"#N/A"}},{"$error":"#N/A"},{"$error":"#N/A"},{"$error":"#N/A"},{"$error":"#N/A"},{"$error":"#N/A"},null,110,-0.36626333216256385,1.0063002346908523,0,{"$f":"TRANSPOSE(MMULT($AK$40:$AM$42,TRANSPOSE(AD86:AF86)))","v":-0.646577491366451},-0.8534805991337633,0.01724544537634276,1.665349114138136,2.4125744467377963,0.3842179224405631,{"$f":"TRANSPOSE(MMULT($O$10:$Q$12,TRANSPOSE(AJ86:AL86)))","v":0.7776734721638838},-1.0805097168512172,2.639933572539293,0.7776734721638838,-1.0805097168512172]
[87,{"$error":"#N/A"},{"$error":"#N/A"},{"$error":"#N/A"},{"$error":"#N/A"},{"$error":"#N/A"},{"$error":"#N/A"},{"$error":"#N/A"},{"$error":"#N/A"},{"$error":"#N/A"},{"$error":"#N/A"},{"$f":"IF($AK$38=0,TRANSPOSE(MMULT($O$10:$Q$12,TRANSPOSE(C87:E87))),TRANSPOSE(MMULT($O$10:$Q$12,TRANSPOSE(Y87:AA87))))","v":{"$error":"#N/A"}},{"$error":"#N/A"},{"$error":"#N/A"},{"$error":"#N/A"},{"$error":"#N/A"},{"$f":"TRANSPOSE(MMULT($AE$10:$AG$12,TRANSPOSE(F87:H87)))","v":{"$error":"#N/A"}},{"$error":"#N/A"},{"$error":"#N/A"},{"$error":"#N/A"},{"$error":"#N/A"},{"$f":"TRANSPOSE(MMULT($AO$40:$AQ$42,TRANSPOSE(C87:E87)))","v":{"$error":"#N/A"}},{"$error":"#N/A"},{"$error":"#N/A"},{"$error":"#N/A"},{"$error":"#N/A"},{"$error":"#N/A"},null,120,-0.5354411710976491,0.927411312805309,0,{"$f":"TRANSPOSE(MMULT($AK$40:$AM$42,TRANSPOSE(AD87:AF87)))","v":-0.5958890393012195},-0.8750715465599219,-0.16110565498325857,1.7160375662033676,2.3909834993116377,0.20586682208096174,{"$f":"TRANSPOSE(MMULT($O$10:$Q$12,TRANSPOSE(AJ87:AL87)))","v":0.7285519379246801},-1.2474419073295124,2.572366407147263,0.7285519379246801,-1.2474419073295124]
[88,{"$error":"#N/A"},{"$error":"#N/A"},{"$error":"#N/A"},{"$error":"#N/A"},{"$error":"#N/A"},{"$error":"#N/A"},{"$error":"#N/A"},{"$error":"#N/A"},{"$error":"#N/A"},{"$error":"#N/A"},{"$f":"IF($AK$38=0,TRANSPOSE(MMULT($O$10:$Q$12,TRANSPOSE(C88:E88))),TRANSPOSE(MMULT($O$10:$Q$12,TRANSPOSE(Y88:AA88))))","v":{"$error":"#N/A"}},{"$error":"#N/A"},{"$error":"#N/A"},{"$error":"#N/A"},{"$error":"#N/A"},{"$f":"TRANSPOSE(MMULT($AE$10:$AG$12,TRANSPOSE(F88:H88)))","v":{"$error":"#N/A"}},{"$error":"#N/A"},{"$error":"#N/A"},{"$error":"#N/A"},{"$error":"#N/A"},{"$f":"TRANSPOSE(MMULT($AO$40:$AQ$42,TRANSPOSE(C88:E88)))","v":{"$error":"#N/A"}},{"$error":"#N/A"},{"$error":"#N/A"},{"$error":"#N/A"},{"$error":"#N/A"},{"$error":"#N/A"},null,130,-0.6883499009952387,0.8203434674729444,0,{"$f":"TRANSPOSE(MMULT($AK$40:$AM$42,TRANSPOSE(AD88:AF88)))","v":-0.5270948003112236},-0.8700738878514259,-0.33456164153958906,1.7848318051933636,2.395981158020134,0.032410835524631254,{"$f":"TRANSPOSE(MMULT($O$10:$Q$12,TRANSPOSE(AJ88:AL88)))","v":0.6881602821663446},-1.4256151369218608,2.534059520237184,0.6881602821663446,-1.4256151369218608]
[89,{"$error":"#N/A"},{"$error":"#N/A"},{"$error":"#N/A"},{"$error":"#N/A"},{"$error":"#N/A"},{"$error":"#N/A"},{"$error":"#N/A"},{"$error":"#N/A"},{"$error":"#N/A"},{"$error":"#N/A"},{"$f":"IF($AK$38=0,TRANSPOSE(MMULT($O$10:$Q$12,TRANSPOSE(C89:E89))),TRANSPOSE(MMULT($O$10:$Q$12,TRANSPOSE(Y89:AA89))))","v":{"$error":"#N/A"}},{"$error":"#N/A"},{"$error":"#N/A"},{"$error":"#N/A"},{"$error":"#N/A"},{"$f":"TRANSPOSE(MMULT($AE$10:$AG$12,TRANSPOSE(F89:H89)))","v":{"$error":"#N/A"}},{"$error":"#N/A"},{"$error":"#N/A"},{"$error":"#N/A"},{"$error":"#N/A"},{"$f":"TRANSPOSE(MMULT($AO$40:$AQ$42,TRANSPOSE(C89:E89)))","v":{"$error":"#N/A"}},{"$error":"#N/A"},{"$error":"#N/A"},{"$error":"#N/A"},{"$error":"#N/A"},{"$error":"#N/A"},null,140,-0.8203434674729443,0.6883499009952389,0,{"$f":"TRANSPOSE(MMULT($AK$40:$AM$42,TRANSPOSE(AD89:AF89)))","v":-0.4422850525366099},-0.8386394743391954,-0.49785214191409777,1.8696415529679773,2.4274155715323644,-0.13087966484987745,{"$f":"TRANSPOSE(MMULT($O$10:$Q$12,TRANSPOSE(AJ89:AL89)))","v":0.6577257849099309},-1.609615702207103,2.5261768471835997,0.6577257849099309,-1.609615702207103]
[90,{"$error":"#N/A"},{"$error":"#N/A"},{"$error":"#N/A"},{"$error":"#N/A"},{"$error":"#N/A"},{"$error":"#N/A"},{"$error":"#N/A"},{"$error":"#N/A"},{"$error":"#N/A"},{"$error":"#N/A"},{"$f":"IF($AK$38=0,TRANSPOSE(MMULT($O$10:$Q$12,TRANSPOSE(C90:E90))),TRANSPOSE(MMULT($O$10:$Q$12,TRANSPOSE(Y90:AA90))))","v":{"$error":"#N/A"}},{"$error":"#N/A"},{"$error":"#N/A"},{"$error":"#N/A"},{"$error":"#N/A"},{"$f":"TRANSPOSE(MMULT($AE$10:$AG$12,TRANSPOSE(F90:H90)))","v":{"$error":"#N/A"}},{"$error":"#N/A"},{"$error":"#N/A"},{"$error":"#N/A"},{"$error":"#N/A"},{"$f":"TRANSPOSE(MMULT($AO$40:$AQ$42,TRANSPOSE(C90:E90)))","v":{"$error":"#N/A"}},{"$error":"#N/A"},{"$error":"#N/A"},{"$error":"#N/A"},{"$error":"#N/A"},{"$error":"#N/A"},null,150,-0.927411312805309,0.5354411710976492,0,{"$f":"TRANSPOSE(MMULT($AK$40:$AM$42,TRANSPOSE(AD90:AF90)))","v":-0.34403669724770647},-0.7817234247712186,-0.6460156568818867,1.9678899082568806,2.484331621100341,-0.27904317981766635,{"$f":"TRANSPOSE(MMULT($O$10:$Q$12,TRANSPOSE(AJ90:AL90)))","v":0.6381731829539756},-1.7938528391178257,2.5489578990184176,0.6381731829539756,-1.7938528391178257]
[91,{"$error":"#N/A"},{"$error":"#N/A"},{"$error":"#N/A"},{"$error":"#N/A"},{"$error":"#N/A"},{"$error":"#N/A"},{"$error":"#N/A"},{"$error":"#N/A"},{"$error":"#N/A"},{"$error":"#N/A"},{"$f":"IF($AK$38=0,TRANSPOSE(MMULT($O$10:$Q$12,TRANSPOSE(C91:E91))),TRANSPOSE(MMULT($O$10:$Q$12,TRANSPOSE(Y91:AA91))))","v":{"$error":"#N/A"}},{"$error":"#N/A"},{"$error":"#N/A"},{"$error":"#N/A"},{"$error":"#N/A"},{"$f":"TRANSPOSE(MMULT($AE$10:$AG$12,TRANSPOSE(F91:H91)))","v":{"$error":"#N/A"}},{"$error":"#N/A"},{"$error":"#N/A"},{"$error":"#N/A"},{"$error":"#N/A"},{"$f":"TRANSPOSE(MMULT($AO$40:$AQ$42,TRANSPOSE(C91:E91)))","v":{"$error":"#N/A"}},{"$error":"#N/A"},{"$error":"#N/A"},{"$error":"#N/A"},{"$error":"#N/A"},{"$error":"#N/A"},null,160,-1.006300234690852,0.366263332162564,0,{"$f":"TRANSPOSE(MMULT($AK$40:$AM$42,TRANSPOSE(AD91:AF91)))","v":-0.23533496100390067},-0.7010551045127081,-0.7745503130150145,2.0765916445006862,2.5649999413588516,-0.4075778359507942,{"$f":"TRANSPOSE(MMULT($O$10:$Q$12,TRANSPOSE(AJ91:AL91)))","v":0.6300965722148173},-1.972728595477486,2.601710485009405,0.6300965722148173,-1.972728595477486]
[92,{"$error":"#N/A"},{"$error":"#N/A"},{"$error":"#N/A"},{"$error":"#N/A"},{"$error":"#N/A"},{"$error":"#N/A"},{"$error":"#N/A"},{"$error":"#N/A"},{"$error":"#N/A"},{"$error":"#N/A"},{"$f":"IF($AK$38=0,TRANSPOSE(MMULT($O$10:$Q$12,TRANSPOSE(C92:E92))),TRANSPOSE(MMULT($O$10:$Q$12,TRANSPOSE(Y92:AA92))))","v":{"$error":"#N/A"}},{"$error":"#N/A"},{"$error":"#N/A"},{"$error":"#N/A"},{"$error":"#N/A"},{"$f":"TRANSPOSE(MMULT($AE$10:$AG$12,TRANSPOSE(F92:H92)))","v":{"$error":"#N/A"}},{"$error":"#N/A"},{"$error":"#N/A"},{"$error":"#N/A"},{"$error":"#N/A"},{"$f":"TRANSPOSE(MMULT($AO$40:$AQ$42,TRANSPOSE(C92:E92)))","v":{"$error":"#N/A"}},{"$error":"#N/A"},{"$error":"#N/A"},{"$error":"#N/A"},{"$error":"#N/A"},{"$error":"#N/A"},null,170,-1.0546132331578024,0.18595676721790763,0,{"$f":"TRANSPOSE(MMULT($AK$40:$AM$42,TRANSPOSE(AD92:AF92)))","v":-0.11948269105522728},-0.5990855796545788,-0.8795506498285514,2.1924439144493597,2.666969466216981,-0.512578172764331,{"$f":"TRANSPOSE(MMULT($O$10:$Q$12,TRANSPOSE(AJ92:AL92)))","v":0.6337413564228023},-2.1408079219445963,2.682831744525323,0.6337413564228023,-2.1408079219445963]
[93,{"$error":"#N/A"},{"$error":"#N/A"},{"$error":"#N/A"},{"$error":"#N/A"},{"$error":"#N/A"},{"$error":"#N/A"},{"$error":"#N/A"},{"$error":"#N/A"},{"$error":"#N/A"},{"$error":"#N/A"},{"$f":"IF($AK$38=0,TRANSPOSE(MMULT($O$10:$Q$12,TRANSPOSE(C93:E93))),TRANSPOSE(MMULT($O$10:$Q$12,TRANSPOSE(Y93:AA93))))","v":{"$error":"#N/A"}},{"$error":"#N/A"},{"$error":"#N/A"},{"$error":"#N/A"},{"$error":"#N/A"},{"$f":"TRANSPOSE(MMULT($AE$10:$AG$12,TRANSPOSE(F93:H93)))","v":{"$error":"#N/A"}},{"$error":"#N/A"},{"$error":"#N/A"},{"$error":"#N/A"},{"$error":"#N/A"},{"$f":"TRANSPOSE(MMULT($AO$40:$AQ$42,TRANSPOSE(C93:E93)))","v":{"$error":"#N/A"}},{"$error":"#N/A"},{"$error":"#N/A"},{"$error":"#N/A"},{"$error":"#N/A"},{"$error":"#N/A"},null,180,-1.0708823421952987,1.3119898469294943E-16,0,{"$f":"TRANSPOSE(MMULT($AK$40:$AM$42,TRANSPOSE(AD93:AF93)))","v":-8.429920561297848e-17},-0.47891314261057594,-0.9578262852211517,2.311926605504587,2.7871419032609834,-0.5908538081569313,{"$f":"TRANSPOSE(MMULT($O$10:$Q$12,TRANSPOSE(AJ93:AL93)))","v":0.6489967906541205},-2.292983813236696,2.789856849145117,0.6489967906541205,-2.292983813236696]
[94,{"$error":"#N/A"},{"$error":"#N/A"},{"$error":"#N/A"},{"$error":"#N/A"},{"$error":"#N/A"},{"$error":"#N/A"},{"$error":"#N/A"},{"$error":"#N/A"},{"$error":"#N/A"},{"$error":"#N/A"},{"$f":"IF($AK$38=0,TRANSPOSE(MMULT($O$10:$Q$12,TRANSPOSE(C94:E94))),TRANSPOSE(MMULT($O$10:$Q$12,TRANSPOSE(Y94:AA94))))","v":{"$error":"#N/A"}},{"$error":"#N/A"},{"$error":"#N/A"},{"$error":"#N/A"},{"$error":"#N/A"},{"$f":"TRANSPOSE(MMULT($AE$10:$AG$12,TRANSPOSE(F94:H94)))","v":{"$error":"#N/A"}},{"$error":"#N/A"},{"$error":"#N/A"},{"$error":"#N/A"},{"$error":"#N/A"},{"$f":"TRANSPOSE(MMULT($AO$40:$AQ$42,TRANSPOSE(C94:E94)))","v":{"$error":"#N/A"}},{"$error":"#N/A"},{"$error":"#N/A"},{"$error":"#N/A"},{"$error":"#N/A"},{"$error":"#N/A"},null,190,-1.0546132331578024,-0.18595676721790785,0,{"$f":"TRANSPOSE(MMULT($AK$40:$AM$42,TRANSPOSE(AD94:AF94)))","v":0.11948269105522744},-0.3441891720700937,-1.0069988536207939,2.4314092965598144,2.921865873801466,-0.6400263765565736,{"$f":"TRANSPOSE(MMULT($O$10:$Q$12,TRANSPOSE(AJ94:AL94)))","v":0.6753993462592773},-2.4246324819015914,2.9195338952222323,0.6753993462592773,-2.4246324819015914]
[95,{"$error":"#N/A"},{"$error":"#N/A"},{"$error":"#N/A"},{"$error":"#N/A"},{"$error":"#N/A"},{"$error":"#N/A"},{"$error":"#N/A"},{"$error":"#N/A"},{"$error":"#N/A"},{"$error":"#N/A"},{"$f":"IF($AK$38=0,TRANSPOSE(MMULT($O$10:$Q$12,TRANSPOSE(C95:E95))),TRANSPOSE(MMULT($O$10:$Q$12,TRANSPOSE(Y95:AA95))))","v":{"$error":"#N/A"}},{"$error":"#N/A"},{"$error":"#N/A"},{"$error":"#N/A"},{"$error":"#N/A"},{"$f":"TRANSPOSE(MMULT($AE$10:$AG$12,TRANSPOSE(F95:H95)))","v":{"$error":"#N/A"}},{"$error":"#N/A"},{"$error":"#N/A"},{"$error":"#N/A"},{"$error":"#N/A"},{"$f":"TRANSPOSE(MMULT($AO$40:$AQ$42,TRANSPOSE(C95:E95)))","v":{"$error":"#N/A"}},{"$error":"#N/A"},{"$error":"#N/A"},{"$error":"#N/A"},{"$error":"#N/A"},{"$error":"#N/A"},null,200,-1.0063002346908523,-0.3662633321625638,0,{"$f":"TRANSPOSE(MMULT($AK$40:$AM$42,TRANSPOSE(AD95:AF95)))","v":0.23533496100390053},-0.19900718770438697,-1.0255742714191753,2.5472615665084875,3.0670478581671725,-0.658601794354955,{"$f":"TRANSPOSE(MMULT($O$10:$Q$12,TRANSPOSE(AJ95:AL95)))","v":0.7121467949465461},-2.5317538497593404,3.0679227113313656,0.7121467949465461,-2.5317538497593404]
[96,{"$error":"#N/A"},{"$error":"#N/A"},{"$error":"#N/A"},{"$error":"#N/A"},{"$error":"#N/A"},{"$error":"#N/A"},{"$error":"#N/A"},{"$error":"#N/A"},{"$error":"#N/A"},{"$error":"#N/A"},{"$f":"IF($AK$38=0,TRANSPOSE(MMULT($O$10:$Q$12,TRANSPOSE(C96:E96))),TRANSPOSE(MMULT($O$10:$Q$12,TRANSPOSE(Y96:AA96))))","v":{"$error":"#N/A"}},{"$error":"#N/A"},{"$error":"#N/A"},{"$error":"#N/A"},{"$error":"#N/A"},{"$f":"TRANSPOSE(MMULT($AE$10:$AG$12,TRANSPOSE(F96:H96)))","v":{"$error":"#N/A"}},{"$error":"#N/A"},{"$error":"#N/A"},{"$error":"#N/A"},{"$error":"#N/A"},{"$f":"TRANSPOSE(MMULT($AO$40:$AQ$42,TRANSPOSE(C96:E96)))","v":{"$error":"#N/A"}},{"$error":"#N/A"},{"$error":"#N/A"},{"$error":"#N/A"},{"$error":"#N/A"},{"$error":"#N/A"},null,210,-0.9274113128053089,-0.5354411710976494,0,{"$f":"TRANSPOSE(MMULT($AK$40:$AM$42,TRANSPOSE(AD96:AF96)))","v":0.34403669724770664},-0.04777847064277796,-1.0129881339461069,2.6559633027522938,3.2182765752287814,-0.6460156568818866,{"$f":"TRANSPOSE(MMULT($O$10:$Q$12,TRANSPOSE(AJ96:AL96)))","v":0.7581225840826711},-2.6110930882536136,3.2305145783834077,0.7581225840826711,-2.6110930882536136]
[97,{"$error":"#N/A"},{"$error":"#N/A"},{"$error":"#N/A"},{"$error":"#N/A"},{"$error":"#N/A"},{"$error":"#N/A"},{"$error":"#N/A"},{"$error":"#N/A"},{"$error":"#N/A"},{"$error":"#N/A"},{"$f":"IF($AK$38=0,TRANSPOSE(MMULT($O$10:$Q$12,TRANSPOSE(C97:E97))),TRANSPOSE(MMULT($O$10:$Q$12,TRANSPOSE(Y97:AA97))))","v":{"$error":"#N/A"}},{"$error":"#N/A"},{"$error":"#N/A"},{"$error":"#N/A"},{"$error":"#N/A"},{"$f":"TRANSPOSE(MMULT($AE$10:$AG$12,TRANSPOSE(F97:H97)))","v":{"$error":"#N/A"}},{"$error":"#N/A"},{"$error":"#N/A"},{"$error":"#N/A"},{"$error":"#N/A"},{"$f":"TRANSPOSE(MMULT($AO$40:$AQ$42,TRANSPOSE(C97:E97)))","v":{"$error":"#N/A"}},{"$error":"#N/A"},{"$error":"#N/A"},{"$error":"#N/A"},{"$error":"#N/A"},{"$error":"#N/A"},null,220,-0.8203434674729444,-0.6883499009952386,0,{"$f":"TRANSPOSE(MMULT($AK$40:$AM$42,TRANSPOSE(AD97:AF97)))","v":0.44228505253660977},0.10490197107223881,-0.9696228646198151,2.754211658041197,3.3709570169437986,-0.6026503875555947,{"$f":"TRANSPOSE(MMULT($O$10:$Q$12,TRANSPOSE(AJ97:AL97)))","v":0.8119297625796229},-2.660239514770353,3.402369224773434,0.8119297625796229,-2.660239514770353]
[98,{"$error":"#N/A"},{"$error":"#N/A"},{"$error":"#N/A"},{"$error":"#N/A"},{"$error":"#N/A"},{"$error":"#N/A"},{"$error":"#N/A"},{"$error":"#N/A"},{"$error":"#N/A"},{"$error":"#N/A"},{"$f":"IF($AK$38=0,TRANSPOSE(MMULT($O$10:$Q$12,TRANSPOSE(C98:E98))),TRANSPOSE(MMULT($O$10:$Q$12,TRANSPOSE(Y98:AA98))))","v":{"$error":"#N/A"}},{"$error":"#N/A"},{"$error":"#N/A"},{"$error":"#N/A"},{"$error":"#N/A"},{"$f":"TRANSPOSE(MMULT($AE$10:$AG$12,TRANSPOSE(F98:H98)))","v":{"$error":"#N/A"}},{"$error":"#N/A"},{"$error":"#N/A"},{"$error":"#N/A"},{"$error":"#N/A"},{"$f":"TRANSPOSE(MMULT($AO$40:$AQ$42,TRANSPOSE(C98:E98)))","v":{"$error":"#N/A"}},{"$error":"#N/A"},{"$error":"#N/A"},{"$error":"#N/A"},{"$error":"#N/A"},{"$error":"#N/A"},null,230,-0.6883499009952389,-0.8203434674729443,0,{"$f":"TRANSPOSE(MMULT($AK$40:$AM$42,TRANSPOSE(AD98:AF98)))","v":0.5270948003112235},0.2543950194791843,-0.8967960952048941,2.8390214058158105,3.520450065350744,-0.5298236181406738,{"$f":"TRANSPOSE(MMULT($O$10:$Q$12,TRANSPOSE(AJ98:AL98)))","v":0.8719334265465175},-2.677699840009139,3.578264934033531,0.8719334265465175,-2.677699840009139]
[99,{"$error":"#N/A"},{"$error":"#N/A"},{"$error":"#N/A"},{"$error":"#N/A"},{"$error":"#N/A"},{"$error":"#N/A"},{"$error":"#N/A"},{"$error":"#N/A"},{"$error":"#N/A"},{"$error":"#N/A"},{"$f":"IF($AK$38=0,TRANSPOSE(MMULT($O$10:$Q$12,TRANSPOSE(C99:E99))),TRANSPOSE(MMULT($O$10:$Q$12,TRANSPOSE(Y99:AA99))))","v":{"$error":"#N/A"}},{"$error":"#N/A"},{"$error":"#N/A"},{"$error":"#N/A"},{"$error":"#N/A"},{"$f":"TRANSPOSE(MMULT($AE$10:$AG$12,TRANSPOSE(F99:H99)))","v":{"$error":"#N/A"}},{"$error":"#N/A"},{"$error":"#N/A"},{"$error":"#N/A"},{"$error":"#N/A"},{"$f":"TRANSPOSE(MMULT($AO$40:$AQ$42,TRANSPOSE(C99:E99)))","v":{"$error":"#N/A"}},{"$error":"#N/A"},{"$error":"#N/A"},{"$error":"#N/A"},{"$error":"#N/A"},{"$error":"#N/A"},null,240,-0.5354411710976498,-0.9274113128053086,0,{"$f":"TRANSPOSE(MMULT($AK$40:$AM$42,TRANSPOSE(AD99:AF99)))","v":0.5958890393012193},0.39615840394934576,-0.7967206302378931,2.9078156448058063,3.6622134498209054,-0.42974815317367276,{"$f":"TRANSPOSE(MMULT($O$10:$Q$12,TRANSPOSE(AJ99:AL99)))","v":0.9363103950170402},-2.662943540822944,3.7528572040453554,0.9363103950170402,-2.662943540822944]
[100,{"$error":"#N/A"},{"$error":"#N/A"},{"$error":"#N/A"},{"$error":"#N/A"},{"$error":"#N/A"},{"$error":"#N/A"},{"$error":"#N/A"},{"$error":"#N/A"},{"$error":"#N/A"},{"$error":"#N/A"},{"$f":"IF($AK$38=0,TRANSPOSE(MMULT($O$10:$Q$12,TRANSPOSE(C100:E100))),TRANSPOSE(MMULT($O$10:$Q$12,TRANSPOSE(Y100:AA100))))","v":{"$error":"#N/A"}},{"$error":"#N/A"},{"$error":"#N/A"},{"$error":"#N/A"},{"$error":"#N/A"},{"$f":"TRANSPOSE(MMULT($AE$10:$AG$12,TRANSPOSE(F100:H100)))","v":{"$error":"#N/A"}},{"$error":"#N/A"},{"$error":"#N/A"},{"$error":"#N/A"},{"$error":"#N/A"},{"$f":"TRANSPOSE(MMULT($AO$40:$AQ$42,TRANSPOSE(C100:E100)))","v":{"$error":"#N/A"}},{"$error":"#N/A"},{"$error":"#N/A"},{"$error":"#N/A"},{"$error":"#N/A"},{"$error":"#N/A"},null,250,-0.36626333216256457,-1.006300234690852,0,{"$f":"TRANSPOSE(MMULT($AK$40:$AM$42,TRANSPOSE(AD100:AF100)))","v":0.6465774913664509},0.5258847157813318,-0.6724372120812057,2.958504096871038,3.791939761652891,-0.30546473501698534,{"$f":"TRANSPOSE(MMULT($O$10:$Q$12,TRANSPOSE(AJ100:AL100)))","v":1.0031046063805316},-2.6164189798954918,3.9208411370325487,1.0031046063805316,-2.6164189798954918]
[101,{"$error":"#N/A"},{"$error":"#N/A"},{"$error":"#N/A"},{"$error":"#N/A"},{"$error":"#N/A"},{"$error":"#N/A"},{"$error":"#N/A"},{"$error":"#N/A"},{"$error":"#N/A"},{"$error":"#N/A"},{"$f":"IF($AK$38=0,TRANSPOSE(MMULT($O$10:$Q$12,TRANSPOSE(C101:E101))),TRANSPOSE(MMULT($O$10:$Q$12,TRANSPOSE(Y101:AA101))))","v":{"$error":"#N/A"}},{"$error":"#N/A"},{"$error":"#N/A"},{"$error":"#N/A"},{"$error":"#N/A"},{"$f":"TRANSPOSE(MMULT($AE$10:$AG$12,TRANSPOSE(F101:H101)))","v":{"$error":"#N/A"}},{"$error":"#N/A"},{"$error":"#N/A"},{"$error":"#N/A"},{"$error":"#N/A"},{"$f":"TRANSPOSE(MMULT($AO$40:$AQ$42,TRANSPOSE(C101:E101)))","v":{"$error":"#N/A"}},{"$error":"#N/A"},{"$error":"#N/A"},{"$error":"#N/A"},{"$error":"#N/A"},{"$error":"#N/A"},null,260,-0.18595676721790771,-1.0546132331578024,0,{"$f":"TRANSPOSE(MMULT($AK$40:$AM$42,TRANSPOSE(AD101:AF101)))","v":0.6776200135405103},0.6396322866348084,-0.5277221295050772,2.989546619045097,3.905687332506368,-0.16074965244085693,{"$f":"TRANSPOSE(MMULT($O$10:$Q$12,TRANSPOSE(AJ101:AL101)))","v":1.0702865523242147},-2.5395397824679984,4.077112626195268,1.0702865523242147,-2.5395397824679984]
[102,{"$error":"#N/A"},{"$error":"#N/A"},{"$error":"#N/A"},{"$error":"#N/A"},{"$error":"#N/A"},{"$error":"#N/A"},{"$error":"#N/A"},{"$error":"#N/A"},{"$error":"#N/A"},{"$error":"#N/A"},{"$f":"IF($AK$38=0,TRANSPOSE(MMULT($O$10:$Q$12,TRANSPOSE(C102:E102))),TRANSPOSE(MMULT($O$10:$Q$12,TRANSPOSE(Y102:AA102))))","v":{"$error":"#N/A"}},{"$error":"#N/A"},{"$error":"#N/A"},{"$error":"#N/A"},{"$error":"#N/A"},{"$f":"TRANSPOSE(MMULT($AE$10:$AG$12,TRANSPOSE(F102:H102)))","v":{"$error":"#N/A"}},{"$error":"#N/A"},{"$error":"#N/A"},{"$error":"#N/A"},{"$error":"#N/A"},{"$f":"TRANSPOSE(MMULT($AO$40:$AQ$42,TRANSPOSE(C102:E102)))","v":{"$error":"#N/A"}},{"$error":"#N/A"},{"$error":"#N/A"},{"$error":"#N/A"},{"$error":"#N/A"},{"$error":"#N/A"},null,270,-1.9679847703942414E-16,-1.0708823421952987,0,{"$f":"TRANSPOSE(MMULT($AK$40:$AM$42,TRANSPOSE(AD102:AF102)))","v":0.688073394495413},0.7339449541284405,-0.3669724770642205,3,4,0,{"$f":"TRANSPOSE(MMULT($O$10:$Q$12,TRANSPOSE(AJ102:AL102)))","v":1.1358149434162947},-2.4346418840515476,4.216923441412492,1.1358149434162947,-2.4346418840515476]
[103,{"$error":"#N/A"},{"$error":"#N/A"},{"$error":"#N/A"},{"$error":"#N/A"},{"$error":"#N/A"},{"$error":"#N/A"},{"$error":"#N/A"},{"$error":"#N/A"},{"$error":"#N/A"},{"$error":"#N/A"},{"$f":"IF($AK$38=0,TRANSPOSE(MMULT($O$10:$Q$12,TRANSPOSE(C103:E103))),TRANSPOSE(MMULT($O$10:$Q$12,TRANSPOSE(Y103:AA103))))","v":{"$error":"#N/A"}},{"$error":"#N/A"},{"$error":"#N/A"},{"$error":"#N/A"},{"$error":"#N/A"},{"$f":"TRANSPOSE(MMULT($AE$10:$AG$12,TRANSPOSE(F103:H103)))","v":{"$error":"#N/A"}},{"$error":"#N/A"},{"$error":"#N/A"},{"$error":"#N/A"},{"$error":"#N/A"},{"$f":"TRANSPOSE(MMULT($AO$40:$AQ$42,TRANSPOSE(C103:E103)))","v":{"$error":"#N/A"}},{"$error":"#N/A"},{"$error":"#N/A"},{"$error":"#N/A"},{"$error":"#N/A"},{"$error":"#N/A"},null,280,0.18595676721790733,-1.0546132331578026,0,{"$f":"TRANSPOSE(MMULT($AK$40:$AM$42,TRANSPOSE(AD103:AF103)))","v":0.6776200135405105},0.8059570755849468,-0.1950725516048008,2.9895466190450977,4.072012121456506,0.1718999254594195,{"$f":"TRANSPOSE(MMULT($O$10:$Q$12,TRANSPOSE(AJ103:AL103)))","v":1.1976987326524047},-2.3049125542086273,4.3360255018115295,1.1976987326524047,-2.3049125542086273]
[104,{"$error":"#N/A"},{"$error":"#N/A"},{"$error":"#N/A"},{"$error":"#N/A"},{"$error":"#N/A"},{"$error":"#N/A"},{"$error":"#N/A"},{"$error":"#N/A"},{"$error":"#N/A"},{"$error":"#N/A"},{"$f":"IF($AK$38=0,TRANSPOSE(MMULT($O$10:$Q$12,TRANSPOSE(C104:E104))),TRANSPOSE(MMULT($O$10:$Q$12,TRANSPOSE(Y104:AA104))))","v":{"$error":"#N/A"}},{"$error":"#N/A"},{"$error":"#N/A"},{"$error":"#N/A"},{"$error":"#N/A"},{"$f":"TRANSPOSE(MMULT($AE$10:$AG$12,TRANSPOSE(F104:H104)))","v":{"$error":"#N/A"}},{"$error":"#N/A"},{"$error":"#N/A"},{"$error":"#N/A"},{"$error":"#N/A"},{"$f":"TRANSPOSE(MMULT($AO$40:$AQ$42,TRANSPOSE(C104:E104)))","v":{"$error":"#N/A"}},{"$error":"#N/A"},{"$error":"#N/A"},{"$error":"#N/A"},{"$error":"#N/A"},{"$error":"#N/A"},null,290,0.36626333216256324,-1.0063002346908523,0,{"$f":"TRANSPOSE(MMULT($AK$40:$AM$42,TRANSPOSE(AD104:AF104)))","v":0.646577491366451},0.8534805991337631,-0.017245445376343316,2.958504096871038,4.119535645005323,0.349727031687877,{"$f":"TRANSPOSE(MMULT($O$10:$Q$12,TRANSPOSE(AJ104:AL104)))","v":1.254057612411315},-2.154293552980304,4.43079995155571,1.254057612411315,-2.154293552980304]
[105,{"$error":"#N/A"},{"$error":"#N/A"},{"$error":"#N/A"},{"$error":"#N/A"},{"$error":"#N/A"},{"$error":"#N/A"},{"$error":"#N/A"},{"$error":"#N/A"},{"$error":"#N/A"},{"$error":"#N/A"},{"$f":"IF($AK$38=0,TRANSPOSE(MMULT($O$10:$Q$12,TRANSPOSE(C105:E105))),TRANSPOSE(MMULT($O$10:$Q$12,TRANSPOSE(Y105:AA105))))","v":{"$error":"#N/A"}},{"$error":"#N/A"},{"$error":"#N/A"},{"$error":"#N/A"},{"$error":"#N/A"},{"$f":"TRANSPOSE(MMULT($AE$10:$AG$12,TRANSPOSE(F105:H105)))","v":{"$error":"#N/A"}},{"$error":"#N/A"},{"$error":"#N/A"},{"$error":"#N/A"},{"$error":"#N/A"},{"$f":"TRANSPOSE(MMULT($AO$40:$AQ$42,TRANSPOSE(C105:E105)))","v":{"$error":"#N/A"}},{"$error":"#N/A"},{"$error":"#N/A"},{"$error":"#N/A"},{"$error":"#N/A"},{"$error":"#N/A"},null,300,0.5354411710976494,-0.9274113128053089,0,{"$f":"TRANSPOSE(MMULT($AK$40:$AM$42,TRANSPOSE(AD105:AF105)))","v":0.5958890393012194},0.875071546559922,0.1611056549832589,2.9078156448058063,4.1411265924314815,0.5280781320474792,{"$f":"TRANSPOSE(MMULT($O$10:$Q$12,TRANSPOSE(AJ105:AL105)))","v":1.3031791466505185},-1.987361362502008,4.49836711694774,1.3031791466505185,-1.987361362502008]
[106,{"$error":"#N/A"},{"$error":"#N/A"},{"$error":"#N/A"},{"$error":"#N/A"},{"$error":"#N/A"},{"$error":"#N/A"},{"$error":"#N/A"},{"$error":"#N/A"},{"$error":"#N/A"},{"$error":"#N/A"},{"$f":"IF($AK$38=0,TRANSPOSE(MMULT($O$10:$Q$12,TRANSPOSE(C106:E106))),TRANSPOSE(MMULT($O$10:$Q$12,TRANSPOSE(Y106:AA106))))","v":{"$error":"#N/A"}},{"$error":"#N/A"},{"$error":"#N/A"},{"$error":"#N/A"},{"$error":"#N/A"},{"$f":"TRANSPOSE(MMULT($AE$10:$AG$12,TRANSPOSE(F106:H106)))","v":{"$error":"#N/A"}},{"$error":"#N/A"},{"$error":"#N/A"},{"$error":"#N/A"},{"$error":"#N/A"},{"$f":"TRANSPOSE(MMULT($AO$40:$AQ$42,TRANSPOSE(C106:E106)))","v":{"$error":"#N/A"}},{"$error":"#N/A"},{"$error":"#N/A"},{"$error":"#N/A"},{"$error":"#N/A"},{"$error":"#N/A"},null,310,0.6883499009952386,-0.8203434674729445,0,{"$f":"TRANSPOSE(MMULT($AK$40:$AM$42,TRANSPOSE(AD106:AF106)))","v":0.5270948003112237},0.870073887851426,0.3345616415395889,2.839021405815811,4.136128933722985,0.7015341186038092,{"$f":"TRANSPOSE(MMULT($O$10:$Q$12,TRANSPOSE(AJ106:AL106)))","v":1.3435708024088537},-1.8091881329096604,4.5366740038578195,1.3435708024088537,-1.8091881329096604]
[107,{"$error":"#N/A"},{"$error":"#N/A"},{"$error":"#N/A"},{"$error":"#N/A"},{"$error":"#N/A"},{"$error":"#N/A"},{"$error":"#N/A"},{"$error":"#N/A"},{"$error":"#N/A"},{"$error":"#N/A"},{"$f":"IF($AK$38=0,TRANSPOSE(MMULT($O$10:$Q$12,TRANSPOSE(C107:E107))),TRANSPOSE(MMULT($O$10:$Q$12,TRANSPOSE(Y107:AA107))))","v":{"$error":"#N/A"}},{"$error":"#N/A"},{"$error":"#N/A"},{"$error":"#N/A"},{"$error":"#N/A"},{"$f":"TRANSPOSE(MMULT($AE$10:$AG$12,TRANSPOSE(F107:H107)))","v":{"$error":"#N/A"}},{"$error":"#N/A"},{"$error":"#N/A"},{"$error":"#N/A"},{"$error":"#N/A"},{"$f":"TRANSPOSE(MMULT($AO$40:$AQ$42,TRANSPOSE(C107:E107)))","v":{"$error":"#N/A"}},{"$error":"#N/A"},{"$error":"#N/A"},{"$error":"#N/A"},{"$error":"#N/A"},{"$error":"#N/A"},null,320,0.8203434674729442,-0.688349900995239,0,{"$f":"TRANSPOSE(MMULT($AK$40:$AM$42,TRANSPOSE(AD107:AF107)))","v":0.44228505253661},0.8386394743391954,0.49785214191409766,2.7542116580411973,4.104694520210755,0.864824618978318,{"$f":"TRANSPOSE(MMULT($O$10:$Q$12,TRANSPOSE(AJ107:AL107)))","v":1.3740052996652676},-1.625187567624418,4.544556676911403,1.3740052996652676,-1.625187567624418]
[108,{"$error":"#N/A"},{"$error":"#N/A"},{"$error":"#N/A"},{"$error":"#N/A"},{"$error":"#N/A"},{"$error":"#N/A"},{"$error":"#N/A"},{"$error":"#N/A"},{"$error":"#N/A"},{"$error":"#N/A"},{"$f":"IF($AK$38=0,TRANSPOSE(MMULT($O$10:$Q$12,TRANSPOSE(C108:E108))),TRANSPOSE(MMULT($O$10:$Q$12,TRANSPOSE(Y108:AA108))))","v":{"$error":"#N/A"}},{"$error":"#N/A"},{"$error":"#N/A"},{"$error":"#N/A"},{"$error":"#N/A"},{"$f":"TRANSPOSE(MMULT($AE$10:$AG$12,TRANSPOSE(F108:H108)))","v":{"$error":"#N/A"}},{"$error":"#N/A"},{"$error":"#N/A"},{"$error":"#N/A"},{"$error":"#N/A"},{"$f":"TRANSPOSE(MMULT($AO$40:$AQ$42,TRANSPOSE(C108:E108)))","v":{"$error":"#N/A"}},{"$error":"#N/A"},{"$error":"#N/A"},{"$error":"#N/A"},{"$error":"#N/A"},{"$error":"#N/A"},null,330,0.9274113128053086,-0.5354411710976498,0,{"$f":"TRANSPOSE(MMULT($AK$40:$AM$42,TRANSPOSE(AD108:AF108)))","v":0.34403669724770686},0.7817234247712188,0.6460156568818862,2.6559633027522938,4.047778470642778,1.0129881339461067,{"$f":"TRANSPOSE(MMULT($O$10:$Q$12,TRANSPOSE(AJ108:AL108)))","v":1.3935579016212227},-1.440950430713695,4.521775625076586,1.3935579016212227,-1.440950430713695]
[109,{"$error":"#N/A"},{"$error":"#N/A"},{"$error":"#N/A"},{"$error":"#N/A"},{"$error":"#N/A"},{"$error":"#N/A"},{"$error":"#N/A"},{"$error":"#N/A"},{"$error":"#N/A"},{"$error":"#N/A"},{"$f":"IF($AK$38=0,TRANSPOSE(MMULT($O$10:$Q$12,TRANSPOSE(C109:E109))),TRANSPOSE(MMULT($O$10:$Q$12,TRANSPOSE(Y109:AA109))))","v":{"$error":"#N/A"}},{"$error":"#N/A"},{"$error":"#N/A"},{"$error":"#N/A"},{"$error":"#N/A"},{"$f":"TRANSPOSE(MMULT($AE$10:$AG$12,TRANSPOSE(F109:H109)))","v":{"$error":"#N/A"}},{"$error":"#N/A"},{"$error":"#N/A"},{"$error":"#N/A"},{"$error":"#N/A"},{"$f":"TRANSPOSE(MMULT($AO$40:$AQ$42,TRANSPOSE(C109:E109)))","v":{"$error":"#N/A"}},{"$error":"#N/A"},{"$error":"#N/A"},{"$error":"#N/A"},{"$error":"#N/A"},{"$error":"#N/A"},null,340,1.0063002346908523,-0.36626333216256374,0,{"$f":"TRANSPOSE(MMULT($AK$40:$AM$42,TRANSPOSE(AD109:AF109)))","v":0.2353349610039005},0.701055104512708,0.7745503130150149,2.5472615665084875,3.9671101503842676,1.141522790079235,{"$f":"TRANSPOSE(MMULT($O$10:$Q$12,TRANSPOSE(AJ109:AL109)))","v":1.4016345123603817},-1.262074674354034,4.469023039085599,1.4016345123603817,-1.262074674354034]
[110,{"$error":"#N/A"},{"$error":"#N/A"},{"$error":"#N/A"},{"$error":"#N/A"},{"$error":"#N/A"},{"$error":"#N/A"},{"$error":"#N/A"},{"$error":"#N/A"},{"$error":"#N/A"},{"$error":"#N/A"},{"$f":"IF($AK$38=0,TRANSPOSE(MMULT($O$10:$Q$12,TRANSPOSE(C110:E110))),TRANSPOSE(MMULT($O$10:$Q$12,TRANSPOSE(Y110:AA110))))","v":{"$error":"#N/A"}},{"$error":"#N/A"},{"$error":"#N/A"},{"$error":"#N/A"},{"$error":"#N/A"},{"$f":"TRANSPOSE(MMULT($AE$10:$AG$12,TRANSPOSE(F110:H110)))","v":{"$error":"#N/A"}},{"$error":"#N/A"},{"$error":"#N/A"},{"$error":"#N/A"},{"$error":"#N/A"},{"$f":"TRANSPOSE(MMULT($AO$40:$AQ$42,TRANSPOSE(C110:E110)))","v":{"$error":"#N/A"}},{"$error":"#N/A"},{"$error":"#N/A"},{"$error":"#N/A"},{"$error":"#N/A"},{"$error":"#N/A"},null,350,1.0546132331578024,-0.18595676721790871,0,{"$f":"TRANSPOSE(MMULT($AK$40:$AM$42,TRANSPOSE(AD110:AF110)))","v":0.11948269105522798},0.5990855796545794,0.879550649828551,2.431409296559815,3.865140625526139,1.2465231268927712,{"$f":"TRANSPOSE(MMULT($O$10:$Q$12,TRANSPOSE(AJ110:AL110)))","v":1.3979897281523967},-1.0939953478869249,4.387901779569681,1.3979897281523967,-1.0939953478869249]
[111,{"$error":"#N/A"},{"$error":"#N/A"},{"$error":"#N/A"},{"$error":"#N/A"},{"$error":"#N/A"},{"$error":"#N/A"},{"$error":"#N/A"},{"$error":"#N/A"},{"$error":"#N/A"},{"$error":"#N/A"},{"$f":"IF($AK$38=0,TRANSPOSE(MMULT($O$10:$Q$12,TRANSPOSE(C111:E111))),TRANSPOSE(MMULT($O$10:$Q$12,TRANSPOSE(Y111:AA111))))","v":{"$error":"#N/A"}},{"$error":"#N/A"},{"$error":"#N/A"},{"$error":"#N/A"},{"$error":"#N/A"},{"$f":"TRANSPOSE(MMULT($AE$10:$AG$12,TRANSPOSE(F111:H111)))","v":{"$error":"#N/A"}},{"$error":"#N/A"},{"$error":"#N/A"},{"$error":"#N/A"},{"$error":"#N/A"},{"$f":"TRANSPOSE(MMULT($AO$40:$AQ$42,TRANSPOSE(C111:E111)))","v":{"$error":"#N/A"}},{"$error":"#N/A"},{"$error":"#N/A"},{"$error":"#N/A"},{"$error":"#N/A"},{"$error":"#N/A"},null,360,1.0708823421952987,-2.6239796938589886E-16,0,{"$f":"TRANSPOSE(MMULT($AK$40:$AM$42,TRANSPOSE(AD111:AF111)))","v":1.6859841122595696E-16},0.478913142610576,0.9578262852211515,2.311926605504587,3.7449681884821358,1.3247987622853719,{"$f":"TRANSPOSE(MMULT($O$10:$Q$12,TRANSPOSE(AJ111:AL111)))","v":1.3827342939210776},-0.9418194565948248,4.280876674949886,1.3827342939210776,-0.9418194565948248]
[112,{"$error":"#N/A"},{"$error":"#N/A"},{"$error":"#N/A"},{"$error":"#N/A"},{"$error":"#N/A"},{"$error":"#N/A"},{"$error":"#N/A"},{"$error":"#N/A"},{"$error":"#N/A"},{"$error":"#N/A"},{"$f":"IF($AK$38=0,TRANSPOSE(MMULT($O$10:$Q$12,TRANSPOSE(C112:E112))),TRANSPOSE(MMULT($O$10:$Q$12,TRANSPOSE(Y112:AA112))))","v":{"$error":"#N/A"}},{"$error":"#N/A"},{"$error":"#N/A"},{"$error":"#N/A"},{"$error":"#N/A"},{"$f":"TRANSPOSE(MMULT($AE$10:$AG$12,TRANSPOSE(F112:H112)))","v":{"$error":"#N/A"}},{"$error":"#N/A"},{"$error":"#N/A"},{"$error":"#N/A"},{"$error":"#N/A"},{"$f":"TRANSPOSE(MMULT($AO$40:$AQ$42,TRANSPOSE(C112:E112)))","v":{"$error":"#N/A"}},{"$error":"#N/A"},{"$error":"#N/A"},{"$error":"#N/A"},{"$error":"#N/A"},{"$error":"#N/A"}]
[113,{"$error":"#N/A"},{"$error":"#N/A"},{"$error":"#N/A"},{"$error":"#N/A"},{"$error":"#N/A"},{"$error":"#N/A"},{"$error":"#N/A"},{"$error":"#N/A"},{"$error":"#N/A"},{"$error":"#N/A"},{"$f":"IF($AK$38=0,TRANSPOSE(MMULT($O$10:$Q$12,TRANSPOSE(C113:E113))),TRANSPOSE(MMULT($O$10:$Q$12,TRANSPOSE(Y113:AA113))))","v":{"$error":"#N/A"}},{"$error":"#N/A"},{"$error":"#N/A"},{"$error":"#N/A"},{"$error":"#N/A"},{"$f":"TRANSPOSE(MMULT($AE$10:$AG$12,TRANSPOSE(F113:H113)))","v":{"$error":"#N/A"}},{"$error":"#N/A"},{"$error":"#N/A"},{"$error":"#N/A"},{"$error":"#N/A"},{"$f":"TRANSPOSE(MMULT($AO$40:$AQ$42,TRANSPOSE(C113:E113)))","v":{"$error":"#N/A"}},{"$error":"#N/A"},{"$error":"#N/A"},{"$error":"#N/A"},{"$error":"#N/A"},{"$error":"#N/A"}]
[114,{"$error":"#N/A"},{"$error":"#N/A"},{"$error":"#N/A"},{"$error":"#N/A"},{"$error":"#N/A"},{"$error":"#N/A"},{"$error":"#N/A"},{"$error":"#N/A"},{"$error":"#N/A"},{"$error":"#N/A"},{"$f":"IF($AK$38=0,TRANSPOSE(MMULT($O$10:$Q$12,TRANSPOSE(C114:E114))),TRANSPOSE(MMULT($O$10:$Q$12,TRANSPOSE(Y114:AA114))))","v":{"$error":"#N/A"}},{"$error":"#N/A"},{"$error":"#N/A"},{"$error":"#N/A"},{"$error":"#N/A"},{"$f":"TRANSPOSE(MMULT($AE$10:$AG$12,TRANSPOSE(F114:H114)))","v":{"$error":"#N/A"}},{"$error":"#N/A"},{"$error":"#N/A"},{"$error":"#N/A"},{"$error":"#N/A"},{"$f":"TRANSPOSE(MMULT($AO$40:$AQ$42,TRANSPOSE(C114:E114)))","v":{"$error":"#N/A"}},{"$error":"#N/A"},{"$error":"#N/A"},{"$error":"#N/A"},{"$error":"#N/A"},{"$error":"#N/A"},"planes","méret",{"$f":"HOME!S45","v":5},{"$nulls":11},{"$f":"HOME!AB38","v":5}]
[115,{"$error":"#N/A"},{"$error":"#N/A"},{"$error":"#N/A"},{"$error":"#N/A"},{"$error":"#N/A"},{"$error":"#N/A"},{"$error":"#N/A"},{"$error":"#N/A"},{"$error":"#N/A"},{"$error":"#N/A"},{"$f":"IF($AK$38=0,TRANSPOSE(MMULT($O$10:$Q$12,TRANSPOSE(C115:E115))),TRANSPOSE(MMULT($O$10:$Q$12,TRANSPOSE(Y115:AA115))))","v":{"$error":"#N/A"}},{"$error":"#N/A"},{"$error":"#N/A"},{"$error":"#N/A"},{"$error":"#N/A"},{"$f":"TRANSPOSE(MMULT($AE$10:$AG$12,TRANSPOSE(F115:H115)))","v":{"$error":"#N/A"}},{"$error":"#N/A"},{"$error":"#N/A"},{"$error":"#N/A"},{"$error":"#N/A"},{"$f":"TRANSPOSE(MMULT($AO$40:$AQ$42,TRANSPOSE(C115:E115)))","v":{"$error":"#N/A"}},{"$error":"#N/A"},{"$error":"#N/A"},{"$error":"#N/A"},{"$error":"#N/A"},{"$error":"#N/A"},"z"]
[116,{"$error":"#N/A"},{"$f":"(C$4+F$4*$B116+I$4*$B116^2+L$4*$B116^3+O$4*$B116^4)+(C$5+F$5*$B116+I$5*$B116^2+L$5*$B116^3+O$5*$B116^5)*(COS(C$6+F$6*$B116+I$6*$B116^2+L$6*$B116^3+O$6*$B116^4))+(C$7+F$7*$B116+I$7*$B116^2+L$7*$B116^3+O$7*$B116^4)*(SIN(C$8+F$8*$B116+I$8*$B116^2+L$8*$B116^3+O$8*$B116^4))","v":{"$error":"#N/A"}},{"$f":"(D$4+G$4*$B116+J$4*$B116^2+M$4*$B116^3+P$4*$B116^4)+(D$5+G$5*$B116+J$5*$B116^2+M$5*$B116^3+P$5*$B116^5)*(COS(D$6+G$6*$B116+J$6*$B116^2+M$6*$B116^3+P$6*$B116^4))+(D$7+G$7*$B116+J$7*$B116^2+M$7*$B116^3+P$7*$B116^4)*(SIN(D$8+G$8*$B116+J$8*$B116^2+M$8*$B116^3+P$8*$B116^4))","v":{"$error":"#N/A"}},{"$f":"(E$4+H$4*$B116+K$4*$B116^2+N$4*$B116^3+Q$4*$B116^4)+(E$5+H$5*$B116+K$5*$B116^2+N$5*$B116^3+Q$5*$B116^5)*(COS(E$6+H$6*$B116+K$6*$B116^2+N$6*$B116^3+Q$6*$B116^4))+(E$7+H$7*$B116+K$7*$B116^2+N$7*$B116^3+Q$7*$B116^4)*(SIN(E$8+H$8*$B116+K$8*$B116^2+N$8*$B116^3+Q$8*$B116^4))","v":{"$error":"#N/A"}},{"$error":"#N/A"},{"$error":"#N/A"},{"$error":"#N/A"},{"$error":"#N/A"},{"$error":"#N/A"},{"$error":"#N/A"},{"$f":"IF($AK$38=0,TRANSPOSE(MMULT($O$10:$Q$12,TRANSPOSE(C116:E116))),TRANSPOSE(MMULT($O$10:$Q$12,TRANSPOSE(Y116:AA116))))","v":{"$error":"#N/A"}},{"$error":"#N/A"},{"$error":"#N/A"},{"$error":"#N/A"},{"$error":"#N/A"},{"$f":"TRANSPOSE(MMULT($AE$10:$AG$12,TRANSPOSE(F116:H116)))","v":{"$error":"#N/A"}},{"$error":"#N/A"},{"$error":"#N/A"},{"$error":"#N/A"},{"$error":"#N/A"},{"$f":"TRANSPOSE(MMULT($AO$40:$AQ$42,TRANSPOSE(C116:E116)))","v":{"$error":"#N/A"}},{"$error":"#N/A"},{"$error":"#N/A"},{"$error":"#N/A"},{"$error":"#N/A"},{"$error":"#N/A"},{"$f":"IF($AJ$4=0,AH116,AE116+$AL$46)","v":0},{"$f":"IF($AJ$4=0,AI116,AF116+$AL$47)","v":-5},{"$f":"IF($AJ$4=0,AJ116,AG116+$AL$48)","v":0},{"$f":"TRANSPOSE(MMULT($AO$40:$AQ$42,TRANSPOSE(AH116:AJ116)))","v":-2.23606797749979},0,4.47213595499958,0,{"$f":"-AD114","v":-5},{"$f":"IF($AB$7=0,NA(),0)","v":0},{"$f":"TRANSPOSE(MMULT($O$10:$Q$12,TRANSPOSE(AB116:AD116)))","v":-3.8302222155948904},1.6069690242163497,-2.7833519961320956,{"$f":"$X$5+$X$4*IF($U$8=1,AK116,(AK116*$U$6)/($U$6+$U$7+AL116))","v":-3.8302222155948904},{"$f":"$X$6+$X$4*IF($U$8=1,AL116,(AM116*$U$6)/($U$6+$U$7+AL116))","v":1.6069690242163497},{"$f":"AH116","v":0},{"$f":"-AP114","v":-5},{"$f":"AJ116","v":0},{"$f":"TRANSPOSE(MMULT($AE$10:$AG$12,TRANSPOSE(AP116:AR116)))","v":-3.8302222155948904},1.6069690242163497,-2.7833519961320956,{"$f":"$Y$5+$Y$4*IF($U$8=1,AS116,(AS116*$U$6)/($U$6+$U$7+AT116))","v":-1.5320888862379562},{"$f":"$Y$6+$Y$4*IF($U$8=1,AT116,(AU116*$U$6)/($U$6+$U$7+AT116))","v":0.6427876096865399}]
[117,{"$error":"#N/A"},{"$error":"#N/A"},{"$error":"#N/A"},{"$error":"#N/A"},{"$error":"#N/A"},{"$error":"#N/A"},{"$error":"#N/A"},{"$error":"#N/A"},{"$error":"#N/A"},{"$error":"#N/A"},{"$f":"IF($AK$38=0,TRANSPOSE(MMULT($O$10:$Q$12,TRANSPOSE(C117:E117))),TRANSPOSE(MMULT($O$10:$Q$12,TRANSPOSE(Y117:AA117))))","v":{"$error":"#N/A"}},{"$error":"#N/A"},{"$error":"#N/A"},{"$error":"#N/A"},{"$error":"#N/A"},{"$f":"TRANSPOSE(MMULT($AE$10:$AG$12,TRANSPOSE(F117:H117)))","v":{"$error":"#N/A"}},{"$error":"#N/A"},{"$error":"#N/A"},{"$error":"#N/A"},{"$error":"#N/A"},{"$f":"TRANSPOSE(MMULT($AO$40:$AQ$42,TRANSPOSE(C117:E117)))","v":{"$error":"#N/A"}},{"$error":"#N/A"},{"$error":"#N/A"},{"$error":"#N/A"},{"$error":"#N/A"},{"$error":"#N/A"},{"$f":"IF($AJ$4=0,AH117,AE117+$AL$46)","v":5},{"$f":"IF($AJ$4=0,AI117,AF117+$AL$47)","v":-5},{"$f":"IF($AJ$4=0,AJ117,AG117+$AL$48)","v":0},{"$f":"TRANSPOSE(MMULT($AO$40:$AQ$42,TRANSPOSE(AH117:AJ117)))","v":-2.23606797749979},-5,4.47213595499958,{"$f":"AD114","v":5},{"$f":"-AD114","v":-5},{"$f":"IF($AB$7=0,NA(),0)","v":0},{"$f":"TRANSPOSE(MMULT($O$10:$Q$12,TRANSPOSE(AB117:AD117)))","v":-7.044160264027587},-0.30814208358109707,0.5337177447125958,{"$f":"$X$5+$X$4*IF($U$8=1,AK117,(AK117*$U$6)/($U$6+$U$7+AL117))","v":-7.044160264027587},{"$f":"$X$6+$X$4*IF($U$8=1,AL117,(AM117*$U$6)/($U$6+$U$7+AL117))","v":-0.30814208358109707},{"$f":"AP114","v":5},{"$f":"-AP114","v":-5},0,{"$f":"TRANSPOSE(MMULT($AE$10:$AG$12,TRANSPOSE(AP117:AR117)))","v":-7.044160264027587},-0.30814208358109707,0.5337177447125958,{"$f":"$Y$5+$Y$4*IF($U$8=1,AS117,(AS117*$U$6)/($U$6+$U$7+AT117))","v":-2.817664105611035},{"$f":"$Y$6+$Y$4*IF($U$8=1,AT117,(AU117*$U$6)/($U$6+$U$7+AT117))","v":-0.12325683343243883}]
[118,{"$error":"#N/A"},{"$error":"#N/A"},{"$error":"#N/A"},{"$error":"#N/A"},{"$error":"#N/A"},{"$error":"#N/A"},{"$error":"#N/A"},{"$error":"#N/A"},{"$error":"#N/A"},{"$error":"#N/A"},{"$f":"IF($AK$38=0,TRANSPOSE(MMULT($O$10:$Q$12,TRANSPOSE(C118:E118))),TRANSPOSE(MMULT($O$10:$Q$12,TRANSPOSE(Y118:AA118))))","v":{"$error":"#N/A"}},{"$error":"#N/A"},{"$error":"#N/A"},{"$error":"#N/A"},{"$error":"#N/A"},{"$f":"TRANSPOSE(MMULT($AE$10:$AG$12,TRANSPOSE(F118:H118)))","v":{"$error":"#N/A"}},{"$error":"#N/A"},{"$error":"#N/A"},{"$error":"#N/A"},{"$error":"#N/A"},{"$f":"TRANSPOSE(MMULT($AO$40:$AQ$42,TRANSPOSE(C118:E118)))","v":{"$error":"#N/A"}},{"$error":"#N/A"},{"$error":"#N/A"},{"$error":"#N/A"},{"$error":"#N/A"},{"$error":"#N/A"},5,5,0,{"$f":"TRANSPOSE(MMULT($AO$40:$AQ$42,TRANSPOSE(AH118:AJ118)))","v":2.23606797749979},-5,-4.47213595499958,{"$f":"AD114","v":5},{"$f":"AD114","v":5},0,{"$f":"TRANSPOSE(MMULT($O$10:$Q$12,TRANSPOSE(AB118:AD118)))","v":0.6162841671621941},-3.522080132013796,6.100421736976787,0.6162841671621941,-3.522080132013796,{"$f":"AP114","v":5},{"$f":"AP114","v":5},0,{"$f":"TRANSPOSE(MMULT($AE$10:$AG$12,TRANSPOSE(AP118:AR118)))","v":0.6162841671621941},-3.522080132013796,6.100421736976787,0.24651366686487766,-1.4088320528055185]
[119,{"$error":"#N/A"},{"$error":"#N/A"},{"$error":"#N/A"},{"$error":"#N/A"},{"$error":"#N/A"},{"$error":"#N/A"},{"$error":"#N/A"},{"$error":"#N/A"},{"$error":"#N/A"},{"$error":"#N/A"},{"$f":"IF($AK$38=0,TRANSPOSE(MMULT($O$10:$Q$12,TRANSPOSE(C119:E119))),TRANSPOSE(MMULT($O$10:$Q$12,TRANSPOSE(Y119:AA119))))","v":{"$error":"#N/A"}},{"$error":"#N/A"},{"$error":"#N/A"},{"$error":"#N/A"},{"$error":"#N/A"},{"$f":"TRANSPOSE(MMULT($AE$10:$AG$12,TRANSPOSE(F119:H119)))","v":{"$error":"#N/A"}},{"$error":"#N/A"},{"$error":"#N/A"},{"$error":"#N/A"},{"$error":"#N/A"},{"$f":"TRANSPOSE(MMULT($AO$40:$AQ$42,TRANSPOSE(C119:E119)))","v":{"$error":"#N/A"}},{"$error":"#N/A"},{"$error":"#N/A"},{"$error":"#N/A"},{"$error":"#N/A"},{"$error":"#N/A"},0,5,0,{"$f":"TRANSPOSE(MMULT($AO$40:$AQ$42,TRANSPOSE(AH119:AJ119)))","v":2.23606797749979},0,-4.47213595499958,0,{"$f":"AD114","v":5},0,{"$f":"TRANSPOSE(MMULT($O$10:$Q$12,TRANSPOSE(AB119:AD119)))","v":3.8302222155948904},-1.6069690242163497,2.7833519961320956,3.8302222155948904,-1.6069690242163497,{"$f":"AH119","v":0},{"$f":"AP114","v":5},0,{"$f":"TRANSPOSE(MMULT($AE$10:$AG$12,TRANSPOSE(AP119:AR119)))","v":3.8302222155948904},-1.6069690242163497,2.7833519961320956,1.5320888862379562,-0.6427876096865399]
[120,{"$error":"#N/A"},{"$error":"#N/A"},{"$error":"#N/A"},{"$error":"#N/A"},{"$error":"#N/A"},{"$error":"#N/A"},{"$error":"#N/A"},{"$error":"#N/A"},{"$error":"#N/A"},{"$error":"#N/A"},{"$f":"IF($AK$38=0,TRANSPOSE(MMULT($O$10:$Q$12,TRANSPOSE(C120:E120))),TRANSPOSE(MMULT($O$10:$Q$12,TRANSPOSE(Y120:AA120))))","v":{"$error":"#N/A"}},{"$error":"#N/A"},{"$error":"#N/A"},{"$error":"#N/A"},{"$error":"#N/A"},{"$f":"TRANSPOSE(MMULT($AE$10:$AG$12,TRANSPOSE(F120:H120)))","v":{"$error":"#N/A"}},{"$error":"#N/A"},{"$error":"#N/A"},{"$error":"#N/A"},{"$error":"#N/A"},{"$f":"TRANSPOSE(MMULT($AO$40:$AQ$42,TRANSPOSE(C120:E120)))","v":{"$error":"#N/A"}},{"$error":"#N/A"},{"$error":"#N/A"},{"$error":"#N/A"},{"$error":"#N/A"},{"$error":"#N/A"},0,-5,0,{"$f":"TRANSPOSE(MMULT($AO$40:$AQ$42,TRANSPOSE(AH120:AJ120)))","v":-2.23606797749979},0,4.47213595499958,0,{"$f":"-AD114","v":-5},0,{"$f":"TRANSPOSE(MMULT($O$10:$Q$12,TRANSPOSE(AB120:AD120)))","v":-3.8302222155948904},1.6069690242163497,-2.7833519961320956,-3.8302222155948904,1.6069690242163497,{"$f":"AH120","v":0},{"$f":"-AP114","v":-5},0,{"$f":"TRANSPOSE(MMULT($AE$10:$AG$12,TRANSPOSE(AP120:AR120)))","v":-3.8302222155948904},1.6069690242163497,-2.7833519961320956,-1.5320888862379562,0.6427876096865399]
[121,{"$error":"#N/A"},{"$error":"#N/A"},{"$error":"#N/A"},{"$error":"#N/A"},{"$error":"#N/A"},{"$error":"#N/A"},{"$error":"#N/A"},{"$error":"#N/A"},{"$error":"#N/A"},{"$error":"#N/A"},{"$f":"IF($AK$38=0,TRANSPOSE(MMULT($O$10:$Q$12,TRANSPOSE(C121:E121))),TRANSPOSE(MMULT($O$10:$Q$12,TRANSPOSE(Y121:AA121))))","v":{"$error":"#N/A"}},{"$error":"#N/A"},{"$error":"#N/A"},{"$error":"#N/A"},{"$error":"#N/A"},{"$f":"TRANSPOSE(MMULT($AE$10:$AG$12,TRANSPOSE(F121:H121)))","v":{"$error":"#N/A"}},{"$error":"#N/A"},{"$error":"#N/A"},{"$error":"#N/A"},{"$error":"#N/A"},{"$f":"TRANSPOSE(MMULT($AO$40:$AQ$42,TRANSPOSE(C121:E121)))","v":{"$error":"#N/A"}},{"$error":"#N/A"},{"$error":"#N/A"},{"$error":"#N/A"},{"$error":"#N/A"},{"$error":"#N/A"},-5,-5,0,{"$f":"TRANSPOSE(MMULT($AO$40:$AQ$42,TRANSPOSE(AH121:AJ121)))","v":-2.23606797749979},5,4.47213595499958,{"$f":"-AD114","v":-5},{"$f":"-AD114","v":-5},0,{"$f":"TRANSPOSE(MMULT($O$10:$Q$12,TRANSPOSE(AB121:AD121)))","v":-0.6162841671621941},3.522080132013796,-6.100421736976787,-0.6162841671621941,3.522080132013796,{"$f":"-AP114","v":-5},{"$f":"-AP114","v":-5},0,{"$f":"TRANSPOSE(MMULT($AE$10:$AG$12,TRANSPOSE(AP121:AR121)))","v":-0.6162841671621941},3.522080132013796,-6.100421736976787,-0.24651366686487766,1.4088320528055185]
[122,{"$error":"#N/A"},{"$error":"#N/A"},{"$error":"#N/A"},{"$error":"#N/A"},{"$error":"#N/A"},{"$error":"#N/A"},{"$error":"#N/A"},{"$error":"#N/A"},{"$error":"#N/A"},{"$error":"#N/A"},{"$f":"IF($AK$38=0,TRANSPOSE(MMULT($O$10:$Q$12,TRANSPOSE(C122:E122))),TRANSPOSE(MMULT($O$10:$Q$12,TRANSPOSE(Y122:AA122))))","v":{"$error":"#N/A"}},{"$error":"#N/A"},{"$error":"#N/A"},{"$error":"#N/A"},{"$error":"#N/A"},{"$f":"TRANSPOSE(MMULT($AE$10:$AG$12,TRANSPOSE(F122:H122)))","v":{"$error":"#N/A"}},{"$error":"#N/A"},{"$error":"#N/A"},{"$error":"#N/A"},{"$error":"#N/A"},{"$f":"TRANSPOSE(MMULT($AO$40:$AQ$42,TRANSPOSE(C122:E122)))","v":{"$error":"#N/A"}},{"$error":"#N/A"},{"$error":"#N/A"},{"$error":"#N/A"},{"$error":"#N/A"},{"$error":"#N/A"},-5,5,0,{"$f":"TRANSPOSE(MMULT($AO$40:$AQ$42,TRANSPOSE(AH122:AJ122)))","v":2.23606797749979},5,-4.47213595499958,{"$f":"-AD114","v":-5},{"$f":"AD114","v":5},0,{"$f":"TRANSPOSE(MMULT($O$10:$Q$12,TRANSPOSE(AB122:AD122)))","v":7.044160264027587},0.30814208358109707,-0.5337177447125958,7.044160264027587,0.30814208358109707,{"$f":"-AP114","v":-5},{"$f":"AP114","v":5},0,{"$f":"TRANSPOSE(MMULT($AE$10:$AG$12,TRANSPOSE(AP122:AR122)))","v":7.044160264027587},0.30814208358109707,-0.5337177447125958,2.817664105611035,0.12325683343243883]
[123,{"$error":"#N/A"},{"$error":"#N/A"},{"$error":"#N/A"},{"$error":"#N/A"},{"$error":"#N/A"},{"$error":"#N/A"},{"$error":"#N/A"},{"$error":"#N/A"},{"$error":"#N/A"},{"$error":"#N/A"},{"$f":"IF($AK$38=0,TRANSPOSE(MMULT($O$10:$Q$12,TRANSPOSE(C123:E123))),TRANSPOSE(MMULT($O$10:$Q$12,TRANSPOSE(Y123:AA123))))","v":{"$error":"#N/A"}},{"$error":"#N/A"},{"$error":"#N/A"},{"$error":"#N/A"},{"$error":"#N/A"},{"$f":"TRANSPOSE(MMULT($AE$10:$AG$12,TRANSPOSE(F123:H123)))","v":{"$error":"#N/A"}},{"$error":"#N/A"},{"$error":"#N/A"},{"$error":"#N/A"},{"$error":"#N/A"},{"$f":"TRANSPOSE(MMULT($AO$40:$AQ$42,TRANSPOSE(C123:E123)))","v":{"$error":"#N/A"}},{"$error":"#N/A"},{"$error":"#N/A"},{"$error":"#N/A"},{"$error":"#N/A"},{"$error":"#N/A"},5,5,0,{"$f":"TRANSPOSE(MMULT($AO$40:$AQ$42,TRANSPOSE(AH123:AJ123)))","v":2.23606797749979},-5,-4.47213595499958,{"$f":"AD114","v":5},{"$f":"AD114","v":5},0,{"$f":"TRANSPOSE(MMULT($O$10:$Q$12,TRANSPOSE(AB123:AD123)))","v":0.6162841671621941},-3.522080132013796,6.100421736976787,0.6162841671621941,-3.522080132013796,{"$f":"AP114","v":5},{"$f":"AP114","v":5},0,{"$f":"TRANSPOSE(MMULT($AE$10:$AG$12,TRANSPOSE(AP123:AR123)))","v":0.6162841671621941},-3.522080132013796,6.100421736976787,0.24651366686487766,-1.4088320528055185]
[124,{"$error":"#N/A"},{"$error":"#N/A"},{"$error":"#N/A"},{"$error":"#N/A"},{"$error":"#N/A"},{"$error":"#N/A"},{"$error":"#N/A"},{"$error":"#N/A"},{"$error":"#N/A"},{"$error":"#N/A"},{"$f":"IF($AK$38=0,TRANSPOSE(MMULT($O$10:$Q$12,TRANSPOSE(C124:E124))),TRANSPOSE(MMULT($O$10:$Q$12,TRANSPOSE(Y124:AA124))))","v":{"$error":"#N/A"}},{"$error":"#N/A"},{"$error":"#N/A"},{"$error":"#N/A"},{"$error":"#N/A"},{"$f":"TRANSPOSE(MMULT($AE$10:$AG$12,TRANSPOSE(F124:H124)))","v":{"$error":"#N/A"}},{"$error":"#N/A"},{"$error":"#N/A"},{"$error":"#N/A"},{"$error":"#N/A"},{"$f":"TRANSPOSE(MMULT($AO$40:$AQ$42,TRANSPOSE(C124:E124)))","v":{"$error":"#N/A"}},{"$error":"#N/A"},{"$error":"#N/A"},{"$error":"#N/A"},{"$error":"#N/A"},{"$error":"#N/A"},5,0,0,{"$f":"TRANSPOSE(MMULT($AO$40:$AQ$42,TRANSPOSE(AH124:AJ124)))","v":0},-5,0,{"$f":"AD114","v":5},0,0,{"$f":"TRANSPOSE(MMULT($O$10:$Q$12,TRANSPOSE(AB124:AD124)))","v":-3.2139380484326963},-1.9151111077974468,3.3170697408446914,-3.2139380484326963,-1.9151111077974468,{"$f":"AP114","v":5},{"$f":"AI124","v":0},0,{"$f":"TRANSPOSE(MMULT($AE$10:$AG$12,TRANSPOSE(AP124:AR124)))","v":-3.2139380484326963},-1.9151111077974468,3.3170697408446914,-1.2855752193730785,-0.7660444431189788]
[125,{"$error":"#N/A"},{"$error":"#N/A"},{"$error":"#N/A"},{"$error":"#N/A"},{"$error":"#N/A"},{"$error":"#N/A"},{"$error":"#N/A"},{"$error":"#N/A"},{"$error":"#N/A"},{"$error":"#N/A"},{"$f":"IF($AK$38=0,TRANSPOSE(MMULT($O$10:$Q$12,TRANSPOSE(C125:E125))),TRANSPOSE(MMULT($O$10:$Q$12,TRANSPOSE(Y125:AA125))))","v":{"$error":"#N/A"}},{"$error":"#N/A"},{"$error":"#N/A"},{"$error":"#N/A"},{"$error":"#N/A"},{"$f":"TRANSPOSE(MMULT($AE$10:$AG$12,TRANSPOSE(F125:H125)))","v":{"$error":"#N/A"}},{"$error":"#N/A"},{"$error":"#N/A"},{"$error":"#N/A"},{"$error":"#N/A"},{"$f":"TRANSPOSE(MMULT($AO$40:$AQ$42,TRANSPOSE(C125:E125)))","v":{"$error":"#N/A"}},{"$error":"#N/A"},{"$error":"#N/A"},{"$error":"#N/A"},{"$error":"#N/A"},{"$error":"#N/A"},-5,0,0,{"$f":"TRANSPOSE(MMULT($AO$40:$AQ$42,TRANSPOSE(AH125:AJ125)))","v":0},5,0,{"$f":"-AD114","v":-5},0,0,{"$f":"TRANSPOSE(MMULT($O$10:$Q$12,TRANSPOSE(AB125:AD125)))","v":3.2139380484326963},1.9151111077974468,-3.3170697408446914,3.2139380484326963,1.9151111077974468,{"$f":"-AP114","v":-5},{"$f":"AI125","v":0},0,{"$f":"TRANSPOSE(MMULT($AE$10:$AG$12,TRANSPOSE(AP125:AR125)))","v":3.2139380484326963},1.9151111077974468,-3.3170697408446914,1.2855752193730785,0.7660444431189788]
[126,{"$error":"#N/A"},{"$error":"#N/A"},{"$error":"#N/A"},{"$error":"#N/A"},{"$error":"#N/A"},{"$error":"#N/A"},{"$error":"#N/A"},{"$error":"#N/A"},{"$error":"#N/A"},{"$error":"#N/A"},{"$f":"IF($AK$38=0,TRANSPOSE(MMULT($O$10:$Q$12,TRANSPOSE(C126:E126))),TRANSPOSE(MMULT($O$10:$Q$12,TRANSPOSE(Y126:AA126))))","v":{"$error":"#N/A"}},{"$error":"#N/A"},{"$error":"#N/A"},{"$error":"#N/A"},{"$error":"#N/A"},{"$f":"TRANSPOSE(MMULT($AE$10:$AG$12,TRANSPOSE(F126:H126)))","v":{"$error":"#N/A"}},{"$error":"#N/A"},{"$error":"#N/A"},{"$error":"#N/A"},{"$error":"#N/A"},{"$f":"TRANSPOSE(MMULT($AO$40:$AQ$42,TRANSPOSE(C126:E126)))","v":{"$error":"#N/A"}},{"$error":"#N/A"},{"$error":"#N/A"},{"$error":"#N/A"},{"$error":"#N/A"},{"$error":"#N/A"}]
[127,{"$error":"#N/A"},{"$error":"#N/A"},{"$error":"#N/A"},{"$error":"#N/A"},{"$error":"#N/A"},{"$error":"#N/A"},{"$error":"#N/A"},{"$error":"#N/A"},{"$error":"#N/A"},{"$error":"#N/A"},{"$f":"IF($AK$38=0,TRANSPOSE(MMULT($O$10:$Q$12,TRANSPOSE(C127:E127))),TRANSPOSE(MMULT($O$10:$Q$12,TRANSPOSE(Y127:AA127))))","v":{"$error":"#N/A"}},{"$error":"#N/A"},{"$error":"#N/A"},{"$error":"#N/A"},{"$error":"#N/A"},{"$f":"TRANSPOSE(MMULT($AE$10:$AG$12,TRANSPOSE(F127:H127)))","v":{"$error":"#N/A"}},{"$error":"#N/A"},{"$error":"#N/A"},{"$error":"#N/A"},{"$error":"#N/A"},{"$f":"TRANSPOSE(MMULT($AO$40:$AQ$42,TRANSPOSE(C127:E127)))","v":{"$error":"#N/A"}},{"$error":"#N/A"},{"$error":"#N/A"},{"$error":"#N/A"},{"$error":"#N/A"},{"$error":"#N/A"},"y",{"$nulls":13},{"$f":"AB127","v":"y"}]
[128,{"$error":"#N/A"},{"$error":"#N/A"},{"$error":"#N/A"},{"$error":"#N/A"},{"$error":"#N/A"},{"$error":"#N/A"},{"$error":"#N/A"},{"$error":"#N/A"},{"$error":"#N/A"},{"$error":"#N/A"},{"$f":"IF($AK$38=0,TRANSPOSE(MMULT($O$10:$Q$12,TRANSPOSE(C128:E128))),TRANSPOSE(MMULT($O$10:$Q$12,TRANSPOSE(Y128:AA128))))","v":{"$error":"#N/A"}},{"$error":"#N/A"},{"$error":"#N/A"},{"$error":"#N/A"},{"$error":"#N/A"},{"$f":"TRANSPOSE(MMULT($AE$10:$AG$12,TRANSPOSE(F128:H128)))","v":{"$error":"#N/A"}},{"$error":"#N/A"},{"$error":"#N/A"},{"$error":"#N/A"},{"$error":"#N/A"},{"$f":"TRANSPOSE(MMULT($AO$40:$AQ$42,TRANSPOSE(C128:E128)))","v":{"$error":"#N/A"}},{"$error":"#N/A"},{"$error":"#N/A"},{"$error":"#N/A"},{"$error":"#N/A"},{"$error":"#N/A"},{"$f":"IF($AJ$4=0,AH128,AE128+$AL$46)","v":5},{"$f":"IF($AJ$4=0,AI128,AF128+$AL$47)","v":0},{"$f":"IF($AJ$4=0,AJ128,AG128+$AL$48)","v":0},{"$f":"TRANSPOSE(MMULT($AO$40:$AQ$42,TRANSPOSE(AH128:AJ128)))","v":0},-5,0,{"$f":"AD114","v":5},{"$f":"IF($AD$7=0,NA(),0)","v":0},0,{"$f":"TRANSPOSE(MMULT($O$10:$Q$12,TRANSPOSE(AB128:AD128)))","v":-3.2139380484326963},-1.9151111077974468,3.3170697408446914,{"$f":"$X$5+$X$4*IF($U$8=1,AK128,(AK128*$U$6)/($U$6+$U$7+AL128))","v":-3.2139380484326963},{"$f":"$X$6+$X$4*IF($U$8=1,AL128,(AM128*$U$6)/($U$6+$U$7+AL128))","v":-1.9151111077974468},{"$f":"AP114","v":5},{"$f":"AI128","v":0},{"$f":"AJ128","v":0},{"$f":"TRANSPOSE(MMULT($AE$10:$AG$12,TRANSPOSE(AP128:AR128)))","v":-3.2139380484326963},-1.9151111077974468,3.3170697408446914,{"$f":"$Y$5+$Y$4*IF($U$8=1,AS128,(AS128*$U$6)/($U$6+$U$7+AT128))","v":-1.2855752193730785},{"$f":"$Y$6+$Y$4*IF($U$8=1,AT128,(AU128*$U$6)/($U$6+$U$7+AT128))","v":-0.7660444431189788}]
[129,{"$error":"#N/A"},{"$error":"#N/A"},{"$error":"#N/A"},{"$error":"#N/A"},{"$error":"#N/A"},{"$error":"#N/A"},{"$error":"#N/A"},{"$error":"#N/A"},{"$error":"#N/A"},{"$error":"#N/A"},{"$f":"IF($AK$38=0,TRANSPOSE(MMULT($O$10:$Q$12,TRANSPOSE(C129:E129))),TRANSPOSE(MMULT($O$10:$Q$12,TRANSPOSE(Y129:AA129))))","v":{"$error":"#N/A"}},{"$error":"#N/A"},{"$error":"#N/A"},{"$error":"#N/A"},{"$error":"#N/A"},{"$f":"TRANSPOSE(MMULT($AE$10:$AG$12,TRANSPOSE(F129:H129)))","v":{"$error":"#N/A"}},{"$error":"#N/A"},{"$error":"#N/A"},{"$error":"#N/A"},{"$error":"#N/A"},{"$f":"TRANSPOSE(MMULT($AO$40:$AQ$42,TRANSPOSE(C129:E129)))","v":{"$error":"#N/A"}},{"$error":"#N/A"},{"$error":"#N/A"},{"$error":"#N/A"},{"$error":"#N/A"},{"$error":"#N/A"},5,0,-5,{"$f":"TRANSPOSE(MMULT($AO$40:$AQ$42,TRANSPOSE(AH129:AJ129)))","v":-4.47213595499958},-5,-2.23606797749979,{"$f":"AD114","v":5},{"$f":"IF($AD$7=0,NA(),0)","v":0},{"$f":"-AD114","v":-5},{"$f":"TRANSPOSE(MMULT($O$10:$Q$12,TRANSPOSE(AB129:AD129)))","v":-3.2139380484326967},-6.245238126719639,0.8170697408446892,{"$f":"$X$5+$X$4*IF($U$8=1,AK129,(AK129*$U$6)/($U$6+$U$7+AL129))","v":-3.2139380484326967},{"$f":"$X$6+$X$4*IF($U$8=1,AL129,(AM129*$U$6)/($U$6+$U$7+AL129))","v":-6.245238126719639},{"$f":"AP114","v":5},{"$f":"AI129","v":0},{"$f":"-AP114","v":-5},{"$f":"TRANSPOSE(MMULT($AE$10:$AG$12,TRANSPOSE(AP129:AR129)))","v":-3.2139380484326967},-6.245238126719639,0.8170697408446892,{"$f":"$Y$5+$Y$4*IF($U$8=1,AS129,(AS129*$U$6)/($U$6+$U$7+AT129))","v":-1.2855752193730787},{"$f":"$Y$6+$Y$4*IF($U$8=1,AT129,(AU129*$U$6)/($U$6+$U$7+AT129))","v":-2.4980952506878555}]
[130,{"$error":"#N/A"},{"$error":"#N/A"},{"$error":"#N/A"},{"$error":"#N/A"},{"$error":"#N/A"},{"$error":"#N/A"},{"$error":"#N/A"},{"$error":"#N/A"},{"$error":"#N/A"},{"$error":"#N/A"},{"$f":"IF($AK$38=0,TRANSPOSE(MMULT($O$10:$Q$12,TRANSPOSE(C130:E130))),TRANSPOSE(MMULT($O$10:$Q$12,TRANSPOSE(Y130:AA130))))","v":{"$error":"#N/A"}},{"$error":"#N/A"},{"$error":"#N/A"},{"$error":"#N/A"},{"$error":"#N/A"},{"$f":"TRANSPOSE(MMULT($AE$10:$AG$12,TRANSPOSE(F130:H130)))","v":{"$error":"#N/A"}},{"$error":"#N/A"},{"$error":"#N/A"},{"$error":"#N/A"},{"$error":"#N/A"},{"$f":"TRANSPOSE(MMULT($AO$40:$AQ$42,TRANSPOSE(C130:E130)))","v":{"$error":"#N/A"}},{"$error":"#N/A"},{"$error":"#N/A"},{"$error":"#N/A"},{"$error":"#N/A"},{"$error":"#N/A"},-5,0,-5,{"$f":"TRANSPOSE(MMULT($AO$40:$AQ$42,TRANSPOSE(AH130:AJ130)))","v":-4.47213595499958},5,-2.23606797749979,{"$f":"-AD114","v":-5},0,{"$f":"-AD114","v":-5},{"$f":"TRANSPOSE(MMULT($O$10:$Q$12,TRANSPOSE(AB130:AD130)))","v":3.213938048432696},-2.415015911124745,-5.817069740844694,3.213938048432696,-2.415015911124745,{"$f":"-AP114","v":-5},0,{"$f":"-AP114","v":-5},{"$f":"TRANSPOSE(MMULT($AE$10:$AG$12,TRANSPOSE(AP130:AR130)))","v":3.213938048432696},-2.415015911124745,-5.817069740844694,1.2855752193730785,-0.966006364449898]
[131,{"$error":"#N/A"},{"$error":"#N/A"},{"$error":"#N/A"},{"$error":"#N/A"},{"$error":"#N/A"},{"$error":"#N/A"},{"$error":"#N/A"},{"$error":"#N/A"},{"$error":"#N/A"},{"$error":"#N/A"},{"$f":"IF($AK$38=0,TRANSPOSE(MMULT($O$10:$Q$12,TRANSPOSE(C131:E131))),TRANSPOSE(MMULT($O$10:$Q$12,TRANSPOSE(Y131:AA131))))","v":{"$error":"#N/A"}},{"$error":"#N/A"},{"$error":"#N/A"},{"$error":"#N/A"},{"$error":"#N/A"},{"$f":"TRANSPOSE(MMULT($AE$10:$AG$12,TRANSPOSE(F131:H131)))","v":{"$error":"#N/A"}},{"$error":"#N/A"},{"$error":"#N/A"},{"$error":"#N/A"},{"$error":"#N/A"},{"$f":"TRANSPOSE(MMULT($AO$40:$AQ$42,TRANSPOSE(C131:E131)))","v":{"$error":"#N/A"}},{"$error":"#N/A"},{"$error":"#N/A"},{"$error":"#N/A"},{"$error":"#N/A"},{"$error":"#N/A"},-5,0,0,{"$f":"TRANSPOSE(MMULT($AO$40:$AQ$42,TRANSPOSE(AH131:AJ131)))","v":0},5,0,{"$f":"-AD114","v":-5},0,0,{"$f":"TRANSPOSE(MMULT($O$10:$Q$12,TRANSPOSE(AB131:AD131)))","v":3.2139380484326963},1.9151111077974468,-3.3170697408446914,3.2139380484326963,1.9151111077974468,{"$f":"-AP114","v":-5},0,{"$f":"AJ131","v":0},{"$f":"TRANSPOSE(MMULT($AE$10:$AG$12,TRANSPOSE(AP131:AR131)))","v":3.2139380484326963},1.9151111077974468,-3.3170697408446914,1.2855752193730785,0.7660444431189788]
[132,{"$error":"#N/A"},{"$error":"#N/A"},{"$error":"#N/A"},{"$error":"#N/A"},{"$error":"#N/A"},{"$error":"#N/A"},{"$error":"#N/A"},{"$error":"#N/A"},{"$error":"#N/A"},{"$error":"#N/A"},{"$f":"IF($AK$38=0,TRANSPOSE(MMULT($O$10:$Q$12,TRANSPOSE(C132:E132))),TRANSPOSE(MMULT($O$10:$Q$12,TRANSPOSE(Y132:AA132))))","v":{"$error":"#N/A"}},{"$error":"#N/A"},{"$error":"#N/A"},{"$error":"#N/A"},{"$error":"#N/A"},{"$f":"TRANSPOSE(MMULT($AE$10:$AG$12,TRANSPOSE(F132:H132)))","v":{"$error":"#N/A"}},{"$error":"#N/A"},{"$error":"#N/A"},{"$error":"#N/A"},{"$error":"#N/A"},{"$f":"TRANSPOSE(MMULT($AO$40:$AQ$42,TRANSPOSE(C132:E132)))","v":{"$error":"#N/A"}},{"$error":"#N/A"},{"$error":"#N/A"},{"$error":"#N/A"},{"$error":"#N/A"},{"$error":"#N/A"},5,0,0,{"$f":"TRANSPOSE(MMULT($AO$40:$AQ$42,TRANSPOSE(AH132:AJ132)))","v":0},-5,0,{"$f":"AD114","v":5},0,0,{"$f":"TRANSPOSE(MMULT($O$10:$Q$12,TRANSPOSE(AB132:AD132)))","v":-3.2139380484326963},-1.9151111077974468,3.3170697408446914,-3.2139380484326963,-1.9151111077974468,{"$f":"AP114","v":5},0,{"$f":"AJ132","v":0},{"$f":"TRANSPOSE(MMULT($AE$10:$AG$12,TRANSPOSE(AP132:AR132)))","v":-3.2139380484326963},-1.9151111077974468,3.3170697408446914,-1.2855752193730785,-0.7660444431189788]
[133,{"$error":"#N/A"},{"$error":"#N/A"},{"$error":"#N/A"},{"$error":"#N/A"},{"$error":"#N/A"},{"$error":"#N/A"},{"$error":"#N/A"},{"$error":"#N/A"},{"$error":"#N/A"},{"$error":"#N/A"},{"$f":"IF($AK$38=0,TRANSPOSE(MMULT($O$10:$Q$12,TRANSPOSE(C133:E133))),TRANSPOSE(MMULT($O$10:$Q$12,TRANSPOSE(Y133:AA133))))","v":{"$error":"#N/A"}},{"$error":"#N/A"},{"$error":"#N/A"},{"$error":"#N/A"},{"$error":"#N/A"},{"$f":"TRANSPOSE(MMULT($AE$10:$AG$12,TRANSPOSE(F133:H133)))","v":{"$error":"#N/A"}},{"$error":"#N/A"},{"$error":"#N/A"},{"$error":"#N/A"},{"$error":"#N/A"},{"$f":"TRANSPOSE(MMULT($AO$40:$AQ$42,TRANSPOSE(C133:E133)))","v":{"$error":"#N/A"}},{"$error":"#N/A"},{"$error":"#N/A"},{"$error":"#N/A"},{"$error":"#N/A"},{"$error":"#N/A"},5,0,5,{"$f":"TRANSPOSE(MMULT($AO$40:$AQ$42,TRANSPOSE(AH133:AJ133)))","v":4.47213595499958},-5,2.23606797749979,{"$f":"AD114","v":5},0,{"$f":"AD114","v":5},{"$f":"TRANSPOSE(MMULT($O$10:$Q$12,TRANSPOSE(AB133:AD133)))","v":-3.213938048432696},2.415015911124745,5.817069740844694,-3.213938048432696,2.415015911124745,{"$f":"AP114","v":5},0,{"$f":"AP114","v":5},{"$f":"TRANSPOSE(MMULT($AE$10:$AG$12,TRANSPOSE(AP133:AR133)))","v":-3.213938048432696},2.415015911124745,5.817069740844694,-1.2855752193730785,0.966006364449898]
[134,{"$error":"#N/A"},{"$error":"#N/A"},{"$error":"#N/A"},{"$error":"#N/A"},{"$error":"#N/A"},{"$error":"#N/A"},{"$error":"#N/A"},{"$error":"#N/A"},{"$error":"#N/A"},{"$error":"#N/A"},{"$f":"IF($AK$38=0,TRANSPOSE(MMULT($O$10:$Q$12,TRANSPOSE(C134:E134))),TRANSPOSE(MMULT($O$10:$Q$12,TRANSPOSE(Y134:AA134))))","v":{"$error":"#N/A"}},{"$error":"#N/A"},{"$error":"#N/A"},{"$error":"#N/A"},{"$error":"#N/A"},{"$f":"TRANSPOSE(MMULT($AE$10:$AG$12,TRANSPOSE(F134:H134)))","v":{"$error":"#N/A"}},{"$error":"#N/A"},{"$error":"#N/A"},{"$error":"#N/A"},{"$error":"#N/A"},{"$f":"TRANSPOSE(MMULT($AO$40:$AQ$42,TRANSPOSE(C134:E134)))","v":{"$error":"#N/A"}},{"$error":"#N/A"},{"$error":"#N/A"},{"$error":"#N/A"},{"$error":"#N/A"},{"$error":"#N/A"},-5,0,5,{"$f":"TRANSPOSE(MMULT($AO$40:$AQ$42,TRANSPOSE(AH134:AJ134)))","v":4.47213595499958},5,2.23606797749979,{"$f":"-AD114","v":-5},0,{"$f":"AD114","v":5},{"$f":"TRANSPOSE(MMULT($O$10:$Q$12,TRANSPOSE(AB134:AD134)))","v":3.2139380484326967},6.245238126719639,-0.8170697408446892,3.2139380484326967,6.245238126719639,{"$f":"-AP114","v":-5},0,{"$f":"AP114","v":5},{"$f":"TRANSPOSE(MMULT($AE$10:$AG$12,TRANSPOSE(AP134:AR134)))","v":3.2139380484326967},6.245238126719639,-0.8170697408446892,1.2855752193730787,2.4980952506878555]
[135,{"$error":"#N/A"},{"$error":"#N/A"},{"$error":"#N/A"},{"$error":"#N/A"},{"$error":"#N/A"},{"$error":"#N/A"},{"$error":"#N/A"},{"$error":"#N/A"},{"$error":"#N/A"},{"$error":"#N/A"},{"$f":"IF($AK$38=0,TRANSPOSE(MMULT($O$10:$Q$12,TRANSPOSE(C135:E135))),TRANSPOSE(MMULT($O$10:$Q$12,TRANSPOSE(Y135:AA135))))","v":{"$error":"#N/A"}},{"$error":"#N/A"},{"$error":"#N/A"},{"$error":"#N/A"},{"$error":"#N/A"},{"$f":"TRANSPOSE(MMULT($AE$10:$AG$12,TRANSPOSE(F135:H135)))","v":{"$error":"#N/A"}},{"$error":"#N/A"},{"$error":"#N/A"},{"$error":"#N/A"},{"$error":"#N/A"},{"$f":"TRANSPOSE(MMULT($AO$40:$AQ$42,TRANSPOSE(C135:E135)))","v":{"$error":"#N/A"}},{"$error":"#N/A"},{"$error":"#N/A"},{"$error":"#N/A"},{"$error":"#N/A"},{"$error":"#N/A"},-5,0,-5,{"$f":"TRANSPOSE(MMULT($AO$40:$AQ$42,TRANSPOSE(AH135:AJ135)))","v":-4.47213595499958},5,-2.23606797749979,{"$f":"-AD114","v":-5},0,{"$f":"-AD114","v":-5},{"$f":"TRANSPOSE(MMULT($O$10:$Q$12,TRANSPOSE(AB135:AD135)))","v":3.213938048432696},-2.415015911124745,-5.817069740844694,3.213938048432696,-2.415015911124745,{"$f":"-AP114","v":-5},0,{"$f":"-AP114","v":-5},{"$f":"TRANSPOSE(MMULT($AE$10:$AG$12,TRANSPOSE(AP135:AR135)))","v":3.213938048432696},-2.415015911124745,-5.817069740844694,1.2855752193730785,-0.966006364449898]
[136,{"$error":"#N/A"},{"$error":"#N/A"},{"$error":"#N/A"},{"$error":"#N/A"},{"$error":"#N/A"},{"$error":"#N/A"},{"$error":"#N/A"},{"$error":"#N/A"},{"$error":"#N/A"},{"$error":"#N/A"},{"$f":"IF($AK$38=0,TRANSPOSE(MMULT($O$10:$Q$12,TRANSPOSE(C136:E136))),TRANSPOSE(MMULT($O$10:$Q$12,TRANSPOSE(Y136:AA136))))","v":{"$error":"#N/A"}},{"$error":"#N/A"},{"$error":"#N/A"},{"$error":"#N/A"},{"$error":"#N/A"},{"$f":"TRANSPOSE(MMULT($AE$10:$AG$12,TRANSPOSE(F136:H136)))","v":{"$error":"#N/A"}},{"$error":"#N/A"},{"$error":"#N/A"},{"$error":"#N/A"},{"$error":"#N/A"},{"$f":"TRANSPOSE(MMULT($AO$40:$AQ$42,TRANSPOSE(C136:E136)))","v":{"$error":"#N/A"}},{"$error":"#N/A"},{"$error":"#N/A"},{"$error":"#N/A"},{"$error":"#N/A"},{"$error":"#N/A"},0,0,-5,{"$f":"TRANSPOSE(MMULT($AO$40:$AQ$42,TRANSPOSE(AH136:AJ136)))","v":-4.47213595499958},0,-2.23606797749979,0,0,{"$f":"-AD114","v":-5},{"$f":"TRANSPOSE(MMULT($O$10:$Q$12,TRANSPOSE(AB136:AD136)))","v":-3.0628711372715525E-16},-4.330127018922192,-2.500000000000002,-3.0628711372715525E-16,-4.330127018922192,{"$f":"AH136","v":0},0,{"$f":"-AP114","v":-5},{"$f":"TRANSPOSE(MMULT($AE$10:$AG$12,TRANSPOSE(AP136:AR136)))","v":-3.0628711372715525E-16},-4.330127018922192,-2.500000000000002,-1.225148454908621E-16,-1.7320508075688767]
[137,{"$error":"#N/A"},{"$error":"#N/A"},{"$error":"#N/A"},{"$error":"#N/A"},{"$error":"#N/A"},{"$error":"#N/A"},{"$error":"#N/A"},{"$error":"#N/A"},{"$error":"#N/A"},{"$error":"#N/A"},{"$f":"IF($AK$38=0,TRANSPOSE(MMULT($O$10:$Q$12,TRANSPOSE(C137:E137))),TRANSPOSE(MMULT($O$10:$Q$12,TRANSPOSE(Y137:AA137))))","v":{"$error":"#N/A"}},{"$error":"#N/A"},{"$error":"#N/A"},{"$error":"#N/A"},{"$error":"#N/A"},{"$f":"TRANSPOSE(MMULT($AE$10:$AG$12,TRANSPOSE(F137:H137)))","v":{"$error":"#N/A"}},{"$error":"#N/A"},{"$error":"#N/A"},{"$error":"#N/A"},{"$error":"#N/A"},{"$f":"TRANSPOSE(MMULT($AO$40:$AQ$42,TRANSPOSE(C137:E137)))","v":{"$error":"#N/A"}},{"$error":"#N/A"},{"$error":"#N/A"},{"$error":"#N/A"},{"$error":"#N/A"},{"$error":"#N/A"},0,0,5,{"$f":"TRANSPOSE(MMULT($AO$40:$AQ$42,TRANSPOSE(AH137:AJ137)))","v":4.47213595499958},0,2.23606797749979,0,0,{"$f":"AD114","v":5},{"$f":"TRANSPOSE(MMULT($O$10:$Q$12,TRANSPOSE(AB137:AD137)))","v":3.0628711372715525E-16},4.330127018922192,2.500000000000002,3.0628711372715525E-16,4.330127018922192,{"$f":"AH137","v":0},0,{"$f":"AP114","v":5},{"$f":"TRANSPOSE(MMULT($AE$10:$AG$12,TRANSPOSE(AP137:AR137)))","v":3.0628711372715525E-16},4.330127018922192,2.500000000000002,1.225148454908621E-16,1.7320508075688767]
[138,{"$error":"#N/A"},{"$error":"#N/A"},{"$error":"#N/A"},{"$error":"#N/A"},{"$error":"#N/A"},{"$error":"#N/A"},{"$error":"#N/A"},{"$error":"#N/A"},{"$error":"#N/A"},{"$error":"#N/A"},{"$f":"IF($AK$38=0,TRANSPOSE(MMULT($O$10:$Q$12,TRANSPOSE(C138:E138))),TRANSPOSE(MMULT($O$10:$Q$12,TRANSPOSE(Y138:AA138))))","v":{"$error":"#N/A"}},{"$error":"#N/A"},{"$error":"#N/A"},{"$error":"#N/A"},{"$error":"#N/A"},{"$f":"TRANSPOSE(MMULT($AE$10:$AG$12,TRANSPOSE(F138:H138)))","v":{"$error":"#N/A"}},{"$error":"#N/A"},{"$error":"#N/A"},{"$error":"#N/A"},{"$error":"#N/A"},{"$f":"TRANSPOSE(MMULT($AO$40:$AQ$42,TRANSPOSE(C138:E138)))","v":{"$error":"#N/A"}},{"$error":"#N/A"},{"$error":"#N/A"},{"$error":"#N/A"},{"$error":"#N/A"},{"$error":"#N/A"}]
[139,{"$error":"#N/A"},{"$error":"#N/A"},{"$error":"#N/A"},{"$error":"#N/A"},{"$error":"#N/A"},{"$error":"#N/A"},{"$error":"#N/A"},{"$error":"#N/A"},{"$error":"#N/A"},{"$error":"#N/A"},{"$f":"IF($AK$38=0,TRANSPOSE(MMULT($O$10:$Q$12,TRANSPOSE(C139:E139))),TRANSPOSE(MMULT($O$10:$Q$12,TRANSPOSE(Y139:AA139))))","v":{"$error":"#N/A"}},{"$error":"#N/A"},{"$error":"#N/A"},{"$error":"#N/A"},{"$error":"#N/A"},{"$f":"TRANSPOSE(MMULT($AE$10:$AG$12,TRANSPOSE(F139:H139)))","v":{"$error":"#N/A"}},{"$error":"#N/A"},{"$error":"#N/A"},{"$error":"#N/A"},{"$error":"#N/A"},{"$f":"TRANSPOSE(MMULT($AO$40:$AQ$42,TRANSPOSE(C139:E139)))","v":{"$error":"#N/A"}},{"$error":"#N/A"},{"$error":"#N/A"},{"$error":"#N/A"},{"$error":"#N/A"},{"$error":"#N/A"},"z",{"$nulls":13},{"$f":"AB139","v":"z"}]
[140,{"$error":"#N/A"},{"$error":"#N/A"},{"$error":"#N/A"},{"$error":"#N/A"},{"$error":"#N/A"},{"$error":"#N/A"},{"$error":"#N/A"},{"$error":"#N/A"},{"$error":"#N/A"},{"$error":"#N/A"},{"$f":"IF($AK$38=0,TRANSPOSE(MMULT($O$10:$Q$12,TRANSPOSE(C140:E140))),TRANSPOSE(MMULT($O$10:$Q$12,TRANSPOSE(Y140:AA140))))","v":{"$error":"#N/A"}},{"$error":"#N/A"},{"$error":"#N/A"},{"$error":"#N/A"},{"$error":"#N/A"},{"$f":"TRANSPOSE(MMULT($AE$10:$AG$12,TRANSPOSE(F140:H140)))","v":{"$error":"#N/A"}},{"$error":"#N/A"},{"$error":"#N/A"},{"$error":"#N/A"},{"$error":"#N/A"},{"$f":"TRANSPOSE(MMULT($AO$40:$AQ$42,TRANSPOSE(C140:E140)))","v":{"$error":"#N/A"}},{"$error":"#N/A"},{"$error":"#N/A"},{"$error":"#N/A"},{"$error":"#N/A"},{"$error":"#N/A"},0,-5,0,{"$f":"TRANSPOSE(MMULT($AO$40:$AQ$42,TRANSPOSE(AH140:AJ140)))","v":-2.23606797749979},0,4.47213595499958,{"$f":"IF($AF$7=0,NA(),0)","v":0},{"$f":"AI116","v":-5},{"$f":"AH116","v":0},{"$f":"TRANSPOSE(MMULT($O$10:$Q$12,TRANSPOSE(AB140:AD140)))","v":-3.8302222155948904},1.6069690242163497,-2.7833519961320956,{"$f":"$X$5+$X$4*IF($U$8=1,AK140,(AK140*$U$6)/($U$6+$U$7+AL140))","v":-3.8302222155948904},{"$f":"$X$6+$X$4*IF($U$8=1,AL140,(AM140*$U$6)/($U$6+$U$7+AL140))","v":1.6069690242163497},{"$f":"AH140","v":0},{"$f":"AQ116","v":-5},{"$f":"AP116","v":0},{"$f":"TRANSPOSE(MMULT($AE$10:$AG$12,TRANSPOSE(AP140:AR140)))","v":-3.8302222155948904},1.6069690242163497,-2.7833519961320956,{"$f":"$Y$5+$Y$4*IF($U$8=1,AS140,(AS140*$U$6)/($U$6+$U$7+AT140))","v":-1.5320888862379562},{"$f":"$Y$6+$Y$4*IF($U$8=1,AT140,(AU140*$U$6)/($U$6+$U$7+AT140))","v":0.6427876096865399}]
[141,{"$error":"#N/A"},{"$error":"#N/A"},{"$error":"#N/A"},{"$error":"#N/A"},{"$error":"#N/A"},{"$error":"#N/A"},{"$error":"#N/A"},{"$error":"#N/A"},{"$error":"#N/A"},{"$error":"#N/A"},{"$f":"IF($AK$38=0,TRANSPOSE(MMULT($O$10:$Q$12,TRANSPOSE(C141:E141))),TRANSPOSE(MMULT($O$10:$Q$12,TRANSPOSE(Y141:AA141))))","v":{"$error":"#N/A"}},{"$error":"#N/A"},{"$error":"#N/A"},{"$error":"#N/A"},{"$error":"#N/A"},{"$f":"TRANSPOSE(MMULT($AE$10:$AG$12,TRANSPOSE(F141:H141)))","v":{"$error":"#N/A"}},{"$error":"#N/A"},{"$error":"#N/A"},{"$error":"#N/A"},{"$error":"#N/A"},{"$f":"TRANSPOSE(MMULT($AO$40:$AQ$42,TRANSPOSE(C141:E141)))","v":{"$error":"#N/A"}},{"$error":"#N/A"},{"$error":"#N/A"},{"$error":"#N/A"},{"$error":"#N/A"},{"$error":"#N/A"},0,-5,5,{"$f":"TRANSPOSE(MMULT($AO$40:$AQ$42,TRANSPOSE(AH141:AJ141)))","v":2.23606797749979},0,6.708203932499369,{"$f":"IF($AF$7=0,NA(),0)","v":0},-5,5,{"$f":"TRANSPOSE(MMULT($O$10:$Q$12,TRANSPOSE(AB141:AD141)))","v":-3.83022221559489},5.937096043138542,-0.2833519961320934,{"$f":"$X$5+$X$4*IF($U$8=1,AK141,(AK141*$U$6)/($U$6+$U$7+AL141))","v":-3.83022221559489},{"$f":"$X$6+$X$4*IF($U$8=1,AL141,(AM141*$U$6)/($U$6+$U$7+AL141))","v":5.937096043138542},0,{"$f":"AQ117","v":-5},{"$f":"AP117","v":5},{"$f":"TRANSPOSE(MMULT($AE$10:$AG$12,TRANSPOSE(AP141:AR141)))","v":-3.83022221559489},5.937096043138542,-0.2833519961320934,{"$f":"$Y$5+$Y$4*IF($U$8=1,AS141,(AS141*$U$6)/($U$6+$U$7+AT141))","v":-1.532088886237956},{"$f":"$Y$6+$Y$4*IF($U$8=1,AT141,(AU141*$U$6)/($U$6+$U$7+AT141))","v":2.374838417255417}]
[142,{"$error":"#N/A"},{"$error":"#N/A"},{"$error":"#N/A"},{"$error":"#N/A"},{"$error":"#N/A"},{"$error":"#N/A"},{"$error":"#N/A"},{"$error":"#N/A"},{"$error":"#N/A"},{"$error":"#N/A"},{"$f":"IF($AK$38=0,TRANSPOSE(MMULT($O$10:$Q$12,TRANSPOSE(C142:E142))),TRANSPOSE(MMULT($O$10:$Q$12,TRANSPOSE(Y142:AA142))))","v":{"$error":"#N/A"}},{"$error":"#N/A"},{"$error":"#N/A"},{"$error":"#N/A"},{"$error":"#N/A"},{"$f":"TRANSPOSE(MMULT($AE$10:$AG$12,TRANSPOSE(F142:H142)))","v":{"$error":"#N/A"}},{"$error":"#N/A"},{"$error":"#N/A"},{"$error":"#N/A"},{"$error":"#N/A"},{"$f":"TRANSPOSE(MMULT($AO$40:$AQ$42,TRANSPOSE(C142:E142)))","v":{"$error":"#N/A"}},{"$error":"#N/A"},{"$error":"#N/A"},{"$error":"#N/A"},{"$error":"#N/A"},{"$error":"#N/A"},0,5,5,{"$f":"TRANSPOSE(MMULT($AO$40:$AQ$42,TRANSPOSE(AH142:AJ142)))","v":6.708203932499369},0,-2.23606797749979,0,5,5,{"$f":"TRANSPOSE(MMULT($O$10:$Q$12,TRANSPOSE(AB142:AD142)))","v":3.830222215594891},2.723157994705842,5.283351996132097,3.830222215594891,2.723157994705842,0,5,5,{"$f":"TRANSPOSE(MMULT($AE$10:$AG$12,TRANSPOSE(AP142:AR142)))","v":3.830222215594891},2.723157994705842,5.283351996132097,1.5320888862379565,1.0892631978823368]
[143,{"$error":"#N/A"},{"$error":"#N/A"},{"$error":"#N/A"},{"$error":"#N/A"},{"$error":"#N/A"},{"$error":"#N/A"},{"$error":"#N/A"},{"$error":"#N/A"},{"$error":"#N/A"},{"$error":"#N/A"},{"$f":"IF($AK$38=0,TRANSPOSE(MMULT($O$10:$Q$12,TRANSPOSE(C143:E143))),TRANSPOSE(MMULT($O$10:$Q$12,TRANSPOSE(Y143:AA143))))","v":{"$error":"#N/A"}},{"$error":"#N/A"},{"$error":"#N/A"},{"$error":"#N/A"},{"$error":"#N/A"},{"$f":"TRANSPOSE(MMULT($AE$10:$AG$12,TRANSPOSE(F143:H143)))","v":{"$error":"#N/A"}},{"$error":"#N/A"},{"$error":"#N/A"},{"$error":"#N/A"},{"$error":"#N/A"},{"$f":"TRANSPOSE(MMULT($AO$40:$AQ$42,TRANSPOSE(C143:E143)))","v":{"$error":"#N/A"}},{"$error":"#N/A"},{"$error":"#N/A"},{"$error":"#N/A"},{"$error":"#N/A"},{"$error":"#N/A"},0,5,0,{"$f":"TRANSPOSE(MMULT($AO$40:$AQ$42,TRANSPOSE(AH143:AJ143)))","v":2.23606797749979},0,-4.47213595499958,0,5,0,{"$f":"TRANSPOSE(MMULT($O$10:$Q$12,TRANSPOSE(AB143:AD143)))","v":3.8302222155948904},-1.6069690242163497,2.7833519961320956,3.8302222155948904,-1.6069690242163497,0,5,0,{"$f":"TRANSPOSE(MMULT($AE$10:$AG$12,TRANSPOSE(AP143:AR143)))","v":3.8302222155948904},-1.6069690242163497,2.7833519961320956,1.5320888862379562,-0.6427876096865399]
[144,{"$error":"#N/A"},{"$error":"#N/A"},{"$error":"#N/A"},{"$error":"#N/A"},{"$f":"(F$7+2*I$7*$B144+3*L$7*$B144^2+4*O$7*$B144^3)*SIN(O$8*$B144^4+L$8*$B144^3+I$8*$B144^2+F$8*$B144+C$8)+(F$8+2*I$8*$B144+3*L$8*$B144^2+4*O$8*$B144^3)*(C$7+F$7*$B144+I$7*$B144^2+L$7*$B144^3+O$7*$B144^4)*COS(O$8*$B144^4+L$8*$B144^3+I$8*$B144^2+F$8*$B144+C$8)-(F$6+2*I$6*$B144+3*L$6*$B144^2+4*O$6*$B144^3)*(C$5+F$5*$B144+I$5*$B144^2+L$5*$B144^3+O$5*$B144^4)*SIN(O$6*$B144^4+L$6*$B144^3+I$6*$B144^2+F$6*$B144+C$6)+(F$5+2*I$5*$B144+3*L$5*$B144^2+4*O$5*$B144^3)*COS(O$6*$B144^4+L$6*$B144^3+I$6*$B144^2+F$6*$B144+C$6)+4*O$4*$B144^3+3*L$4*$B144^2+2*I$4*$B144+F$4","v":{"$error":"#N/A"}},{"$f":"(G$7+2*J$7*$B144+3*M$7*$B144^2+4*P$7*$B144^3)*SIN(P$8*$B144^4+M$8*$B144^3+J$8*$B144^2+G$8*$B144+D$8)+(G$8+2*J$8*$B144+3*M$8*$B144^2+4*P$8*$B144^3)*(D$7+G$7*$B144+J$7*$B144^2+M$7*$B144^3+P$7*$B144^4)*COS(P$8*$B144^4+M$8*$B144^3+J$8*$B144^2+G$8*$B144+D$8)-(G$6+2*J$6*$B144+3*M$6*$B144^2+4*P$6*$B144^3)*(D$5+G$5*$B144+J$5*$B144^2+M$5*$B144^3+P$5*$B144^4)*SIN(P$6*$B144^4+M$6*$B144^3+J$6*$B144^2+G$6*$B144+D$6)+(G$5+2*J$5*$B144+3*M$5*$B144^2+4*P$5*$B144^3)*COS(P$6*$B144^4+M$6*$B144^3+J$6*$B144^2+G$6*$B144+D$6)+4*P$4*$B144^3+3*M$4*$B144^2+2*J$4*$B144+G$4","v":{"$error":"#N/A"}},{"$f":"(H$7+2*K$7*$B144+3*N$7*$B144^2+4*Q$7*$B144^3)*SIN(Q$8*$B144^4+N$8*$B144^3+K$8*$B144^2+H$8*$B144+E$8)+(H$8+2*K$8*$B144+3*N$8*$B144^2+4*Q$8*$B144^3)*(E$7+H$7*$B144+K$7*$B144^2+N$7*$B144^3+Q$7*$B144^4)*COS(Q$8*$B144^4+N$8*$B144^3+K$8*$B144^2+H$8*$B144+E$8)-(H$6+2*K$6*$B144+3*N$6*$B144^2+4*Q$6*$B144^3)*(E$5+H$5*$B144+K$5*$B144^2+N$5*$B144^3+Q$5*$B144^4)*SIN(Q$6*$B144^4+N$6*$B144^3+K$6*$B144^2+H$6*$B144+E$6)+(H$5+2*K$5*$B144+3*N$5*$B144^2+4*Q$5*$B144^3)*COS(Q$6*$B144^4+N$6*$B144^3+K$6*$B144^2+H$6*$B144+E$6)+4*Q$4*$B144^3+3*N$4*$B144^2+2*K$4*$B144+H$4","v":{"$error":"#N/A"}},{"$f":"-1*(F$8+2*I$8*$B144+3*L$8*$B144^2+4*O$8*$B144^3)^2*(C$7+F$7*$B144+I$7*$B144^2+L$7*$B144^3+O$7*$B144^4)*SIN(O$8*$B144^4+L$8*$B144^3+I$8*$B144^2+F$8*$B144+C$8)+(2*I$7+6*L$7*$B144+12*O$7*$B144^2)*SIN(O$8*$B144^4+L$8*$B144^3+I$8*$B144^2+F$8*$B144+C$8)+(2*I$8+6*L$8*$B144+12*O$8*$B144^2)*(C$7+F$7*$B144+I$7*$B144^2+L$7*$B144^3+O$7*$B144^4)*COS(O$8*$B144^4+L$8*$B144^3+I$8*$B144^2+F$8*$B144+C$8)+2*(F$7+2*I$7*$B144+3*L$7*$B144^2+4*O$7*$B144^3)*(F$8+2*I$8*$B144+3*L$8*$B144^2+4*O$8*$B144^3)*COS(O$8*$B144^4+L$8*$B144^3+I$8*$B144^2+F$8*$B144+C$8)-(2*I$6+6*L$6*$B144+12*O$6*$B144^2)*(C$5+F$5*$B144+I$5*$B144^2+L$5*$B144^3+O$5*$B144^4)*SIN(O$6*$B144^4+L$6*$B144^3+I$6*$B144^2+F$6*$B144+C$6)-2*(F$5+2*I$5*$B144+3*L$5*$B144^2+4*O$5*$B144^3)*(F$6+2*I$6*$B144+3*L$6*$B144^2+4*O$6*$B144^3)*SIN(O$6*$B144^4+L$6*$B144^3+I$6*$B144^2+F$6*$B144+C$6)-(F$6+2*I$6*$B144+3*L$6*$B144^2+4*O$6*$B144^3)^2*(C$5+F$5*$B144+I$5*$B144^2+L$5*$B144^3+O$5*$B144^4)*COS(O$6*$B144^4+L$6*$B144^3+I$6*$B144^2+F$6*$B144+C$6)+(2*I$5+6*L$5*$B144+12*O$5*$B144^2)*COS(O$6*$B144^4+L$6*$B144^3+I$6*$B144^2+F$6*$B144+C$6)+12*O$4*$B144^2+6*L$4*$B144+2*I$4","v":{"$error":"#N/A"}},{"$f":"-1*(G$8+2*J$8*$B144+3*M$8*$B144^2+4*P$8*$B144^3)^2*(D$7+G$7*$B144+J$7*$B144^2+M$7*$B144^3+P$7*$B144^4)*SIN(P$8*$B144^4+M$8*$B144^3+J$8*$B144^2+G$8*$B144+D$8)+(2*J$7+6*M$7*$B144+12*P$7*$B144^2)*SIN(P$8*$B144^4+M$8*$B144^3+J$8*$B144^2+G$8*$B144+D$8)+(2*J$8+6*M$8*$B144+12*P$8*$B144^2)*(D$7+G$7*$B144+J$7*$B144^2+M$7*$B144^3+P$7*$B144^4)*COS(P$8*$B144^4+M$8*$B144^3+J$8*$B144^2+G$8*$B144+D$8)+2*(G$7+2*J$7*$B144+3*M$7*$B144^2+4*P$7*$B144^3)*(G$8+2*J$8*$B144+3*M$8*$B144^2+4*P$8*$B144^3)*COS(P$8*$B144^4+M$8*$B144^3+J$8*$B144^2+G$8*$B144+D$8)-(2*J$6+6*M$6*$B144+12*P$6*$B144^2)*(D$5+G$5*$B144+J$5*$B144^2+M$5*$B144^3+P$5*$B144^4)*SIN(P$6*$B144^4+M$6*$B144^3+J$6*$B144^2+G$6*$B144+D$6)-2*(G$5+2*J$5*$B144+3*M$5*$B144^2+4*P$5*$B144^3)*(G$6+2*J$6*$B144+3*M$6*$B144^2+4*P$6*$B144^3)*SIN(P$6*$B144^4+M$6*$B144^3+J$6*$B144^2+G$6*$B144+D$6)-(G$6+2*J$6*$B144+3*M$6*$B144^2+4*P$6*$B144^3)^2*(D$5+G$5*$B144+J$5*$B144^2+M$5*$B144^3+P$5*$B144^4)*COS(P$6*$B144^4+M$6*$B144^3+J$6*$B144^2+G$6*$B144+D$6)+(2*J$5+6*M$5*$B144+12*P$5*$B144^2)*COS(P$6*$B144^4+M$6*$B144^3+J$6*$B144^2+G$6*$B144+D$6)+12*P$4*$B144^2+6*M$4*$B144+2*J$4","v":{"$error":"#N/A"}},{"$f":"-1*(H$8+2*K$8*$B144+3*N$8*$B144^2+4*Q$8*$B144^3)^2*(E$7+H$7*$B144+K$7*$B144^2+N$7*$B144^3+Q$7*$B144^4)*SIN(Q$8*$B144^4+N$8*$B144^3+K$8*$B144^2+H$8*$B144+E$8)+(2*K$7+6*N$7*$B144+12*Q$7*$B144^2)*SIN(Q$8*$B144^4+N$8*$B144^3+K$8*$B144^2+H$8*$B144+E$8)+(2*K$8+6*N$8*$B144+12*Q$8*$B144^2)*(E$7+H$7*$B144+K$7*$B144^2+N$7*$B144^3+Q$7*$B144^4)*COS(Q$8*$B144^4+N$8*$B144^3+K$8*$B144^2+H$8*$B144+E$8)+2*(H$7+2*K$7*$B144+3*N$7*$B144^2+4*Q$7*$B144^3)*(H$8+2*K$8*$B144+3*N$8*$B144^2+4*Q$8*$B144^3)*COS(Q$8*$B144^4+N$8*$B144^3+K$8*$B144^2+H$8*$B144+E$8)-(2*K$6+6*N$6*$B144+12*Q$6*$B144^2)*(E$5+H$5*$B144+K$5*$B144^2+N$5*$B144^3+Q$5*$B144^4)*SIN(Q$6*$B144^4+N$6*$B144^3+K$6*$B144^2+H$6*$B144+E$6)-2*(H$5+2*K$5*$B144+3*N$5*$B144^2+4*Q$5*$B144^3)*(H$6+2*K$6*$B144+3*N$6*$B144^2+4*Q$6*$B144^3)*SIN(Q$6*$B144^4+N$6*$B144^3+K$6*$B144^2+H$6*$B144+E$6)-(H$6+2*K$6*$B144+3*N$6*$B144^2+4*Q$6*$B144^3)^2*(E$5+H$5*$B144+K$5*$B144^2+N$5*$B144^3+Q$5*$B144^4)*COS(Q$6*$B144^4+N$6*$B144^3+K$6*$B144^2+H$6*$B144+E$6)+(2*K$5+6*N$5*$B144+12*Q$5*$B144^2)*COS(Q$6*$B144^4+N$6*$B144^3+K$6*$B144^2+H$6*$B144+E$6)+12*Q$4*$B144^2+6*N$4*$B144+2*K$4","v":{"$error":"#N/A"}},{"$f":"IF($AK$38=0,TRANSPOSE(MMULT($O$10:$Q$12,TRANSPOSE(C144:E144))),TRANSPOSE(MMULT($O$10:$Q$12,TRANSPOSE(Y144:AA144))))","v":{"$error":"#N/A"}},{"$error":"#N/A"},{"$error":"#N/A"},{"$error":"#N/A"},{"$error":"#N/A"},{"$f":"TRANSPOSE(MMULT($AE$10:$AG$12,TRANSPOSE(F144:H144)))","v":{"$error":"#N/A"}},{"$error":"#N/A"},{"$error":"#N/A"},{"$f":"$Y$5+$Y$4*IF($U$8=1,Q144,(Q144*$U$6)/($U$6+$U$7+R144))","v":{"$error":"#N/A"}},{"$f":"$Y$6+$Y$4*IF($U$8=1,R144,(S144*$U$6)/($U$6+$U$7+R144))","v":{"$error":"#N/A"}},{"$f":"TRANSPOSE(MMULT($AO$40:$AQ$42,TRANSPOSE(C144:E144)))","v":{"$error":"#N/A"}},{"$error":"#N/A"},{"$error":"#N/A"},{"$f":"V144+$AL$46","v":{"$error":"#N/A"}},{"$f":"W144+$AL$47","v":{"$error":"#N/A"}},{"$f":"X144+$AL$48","v":{"$error":"#N/A"}},0,-5,0,{"$f":"TRANSPOSE(MMULT($AO$40:$AQ$42,TRANSPOSE(AH144:AJ144)))","v":-2.23606797749979},0,4.47213595499958,0,-5,0,{"$f":"TRANSPOSE(MMULT($O$10:$Q$12,TRANSPOSE(AB144:AD144)))","v":-3.8302222155948904},1.6069690242163497,-2.7833519961320956,-3.8302222155948904,1.6069690242163497,0,-5,0,{"$f":"TRANSPOSE(MMULT($AE$10:$AG$12,TRANSPOSE(AP144:AR144)))","v":-3.8302222155948904},1.6069690242163497,-2.7833519961320956,-1.5320888862379562,0.6427876096865399]
[145,{"$error":"#N/A"},{"$error":"#N/A"},{"$error":"#N/A"},{"$error":"#N/A"},{"$error":"#N/A"},{"$error":"#N/A"},{"$error":"#N/A"},{"$error":"#N/A"},{"$error":"#N/A"},{"$error":"#N/A"},{"$f":"IF($AK$38=0,TRANSPOSE(MMULT($O$10:$Q$12,TRANSPOSE(C145:E145))),TRANSPOSE(MMULT($O$10:$Q$12,TRANSPOSE(Y145:AA145))))","v":{"$error":"#N/A"}},{"$error":"#N/A"},{"$error":"#N/A"},{"$f":"IF($AD$4=0,NA(),$X$5+$X$4*IF($U$8=1,L145,(L145*$U$6)/($U$6+$U$7+M145)))","v":{"$error":"#N/A"}},{"$f":"IF($AD$4=0,NA(),$X$6+$X$4*IF($U$8=1,M145,(N145*$U$6)/($U$6+$U$7+M145)))","v":{"$error":"#N/A"}},{"$f":"TRANSPOSE(MMULT($AE$10:$AG$12,TRANSPOSE(F145:H145)))","v":{"$error":"#N/A"}},{"$error":"#N/A"},{"$error":"#N/A"},{"$error":"#N/A"},{"$error":"#N/A"},{"$f":"TRANSPOSE(MMULT($AO$40:$AQ$42,TRANSPOSE(C145:E145)))","v":{"$error":"#N/A"}},{"$error":"#N/A"},{"$error":"#N/A"},{"$error":"#N/A"},{"$error":"#N/A"},{"$error":"#N/A"},0,-5,-5,{"$f":"TRANSPOSE(MMULT($AO$40:$AQ$42,TRANSPOSE(AH145:AJ145)))","v":-6.708203932499369},0,2.23606797749979,0,-5,-5,{"$f":"TRANSPOSE(MMULT($O$10:$Q$12,TRANSPOSE(AB145:AD145)))","v":-3.830222215594891},-2.723157994705842,-5.283351996132097,-3.830222215594891,-2.723157994705842,0,-5,-5,{"$f":"TRANSPOSE(MMULT($AE$10:$AG$12,TRANSPOSE(AP145:AR145)))","v":-3.830222215594891},-2.723157994705842,-5.283351996132097,-1.5320888862379565,-1.0892631978823368]
[146,{"$f":"IF(B145<$B$3,B145+$S$3,NA())","v":{"$error":"#N/A"}},{"$error":"#N/A"},{"$error":"#N/A"},{"$error":"#N/A"},{"$error":"#N/A"},{"$error":"#N/A"},{"$error":"#N/A"},{"$error":"#N/A"},{"$error":"#N/A"},{"$error":"#N/A"},{"$f":"IF($AK$38=0,TRANSPOSE(MMULT($O$10:$Q$12,TRANSPOSE(C146:E146))),TRANSPOSE(MMULT($O$10:$Q$12,TRANSPOSE(Y146:AA146))))","v":{"$error":"#N/A"}},{"$error":"#N/A"},{"$error":"#N/A"},{"$error":"#N/A"},{"$error":"#N/A"},{"$f":"TRANSPOSE(MMULT($AE$10:$AG$12,TRANSPOSE(F146:H146)))","v":{"$error":"#N/A"}},{"$error":"#N/A"},{"$error":"#N/A"},{"$error":"#N/A"},{"$error":"#N/A"},{"$f":"TRANSPOSE(MMULT($AO$40:$AQ$42,TRANSPOSE(C146:E146)))","v":{"$error":"#N/A"}},{"$error":"#N/A"},{"$error":"#N/A"},{"$error":"#N/A"},{"$error":"#N/A"},{"$error":"#N/A"},0,5,-5,{"$f":"TRANSPOSE(MMULT($AO$40:$AQ$42,TRANSPOSE(AH146:AJ146)))","v":-2.23606797749979},0,-6.708203932499369,0,5,-5,{"$f":"TRANSPOSE(MMULT($O$10:$Q$12,TRANSPOSE(AB146:AD146)))","v":3.83022221559489},-5.937096043138542,0.2833519961320934,3.83022221559489,-5.937096043138542,0,5,-5,{"$f":"TRANSPOSE(MMULT($AE$10:$AG$12,TRANSPOSE(AP146:AR146)))","v":3.83022221559489},-5.937096043138542,0.2833519961320934,1.532088886237956,-2.374838417255417]
[147,{"$error":"#N/A"},{"$error":"#N/A"},{"$error":"#N/A"},{"$error":"#N/A"},{"$error":"#N/A"},{"$error":"#N/A"},{"$error":"#N/A"},{"$error":"#N/A"},{"$error":"#N/A"},{"$error":"#N/A"},{"$f":"IF($AK$38=0,TRANSPOSE(MMULT($O$10:$Q$12,TRANSPOSE(C147:E147))),TRANSPOSE(MMULT($O$10:$Q$12,TRANSPOSE(Y147:AA147))))","v":{"$error":"#N/A"}},{"$error":"#N/A"},{"$error":"#N/A"},{"$error":"#N/A"},{"$error":"#N/A"},{"$f":"TRANSPOSE(MMULT($AE$10:$AG$12,TRANSPOSE(F147:H147)))","v":{"$error":"#N/A"}},{"$error":"#N/A"},{"$error":"#N/A"},{"$error":"#N/A"},{"$error":"#N/A"},{"$f":"TRANSPOSE(MMULT($AO$40:$AQ$42,TRANSPOSE(C147:E147)))","v":{"$error":"#N/A"}},{"$error":"#N/A"},{"$error":"#N/A"},{"$error":"#N/A"},{"$error":"#N/A"},{"$error":"#N/A"},0,5,5,{"$f":"TRANSPOSE(MMULT($AO$40:$AQ$42,TRANSPOSE(AH147:AJ147)))","v":6.708203932499369},0,-2.23606797749979,0,5,5,{"$f":"TRANSPOSE(MMULT($O$10:$Q$12,TRANSPOSE(AB147:AD147)))","v":3.830222215594891},2.723157994705842,5.283351996132097,3.830222215594891,2.723157994705842,0,5,5,{"$f":"TRANSPOSE(MMULT($AE$10:$AG$12,TRANSPOSE(AP147:AR147)))","v":3.830222215594891},2.723157994705842,5.283351996132097,1.5320888862379565,1.0892631978823368]
[148,{"$error":"#N/A"},{"$error":"#N/A"},{"$error":"#N/A"},{"$error":"#N/A"},{"$error":"#N/A"},{"$error":"#N/A"},{"$error":"#N/A"},{"$error":"#N/A"},{"$error":"#N/A"},{"$error":"#N/A"},{"$f":"IF($AK$38=0,TRANSPOSE(MMULT($O$10:$Q$12,TRANSPOSE(C148:E148))),TRANSPOSE(MMULT($O$10:$Q$12,TRANSPOSE(Y148:AA148))))","v":{"$error":"#N/A"}},{"$error":"#N/A"},{"$error":"#N/A"},{"$error":"#N/A"},{"$error":"#N/A"},{"$f":"TRANSPOSE(MMULT($AE$10:$AG$12,TRANSPOSE(F148:H148)))","v":{"$error":"#N/A"}},{"$error":"#N/A"},{"$error":"#N/A"},{"$error":"#N/A"},{"$error":"#N/A"},{"$f":"TRANSPOSE(MMULT($AO$40:$AQ$42,TRANSPOSE(C148:E148)))","v":{"$error":"#N/A"}},{"$error":"#N/A"},{"$error":"#N/A"},{"$error":"#N/A"},{"$error":"#N/A"},{"$error":"#N/A"},0,0,5,{"$f":"TRANSPOSE(MMULT($AO$40:$AQ$42,TRANSPOSE(AH148:AJ148)))","v":4.47213595499958},0,2.23606797749979,0,0,5,{"$f":"TRANSPOSE(MMULT($O$10:$Q$12,TRANSPOSE(AB148:AD148)))","v":3.0628711372715525E-16},4.330127018922192,2.500000000000002,3.0628711372715525E-16,4.330127018922192,0,0,5,{"$f":"TRANSPOSE(MMULT($AE$10:$AG$12,TRANSPOSE(AP148:AR148)))","v":3.0628711372715525E-16},4.330127018922192,2.500000000000002,1.225148454908621E-16,1.7320508075688767]
[149,{"$error":"#N/A"},{"$error":"#N/A"},{"$error":"#N/A"},{"$error":"#N/A"},{"$error":"#N/A"},{"$error":"#N/A"},{"$error":"#N/A"},{"$error":"#N/A"},{"$error":"#N/A"},{"$error":"#N/A"},{"$f":"IF($AK$38=0,TRANSPOSE(MMULT($O$10:$Q$12,TRANSPOSE(C149:E149))),TRANSPOSE(MMULT($O$10:$Q$12,TRANSPOSE(Y149:AA149))))","v":{"$error":"#N/A"}},{"$error":"#N/A"},{"$error":"#N/A"},{"$error":"#N/A"},{"$error":"#N/A"},{"$f":"TRANSPOSE(MMULT($AE$10:$AG$12,TRANSPOSE(F149:H149)))","v":{"$error":"#N/A"}},{"$error":"#N/A"},{"$error":"#N/A"},{"$error":"#N/A"},{"$error":"#N/A"},{"$f":"TRANSPOSE(MMULT($AO$40:$AQ$42,TRANSPOSE(C149:E149)))","v":{"$error":"#N/A"}},{"$error":"#N/A"},{"$error":"#N/A"},{"$error":"#N/A"},{"$error":"#N/A"},{"$error":"#N/A"}]
[150,{"$error":"#N/A"},{"$error":"#N/A"},{"$error":"#N/A"},{"$error":"#N/A"},{"$error":"#N/A"},{"$error":"#N/A"},{"$error":"#N/A"},{"$error":"#N/A"},{"$error":"#N/A"},{"$error":"#N/A"},{"$f":"IF($AK$38=0,TRANSPOSE(MMULT($O$10:$Q$12,TRANSPOSE(C150:E150))),TRANSPOSE(MMULT($O$10:$Q$12,TRANSPOSE(Y150:AA150))))","v":{"$error":"#N/A"}},{"$error":"#N/A"},{"$error":"#N/A"},{"$error":"#N/A"},{"$error":"#N/A"},{"$f":"TRANSPOSE(MMULT($AE$10:$AG$12,TRANSPOSE(F150:H150)))","v":{"$error":"#N/A"}},{"$error":"#N/A"},{"$error":"#N/A"},{"$error":"#N/A"},{"$error":"#N/A"},{"$f":"TRANSPOSE(MMULT($AO$40:$AQ$42,TRANSPOSE(C150:E150)))","v":{"$error":"#N/A"}},{"$error":"#N/A"},{"$error":"#N/A"},{"$error":"#N/A"},{"$error":"#N/A"},{"$error":"#N/A"},"triéder_síkok",null,{"$f":"HOME!S47","v":1}]
[151,{"$error":"#N/A"},{"$error":"#N/A"},{"$error":"#N/A"},{"$error":"#N/A"},{"$error":"#N/A"},{"$error":"#N/A"},{"$error":"#N/A"},{"$error":"#N/A"},{"$error":"#N/A"},{"$error":"#N/A"},{"$f":"IF($AK$38=0,TRANSPOSE(MMULT($O$10:$Q$12,TRANSPOSE(C151:E151))),TRANSPOSE(MMULT($O$10:$Q$12,TRANSPOSE(Y151:AA151))))","v":{"$error":"#N/A"}},{"$error":"#N/A"},{"$error":"#N/A"},{"$error":"#N/A"},{"$error":"#N/A"},{"$f":"TRANSPOSE(MMULT($AE$10:$AG$12,TRANSPOSE(F151:H151)))","v":{"$error":"#N/A"}},{"$error":"#N/A"},{"$error":"#N/A"},{"$error":"#N/A"},{"$error":"#N/A"},{"$f":"TRANSPOSE(MMULT($AO$40:$AQ$42,TRANSPOSE(C151:E151)))","v":{"$error":"#N/A"}},{"$error":"#N/A"},{"$error":"#N/A"},{"$error":"#N/A"},{"$error":"#N/A"},{"$error":"#N/A"},"b"]
[152,{"$error":"#N/A"},{"$error":"#N/A"},{"$error":"#N/A"},{"$error":"#N/A"},{"$error":"#N/A"},{"$error":"#N/A"},{"$error":"#N/A"},{"$error":"#N/A"},{"$error":"#N/A"},{"$error":"#N/A"},{"$f":"IF($AK$38=0,TRANSPOSE(MMULT($O$10:$Q$12,TRANSPOSE(C152:E152))),TRANSPOSE(MMULT($O$10:$Q$12,TRANSPOSE(Y152:AA152))))","v":{"$error":"#N/A"}},{"$error":"#N/A"},{"$error":"#N/A"},{"$error":"#N/A"},{"$error":"#N/A"},{"$f":"TRANSPOSE(MMULT($AE$10:$AG$12,TRANSPOSE(F152:H152)))","v":{"$error":"#N/A"}},{"$error":"#N/A"},{"$error":"#N/A"},{"$error":"#N/A"},{"$error":"#N/A"},{"$f":"TRANSPOSE(MMULT($AO$40:$AQ$42,TRANSPOSE(C152:E152)))","v":{"$error":"#N/A"}},{"$error":"#N/A"},{"$error":"#N/A"},{"$error":"#N/A"},{"$error":"#N/A"},{"$error":"#N/A"},0,{"$f":"-AD150","v":-1},{"$f":"IF($AB$8=0,NA(),0)","v":0},{"$f":"TRANSPOSE(MMULT($AK$40:$AM$42,TRANSPOSE(AB152:AD152)))","v":0.6425294053171791},0.685364699004991,-0.3426823495024955,{"$f":"AE152+C$15","v":3.642529405317179},{"$f":"AF152+D$15","v":4.685364699004991},{"$f":"AG152+E$15","v":-0.3426823495024955},{"$f":"TRANSPOSE(MMULT($O$10:$Q$12,TRANSPOSE(AH152:AJ152)))","v":1.247824822001836},-3.1977885127096064,4.853367476868156,{"$f":"$X$5+$X$4*IF($U$8=1,AK152,(AK152*$U$6)/($U$6+$U$7+AL152))","v":1.247824822001836},{"$f":"$X$6+$X$4*IF($U$8=1,AL152,(AM152*$U$6)/($U$6+$U$7+AL152))","v":-3.1977885127096064}]
[153,{"$error":"#N/A"},{"$error":"#N/A"},{"$error":"#N/A"},{"$error":"#N/A"},{"$error":"#N/A"},{"$error":"#N/A"},{"$error":"#N/A"},{"$error":"#N/A"},{"$error":"#N/A"},{"$error":"#N/A"},{"$f":"IF($AK$38=0,TRANSPOSE(MMULT($O$10:$Q$12,TRANSPOSE(C153:E153))),TRANSPOSE(MMULT($O$10:$Q$12,TRANSPOSE(Y153:AA153))))","v":{"$error":"#N/A"}},{"$error":"#N/A"},{"$error":"#N/A"},{"$error":"#N/A"},{"$error":"#N/A"},{"$f":"TRANSPOSE(MMULT($AE$10:$AG$12,TRANSPOSE(F153:H153)))","v":{"$error":"#N/A"}},{"$error":"#N/A"},{"$error":"#N/A"},{"$error":"#N/A"},{"$error":"#N/A"},{"$f":"TRANSPOSE(MMULT($AO$40:$AQ$42,TRANSPOSE(C153:E153)))","v":{"$error":"#N/A"}},{"$error":"#N/A"},{"$error":"#N/A"},{"$error":"#N/A"},{"$error":"#N/A"},{"$error":"#N/A"},{"$f":"AD150","v":1},{"$f":"-AD150","v":-1},{"$f":"IF($AB$8=0,NA(),0)","v":0},{"$f":"TRANSPOSE(MMULT($AK$40:$AM$42,TRANSPOSE(AB153:AD153)))","v":0.6425294053171791},1.132578294504949,0.5517448414974204,3.642529405317179,5.132578294504949,0.5517448414974204,{"$f":"TRANSPOSE(MMULT($O$10:$Q$12,TRANSPOSE(AH153:AJ153)))","v":1.5904103117218376},-2.566923522503494,5.549531643114559,{"$f":"$X$5+$X$4*IF($U$8=1,AK153,(AK153*$U$6)/($U$6+$U$7+AL153))","v":1.5904103117218376},{"$f":"$X$6+$X$4*IF($U$8=1,AL153,(AM153*$U$6)/($U$6+$U$7+AL153))","v":-2.566923522503494}]
[154,{"$error":"#N/A"},{"$error":"#N/A"},{"$error":"#N/A"},{"$error":"#N/A"},{"$error":"#N/A"},{"$error":"#N/A"},{"$error":"#N/A"},{"$error":"#N/A"},{"$error":"#N/A"},{"$error":"#N/A"},{"$f":"IF($AK$38=0,TRANSPOSE(MMULT($O$10:$Q$12,TRANSPOSE(C154:E154))),TRANSPOSE(MMULT($O$10:$Q$12,TRANSPOSE(Y154:AA154))))","v":{"$error":"#N/A"}},{"$error":"#N/A"},{"$error":"#N/A"},{"$error":"#N/A"},{"$error":"#N/A"},{"$f":"TRANSPOSE(MMULT($AE$10:$AG$12,TRANSPOSE(F154:H154)))","v":{"$error":"#N/A"}},{"$error":"#N/A"},{"$error":"#N/A"},{"$error":"#N/A"},{"$error":"#N/A"},{"$f":"TRANSPOSE(MMULT($AO$40:$AQ$42,TRANSPOSE(C154:E154)))","v":{"$error":"#N/A"}},{"$error":"#N/A"},{"$error":"#N/A"},{"$error":"#N/A"},{"$error":"#N/A"},{"$error":"#N/A"},{"$f":"AD150","v":1},{"$f":"AD150","v":1},0,{"$f":"TRANSPOSE(MMULT($AK$40:$AM$42,TRANSPOSE(AB154:AD154)))","v":-0.6425294053171791},-0.23815110350503305,1.2371095405024113,2.357470594682821,3.761848896494967,1.2371095405024113,{"$f":"TRANSPOSE(MMULT($O$10:$Q$12,TRANSPOSE(AH154:AJ154)))","v":1.3663905545507546},-1.0406302651873764,4.276643572203229,1.3663905545507546,-1.0406302651873764]
[155,{"$error":"#N/A"},{"$error":"#N/A"},{"$error":"#N/A"},{"$error":"#N/A"},{"$error":"#N/A"},{"$error":"#N/A"},{"$error":"#N/A"},{"$error":"#N/A"},{"$error":"#N/A"},{"$error":"#N/A"},{"$f":"IF($AK$38=0,TRANSPOSE(MMULT($O$10:$Q$12,TRANSPOSE(C155:E155))),TRANSPOSE(MMULT($O$10:$Q$12,TRANSPOSE(Y155:AA155))))","v":{"$error":"#N/A"}},{"$error":"#N/A"},{"$error":"#N/A"},{"$error":"#N/A"},{"$error":"#N/A"},{"$f":"TRANSPOSE(MMULT($AE$10:$AG$12,TRANSPOSE(F155:H155)))","v":{"$error":"#N/A"}},{"$error":"#N/A"},{"$error":"#N/A"},{"$error":"#N/A"},{"$error":"#N/A"},{"$f":"TRANSPOSE(MMULT($AO$40:$AQ$42,TRANSPOSE(C155:E155)))","v":{"$error":"#N/A"}},{"$error":"#N/A"},{"$error":"#N/A"},{"$error":"#N/A"},{"$error":"#N/A"},{"$error":"#N/A"},0,{"$f":"AD150","v":1},0,{"$f":"TRANSPOSE(MMULT($AK$40:$AM$42,TRANSPOSE(AB155:AD155)))","v":-0.6425294053171791},-0.685364699004991,0.3426823495024955,2.357470594682821,3.314635300995009,0.3426823495024955,{"$f":"TRANSPOSE(MMULT($O$10:$Q$12,TRANSPOSE(AH155:AJ155)))","v":1.0238050648307535},-1.6714952553934892,3.580479405956827,1.0238050648307535,-1.6714952553934892]
[156,{"$error":"#N/A"},{"$error":"#N/A"},{"$error":"#N/A"},{"$error":"#N/A"},{"$error":"#N/A"},{"$error":"#N/A"},{"$error":"#N/A"},{"$error":"#N/A"},{"$error":"#N/A"},{"$error":"#N/A"},{"$f":"IF($AK$38=0,TRANSPOSE(MMULT($O$10:$Q$12,TRANSPOSE(C156:E156))),TRANSPOSE(MMULT($O$10:$Q$12,TRANSPOSE(Y156:AA156))))","v":{"$error":"#N/A"}},{"$error":"#N/A"},{"$error":"#N/A"},{"$error":"#N/A"},{"$error":"#N/A"},{"$f":"TRANSPOSE(MMULT($AE$10:$AG$12,TRANSPOSE(F156:H156)))","v":{"$error":"#N/A"}},{"$error":"#N/A"},{"$error":"#N/A"},{"$error":"#N/A"},{"$error":"#N/A"},{"$f":"TRANSPOSE(MMULT($AO$40:$AQ$42,TRANSPOSE(C156:E156)))","v":{"$error":"#N/A"}},{"$error":"#N/A"},{"$error":"#N/A"},{"$error":"#N/A"},{"$error":"#N/A"},{"$error":"#N/A"},0,{"$f":"-AD150","v":-1},0,{"$f":"TRANSPOSE(MMULT($AK$40:$AM$42,TRANSPOSE(AB156:AD156)))","v":0.6425294053171791},0.685364699004991,-0.3426823495024955,3.642529405317179,4.685364699004991,-0.3426823495024955,{"$f":"TRANSPOSE(MMULT($O$10:$Q$12,TRANSPOSE(AH156:AJ156)))","v":1.247824822001836},-3.1977885127096064,4.853367476868156,1.247824822001836,-3.1977885127096064]
[157,{"$error":"#N/A"},{"$error":"#N/A"},{"$error":"#N/A"},{"$error":"#N/A"},{"$error":"#N/A"},{"$error":"#N/A"},{"$error":"#N/A"},{"$error":"#N/A"},{"$error":"#N/A"},{"$error":"#N/A"},{"$f":"IF($AK$38=0,TRANSPOSE(MMULT($O$10:$Q$12,TRANSPOSE(C157:E157))),TRANSPOSE(MMULT($O$10:$Q$12,TRANSPOSE(Y157:AA157))))","v":{"$error":"#N/A"}},{"$error":"#N/A"},{"$error":"#N/A"},{"$error":"#N/A"},{"$error":"#N/A"},{"$f":"TRANSPOSE(MMULT($AE$10:$AG$12,TRANSPOSE(F157:H157)))","v":{"$error":"#N/A"}},{"$error":"#N/A"},{"$error":"#N/A"},{"$error":"#N/A"},{"$error":"#N/A"},{"$f":"TRANSPOSE(MMULT($AO$40:$AQ$42,TRANSPOSE(C157:E157)))","v":{"$error":"#N/A"}},{"$error":"#N/A"},{"$error":"#N/A"},{"$error":"#N/A"},{"$error":"#N/A"},{"$error":"#N/A"},{"$f":"-AD150","v":-1},{"$f":"-AD150","v":-1},0,{"$f":"TRANSPOSE(MMULT($AK$40:$AM$42,TRANSPOSE(AB157:AD157)))","v":0.6425294053171791},0.23815110350503305,-1.2371095405024113,3.642529405317179,4.238151103505033,-1.2371095405024113,{"$f":"TRANSPOSE(MMULT($O$10:$Q$12,TRANSPOSE(AH157:AJ157)))","v":0.9052393322818347},-3.828653502915719,4.157203310621754,0.9052393322818347,-3.828653502915719]
[158,{"$error":"#N/A"},{"$error":"#N/A"},{"$error":"#N/A"},{"$error":"#N/A"},{"$error":"#N/A"},{"$error":"#N/A"},{"$error":"#N/A"},{"$error":"#N/A"},{"$error":"#N/A"},{"$error":"#N/A"},{"$f":"IF($AK$38=0,TRANSPOSE(MMULT($O$10:$Q$12,TRANSPOSE(C158:E158))),TRANSPOSE(MMULT($O$10:$Q$12,TRANSPOSE(Y158:AA158))))","v":{"$error":"#N/A"}},{"$error":"#N/A"},{"$error":"#N/A"},{"$error":"#N/A"},{"$error":"#N/A"},{"$f":"TRANSPOSE(MMULT($AE$10:$AG$12,TRANSPOSE(F158:H158)))","v":{"$error":"#N/A"}},{"$error":"#N/A"},{"$error":"#N/A"},{"$error":"#N/A"},{"$error":"#N/A"},{"$f":"TRANSPOSE(MMULT($AO$40:$AQ$42,TRANSPOSE(C158:E158)))","v":{"$error":"#N/A"}},{"$error":"#N/A"},{"$error":"#N/A"},{"$error":"#N/A"},{"$error":"#N/A"},{"$error":"#N/A"},{"$f":"-AD150","v":-1},{"$f":"AD150","v":1},0,{"$f":"TRANSPOSE(MMULT($AK$40:$AM$42,TRANSPOSE(AB158:AD158)))","v":-0.6425294053171791},-1.132578294504949,-0.5517448414974204,2.357470594682821,2.867421705495051,-0.5517448414974204,{"$f":"TRANSPOSE(MMULT($O$10:$Q$12,TRANSPOSE(AH158:AJ158)))","v":0.6812195751107519},-2.3023602455996017,2.884315239710425,0.6812195751107519,-2.3023602455996017]
[159,{"$error":"#N/A"},{"$error":"#N/A"},{"$error":"#N/A"},{"$error":"#N/A"},{"$error":"#N/A"},{"$error":"#N/A"},{"$error":"#N/A"},{"$error":"#N/A"},{"$error":"#N/A"},{"$error":"#N/A"},{"$f":"IF($AK$38=0,TRANSPOSE(MMULT($O$10:$Q$12,TRANSPOSE(C159:E159))),TRANSPOSE(MMULT($O$10:$Q$12,TRANSPOSE(Y159:AA159))))","v":{"$error":"#N/A"}},{"$error":"#N/A"},{"$error":"#N/A"},{"$error":"#N/A"},{"$error":"#N/A"},{"$f":"TRANSPOSE(MMULT($AE$10:$AG$12,TRANSPOSE(F159:H159)))","v":{"$error":"#N/A"}},{"$error":"#N/A"},{"$error":"#N/A"},{"$error":"#N/A"},{"$error":"#N/A"},{"$f":"TRANSPOSE(MMULT($AO$40:$AQ$42,TRANSPOSE(C159:E159)))","v":{"$error":"#N/A"}},{"$error":"#N/A"},{"$error":"#N/A"},{"$error":"#N/A"},{"$error":"#N/A"},{"$error":"#N/A"},{"$f":"AD150","v":1},{"$f":"AD150","v":1},0,{"$f":"TRANSPOSE(MMULT($AK$40:$AM$42,TRANSPOSE(AB159:AD159)))","v":-0.6425294053171791},-0.23815110350503305,1.2371095405024113,2.357470594682821,3.761848896494967,1.2371095405024113,{"$f":"TRANSPOSE(MMULT($O$10:$Q$12,TRANSPOSE(AH159:AJ159)))","v":1.3663905545507546},-1.0406302651873764,4.276643572203229,1.3663905545507546,-1.0406302651873764]
[160,{"$error":"#N/A"},{"$error":"#N/A"},{"$error":"#N/A"},{"$error":"#N/A"},{"$error":"#N/A"},{"$error":"#N/A"},{"$error":"#N/A"},{"$error":"#N/A"},{"$error":"#N/A"},{"$error":"#N/A"},{"$f":"IF($AK$38=0,TRANSPOSE(MMULT($O$10:$Q$12,TRANSPOSE(C160:E160))),TRANSPOSE(MMULT($O$10:$Q$12,TRANSPOSE(Y160:AA160))))","v":{"$error":"#N/A"}},{"$error":"#N/A"},{"$error":"#N/A"},{"$error":"#N/A"},{"$error":"#N/A"},{"$f":"TRANSPOSE(MMULT($AE$10:$AG$12,TRANSPOSE(F160:H160)))","v":{"$error":"#N/A"}},{"$error":"#N/A"},{"$error":"#N/A"},{"$error":"#N/A"},{"$error":"#N/A"},{"$f":"TRANSPOSE(MMULT($AO$40:$AQ$42,TRANSPOSE(C160:E160)))","v":{"$error":"#N/A"}},{"$error":"#N/A"},{"$error":"#N/A"},{"$error":"#N/A"},{"$error":"#N/A"},{"$error":"#N/A"},{"$f":"AD150","v":1},0,0,{"$f":"TRANSPOSE(MMULT($AK$40:$AM$42,TRANSPOSE(AB160:AD160)))","v":0},0.4472135954999579,0.8944271909999159,3,4.447213595499958,0.8944271909999159,{"$f":"TRANSPOSE(MMULT($O$10:$Q$12,TRANSPOSE(AH160:AJ160)))","v":1.4784004331362963},-1.8037768938454355,4.913087607658894,1.4784004331362963,-1.8037768938454355]
[161,{"$error":"#N/A"},{"$error":"#N/A"},{"$error":"#N/A"},{"$error":"#N/A"},{"$error":"#N/A"},{"$error":"#N/A"},{"$error":"#N/A"},{"$error":"#N/A"},{"$error":"#N/A"},{"$error":"#N/A"},{"$f":"IF($AK$38=0,TRANSPOSE(MMULT($O$10:$Q$12,TRANSPOSE(C161:E161))),TRANSPOSE(MMULT($O$10:$Q$12,TRANSPOSE(Y161:AA161))))","v":{"$error":"#N/A"}},{"$error":"#N/A"},{"$error":"#N/A"},{"$error":"#N/A"},{"$error":"#N/A"},{"$f":"TRANSPOSE(MMULT($AE$10:$AG$12,TRANSPOSE(F161:H161)))","v":{"$error":"#N/A"}},{"$error":"#N/A"},{"$error":"#N/A"},{"$error":"#N/A"},{"$error":"#N/A"},{"$f":"TRANSPOSE(MMULT($AO$40:$AQ$42,TRANSPOSE(C161:E161)))","v":{"$error":"#N/A"}},{"$error":"#N/A"},{"$error":"#N/A"},{"$error":"#N/A"},{"$error":"#N/A"},{"$error":"#N/A"},{"$f":"-AD150","v":-1},0,0,{"$f":"TRANSPOSE(MMULT($AK$40:$AM$42,TRANSPOSE(AB161:AD161)))","v":0},-0.4472135954999579,-0.8944271909999159,3,3.552786404500042,-0.8944271909999159,{"$f":"TRANSPOSE(MMULT($O$10:$Q$12,TRANSPOSE(AH161:AJ161)))","v":0.7932294536962936},-3.0655068742576606,3.520759275166089,0.7932294536962936,-3.0655068742576606]
[162,{"$error":"#N/A"},{"$error":"#N/A"},{"$error":"#N/A"},{"$error":"#N/A"},{"$error":"#N/A"},{"$error":"#N/A"},{"$error":"#N/A"},{"$error":"#N/A"},{"$error":"#N/A"},{"$error":"#N/A"},{"$f":"IF($AK$38=0,TRANSPOSE(MMULT($O$10:$Q$12,TRANSPOSE(C162:E162))),TRANSPOSE(MMULT($O$10:$Q$12,TRANSPOSE(Y162:AA162))))","v":{"$error":"#N/A"}},{"$error":"#N/A"},{"$error":"#N/A"},{"$error":"#N/A"},{"$error":"#N/A"},{"$f":"TRANSPOSE(MMULT($AE$10:$AG$12,TRANSPOSE(F162:H162)))","v":{"$error":"#N/A"}},{"$error":"#N/A"},{"$error":"#N/A"},{"$error":"#N/A"},{"$error":"#N/A"},{"$f":"TRANSPOSE(MMULT($AO$40:$AQ$42,TRANSPOSE(C162:E162)))","v":{"$error":"#N/A"}},{"$error":"#N/A"},{"$error":"#N/A"},{"$error":"#N/A"},{"$error":"#N/A"},{"$error":"#N/A"}]
[163,{"$error":"#N/A"},{"$error":"#N/A"},{"$error":"#N/A"},{"$error":"#N/A"},{"$error":"#N/A"},{"$error":"#N/A"},{"$error":"#N/A"},{"$error":"#N/A"},{"$error":"#N/A"},{"$error":"#N/A"},{"$f":"IF($AK$38=0,TRANSPOSE(MMULT($O$10:$Q$12,TRANSPOSE(C163:E163))),TRANSPOSE(MMULT($O$10:$Q$12,TRANSPOSE(Y163:AA163))))","v":{"$error":"#N/A"}},{"$error":"#N/A"},{"$error":"#N/A"},{"$error":"#N/A"},{"$error":"#N/A"},{"$f":"TRANSPOSE(MMULT($AE$10:$AG$12,TRANSPOSE(F163:H163)))","v":{"$error":"#N/A"}},{"$error":"#N/A"},{"$error":"#N/A"},{"$error":"#N/A"},{"$error":"#N/A"},{"$f":"TRANSPOSE(MMULT($AO$40:$AQ$42,TRANSPOSE(C163:E163)))","v":{"$error":"#N/A"}},{"$error":"#N/A"},{"$error":"#N/A"},{"$error":"#N/A"},{"$error":"#N/A"},{"$error":"#N/A"},"n"]
[164,{"$error":"#N/A"},{"$error":"#N/A"},{"$error":"#N/A"},{"$error":"#N/A"},{"$error":"#N/A"},{"$error":"#N/A"},{"$error":"#N/A"},{"$error":"#N/A"},{"$error":"#N/A"},{"$error":"#N/A"},{"$f":"IF($AK$38=0,TRANSPOSE(MMULT($O$10:$Q$12,TRANSPOSE(C164:E164))),TRANSPOSE(MMULT($O$10:$Q$12,TRANSPOSE(Y164:AA164))))","v":{"$error":"#N/A"}},{"$error":"#N/A"},{"$error":"#N/A"},{"$error":"#N/A"},{"$error":"#N/A"},{"$f":"TRANSPOSE(MMULT($AE$10:$AG$12,TRANSPOSE(F164:H164)))","v":{"$error":"#N/A"}},{"$error":"#N/A"},{"$error":"#N/A"},{"$error":"#N/A"},{"$error":"#N/A"},{"$f":"TRANSPOSE(MMULT($AO$40:$AQ$42,TRANSPOSE(C164:E164)))","v":{"$error":"#N/A"}},{"$error":"#N/A"},{"$error":"#N/A"},{"$error":"#N/A"},{"$error":"#N/A"},{"$error":"#N/A"},{"$f":"AD150","v":1},{"$f":"IF($AD$8=0,NA(),0)","v":0},0,{"$f":"TRANSPOSE(MMULT($AK$40:$AM$42,TRANSPOSE(AB164:AD164)))","v":0},0.4472135954999579,0.8944271909999159,{"$f":"AE164+C$15","v":3},{"$f":"AF164+D$15","v":4.447213595499958},{"$f":"AG164+E$15","v":0.8944271909999159},{"$f":"TRANSPOSE(MMULT($O$10:$Q$12,TRANSPOSE(AH164:AJ164)))","v":1.4784004331362963},-1.8037768938454355,4.913087607658894,{"$f":"$X$5+$X$4*IF($U$8=1,AK164,(AK164*$U$6)/($U$6+$U$7+AL164))","v":1.4784004331362963},{"$f":"$X$6+$X$4*IF($U$8=1,AL164,(AM164*$U$6)/($U$6+$U$7+AL164))","v":-1.8037768938454355}]
[165,{"$error":"#N/A"},{"$error":"#N/A"},{"$error":"#N/A"},{"$error":"#N/A"},{"$error":"#N/A"},{"$error":"#N/A"},{"$error":"#N/A"},{"$error":"#N/A"},{"$error":"#N/A"},{"$error":"#N/A"},{"$f":"IF($AK$38=0,TRANSPOSE(MMULT($O$10:$Q$12,TRANSPOSE(C165:E165))),TRANSPOSE(MMULT($O$10:$Q$12,TRANSPOSE(Y165:AA165))))","v":{"$error":"#N/A"}},{"$error":"#N/A"},{"$error":"#N/A"},{"$error":"#N/A"},{"$error":"#N/A"},{"$f":"TRANSPOSE(MMULT($AE$10:$AG$12,TRANSPOSE(F165:H165)))","v":{"$error":"#N/A"}},{"$error":"#N/A"},{"$error":"#N/A"},{"$error":"#N/A"},{"$error":"#N/A"},{"$f":"TRANSPOSE(MMULT($AO$40:$AQ$42,TRANSPOSE(C165:E165)))","v":{"$error":"#N/A"}},{"$error":"#N/A"},{"$error":"#N/A"},{"$error":"#N/A"},{"$error":"#N/A"},{"$error":"#N/A"},{"$f":"AD150","v":1},{"$f":"IF($AD$8=0,NA(),0)","v":0},{"$f":"-AD150","v":-1},{"$f":"TRANSPOSE(MMULT($AK$40:$AM$42,TRANSPOSE(AB165:AD165)))","v":-0.7662610281769212},1.0219093666326489,0.6070793054335704,2.2337389718230787,5.021909366632649,0.6070793054335704,{"$f":"TRANSPOSE(MMULT($O$10:$Q$12,TRANSPOSE(AH165:AJ165)))","v":2.411186029794263},-1.943836121674524,4.580981535195049,{"$f":"$X$5+$X$4*IF($U$8=1,AK165,(AK165*$U$6)/($U$6+$U$7+AL165))","v":2.411186029794263},{"$f":"$X$6+$X$4*IF($U$8=1,AL165,(AM165*$U$6)/($U$6+$U$7+AL165))","v":-1.943836121674524}]
[166,{"$error":"#N/A"},{"$error":"#N/A"},{"$error":"#N/A"},{"$error":"#N/A"},{"$error":"#N/A"},{"$error":"#N/A"},{"$error":"#N/A"},{"$error":"#N/A"},{"$error":"#N/A"},{"$error":"#N/A"},{"$f":"IF($AK$38=0,TRANSPOSE(MMULT($O$10:$Q$12,TRANSPOSE(C166:E166))),TRANSPOSE(MMULT($O$10:$Q$12,TRANSPOSE(Y166:AA166))))","v":{"$error":"#N/A"}},{"$error":"#N/A"},{"$error":"#N/A"},{"$error":"#N/A"},{"$error":"#N/A"},{"$f":"TRANSPOSE(MMULT($AE$10:$AG$12,TRANSPOSE(F166:H166)))","v":{"$error":"#N/A"}},{"$error":"#N/A"},{"$error":"#N/A"},{"$error":"#N/A"},{"$error":"#N/A"},{"$f":"TRANSPOSE(MMULT($AO$40:$AQ$42,TRANSPOSE(C166:E166)))","v":{"$error":"#N/A"}},{"$error":"#N/A"},{"$error":"#N/A"},{"$error":"#N/A"},{"$error":"#N/A"},{"$error":"#N/A"},{"$f":"-AD150","v":-1},0,{"$f":"-AD150","v":-1},{"$f":"TRANSPOSE(MMULT($AK$40:$AM$42,TRANSPOSE(AB166:AD166)))","v":-0.7662610281769212},0.12748217563273295,-1.1817750765662614,2.2337389718230787,4.127482175632733,-1.1817750765662614,{"$f":"TRANSPOSE(MMULT($O$10:$Q$12,TRANSPOSE(AH166:AJ166)))","v":1.7260150503542606},-3.205566102086749,3.1886532027022443,1.7260150503542606,-3.205566102086749]
[167,{"$error":"#N/A"},{"$error":"#N/A"},{"$error":"#N/A"},{"$error":"#N/A"},{"$error":"#N/A"},{"$error":"#N/A"},{"$error":"#N/A"},{"$error":"#N/A"},{"$error":"#N/A"},{"$error":"#N/A"},{"$f":"IF($AK$38=0,TRANSPOSE(MMULT($O$10:$Q$12,TRANSPOSE(C167:E167))),TRANSPOSE(MMULT($O$10:$Q$12,TRANSPOSE(Y167:AA167))))","v":{"$error":"#N/A"}},{"$error":"#N/A"},{"$error":"#N/A"},{"$error":"#N/A"},{"$error":"#N/A"},{"$f":"TRANSPOSE(MMULT($AE$10:$AG$12,TRANSPOSE(F167:H167)))","v":{"$error":"#N/A"}},{"$error":"#N/A"},{"$error":"#N/A"},{"$error":"#N/A"},{"$error":"#N/A"},{"$f":"TRANSPOSE(MMULT($AO$40:$AQ$42,TRANSPOSE(C167:E167)))","v":{"$error":"#N/A"}},{"$error":"#N/A"},{"$error":"#N/A"},{"$error":"#N/A"},{"$error":"#N/A"},{"$error":"#N/A"},{"$f":"-AD150","v":-1},0,0,{"$f":"TRANSPOSE(MMULT($AK$40:$AM$42,TRANSPOSE(AB167:AD167)))","v":0},-0.4472135954999579,-0.8944271909999159,3,3.552786404500042,-0.8944271909999159,{"$f":"TRANSPOSE(MMULT($O$10:$Q$12,TRANSPOSE(AH167:AJ167)))","v":0.7932294536962936},-3.0655068742576606,3.520759275166089,0.7932294536962936,-3.0655068742576606]
[168,{"$error":"#N/A"},{"$error":"#N/A"},{"$error":"#N/A"},{"$error":"#N/A"},{"$error":"#N/A"},{"$error":"#N/A"},{"$error":"#N/A"},{"$error":"#N/A"},{"$error":"#N/A"},{"$error":"#N/A"},{"$f":"IF($AK$38=0,TRANSPOSE(MMULT($O$10:$Q$12,TRANSPOSE(C168:E168))),TRANSPOSE(MMULT($O$10:$Q$12,TRANSPOSE(Y168:AA168))))","v":{"$error":"#N/A"}},{"$error":"#N/A"},{"$error":"#N/A"},{"$error":"#N/A"},{"$error":"#N/A"},{"$f":"TRANSPOSE(MMULT($AE$10:$AG$12,TRANSPOSE(F168:H168)))","v":{"$error":"#N/A"}},{"$error":"#N/A"},{"$error":"#N/A"},{"$error":"#N/A"},{"$error":"#N/A"},{"$f":"TRANSPOSE(MMULT($AO$40:$AQ$42,TRANSPOSE(C168:E168)))","v":{"$error":"#N/A"}},{"$error":"#N/A"},{"$error":"#N/A"},{"$error":"#N/A"},{"$error":"#N/A"},{"$error":"#N/A"},{"$f":"AD150","v":1},0,0,{"$f":"TRANSPOSE(MMULT($AK$40:$AM$42,TRANSPOSE(AB168:AD168)))","v":0},0.4472135954999579,0.8944271909999159,3,4.447213595499958,0.8944271909999159,{"$f":"TRANSPOSE(MMULT($O$10:$Q$12,TRANSPOSE(AH168:AJ168)))","v":1.4784004331362963},-1.8037768938454355,4.913087607658894,1.4784004331362963,-1.8037768938454355]
[169,{"$error":"#N/A"},{"$error":"#N/A"},{"$error":"#N/A"},{"$error":"#N/A"},{"$error":"#N/A"},{"$error":"#N/A"},{"$error":"#N/A"},{"$error":"#N/A"},{"$error":"#N/A"},{"$error":"#N/A"},{"$f":"IF($AK$38=0,TRANSPOSE(MMULT($O$10:$Q$12,TRANSPOSE(C169:E169))),TRANSPOSE(MMULT($O$10:$Q$12,TRANSPOSE(Y169:AA169))))","v":{"$error":"#N/A"}},{"$error":"#N/A"},{"$error":"#N/A"},{"$error":"#N/A"},{"$error":"#N/A"},{"$f":"TRANSPOSE(MMULT($AE$10:$AG$12,TRANSPOSE(F169:H169)))","v":{"$error":"#N/A"}},{"$error":"#N/A"},{"$error":"#N/A"},{"$error":"#N/A"},{"$error":"#N/A"},{"$f":"TRANSPOSE(MMULT($AO$40:$AQ$42,TRANSPOSE(C169:E169)))","v":{"$error":"#N/A"}},{"$error":"#N/A"},{"$error":"#N/A"},{"$error":"#N/A"},{"$error":"#N/A"},{"$error":"#N/A"},{"$f":"AD150","v":1},0,{"$f":"AD150","v":1},{"$f":"TRANSPOSE(MMULT($AK$40:$AM$42,TRANSPOSE(AB169:AD169)))","v":0.7662610281769212},-0.12748217563273295,1.1817750765662614,3.7662610281769213,3.872517824367267,1.1817750765662614,{"$f":"TRANSPOSE(MMULT($O$10:$Q$12,TRANSPOSE(AH169:AJ169)))","v":0.545614836478329},-1.6637176660163469,5.245193680122738,0.545614836478329,-1.6637176660163469]
[170,{"$error":"#N/A"},{"$error":"#N/A"},{"$error":"#N/A"},{"$error":"#N/A"},{"$error":"#N/A"},{"$error":"#N/A"},{"$error":"#N/A"},{"$error":"#N/A"},{"$error":"#N/A"},{"$error":"#N/A"},{"$f":"IF($AK$38=0,TRANSPOSE(MMULT($O$10:$Q$12,TRANSPOSE(C170:E170))),TRANSPOSE(MMULT($O$10:$Q$12,TRANSPOSE(Y170:AA170))))","v":{"$error":"#N/A"}},{"$error":"#N/A"},{"$error":"#N/A"},{"$error":"#N/A"},{"$error":"#N/A"},{"$f":"TRANSPOSE(MMULT($AE$10:$AG$12,TRANSPOSE(F170:H170)))","v":{"$error":"#N/A"}},{"$error":"#N/A"},{"$error":"#N/A"},{"$error":"#N/A"},{"$error":"#N/A"},{"$f":"TRANSPOSE(MMULT($AO$40:$AQ$42,TRANSPOSE(C170:E170)))","v":{"$error":"#N/A"}},{"$error":"#N/A"},{"$error":"#N/A"},{"$error":"#N/A"},{"$error":"#N/A"},{"$error":"#N/A"},{"$f":"-AD150","v":-1},0,{"$f":"AD150","v":1},{"$f":"TRANSPOSE(MMULT($AK$40:$AM$42,TRANSPOSE(AB170:AD170)))","v":0.7662610281769212},-1.0219093666326489,-0.6070793054335704,3.7662610281769213,2.9780906333673514,-0.6070793054335704,{"$f":"TRANSPOSE(MMULT($O$10:$Q$12,TRANSPOSE(AH170:AJ170)))","v":-0.13955614296167343},-2.9254476464285717,3.852865347629934,-0.13955614296167343,-2.9254476464285717]
[171,{"$error":"#N/A"},{"$error":"#N/A"},{"$error":"#N/A"},{"$error":"#N/A"},{"$error":"#N/A"},{"$error":"#N/A"},{"$error":"#N/A"},{"$error":"#N/A"},{"$error":"#N/A"},{"$error":"#N/A"},{"$f":"IF($AK$38=0,TRANSPOSE(MMULT($O$10:$Q$12,TRANSPOSE(C171:E171))),TRANSPOSE(MMULT($O$10:$Q$12,TRANSPOSE(Y171:AA171))))","v":{"$error":"#N/A"}},{"$error":"#N/A"},{"$error":"#N/A"},{"$error":"#N/A"},{"$error":"#N/A"},{"$f":"TRANSPOSE(MMULT($AE$10:$AG$12,TRANSPOSE(F171:H171)))","v":{"$error":"#N/A"}},{"$error":"#N/A"},{"$error":"#N/A"},{"$error":"#N/A"},{"$error":"#N/A"},{"$f":"TRANSPOSE(MMULT($AO$40:$AQ$42,TRANSPOSE(C171:E171)))","v":{"$error":"#N/A"}},{"$error":"#N/A"},{"$error":"#N/A"},{"$error":"#N/A"},{"$error":"#N/A"},{"$error":"#N/A"},{"$f":"-AD150","v":-1},0,{"$f":"-AD150","v":-1},{"$f":"TRANSPOSE(MMULT($AK$40:$AM$42,TRANSPOSE(AB171:AD171)))","v":-0.7662610281769212},0.12748217563273295,-1.1817750765662614,2.2337389718230787,4.127482175632733,-1.1817750765662614,{"$f":"TRANSPOSE(MMULT($O$10:$Q$12,TRANSPOSE(AH171:AJ171)))","v":1.7260150503542606},-3.205566102086749,3.1886532027022443,1.7260150503542606,-3.205566102086749]
[172,{"$error":"#N/A"},{"$error":"#N/A"},{"$error":"#N/A"},{"$error":"#N/A"},{"$error":"#N/A"},{"$error":"#N/A"},{"$error":"#N/A"},{"$error":"#N/A"},{"$error":"#N/A"},{"$error":"#N/A"},{"$f":"IF($AK$38=0,TRANSPOSE(MMULT($O$10:$Q$12,TRANSPOSE(C172:E172))),TRANSPOSE(MMULT($O$10:$Q$12,TRANSPOSE(Y172:AA172))))","v":{"$error":"#N/A"}},{"$error":"#N/A"},{"$error":"#N/A"},{"$error":"#N/A"},{"$error":"#N/A"},{"$f":"TRANSPOSE(MMULT($AE$10:$AG$12,TRANSPOSE(F172:H172)))","v":{"$error":"#N/A"}},{"$error":"#N/A"},{"$error":"#N/A"},{"$error":"#N/A"},{"$error":"#N/A"},{"$f":"TRANSPOSE(MMULT($AO$40:$AQ$42,TRANSPOSE(C172:E172)))","v":{"$error":"#N/A"}},{"$error":"#N/A"},{"$error":"#N/A"},{"$error":"#N/A"},{"$error":"#N/A"},{"$error":"#N/A"},0,0,{"$f":"-AD150","v":-1},{"$f":"TRANSPOSE(MMULT($AK$40:$AM$42,TRANSPOSE(AB172:AD172)))","v":-0.7662610281769212},0.5746957711326909,-0.28734788556634544,2.2337389718230787,4.574695771132691,-0.28734788556634544,{"$f":"TRANSPOSE(MMULT($O$10:$Q$12,TRANSPOSE(AH172:AJ172)))","v":2.068600540074262},-2.5747011118806364,3.8848173689486467,2.068600540074262,-2.5747011118806364]
[173,{"$error":"#N/A"},{"$error":"#N/A"},{"$error":"#N/A"},{"$error":"#N/A"},{"$error":"#N/A"},{"$error":"#N/A"},{"$error":"#N/A"},{"$error":"#N/A"},{"$error":"#N/A"},{"$error":"#N/A"},{"$f":"IF($AK$38=0,TRANSPOSE(MMULT($O$10:$Q$12,TRANSPOSE(C173:E173))),TRANSPOSE(MMULT($O$10:$Q$12,TRANSPOSE(Y173:AA173))))","v":{"$error":"#N/A"}},{"$error":"#N/A"},{"$error":"#N/A"},{"$error":"#N/A"},{"$error":"#N/A"},{"$f":"TRANSPOSE(MMULT($AE$10:$AG$12,TRANSPOSE(F173:H173)))","v":{"$error":"#N/A"}},{"$error":"#N/A"},{"$error":"#N/A"},{"$error":"#N/A"},{"$error":"#N/A"},{"$f":"TRANSPOSE(MMULT($AO$40:$AQ$42,TRANSPOSE(C173:E173)))","v":{"$error":"#N/A"}},{"$error":"#N/A"},{"$error":"#N/A"},{"$error":"#N/A"},{"$error":"#N/A"},{"$error":"#N/A"},0,0,{"$f":"AD150","v":1},{"$f":"TRANSPOSE(MMULT($AK$40:$AM$42,TRANSPOSE(AB173:AD173)))","v":0.7662610281769212},-0.5746957711326909,0.28734788556634544,3.7662610281769213,3.4253042288673092,0.28734788556634544,{"$f":"TRANSPOSE(MMULT($O$10:$Q$12,TRANSPOSE(AH173:AJ173)))","v":0.20302934675832776},-2.294582656222459,4.549029513876336,0.20302934675832776,-2.294582656222459]
[174,{"$error":"#N/A"},{"$error":"#N/A"},{"$error":"#N/A"},{"$error":"#N/A"},{"$error":"#N/A"},{"$error":"#N/A"},{"$error":"#N/A"},{"$error":"#N/A"},{"$error":"#N/A"},{"$error":"#N/A"},{"$f":"IF($AK$38=0,TRANSPOSE(MMULT($O$10:$Q$12,TRANSPOSE(C174:E174))),TRANSPOSE(MMULT($O$10:$Q$12,TRANSPOSE(Y174:AA174))))","v":{"$error":"#N/A"}},{"$error":"#N/A"},{"$error":"#N/A"},{"$error":"#N/A"},{"$error":"#N/A"},{"$f":"TRANSPOSE(MMULT($AE$10:$AG$12,TRANSPOSE(F174:H174)))","v":{"$error":"#N/A"}},{"$error":"#N/A"},{"$error":"#N/A"},{"$error":"#N/A"},{"$error":"#N/A"},{"$f":"TRANSPOSE(MMULT($AO$40:$AQ$42,TRANSPOSE(C174:E174)))","v":{"$error":"#N/A"}},{"$error":"#N/A"},{"$error":"#N/A"},{"$error":"#N/A"},{"$error":"#N/A"},{"$error":"#N/A"}]
[175,{"$error":"#N/A"},{"$error":"#N/A"},{"$error":"#N/A"},{"$error":"#N/A"},{"$error":"#N/A"},{"$error":"#N/A"},{"$error":"#N/A"},{"$error":"#N/A"},{"$error":"#N/A"},{"$error":"#N/A"},{"$f":"IF($AK$38=0,TRANSPOSE(MMULT($O$10:$Q$12,TRANSPOSE(C175:E175))),TRANSPOSE(MMULT($O$10:$Q$12,TRANSPOSE(Y175:AA175))))","v":{"$error":"#N/A"}},{"$error":"#N/A"},{"$error":"#N/A"},{"$error":"#N/A"},{"$error":"#N/A"},{"$f":"TRANSPOSE(MMULT($AE$10:$AG$12,TRANSPOSE(F175:H175)))","v":{"$error":"#N/A"}},{"$error":"#N/A"},{"$error":"#N/A"},{"$error":"#N/A"},{"$error":"#N/A"},{"$f":"TRANSPOSE(MMULT($AO$40:$AQ$42,TRANSPOSE(C175:E175)))","v":{"$error":"#N/A"}},{"$error":"#N/A"},{"$error":"#N/A"},{"$error":"#N/A"},{"$error":"#N/A"},{"$error":"#N/A"},"e"]
[176,{"$error":"#N/A"},{"$error":"#N/A"},{"$error":"#N/A"},{"$error":"#N/A"},{"$error":"#N/A"},{"$error":"#N/A"},{"$error":"#N/A"},{"$error":"#N/A"},{"$error":"#N/A"},{"$error":"#N/A"},{"$f":"IF($AK$38=0,TRANSPOSE(MMULT($O$10:$Q$12,TRANSPOSE(C176:E176))),TRANSPOSE(MMULT($O$10:$Q$12,TRANSPOSE(Y176:AA176))))","v":{"$error":"#N/A"}},{"$error":"#N/A"},{"$error":"#N/A"},{"$error":"#N/A"},{"$error":"#N/A"},{"$f":"TRANSPOSE(MMULT($AE$10:$AG$12,TRANSPOSE(F176:H176)))","v":{"$error":"#N/A"}},{"$error":"#N/A"},{"$error":"#N/A"},{"$error":"#N/A"},{"$error":"#N/A"},{"$f":"TRANSPOSE(MMULT($AO$40:$AQ$42,TRANSPOSE(C176:E176)))","v":{"$error":"#N/A"}},{"$error":"#N/A"},{"$error":"#N/A"},{"$error":"#N/A"},{"$error":"#N/A"},{"$error":"#N/A"},{"$f":"IF($AF$8=0,NA(),0)","v":0},{"$f":"AC152","v":-1},{"$f":"AB152","v":0},{"$f":"TRANSPOSE(MMULT($AK$40:$AM$42,TRANSPOSE(AB176:AD176)))","v":0.6425294053171791},0.685364699004991,-0.3426823495024955,{"$f":"AE176+C$15","v":3.642529405317179},{"$f":"AF176+D$15","v":4.685364699004991},{"$f":"AG176+E$15","v":-0.3426823495024955},{"$f":"TRANSPOSE(MMULT($O$10:$Q$12,TRANSPOSE(AH176:AJ176)))","v":1.247824822001836},-3.1977885127096064,4.853367476868156,{"$f":"$X$5+$X$4*IF($U$8=1,AK176,(AK176*$U$6)/($U$6+$U$7+AL176))","v":1.247824822001836},{"$f":"$X$6+$X$4*IF($U$8=1,AL176,(AM176*$U$6)/($U$6+$U$7+AL176))","v":-3.1977885127096064}]
[177,{"$error":"#N/A"},{"$error":"#N/A"},{"$error":"#N/A"},{"$error":"#N/A"},{"$error":"#N/A"},{"$error":"#N/A"},{"$error":"#N/A"},{"$error":"#N/A"},{"$error":"#N/A"},{"$error":"#N/A"},{"$f":"IF($AK$38=0,TRANSPOSE(MMULT($O$10:$Q$12,TRANSPOSE(C177:E177))),TRANSPOSE(MMULT($O$10:$Q$12,TRANSPOSE(Y177:AA177))))","v":{"$error":"#N/A"}},{"$error":"#N/A"},{"$error":"#N/A"},{"$error":"#N/A"},{"$error":"#N/A"},{"$f":"TRANSPOSE(MMULT($AE$10:$AG$12,TRANSPOSE(F177:H177)))","v":{"$error":"#N/A"}},{"$error":"#N/A"},{"$error":"#N/A"},{"$error":"#N/A"},{"$error":"#N/A"},{"$f":"TRANSPOSE(MMULT($AO$40:$AQ$42,TRANSPOSE(C177:E177)))","v":{"$error":"#N/A"}},{"$error":"#N/A"},{"$error":"#N/A"},{"$error":"#N/A"},{"$error":"#N/A"},{"$error":"#N/A"},{"$f":"IF($AF$8=0,NA(),0)","v":0},-1,1,{"$f":"TRANSPOSE(MMULT($AK$40:$AM$42,TRANSPOSE(AB177:AD177)))","v":1.4087904334941004},0.1106689278723001,-0.05533446393615005,4.408790433494101,4.1106689278723,-0.05533446393615005,{"$f":"TRANSPOSE(MMULT($O$10:$Q$12,TRANSPOSE(AH177:AJ177)))","v":0.31503922534386897},-3.0577292848805184,5.185473549332001,{"$f":"$X$5+$X$4*IF($U$8=1,AK177,(AK177*$U$6)/($U$6+$U$7+AL177))","v":0.31503922534386897},{"$f":"$X$6+$X$4*IF($U$8=1,AL177,(AM177*$U$6)/($U$6+$U$7+AL177))","v":-3.0577292848805184}]
[178,{"$error":"#N/A"},{"$error":"#N/A"},{"$error":"#N/A"},{"$error":"#N/A"},{"$error":"#N/A"},{"$error":"#N/A"},{"$error":"#N/A"},{"$error":"#N/A"},{"$error":"#N/A"},{"$error":"#N/A"},{"$f":"IF($AK$38=0,TRANSPOSE(MMULT($O$10:$Q$12,TRANSPOSE(C178:E178))),TRANSPOSE(MMULT($O$10:$Q$12,TRANSPOSE(Y178:AA178))))","v":{"$error":"#N/A"}},{"$error":"#N/A"},{"$error":"#N/A"},{"$error":"#N/A"},{"$error":"#N/A"},{"$f":"TRANSPOSE(MMULT($AE$10:$AG$12,TRANSPOSE(F178:H178)))","v":{"$error":"#N/A"}},{"$error":"#N/A"},{"$error":"#N/A"},{"$error":"#N/A"},{"$error":"#N/A"},{"$f":"TRANSPOSE(MMULT($AO$40:$AQ$42,TRANSPOSE(C178:E178)))","v":{"$error":"#N/A"}},{"$error":"#N/A"},{"$error":"#N/A"},{"$error":"#N/A"},{"$error":"#N/A"},{"$error":"#N/A"},0,1,1,{"$f":"TRANSPOSE(MMULT($AK$40:$AM$42,TRANSPOSE(AB178:AD178)))","v":0.12373162285974215},-1.2600604701376819,0.6300302350688409,3.1237316228597423,2.739939529862318,0.6300302350688409,{"$f":"TRANSPOSE(MMULT($O$10:$Q$12,TRANSPOSE(AH178:AJ178)))","v":0.09101946817278654},-1.5314360275644008,3.9125854784206706,0.09101946817278654,-1.5314360275644008]
[179,{"$error":"#N/A"},{"$error":"#N/A"},{"$error":"#N/A"},{"$error":"#N/A"},{"$error":"#N/A"},{"$error":"#N/A"},{"$error":"#N/A"},{"$error":"#N/A"},{"$error":"#N/A"},{"$error":"#N/A"},{"$f":"IF($AK$38=0,TRANSPOSE(MMULT($O$10:$Q$12,TRANSPOSE(C179:E179))),TRANSPOSE(MMULT($O$10:$Q$12,TRANSPOSE(Y179:AA179))))","v":{"$error":"#N/A"}},{"$error":"#N/A"},{"$error":"#N/A"},{"$error":"#N/A"},{"$error":"#N/A"},{"$f":"TRANSPOSE(MMULT($AE$10:$AG$12,TRANSPOSE(F179:H179)))","v":{"$error":"#N/A"}},{"$error":"#N/A"},{"$error":"#N/A"},{"$error":"#N/A"},{"$error":"#N/A"},{"$f":"TRANSPOSE(MMULT($AO$40:$AQ$42,TRANSPOSE(C179:E179)))","v":{"$error":"#N/A"}},{"$error":"#N/A"},{"$error":"#N/A"},{"$error":"#N/A"},{"$error":"#N/A"},{"$error":"#N/A"},0,1,0,{"$f":"TRANSPOSE(MMULT($AK$40:$AM$42,TRANSPOSE(AB179:AD179)))","v":-0.6425294053171791},-0.685364699004991,0.3426823495024955,2.357470594682821,3.314635300995009,0.3426823495024955,{"$f":"TRANSPOSE(MMULT($O$10:$Q$12,TRANSPOSE(AH179:AJ179)))","v":1.0238050648307535},-1.6714952553934892,3.580479405956827,1.0238050648307535,-1.6714952553934892]
[180,{"$error":"#N/A"},{"$f":"(C$4+F$4*$B180+I$4*$B180^2+L$4*$B180^3+O$4*$B180^4)+(C$5+F$5*$B180+I$5*$B180^2+L$5*$B180^3+O$5*$B180^5)*(COS(C$6+F$6*$B180+I$6*$B180^2+L$6*$B180^3+O$6*$B180^4))+(C$7+F$7*$B180+I$7*$B180^2+L$7*$B180^3+O$7*$B180^4)*(SIN(C$8+F$8*$B180+I$8*$B180^2+L$8*$B180^3+O$8*$B180^4))","v":{"$error":"#N/A"}},{"$f":"(D$4+G$4*$B180+J$4*$B180^2+M$4*$B180^3+P$4*$B180^4)+(D$5+G$5*$B180+J$5*$B180^2+M$5*$B180^3+P$5*$B180^5)*(COS(D$6+G$6*$B180+J$6*$B180^2+M$6*$B180^3+P$6*$B180^4))+(D$7+G$7*$B180+J$7*$B180^2+M$7*$B180^3+P$7*$B180^4)*(SIN(D$8+G$8*$B180+J$8*$B180^2+M$8*$B180^3+P$8*$B180^4))","v":{"$error":"#N/A"}},{"$f":"(E$4+H$4*$B180+K$4*$B180^2+N$4*$B180^3+Q$4*$B180^4)+(E$5+H$5*$B180+K$5*$B180^2+N$5*$B180^3+Q$5*$B180^5)*(COS(E$6+H$6*$B180+K$6*$B180^2+N$6*$B180^3+Q$6*$B180^4))+(E$7+H$7*$B180+K$7*$B180^2+N$7*$B180^3+Q$7*$B180^4)*(SIN(E$8+H$8*$B180+K$8*$B180^2+N$8*$B180^3+Q$8*$B180^4))","v":{"$error":"#N/A"}},{"$error":"#N/A"},{"$error":"#N/A"},{"$error":"#N/A"},{"$error":"#N/A"},{"$error":"#N/A"},{"$error":"#N/A"},{"$f":"IF($AK$38=0,TRANSPOSE(MMULT($O$10:$Q$12,TRANSPOSE(C180:E180))),TRANSPOSE(MMULT($O$10:$Q$12,TRANSPOSE(Y180:AA180))))","v":{"$error":"#N/A"}},{"$error":"#N/A"},{"$error":"#N/A"},{"$error":"#N/A"},{"$error":"#N/A"},{"$f":"TRANSPOSE(MMULT($AE$10:$AG$12,TRANSPOSE(F180:H180)))","v":{"$error":"#N/A"}},{"$error":"#N/A"},{"$error":"#N/A"},{"$error":"#N/A"},{"$error":"#N/A"},{"$f":"TRANSPOSE(MMULT($AO$40:$AQ$42,TRANSPOSE(C180:E180)))","v":{"$error":"#N/A"}},{"$error":"#N/A"},{"$error":"#N/A"},{"$error":"#N/A"},{"$error":"#N/A"},{"$error":"#N/A"},0,-1,0,{"$f":"TRANSPOSE(MMULT($AK$40:$AM$42,TRANSPOSE(AB180:AD180)))","v":0.6425294053171791},0.685364699004991,-0.3426823495024955,3.642529405317179,4.685364699004991,-0.3426823495024955,{"$f":"TRANSPOSE(MMULT($O$10:$Q$12,TRANSPOSE(AH180:AJ180)))","v":1.247824822001836},-3.1977885127096064,4.853367476868156,1.247824822001836,-3.1977885127096064]
[181,{"$error":"#N/A"},{"$error":"#N/A"},{"$error":"#N/A"},{"$error":"#N/A"},{"$error":"#N/A"},{"$error":"#N/A"},{"$error":"#N/A"},{"$error":"#N/A"},{"$error":"#N/A"},{"$error":"#N/A"},{"$f":"IF($AK$38=0,TRANSPOSE(MMULT($O$10:$Q$12,TRANSPOSE(C181:E181))),TRANSPOSE(MMULT($O$10:$Q$12,TRANSPOSE(Y181:AA181))))","v":{"$error":"#N/A"}},{"$error":"#N/A"},{"$error":"#N/A"},{"$error":"#N/A"},{"$error":"#N/A"},{"$f":"TRANSPOSE(MMULT($AE$10:$AG$12,TRANSPOSE(F181:H181)))","v":{"$error":"#N/A"}},{"$error":"#N/A"},{"$error":"#N/A"},{"$error":"#N/A"},{"$error":"#N/A"},{"$f":"TRANSPOSE(MMULT($AO$40:$AQ$42,TRANSPOSE(C181:E181)))","v":{"$error":"#N/A"}},{"$error":"#N/A"},{"$error":"#N/A"},{"$error":"#N/A"},{"$error":"#N/A"},{"$error":"#N/A"},0,-1,-1,{"$f":"TRANSPOSE(MMULT($AK$40:$AM$42,TRANSPOSE(AB181:AD181)))","v":-0.12373162285974215},1.2600604701376819,-0.6300302350688409,2.8762683771402577,5.260060470137682,-0.6300302350688409,{"$f":"TRANSPOSE(MMULT($O$10:$Q$12,TRANSPOSE(AH181:AJ181)))","v":2.180610418659803},-3.3378477405386953,4.521261404404311,2.180610418659803,-3.3378477405386953]
[182,{"$error":"#N/A"},{"$error":"#N/A"},{"$error":"#N/A"},{"$error":"#N/A"},{"$error":"#N/A"},{"$error":"#N/A"},{"$error":"#N/A"},{"$error":"#N/A"},{"$error":"#N/A"},{"$error":"#N/A"},{"$f":"IF($AK$38=0,TRANSPOSE(MMULT($O$10:$Q$12,TRANSPOSE(C182:E182))),TRANSPOSE(MMULT($O$10:$Q$12,TRANSPOSE(Y182:AA182))))","v":{"$error":"#N/A"}},{"$error":"#N/A"},{"$error":"#N/A"},{"$error":"#N/A"},{"$error":"#N/A"},{"$f":"TRANSPOSE(MMULT($AE$10:$AG$12,TRANSPOSE(F182:H182)))","v":{"$error":"#N/A"}},{"$error":"#N/A"},{"$error":"#N/A"},{"$error":"#N/A"},{"$error":"#N/A"},{"$f":"TRANSPOSE(MMULT($AO$40:$AQ$42,TRANSPOSE(C182:E182)))","v":{"$error":"#N/A"}},{"$error":"#N/A"},{"$error":"#N/A"},{"$error":"#N/A"},{"$error":"#N/A"},{"$error":"#N/A"},0,1,-1,{"$f":"TRANSPOSE(MMULT($AK$40:$AM$42,TRANSPOSE(AB182:AD182)))","v":-1.4087904334941004},-0.1106689278723001,0.05533446393615005,1.5912095665058996,3.8893310721276997,0.05533446393615005,{"$f":"TRANSPOSE(MMULT($O$10:$Q$12,TRANSPOSE(AH182:AJ182)))","v":1.95659066148872},-1.8115544832225776,3.2483733334929816,1.95659066148872,-1.8115544832225776]
[183,{"$error":"#N/A"},{"$error":"#N/A"},{"$error":"#N/A"},{"$error":"#N/A"},{"$error":"#N/A"},{"$error":"#N/A"},{"$error":"#N/A"},{"$error":"#N/A"},{"$error":"#N/A"},{"$error":"#N/A"},{"$f":"IF($AK$38=0,TRANSPOSE(MMULT($O$10:$Q$12,TRANSPOSE(C183:E183))),TRANSPOSE(MMULT($O$10:$Q$12,TRANSPOSE(Y183:AA183))))","v":{"$error":"#N/A"}},{"$error":"#N/A"},{"$error":"#N/A"},{"$error":"#N/A"},{"$error":"#N/A"},{"$f":"TRANSPOSE(MMULT($AE$10:$AG$12,TRANSPOSE(F183:H183)))","v":{"$error":"#N/A"}},{"$error":"#N/A"},{"$error":"#N/A"},{"$error":"#N/A"},{"$error":"#N/A"},{"$f":"TRANSPOSE(MMULT($AO$40:$AQ$42,TRANSPOSE(C183:E183)))","v":{"$error":"#N/A"}},{"$error":"#N/A"},{"$error":"#N/A"},{"$error":"#N/A"},{"$error":"#N/A"},{"$error":"#N/A"},0,1,1,{"$f":"TRANSPOSE(MMULT($AK$40:$AM$42,TRANSPOSE(AB183:AD183)))","v":0.12373162285974215},-1.2600604701376819,0.6300302350688409,3.1237316228597423,2.739939529862318,0.6300302350688409,{"$f":"TRANSPOSE(MMULT($O$10:$Q$12,TRANSPOSE(AH183:AJ183)))","v":0.09101946817278654},-1.5314360275644008,3.9125854784206706,0.09101946817278654,-1.5314360275644008]
[184,{"$error":"#N/A"},{"$error":"#N/A"},{"$error":"#N/A"},{"$error":"#N/A"},{"$error":"#N/A"},{"$error":"#N/A"},{"$error":"#N/A"},{"$error":"#N/A"},{"$error":"#N/A"},{"$error":"#N/A"},{"$f":"IF($AK$38=0,TRANSPOSE(MMULT($O$10:$Q$12,TRANSPOSE(C184:E184))),TRANSPOSE(MMULT($O$10:$Q$12,TRANSPOSE(Y184:AA184))))","v":{"$error":"#N/A"}},{"$error":"#N/A"},{"$error":"#N/A"},{"$error":"#N/A"},{"$error":"#N/A"},{"$f":"TRANSPOSE(MMULT($AE$10:$AG$12,TRANSPOSE(F184:H184)))","v":{"$error":"#N/A"}},{"$error":"#N/A"},{"$error":"#N/A"},{"$error":"#N/A"},{"$error":"#N/A"},{"$f":"TRANSPOSE(MMULT($AO$40:$AQ$42,TRANSPOSE(C184:E184)))","v":{"$error":"#N/A"}},{"$error":"#N/A"},{"$error":"#N/A"},{"$error":"#N/A"},{"$error":"#N/A"},{"$error":"#N/A"},0,0,1,{"$f":"TRANSPOSE(MMULT($AK$40:$AM$42,TRANSPOSE(AB184:AD184)))","v":0.7662610281769212},-0.5746957711326909,0.28734788556634544,3.7662610281769213,3.4253042288673092,0.28734788556634544,{"$f":"TRANSPOSE(MMULT($O$10:$Q$12,TRANSPOSE(AH184:AJ184)))","v":0.20302934675832776},-2.294582656222459,4.549029513876336,0.20302934675832776,-2.294582656222459]
[185,{"$error":"#N/A"},{"$error":"#N/A"},{"$error":"#N/A"},{"$error":"#N/A"},{"$error":"#N/A"},{"$error":"#N/A"},{"$error":"#N/A"},{"$error":"#N/A"},{"$error":"#N/A"},{"$error":"#N/A"},{"$f":"IF($AK$38=0,TRANSPOSE(MMULT($O$10:$Q$12,TRANSPOSE(C185:E185))),TRANSPOSE(MMULT($O$10:$Q$12,TRANSPOSE(Y185:AA185))))","v":{"$error":"#N/A"}},{"$error":"#N/A"},{"$error":"#N/A"},{"$error":"#N/A"},{"$error":"#N/A"},{"$f":"TRANSPOSE(MMULT($AE$10:$AG$12,TRANSPOSE(F185:H185)))","v":{"$error":"#N/A"}},{"$error":"#N/A"},{"$error":"#N/A"},{"$error":"#N/A"},{"$error":"#N/A"},{"$f":"TRANSPOSE(MMULT($AO$40:$AQ$42,TRANSPOSE(C185:E185)))","v":{"$error":"#N/A"}},{"$error":"#N/A"},{"$error":"#N/A"},{"$error":"#N/A"},{"$error":"#N/A"},{"$error":"#N/A"}]
[186,{"$error":"#N/A"},{"$error":"#N/A"},{"$error":"#N/A"},{"$error":"#N/A"},{"$error":"#N/A"},{"$error":"#N/A"},{"$error":"#N/A"},{"$error":"#N/A"},{"$error":"#N/A"},{"$error":"#N/A"},{"$f":"IF($AK$38=0,TRANSPOSE(MMULT($O$10:$Q$12,TRANSPOSE(C186:E186))),TRANSPOSE(MMULT($O$10:$Q$12,TRANSPOSE(Y186:AA186))))","v":{"$error":"#N/A"}},{"$error":"#N/A"},{"$error":"#N/A"},{"$error":"#N/A"},{"$error":"#N/A"},{"$f":"TRANSPOSE(MMULT($AE$10:$AG$12,TRANSPOSE(F186:H186)))","v":{"$error":"#N/A"}},{"$error":"#N/A"},{"$error":"#N/A"},{"$error":"#N/A"},{"$error":"#N/A"},{"$f":"TRANSPOSE(MMULT($AO$40:$AQ$42,TRANSPOSE(C186:E186)))","v":{"$error":"#N/A"}},{"$error":"#N/A"},{"$error":"#N/A"},{"$error":"#N/A"},{"$error":"#N/A"},{"$error":"#N/A"},"vetítőegyenes",null,{"$f":"IF($AH$3=0,NA(),C15)","v":3},{"$f":"IF($AH$3=0,NA(),D15)","v":4},{"$f":"IF($AH$3=0,NA(),E15)","v":0}]
[187,{"$error":"#N/A"},{"$error":"#N/A"},{"$error":"#N/A"},{"$error":"#N/A"},{"$error":"#N/A"},{"$error":"#N/A"},{"$error":"#N/A"},{"$error":"#N/A"},{"$error":"#N/A"},{"$error":"#N/A"},{"$f":"IF($AK$38=0,TRANSPOSE(MMULT($O$10:$Q$12,TRANSPOSE(C187:E187))),TRANSPOSE(MMULT($O$10:$Q$12,TRANSPOSE(Y187:AA187))))","v":{"$error":"#N/A"}},{"$error":"#N/A"},{"$error":"#N/A"},{"$error":"#N/A"},{"$error":"#N/A"},{"$f":"TRANSPOSE(MMULT($AE$10:$AG$12,TRANSPOSE(F187:H187)))","v":{"$error":"#N/A"}},{"$error":"#N/A"},{"$error":"#N/A"},{"$error":"#N/A"},{"$error":"#N/A"},{"$f":"TRANSPOSE(MMULT($AO$40:$AQ$42,TRANSPOSE(C187:E187)))","v":{"$error":"#N/A"}},{"$error":"#N/A"},{"$error":"#N/A"},{"$error":"#N/A"},{"$error":"#N/A"},{"$error":"#N/A"}]
[188,{"$error":"#N/A"},{"$error":"#N/A"},{"$error":"#N/A"},{"$error":"#N/A"},{"$error":"#N/A"},{"$error":"#N/A"},{"$error":"#N/A"},{"$error":"#N/A"},{"$error":"#N/A"},{"$error":"#N/A"},{"$f":"IF($AK$38=0,TRANSPOSE(MMULT($O$10:$Q$12,TRANSPOSE(C188:E188))),TRANSPOSE(MMULT($O$10:$Q$12,TRANSPOSE(Y188:AA188))))","v":{"$error":"#N/A"}},{"$error":"#N/A"},{"$error":"#N/A"},{"$error":"#N/A"},{"$error":"#N/A"},{"$f":"TRANSPOSE(MMULT($AE$10:$AG$12,TRANSPOSE(F188:H188)))","v":{"$error":"#N/A"}},{"$error":"#N/A"},{"$error":"#N/A"},{"$error":"#N/A"},{"$error":"#N/A"},{"$f":"TRANSPOSE(MMULT($AO$40:$AQ$42,TRANSPOSE(C188:E188)))","v":{"$error":"#N/A"}},{"$error":"#N/A"},{"$error":"#N/A"},{"$error":"#N/A"},{"$error":"#N/A"},{"$error":"#N/A"},{"$f":"$AD$186","v":3},0,{"$f":"$AF$186","v":0},{"$f":"TRANSPOSE(MMULT($O$10:$Q$12,TRANSPOSE(AB188:AD188)))","v":-1.9283628290596178},-1.149066664678468,1.9902418445068149,{"$f":"$X$5+$X$4*IF($U$8=1,AE188,(AE188*$U$6)/($U$6+$U$7+AF188))","v":-1.9283628290596178},{"$f":"$X$6+$X$4*IF($U$8=1,AF188,(AG188*$U$6)/($U$6+$U$7+AF188))","v":-1.149066664678468}]
[189,{"$error":"#N/A"},{"$error":"#N/A"},{"$error":"#N/A"},{"$error":"#N/A"},{"$error":"#N/A"},{"$error":"#N/A"},{"$error":"#N/A"},{"$error":"#N/A"},{"$error":"#N/A"},{"$error":"#N/A"},{"$f":"IF($AK$38=0,TRANSPOSE(MMULT($O$10:$Q$12,TRANSPOSE(C189:E189))),TRANSPOSE(MMULT($O$10:$Q$12,TRANSPOSE(Y189:AA189))))","v":{"$error":"#N/A"}},{"$error":"#N/A"},{"$error":"#N/A"},{"$error":"#N/A"},{"$error":"#N/A"},{"$f":"TRANSPOSE(MMULT($AE$10:$AG$12,TRANSPOSE(F189:H189)))","v":{"$error":"#N/A"}},{"$error":"#N/A"},{"$error":"#N/A"},{"$error":"#N/A"},{"$error":"#N/A"},{"$f":"TRANSPOSE(MMULT($AO$40:$AQ$42,TRANSPOSE(C189:E189)))","v":{"$error":"#N/A"}},{"$error":"#N/A"},{"$error":"#N/A"},{"$error":"#N/A"},{"$error":"#N/A"},{"$error":"#N/A"},{"$f":"$AD$186","v":3},0,0,{"$f":"TRANSPOSE(MMULT($O$10:$Q$12,TRANSPOSE(AB189:AD189)))","v":-1.9283628290596178},-1.149066664678468,1.9902418445068149,{"$f":"$X$5+$X$4*IF($U$8=1,AE189,(AE189*$U$6)/($U$6+$U$7+AF189))","v":-1.9283628290596178},{"$f":"$X$6+$X$4*IF($U$8=1,AF189,(AG189*$U$6)/($U$6+$U$7+AF189))","v":-1.149066664678468}]
[190,{"$error":"#N/A"},{"$error":"#N/A"},{"$error":"#N/A"},{"$error":"#N/A"},{"$error":"#N/A"},{"$error":"#N/A"},{"$error":"#N/A"},{"$error":"#N/A"},{"$error":"#N/A"},{"$error":"#N/A"},{"$f":"IF($AK$38=0,TRANSPOSE(MMULT($O$10:$Q$12,TRANSPOSE(C190:E190))),TRANSPOSE(MMULT($O$10:$Q$12,TRANSPOSE(Y190:AA190))))","v":{"$error":"#N/A"}},{"$error":"#N/A"},{"$error":"#N/A"},{"$error":"#N/A"},{"$error":"#N/A"},{"$f":"TRANSPOSE(MMULT($AE$10:$AG$12,TRANSPOSE(F190:H190)))","v":{"$error":"#N/A"}},{"$error":"#N/A"},{"$error":"#N/A"},{"$error":"#N/A"},{"$error":"#N/A"},{"$f":"TRANSPOSE(MMULT($AO$40:$AQ$42,TRANSPOSE(C190:E190)))","v":{"$error":"#N/A"}},{"$error":"#N/A"},{"$error":"#N/A"},{"$error":"#N/A"},{"$error":"#N/A"},{"$error":"#N/A"},{"$f":"$AD$186","v":3},{"$f":"$AE$186","v":4},0,{"$f":"TRANSPOSE(MMULT($O$10:$Q$12,TRANSPOSE(AB190:AD190)))","v":1.1358149434162947},-2.4346418840515476,4.216923441412492,1.1358149434162947,-2.4346418840515476]
[191,{"$error":"#N/A"},{"$error":"#N/A"},{"$error":"#N/A"},{"$error":"#N/A"},{"$error":"#N/A"},{"$error":"#N/A"},{"$error":"#N/A"},{"$error":"#N/A"},{"$error":"#N/A"},{"$error":"#N/A"},{"$f":"IF($AK$38=0,TRANSPOSE(MMULT($O$10:$Q$12,TRANSPOSE(C191:E191))),TRANSPOSE(MMULT($O$10:$Q$12,TRANSPOSE(Y191:AA191))))","v":{"$error":"#N/A"}},{"$error":"#N/A"},{"$error":"#N/A"},{"$error":"#N/A"},{"$error":"#N/A"},{"$f":"TRANSPOSE(MMULT($AE$10:$AG$12,TRANSPOSE(F191:H191)))","v":{"$error":"#N/A"}},{"$error":"#N/A"},{"$error":"#N/A"},{"$error":"#N/A"},{"$error":"#N/A"},{"$f":"TRANSPOSE(MMULT($AO$40:$AQ$42,TRANSPOSE(C191:E191)))","v":{"$error":"#N/A"}},{"$error":"#N/A"},{"$error":"#N/A"},{"$error":"#N/A"},{"$error":"#N/A"},{"$error":"#N/A"},{"$f":"$AD$186","v":3},{"$f":"$AE$186","v":4},{"$f":"$AF$186","v":0},{"$f":"TRANSPOSE(MMULT($O$10:$Q$12,TRANSPOSE(AB191:AD191)))","v":1.1358149434162947},-2.4346418840515476,4.216923441412492,1.1358149434162947,-2.4346418840515476]
[192,{"$error":"#N/A"},{"$error":"#N/A"},{"$error":"#N/A"},{"$error":"#N/A"},{"$error":"#N/A"},{"$error":"#N/A"},{"$error":"#N/A"},{"$error":"#N/A"},{"$error":"#N/A"},{"$error":"#N/A"},{"$f":"IF($AK$38=0,TRANSPOSE(MMULT($O$10:$Q$12,TRANSPOSE(C192:E192))),TRANSPOSE(MMULT($O$10:$Q$12,TRANSPOSE(Y192:AA192))))","v":{"$error":"#N/A"}},{"$error":"#N/A"},{"$error":"#N/A"},{"$error":"#N/A"},{"$error":"#N/A"},{"$f":"TRANSPOSE(MMULT($AE$10:$AG$12,TRANSPOSE(F192:H192)))","v":{"$error":"#N/A"}},{"$error":"#N/A"},{"$error":"#N/A"},{"$error":"#N/A"},{"$error":"#N/A"},{"$f":"TRANSPOSE(MMULT($AO$40:$AQ$42,TRANSPOSE(C192:E192)))","v":{"$error":"#N/A"}},{"$error":"#N/A"},{"$error":"#N/A"},{"$error":"#N/A"},{"$error":"#N/A"},{"$error":"#N/A"},{"$f":"$AD$186","v":3},0,{"$f":"$AF$186","v":0},{"$f":"TRANSPOSE(MMULT($O$10:$Q$12,TRANSPOSE(AB192:AD192)))","v":-1.9283628290596178},-1.149066664678468,1.9902418445068149,-1.9283628290596178,-1.149066664678468]
[193,{"$error":"#N/A"},{"$error":"#N/A"},{"$error":"#N/A"},{"$error":"#N/A"},{"$error":"#N/A"},{"$error":"#N/A"},{"$error":"#N/A"},{"$error":"#N/A"},{"$error":"#N/A"},{"$error":"#N/A"},{"$f":"IF($AK$38=0,TRANSPOSE(MMULT($O$10:$Q$12,TRANSPOSE(C193:E193))),TRANSPOSE(MMULT($O$10:$Q$12,TRANSPOSE(Y193:AA193))))","v":{"$error":"#N/A"}},{"$error":"#N/A"},{"$error":"#N/A"},{"$error":"#N/A"},{"$error":"#N/A"},{"$f":"TRANSPOSE(MMULT($AE$10:$AG$12,TRANSPOSE(F193:H193)))","v":{"$error":"#N/A"}},{"$error":"#N/A"},{"$error":"#N/A"},{"$error":"#N/A"},{"$error":"#N/A"},{"$f":"TRANSPOSE(MMULT($AO$40:$AQ$42,TRANSPOSE(C193:E193)))","v":{"$error":"#N/A"}},{"$error":"#N/A"},{"$error":"#N/A"},{"$error":"#N/A"},{"$error":"#N/A"},{"$error":"#N/A"},0,0,{"$f":"$AF$186","v":0},{"$f":"TRANSPOSE(MMULT($O$10:$Q$12,TRANSPOSE(AB193:AD193)))","v":0},0,0,0,0]
[194,{"$error":"#N/A"},{"$error":"#N/A"},{"$error":"#N/A"},{"$error":"#N/A"},{"$error":"#N/A"},{"$error":"#N/A"},{"$error":"#N/A"},{"$error":"#N/A"},{"$error":"#N/A"},{"$error":"#N/A"},{"$f":"IF($AK$38=0,TRANSPOSE(MMULT($O$10:$Q$12,TRANSPOSE(C194:E194))),TRANSPOSE(MMULT($O$10:$Q$12,TRANSPOSE(Y194:AA194))))","v":{"$error":"#N/A"}},{"$error":"#N/A"},{"$error":"#N/A"},{"$error":"#N/A"},{"$error":"#N/A"},{"$f":"TRANSPOSE(MMULT($AE$10:$AG$12,TRANSPOSE(F194:H194)))","v":{"$error":"#N/A"}},{"$error":"#N/A"},{"$error":"#N/A"},{"$error":"#N/A"},{"$error":"#N/A"},{"$f":"TRANSPOSE(MMULT($AO$40:$AQ$42,TRANSPOSE(C194:E194)))","v":{"$error":"#N/A"}},{"$error":"#N/A"},{"$error":"#N/A"},{"$error":"#N/A"},{"$error":"#N/A"},{"$error":"#N/A"},0,{"$f":"$AE$186","v":4},{"$f":"$AF$186","v":0},{"$f":"TRANSPOSE(MMULT($O$10:$Q$12,TRANSPOSE(AB194:AD194)))","v":3.0641777724759125},-1.2855752193730798,2.2266815969056766,3.0641777724759125,-1.2855752193730798]
[195,{"$error":"#N/A"},{"$error":"#N/A"},{"$error":"#N/A"},{"$error":"#N/A"},{"$error":"#N/A"},{"$error":"#N/A"},{"$error":"#N/A"},{"$error":"#N/A"},{"$error":"#N/A"},{"$error":"#N/A"},{"$f":"IF($AK$38=0,TRANSPOSE(MMULT($O$10:$Q$12,TRANSPOSE(C195:E195))),TRANSPOSE(MMULT($O$10:$Q$12,TRANSPOSE(Y195:AA195))))","v":{"$error":"#N/A"}},{"$error":"#N/A"},{"$error":"#N/A"},{"$error":"#N/A"},{"$error":"#N/A"},{"$f":"TRANSPOSE(MMULT($AE$10:$AG$12,TRANSPOSE(F195:H195)))","v":{"$error":"#N/A"}},{"$error":"#N/A"},{"$error":"#N/A"},{"$error":"#N/A"},{"$error":"#N/A"},{"$f":"TRANSPOSE(MMULT($AO$40:$AQ$42,TRANSPOSE(C195:E195)))","v":{"$error":"#N/A"}},{"$error":"#N/A"},{"$error":"#N/A"},{"$error":"#N/A"},{"$error":"#N/A"},{"$error":"#N/A"},{"$f":"$AD$186","v":3},{"$f":"$AE$186","v":4},{"$f":"$AF$186","v":0},{"$f":"TRANSPOSE(MMULT($O$10:$Q$12,TRANSPOSE(AB195:AD195)))","v":1.1358149434162947},-2.4346418840515476,4.216923441412492,1.1358149434162947,-2.4346418840515476]
[196,{"$error":"#N/A"},{"$error":"#N/A"},{"$error":"#N/A"},{"$error":"#N/A"},{"$error":"#N/A"},{"$error":"#N/A"},{"$error":"#N/A"},{"$error":"#N/A"},{"$error":"#N/A"},{"$error":"#N/A"},{"$f":"IF($AK$38=0,TRANSPOSE(MMULT($O$10:$Q$12,TRANSPOSE(C196:E196))),TRANSPOSE(MMULT($O$10:$Q$12,TRANSPOSE(Y196:AA196))))","v":{"$error":"#N/A"}},{"$error":"#N/A"},{"$error":"#N/A"},{"$error":"#N/A"},{"$error":"#N/A"},{"$f":"TRANSPOSE(MMULT($AE$10:$AG$12,TRANSPOSE(F196:H196)))","v":{"$error":"#N/A"}},{"$error":"#N/A"},{"$error":"#N/A"},{"$error":"#N/A"},{"$error":"#N/A"},{"$f":"TRANSPOSE(MMULT($AO$40:$AQ$42,TRANSPOSE(C196:E196)))","v":{"$error":"#N/A"}},{"$error":"#N/A"},{"$error":"#N/A"},{"$error":"#N/A"},{"$error":"#N/A"},{"$error":"#N/A"},{"$f":"$AD$186","v":3},{"$f":"$AE$186","v":4},0,{"$f":"TRANSPOSE(MMULT($O$10:$Q$12,TRANSPOSE(AB196:AD196)))","v":1.1358149434162947},-2.4346418840515476,4.216923441412492,1.1358149434162947,-2.4346418840515476]
[197,{"$error":"#N/A"},{"$error":"#N/A"},{"$error":"#N/A"},{"$error":"#N/A"},{"$error":"#N/A"},{"$error":"#N/A"},{"$error":"#N/A"},{"$error":"#N/A"},{"$error":"#N/A"},{"$error":"#N/A"},{"$f":"IF($AK$38=0,TRANSPOSE(MMULT($O$10:$Q$12,TRANSPOSE(C197:E197))),TRANSPOSE(MMULT($O$10:$Q$12,TRANSPOSE(Y197:AA197))))","v":{"$error":"#N/A"}},{"$error":"#N/A"},{"$error":"#N/A"},{"$error":"#N/A"},{"$error":"#N/A"},{"$f":"TRANSPOSE(MMULT($AE$10:$AG$12,TRANSPOSE(F197:H197)))","v":{"$error":"#N/A"}},{"$error":"#N/A"},{"$error":"#N/A"},{"$error":"#N/A"},{"$error":"#N/A"},{"$f":"TRANSPOSE(MMULT($AO$40:$AQ$42,TRANSPOSE(C197:E197)))","v":{"$error":"#N/A"}},{"$error":"#N/A"},{"$error":"#N/A"},{"$error":"#N/A"},{"$error":"#N/A"},{"$error":"#N/A"},0,{"$f":"$AE$186","v":4},0,{"$f":"TRANSPOSE(MMULT($O$10:$Q$12,TRANSPOSE(AB197:AD197)))","v":3.0641777724759125},-1.2855752193730798,2.2266815969056766,3.0641777724759125,-1.2855752193730798]
[198,{"$error":"#N/A"},{"$error":"#N/A"},{"$error":"#N/A"},{"$error":"#N/A"},{"$error":"#N/A"},{"$error":"#N/A"},{"$error":"#N/A"},{"$error":"#N/A"},{"$error":"#N/A"},{"$error":"#N/A"},{"$f":"IF($AK$38=0,TRANSPOSE(MMULT($O$10:$Q$12,TRANSPOSE(C198:E198))),TRANSPOSE(MMULT($O$10:$Q$12,TRANSPOSE(Y198:AA198))))","v":{"$error":"#N/A"}},{"$error":"#N/A"},{"$error":"#N/A"},{"$error":"#N/A"},{"$error":"#N/A"},{"$f":"TRANSPOSE(MMULT($AE$10:$AG$12,TRANSPOSE(F198:H198)))","v":{"$error":"#N/A"}},{"$error":"#N/A"},{"$error":"#N/A"},{"$error":"#N/A"},{"$error":"#N/A"},{"$f":"TRANSPOSE(MMULT($AO$40:$AQ$42,TRANSPOSE(C198:E198)))","v":{"$error":"#N/A"}},{"$error":"#N/A"},{"$error":"#N/A"},{"$error":"#N/A"},{"$error":"#N/A"},{"$error":"#N/A"},0,{"$f":"$AE$186","v":4},{"$f":"$AF$186","v":0},{"$f":"TRANSPOSE(MMULT($O$10:$Q$12,TRANSPOSE(AB198:AD198)))","v":3.0641777724759125},-1.2855752193730798,2.2266815969056766,3.0641777724759125,-1.2855752193730798]
[199,{"$error":"#N/A"},{"$error":"#N/A"},{"$error":"#N/A"},{"$error":"#N/A"},{"$error":"#N/A"},{"$error":"#N/A"},{"$error":"#N/A"},{"$error":"#N/A"},{"$error":"#N/A"},{"$error":"#N/A"},{"$f":"IF($AK$38=0,TRANSPOSE(MMULT($O$10:$Q$12,TRANSPOSE(C199:E199))),TRANSPOSE(MMULT($O$10:$Q$12,TRANSPOSE(Y199:AA199))))","v":{"$error":"#N/A"}},{"$error":"#N/A"},{"$error":"#N/A"},{"$error":"#N/A"},{"$error":"#N/A"},{"$f":"TRANSPOSE(MMULT($AE$10:$AG$12,TRANSPOSE(F199:H199)))","v":{"$error":"#N/A"}},{"$error":"#N/A"},{"$error":"#N/A"},{"$error":"#N/A"},{"$error":"#N/A"},{"$f":"TRANSPOSE(MMULT($AO$40:$AQ$42,TRANSPOSE(C199:E199)))","v":{"$error":"#N/A"}},{"$error":"#N/A"},{"$error":"#N/A"},{"$error":"#N/A"},{"$error":"#N/A"},{"$error":"#N/A"}]
[200,{"$error":"#N/A"},{"$error":"#N/A"},{"$error":"#N/A"},{"$error":"#N/A"},{"$error":"#N/A"},{"$error":"#N/A"},{"$error":"#N/A"},{"$error":"#N/A"},{"$error":"#N/A"},{"$error":"#N/A"},{"$f":"IF($AK$38=0,TRANSPOSE(MMULT($O$10:$Q$12,TRANSPOSE(C200:E200))),TRANSPOSE(MMULT($O$10:$Q$12,TRANSPOSE(Y200:AA200))))","v":{"$error":"#N/A"}},{"$error":"#N/A"},{"$error":"#N/A"},{"$error":"#N/A"},{"$error":"#N/A"},{"$f":"TRANSPOSE(MMULT($AE$10:$AG$12,TRANSPOSE(F200:H200)))","v":{"$error":"#N/A"}},{"$error":"#N/A"},{"$error":"#N/A"},{"$error":"#N/A"},{"$error":"#N/A"},{"$f":"TRANSPOSE(MMULT($AO$40:$AQ$42,TRANSPOSE(C200:E200)))","v":{"$error":"#N/A"}},{"$error":"#N/A"},{"$error":"#N/A"},{"$error":"#N/A"},{"$error":"#N/A"},{"$error":"#N/A"}]
[201,{"$error":"#N/A"},{"$error":"#N/A"},{"$error":"#N/A"},{"$error":"#N/A"},{"$error":"#N/A"},{"$error":"#N/A"},{"$error":"#N/A"},{"$error":"#N/A"},{"$error":"#N/A"},{"$error":"#N/A"},{"$f":"IF($AK$38=0,TRANSPOSE(MMULT($O$10:$Q$12,TRANSPOSE(C201:E201))),TRANSPOSE(MMULT($O$10:$Q$12,TRANSPOSE(Y201:AA201))))","v":{"$error":"#N/A"}},{"$error":"#N/A"},{"$error":"#N/A"},{"$error":"#N/A"},{"$error":"#N/A"},{"$f":"TRANSPOSE(MMULT($AE$10:$AG$12,TRANSPOSE(F201:H201)))","v":{"$error":"#N/A"}},{"$error":"#N/A"},{"$error":"#N/A"},{"$error":"#N/A"},{"$error":"#N/A"},{"$f":"TRANSPOSE(MMULT($AO$40:$AQ$42,TRANSPOSE(C201:E201)))","v":{"$error":"#N/A"}},{"$error":"#N/A"},{"$error":"#N/A"},{"$error":"#N/A"},{"$error":"#N/A"},{"$error":"#N/A"}]
[202,{"$error":"#N/A"},{"$error":"#N/A"},{"$error":"#N/A"},{"$error":"#N/A"},{"$error":"#N/A"},{"$error":"#N/A"},{"$error":"#N/A"},{"$error":"#N/A"},{"$error":"#N/A"},{"$error":"#N/A"},{"$f":"IF($AK$38=0,TRANSPOSE(MMULT($O$10:$Q$12,TRANSPOSE(C202:E202))),TRANSPOSE(MMULT($O$10:$Q$12,TRANSPOSE(Y202:AA202))))","v":{"$error":"#N/A"}},{"$error":"#N/A"},{"$error":"#N/A"},{"$error":"#N/A"},{"$error":"#N/A"},{"$f":"TRANSPOSE(MMULT($AE$10:$AG$12,TRANSPOSE(F202:H202)))","v":{"$error":"#N/A"}},{"$error":"#N/A"},{"$error":"#N/A"},{"$error":"#N/A"},{"$error":"#N/A"},{"$f":"TRANSPOSE(MMULT($AO$40:$AQ$42,TRANSPOSE(C202:E202)))","v":{"$error":"#N/A"}},{"$error":"#N/A"},{"$error":"#N/A"},{"$error":"#N/A"},{"$error":"#N/A"},{"$error":"#N/A"}]
[203,{"$error":"#N/A"},{"$error":"#N/A"},{"$error":"#N/A"},{"$error":"#N/A"},{"$error":"#N/A"},{"$error":"#N/A"},{"$error":"#N/A"},{"$error":"#N/A"},{"$error":"#N/A"},{"$error":"#N/A"},{"$f":"IF($AK$38=0,TRANSPOSE(MMULT($O$10:$Q$12,TRANSPOSE(C203:E203))),TRANSPOSE(MMULT($O$10:$Q$12,TRANSPOSE(Y203:AA203))))","v":{"$error":"#N/A"}},{"$error":"#N/A"},{"$error":"#N/A"},{"$error":"#N/A"},{"$error":"#N/A"},{"$f":"TRANSPOSE(MMULT($AE$10:$AG$12,TRANSPOSE(F203:H203)))","v":{"$error":"#N/A"}},{"$error":"#N/A"},{"$error":"#N/A"},{"$error":"#N/A"},{"$error":"#N/A"},{"$f":"TRANSPOSE(MMULT($AO$40:$AQ$42,TRANSPOSE(C203:E203)))","v":{"$error":"#N/A"}},{"$error":"#N/A"},{"$error":"#N/A"},{"$error":"#N/A"},{"$error":"#N/A"},{"$error":"#N/A"}]
[204,{"$error":"#N/A"},{"$error":"#N/A"},{"$error":"#N/A"},{"$error":"#N/A"},{"$error":"#N/A"},{"$error":"#N/A"},{"$error":"#N/A"},{"$error":"#N/A"},{"$error":"#N/A"},{"$error":"#N/A"},{"$f":"IF($AK$38=0,TRANSPOSE(MMULT($O$10:$Q$12,TRANSPOSE(C204:E204))),TRANSPOSE(MMULT($O$10:$Q$12,TRANSPOSE(Y204:AA204))))","v":{"$error":"#N/A"}},{"$error":"#N/A"},{"$error":"#N/A"},{"$error":"#N/A"},{"$error":"#N/A"},{"$f":"TRANSPOSE(MMULT($AE$10:$AG$12,TRANSPOSE(F204:H204)))","v":{"$error":"#N/A"}},{"$error":"#N/A"},{"$error":"#N/A"},{"$error":"#N/A"},{"$error":"#N/A"},{"$f":"TRANSPOSE(MMULT($AO$40:$AQ$42,TRANSPOSE(C204:E204)))","v":{"$error":"#N/A"}},{"$error":"#N/A"},{"$error":"#N/A"},{"$error":"#N/A"},{"$error":"#N/A"},{"$error":"#N/A"}]
[205,{"$error":"#N/A"},{"$error":"#N/A"},{"$error":"#N/A"},{"$error":"#N/A"},{"$error":"#N/A"},{"$error":"#N/A"},{"$error":"#N/A"},{"$error":"#N/A"},{"$error":"#N/A"},{"$error":"#N/A"},{"$f":"IF($AK$38=0,TRANSPOSE(MMULT($O$10:$Q$12,TRANSPOSE(C205:E205))),TRANSPOSE(MMULT($O$10:$Q$12,TRANSPOSE(Y205:AA205))))","v":{"$error":"#N/A"}},{"$error":"#N/A"},{"$error":"#N/A"},{"$error":"#N/A"},{"$error":"#N/A"},{"$f":"TRANSPOSE(MMULT($AE$10:$AG$12,TRANSPOSE(F205:H205)))","v":{"$error":"#N/A"}},{"$error":"#N/A"},{"$error":"#N/A"},{"$error":"#N/A"},{"$error":"#N/A"},{"$f":"TRANSPOSE(MMULT($AO$40:$AQ$42,TRANSPOSE(C205:E205)))","v":{"$error":"#N/A"}},{"$error":"#N/A"},{"$error":"#N/A"},{"$error":"#N/A"},{"$error":"#N/A"},{"$error":"#N/A"}]
[206,{"$error":"#N/A"},{"$error":"#N/A"},{"$error":"#N/A"},{"$error":"#N/A"},{"$error":"#N/A"},{"$error":"#N/A"},{"$error":"#N/A"},{"$error":"#N/A"},{"$error":"#N/A"},{"$error":"#N/A"},{"$f":"IF($AK$38=0,TRANSPOSE(MMULT($O$10:$Q$12,TRANSPOSE(C206:E206))),TRANSPOSE(MMULT($O$10:$Q$12,TRANSPOSE(Y206:AA206))))","v":{"$error":"#N/A"}},{"$error":"#N/A"},{"$error":"#N/A"},{"$error":"#N/A"},{"$error":"#N/A"},{"$f":"TRANSPOSE(MMULT($AE$10:$AG$12,TRANSPOSE(F206:H206)))","v":{"$error":"#N/A"}},{"$error":"#N/A"},{"$error":"#N/A"},{"$error":"#N/A"},{"$error":"#N/A"},{"$f":"TRANSPOSE(MMULT($AO$40:$AQ$42,TRANSPOSE(C206:E206)))","v":{"$error":"#N/A"}},{"$error":"#N/A"},{"$error":"#N/A"},{"$error":"#N/A"},{"$error":"#N/A"},{"$error":"#N/A"}]
[207,{"$error":"#N/A"},{"$error":"#N/A"},{"$error":"#N/A"},{"$error":"#N/A"},{"$error":"#N/A"},{"$error":"#N/A"},{"$error":"#N/A"},{"$error":"#N/A"},{"$error":"#N/A"},{"$error":"#N/A"},{"$f":"IF($AK$38=0,TRANSPOSE(MMULT($O$10:$Q$12,TRANSPOSE(C207:E207))),TRANSPOSE(MMULT($O$10:$Q$12,TRANSPOSE(Y207:AA207))))","v":{"$error":"#N/A"}},{"$error":"#N/A"},{"$error":"#N/A"},{"$error":"#N/A"},{"$error":"#N/A"},{"$f":"TRANSPOSE(MMULT($AE$10:$AG$12,TRANSPOSE(F207:H207)))","v":{"$error":"#N/A"}},{"$error":"#N/A"},{"$error":"#N/A"},{"$error":"#N/A"},{"$error":"#N/A"},{"$f":"TRANSPOSE(MMULT($AO$40:$AQ$42,TRANSPOSE(C207:E207)))","v":{"$error":"#N/A"}},{"$error":"#N/A"},{"$error":"#N/A"},{"$error":"#N/A"},{"$error":"#N/A"},{"$error":"#N/A"}]
[208,{"$error":"#N/A"},{"$error":"#N/A"},{"$error":"#N/A"},{"$error":"#N/A"},{"$f":"(F$7+2*I$7*$B208+3*L$7*$B208^2+4*O$7*$B208^3)*SIN(O$8*$B208^4+L$8*$B208^3+I$8*$B208^2+F$8*$B208+C$8)+(F$8+2*I$8*$B208+3*L$8*$B208^2+4*O$8*$B208^3)*(C$7+F$7*$B208+I$7*$B208^2+L$7*$B208^3+O$7*$B208^4)*COS(O$8*$B208^4+L$8*$B208^3+I$8*$B208^2+F$8*$B208+C$8)-(F$6+2*I$6*$B208+3*L$6*$B208^2+4*O$6*$B208^3)*(C$5+F$5*$B208+I$5*$B208^2+L$5*$B208^3+O$5*$B208^4)*SIN(O$6*$B208^4+L$6*$B208^3+I$6*$B208^2+F$6*$B208+C$6)+(F$5+2*I$5*$B208+3*L$5*$B208^2+4*O$5*$B208^3)*COS(O$6*$B208^4+L$6*$B208^3+I$6*$B208^2+F$6*$B208+C$6)+4*O$4*$B208^3+3*L$4*$B208^2+2*I$4*$B208+F$4","v":{"$error":"#N/A"}},{"$f":"(G$7+2*J$7*$B208+3*M$7*$B208^2+4*P$7*$B208^3)*SIN(P$8*$B208^4+M$8*$B208^3+J$8*$B208^2+G$8*$B208+D$8)+(G$8+2*J$8*$B208+3*M$8*$B208^2+4*P$8*$B208^3)*(D$7+G$7*$B208+J$7*$B208^2+M$7*$B208^3+P$7*$B208^4)*COS(P$8*$B208^4+M$8*$B208^3+J$8*$B208^2+G$8*$B208+D$8)-(G$6+2*J$6*$B208+3*M$6*$B208^2+4*P$6*$B208^3)*(D$5+G$5*$B208+J$5*$B208^2+M$5*$B208^3+P$5*$B208^4)*SIN(P$6*$B208^4+M$6*$B208^3+J$6*$B208^2+G$6*$B208+D$6)+(G$5+2*J$5*$B208+3*M$5*$B208^2+4*P$5*$B208^3)*COS(P$6*$B208^4+M$6*$B208^3+J$6*$B208^2+G$6*$B208+D$6)+4*P$4*$B208^3+3*M$4*$B208^2+2*J$4*$B208+G$4","v":{"$error":"#N/A"}},{"$f":"(H$7+2*K$7*$B208+3*N$7*$B208^2+4*Q$7*$B208^3)*SIN(Q$8*$B208^4+N$8*$B208^3+K$8*$B208^2+H$8*$B208+E$8)+(H$8+2*K$8*$B208+3*N$8*$B208^2+4*Q$8*$B208^3)*(E$7+H$7*$B208+K$7*$B208^2+N$7*$B208^3+Q$7*$B208^4)*COS(Q$8*$B208^4+N$8*$B208^3+K$8*$B208^2+H$8*$B208+E$8)-(H$6+2*K$6*$B208+3*N$6*$B208^2+4*Q$6*$B208^3)*(E$5+H$5*$B208+K$5*$B208^2+N$5*$B208^3+Q$5*$B208^4)*SIN(Q$6*$B208^4+N$6*$B208^3+K$6*$B208^2+H$6*$B208+E$6)+(H$5+2*K$5*$B208+3*N$5*$B208^2+4*Q$5*$B208^3)*COS(Q$6*$B208^4+N$6*$B208^3+K$6*$B208^2+H$6*$B208+E$6)+4*Q$4*$B208^3+3*N$4*$B208^2+2*K$4*$B208+H$4","v":{"$error":"#N/A"}},{"$f":"-1*(F$8+2*I$8*$B208+3*L$8*$B208^2+4*O$8*$B208^3)^2*(C$7+F$7*$B208+I$7*$B208^2+L$7*$B208^3+O$7*$B208^4)*SIN(O$8*$B208^4+L$8*$B208^3+I$8*$B208^2+F$8*$B208+C$8)+(2*I$7+6*L$7*$B208+12*O$7*$B208^2)*SIN(O$8*$B208^4+L$8*$B208^3+I$8*$B208^2+F$8*$B208+C$8)+(2*I$8+6*L$8*$B208+12*O$8*$B208^2)*(C$7+F$7*$B208+I$7*$B208^2+L$7*$B208^3+O$7*$B208^4)*COS(O$8*$B208^4+L$8*$B208^3+I$8*$B208^2+F$8*$B208+C$8)+2*(F$7+2*I$7*$B208+3*L$7*$B208^2+4*O$7*$B208^3)*(F$8+2*I$8*$B208+3*L$8*$B208^2+4*O$8*$B208^3)*COS(O$8*$B208^4+L$8*$B208^3+I$8*$B208^2+F$8*$B208+C$8)-(2*I$6+6*L$6*$B208+12*O$6*$B208^2)*(C$5+F$5*$B208+I$5*$B208^2+L$5*$B208^3+O$5*$B208^4)*SIN(O$6*$B208^4+L$6*$B208^3+I$6*$B208^2+F$6*$B208+C$6)-2*(F$5+2*I$5*$B208+3*L$5*$B208^2+4*O$5*$B208^3)*(F$6+2*I$6*$B208+3*L$6*$B208^2+4*O$6*$B208^3)*SIN(O$6*$B208^4+L$6*$B208^3+I$6*$B208^2+F$6*$B208+C$6)-(F$6+2*I$6*$B208+3*L$6*$B208^2+4*O$6*$B208^3)^2*(C$5+F$5*$B208+I$5*$B208^2+L$5*$B208^3+O$5*$B208^4)*COS(O$6*$B208^4+L$6*$B208^3+I$6*$B208^2+F$6*$B208+C$6)+(2*I$5+6*L$5*$B208+12*O$5*$B208^2)*COS(O$6*$B208^4+L$6*$B208^3+I$6*$B208^2+F$6*$B208+C$6)+12*O$4*$B208^2+6*L$4*$B208+2*I$4","v":{"$error":"#N/A"}},{"$f":"-1*(G$8+2*J$8*$B208+3*M$8*$B208^2+4*P$8*$B208^3)^2*(D$7+G$7*$B208+J$7*$B208^2+M$7*$B208^3+P$7*$B208^4)*SIN(P$8*$B208^4+M$8*$B208^3+J$8*$B208^2+G$8*$B208+D$8)+(2*J$7+6*M$7*$B208+12*P$7*$B208^2)*SIN(P$8*$B208^4+M$8*$B208^3+J$8*$B208^2+G$8*$B208+D$8)+(2*J$8+6*M$8*$B208+12*P$8*$B208^2)*(D$7+G$7*$B208+J$7*$B208^2+M$7*$B208^3+P$7*$B208^4)*COS(P$8*$B208^4+M$8*$B208^3+J$8*$B208^2+G$8*$B208+D$8)+2*(G$7+2*J$7*$B208+3*M$7*$B208^2+4*P$7*$B208^3)*(G$8+2*J$8*$B208+3*M$8*$B208^2+4*P$8*$B208^3)*COS(P$8*$B208^4+M$8*$B208^3+J$8*$B208^2+G$8*$B208+D$8)-(2*J$6+6*M$6*$B208+12*P$6*$B208^2)*(D$5+G$5*$B208+J$5*$B208^2+M$5*$B208^3+P$5*$B208^4)*SIN(P$6*$B208^4+M$6*$B208^3+J$6*$B208^2+G$6*$B208+D$6)-2*(G$5+2*J$5*$B208+3*M$5*$B208^2+4*P$5*$B208^3)*(G$6+2*J$6*$B208+3*M$6*$B208^2+4*P$6*$B208^3)*SIN(P$6*$B208^4+M$6*$B208^3+J$6*$B208^2+G$6*$B208+D$6)-(G$6+2*J$6*$B208+3*M$6*$B208^2+4*P$6*$B208^3)^2*(D$5+G$5*$B208+J$5*$B208^2+M$5*$B208^3+P$5*$B208^4)*COS(P$6*$B208^4+M$6*$B208^3+J$6*$B208^2+G$6*$B208+D$6)+(2*J$5+6*M$5*$B208+12*P$5*$B208^2)*COS(P$6*$B208^4+M$6*$B208^3+J$6*$B208^2+G$6*$B208+D$6)+12*P$4*$B208^2+6*M$4*$B208+2*J$4","v":{"$error":"#N/A"}},{"$f":"-1*(H$8+2*K$8*$B208+3*N$8*$B208^2+4*Q$8*$B208^3)^2*(E$7+H$7*$B208+K$7*$B208^2+N$7*$B208^3+Q$7*$B208^4)*SIN(Q$8*$B208^4+N$8*$B208^3+K$8*$B208^2+H$8*$B208+E$8)+(2*K$7+6*N$7*$B208+12*Q$7*$B208^2)*SIN(Q$8*$B208^4+N$8*$B208^3+K$8*$B208^2+H$8*$B208+E$8)+(2*K$8+6*N$8*$B208+12*Q$8*$B208^2)*(E$7+H$7*$B208+K$7*$B208^2+N$7*$B208^3+Q$7*$B208^4)*COS(Q$8*$B208^4+N$8*$B208^3+K$8*$B208^2+H$8*$B208+E$8)+2*(H$7+2*K$7*$B208+3*N$7*$B208^2+4*Q$7*$B208^3)*(H$8+2*K$8*$B208+3*N$8*$B208^2+4*Q$8*$B208^3)*COS(Q$8*$B208^4+N$8*$B208^3+K$8*$B208^2+H$8*$B208+E$8)-(2*K$6+6*N$6*$B208+12*Q$6*$B208^2)*(E$5+H$5*$B208+K$5*$B208^2+N$5*$B208^3+Q$5*$B208^4)*SIN(Q$6*$B208^4+N$6*$B208^3+K$6*$B208^2+H$6*$B208+E$6)-2*(H$5+2*K$5*$B208+3*N$5*$B208^2+4*Q$5*$B208^3)*(H$6+2*K$6*$B208+3*N$6*$B208^2+4*Q$6*$B208^3)*SIN(Q$6*$B208^4+N$6*$B208^3+K$6*$B208^2+H$6*$B208+E$6)-(H$6+2*K$6*$B208+3*N$6*$B208^2+4*Q$6*$B208^3)^2*(E$5+H$5*$B208+K$5*$B208^2+N$5*$B208^3+Q$5*$B208^4)*COS(Q$6*$B208^4+N$6*$B208^3+K$6*$B208^2+H$6*$B208+E$6)+(2*K$5+6*N$5*$B208+12*Q$5*$B208^2)*COS(Q$6*$B208^4+N$6*$B208^3+K$6*$B208^2+H$6*$B208+E$6)+12*Q$4*$B208^2+6*N$4*$B208+2*K$4","v":{"$error":"#N/A"}},{"$f":"IF($AK$38=0,TRANSPOSE(MMULT($O$10:$Q$12,TRANSPOSE(C208:E208))),TRANSPOSE(MMULT($O$10:$Q$12,TRANSPOSE(Y208:AA208))))","v":{"$error":"#N/A"}},{"$error":"#N/A"},{"$error":"#N/A"},{"$error":"#N/A"},{"$error":"#N/A"},{"$f":"TRANSPOSE(MMULT($AE$10:$AG$12,TRANSPOSE(F208:H208)))","v":{"$error":"#N/A"}},{"$error":"#N/A"},{"$error":"#N/A"},{"$f":"$Y$5+$Y$4*IF($U$8=1,Q208,(Q208*$U$6)/($U$6+$U$7+R208))","v":{"$error":"#N/A"}},{"$f":"$Y$6+$Y$4*IF($U$8=1,R208,(S208*$U$6)/($U$6+$U$7+R208))","v":{"$error":"#N/A"}},{"$f":"TRANSPOSE(MMULT($AO$40:$AQ$42,TRANSPOSE(C208:E208)))","v":{"$error":"#N/A"}},{"$error":"#N/A"},{"$error":"#N/A"},{"$f":"V208+$AL$46","v":{"$error":"#N/A"}},{"$f":"W208+$AL$47","v":{"$error":"#N/A"}},{"$f":"X208+$AL$48","v":{"$error":"#N/A"}}]
[209,{"$error":"#N/A"},{"$error":"#N/A"},{"$error":"#N/A"},{"$error":"#N/A"},{"$error":"#N/A"},{"$error":"#N/A"},{"$error":"#N/A"},{"$error":"#N/A"},{"$error":"#N/A"},{"$error":"#N/A"},{"$f":"IF($AK$38=0,TRANSPOSE(MMULT($O$10:$Q$12,TRANSPOSE(C209:E209))),TRANSPOSE(MMULT($O$10:$Q$12,TRANSPOSE(Y209:AA209))))","v":{"$error":"#N/A"}},{"$error":"#N/A"},{"$error":"#N/A"},{"$f":"IF($AD$4=0,NA(),$X$5+$X$4*IF($U$8=1,L209,(L209*$U$6)/($U$6+$U$7+M209)))","v":{"$error":"#N/A"}},{"$f":"IF($AD$4=0,NA(),$X$6+$X$4*IF($U$8=1,M209,(N209*$U$6)/($U$6+$U$7+M209)))","v":{"$error":"#N/A"}},{"$f":"TRANSPOSE(MMULT($AE$10:$AG$12,TRANSPOSE(F209:H209)))","v":{"$error":"#N/A"}},{"$error":"#N/A"},{"$error":"#N/A"},{"$error":"#N/A"},{"$error":"#N/A"},{"$f":"TRANSPOSE(MMULT($AO$40:$AQ$42,TRANSPOSE(C209:E209)))","v":{"$error":"#N/A"}},{"$error":"#N/A"},{"$error":"#N/A"},{"$error":"#N/A"},{"$error":"#N/A"},{"$error":"#N/A"}]
[210,{"$f":"IF(B209<$B$3,B209+$S$3,NA())","v":{"$error":"#N/A"}},{"$error":"#N/A"},{"$error":"#N/A"},{"$error":"#N/A"},{"$error":"#N/A"},{"$error":"#N/A"},{"$error":"#N/A"},{"$error":"#N/A"},{"$error":"#N/A"},{"$error":"#N/A"},{"$f":"IF($AK$38=0,TRANSPOSE(MMULT($O$10:$Q$12,TRANSPOSE(C210:E210))),TRANSPOSE(MMULT($O$10:$Q$12,TRANSPOSE(Y210:AA210))))","v":{"$error":"#N/A"}},{"$error":"#N/A"},{"$error":"#N/A"},{"$error":"#N/A"},{"$error":"#N/A"},{"$f":"TRANSPOSE(MMULT($AE$10:$AG$12,TRANSPOSE(F210:H210)))","v":{"$error":"#N/A"}},{"$error":"#N/A"},{"$error":"#N/A"},{"$error":"#N/A"},{"$error":"#N/A"},{"$f":"TRANSPOSE(MMULT($AO$40:$AQ$42,TRANSPOSE(C210:E210)))","v":{"$error":"#N/A"}},{"$error":"#N/A"},{"$error":"#N/A"},{"$error":"#N/A"},{"$error":"#N/A"},{"$error":"#N/A"}]
[211,{"$error":"#N/A"},{"$error":"#N/A"},{"$error":"#N/A"},{"$error":"#N/A"},{"$error":"#N/A"},{"$error":"#N/A"},{"$error":"#N/A"},{"$error":"#N/A"},{"$error":"#N/A"},{"$error":"#N/A"},{"$f":"IF($AK$38=0,TRANSPOSE(MMULT($O$10:$Q$12,TRANSPOSE(C211:E211))),TRANSPOSE(MMULT($O$10:$Q$12,TRANSPOSE(Y211:AA211))))","v":{"$error":"#N/A"}},{"$error":"#N/A"},{"$error":"#N/A"},{"$error":"#N/A"},{"$error":"#N/A"},{"$f":"TRANSPOSE(MMULT($AE$10:$AG$12,TRANSPOSE(F211:H211)))","v":{"$error":"#N/A"}},{"$error":"#N/A"},{"$error":"#N/A"},{"$error":"#N/A"},{"$error":"#N/A"},{"$f":"TRANSPOSE(MMULT($AO$40:$AQ$42,TRANSPOSE(C211:E211)))","v":{"$error":"#N/A"}},{"$error":"#N/A"},{"$error":"#N/A"},{"$error":"#N/A"},{"$error":"#N/A"},{"$error":"#N/A"}]
[212,{"$error":"#N/A"},{"$error":"#N/A"},{"$error":"#N/A"},{"$error":"#N/A"},{"$error":"#N/A"},{"$error":"#N/A"},{"$error":"#N/A"},{"$error":"#N/A"},{"$error":"#N/A"},{"$error":"#N/A"},{"$f":"IF($AK$38=0,TRANSPOSE(MMULT($O$10:$Q$12,TRANSPOSE(C212:E212))),TRANSPOSE(MMULT($O$10:$Q$12,TRANSPOSE(Y212:AA212))))","v":{"$error":"#N/A"}},{"$error":"#N/A"},{"$error":"#N/A"},{"$error":"#N/A"},{"$error":"#N/A"},{"$f":"TRANSPOSE(MMULT($AE$10:$AG$12,TRANSPOSE(F212:H212)))","v":{"$error":"#N/A"}},{"$error":"#N/A"},{"$error":"#N/A"},{"$error":"#N/A"},{"$error":"#N/A"},{"$f":"TRANSPOSE(MMULT($AO$40:$AQ$42,TRANSPOSE(C212:E212)))","v":{"$error":"#N/A"}},{"$error":"#N/A"},{"$error":"#N/A"},{"$error":"#N/A"},{"$error":"#N/A"},{"$error":"#N/A"}]
[213,{"$error":"#N/A"},{"$error":"#N/A"},{"$error":"#N/A"},{"$error":"#N/A"},{"$error":"#N/A"},{"$error":"#N/A"},{"$error":"#N/A"},{"$error":"#N/A"},{"$error":"#N/A"},{"$error":"#N/A"},{"$f":"IF($AK$38=0,TRANSPOSE(MMULT($O$10:$Q$12,TRANSPOSE(C213:E213))),TRANSPOSE(MMULT($O$10:$Q$12,TRANSPOSE(Y213:AA213))))","v":{"$error":"#N/A"}},{"$error":"#N/A"},{"$error":"#N/A"},{"$error":"#N/A"},{"$error":"#N/A"},{"$f":"TRANSPOSE(MMULT($AE$10:$AG$12,TRANSPOSE(F213:H213)))","v":{"$error":"#N/A"}},{"$error":"#N/A"},{"$error":"#N/A"},{"$error":"#N/A"},{"$error":"#N/A"},{"$f":"TRANSPOSE(MMULT($AO$40:$AQ$42,TRANSPOSE(C213:E213)))","v":{"$error":"#N/A"}},{"$error":"#N/A"},{"$error":"#N/A"},{"$error":"#N/A"},{"$error":"#N/A"},{"$error":"#N/A"}]
[214,{"$error":"#N/A"},{"$error":"#N/A"},{"$error":"#N/A"},{"$error":"#N/A"},{"$error":"#N/A"},{"$error":"#N/A"},{"$error":"#N/A"},{"$error":"#N/A"},{"$error":"#N/A"},{"$error":"#N/A"},{"$f":"IF($AK$38=0,TRANSPOSE(MMULT($O$10:$Q$12,TRANSPOSE(C214:E214))),TRANSPOSE(MMULT($O$10:$Q$12,TRANSPOSE(Y214:AA214))))","v":{"$error":"#N/A"}},{"$error":"#N/A"},{"$error":"#N/A"},{"$error":"#N/A"},{"$error":"#N/A"},{"$f":"TRANSPOSE(MMULT($AE$10:$AG$12,TRANSPOSE(F214:H214)))","v":{"$error":"#N/A"}},{"$error":"#N/A"},{"$error":"#N/A"},{"$error":"#N/A"},{"$error":"#N/A"},{"$f":"TRANSPOSE(MMULT($AO$40:$AQ$42,TRANSPOSE(C214:E214)))","v":{"$error":"#N/A"}},{"$error":"#N/A"},{"$error":"#N/A"},{"$error":"#N/A"},{"$error":"#N/A"},{"$error":"#N/A"}]
[215,{"$error":"#N/A"},{"$error":"#N/A"},{"$error":"#N/A"},{"$error":"#N/A"},{"$error":"#N/A"},{"$error":"#N/A"},{"$error":"#N/A"},{"$error":"#N/A"},{"$error":"#N/A"},{"$error":"#N/A"},{"$f":"IF($AK$38=0,TRANSPOSE(MMULT($O$10:$Q$12,TRANSPOSE(C215:E215))),TRANSPOSE(MMULT($O$10:$Q$12,TRANSPOSE(Y215:AA215))))","v":{"$error":"#N/A"}},{"$error":"#N/A"},{"$error":"#N/A"},{"$error":"#N/A"},{"$error":"#N/A"},{"$f":"TRANSPOSE(MMULT($AE$10:$AG$12,TRANSPOSE(F215:H215)))","v":{"$error":"#N/A"}},{"$error":"#N/A"},{"$error":"#N/A"},{"$error":"#N/A"},{"$error":"#N/A"},{"$f":"TRANSPOSE(MMULT($AO$40:$AQ$42,TRANSPOSE(C215:E215)))","v":{"$error":"#N/A"}},{"$error":"#N/A"},{"$error":"#N/A"},{"$error":"#N/A"},{"$error":"#N/A"},{"$error":"#N/A"}]
[216,{"$error":"#N/A"},{"$error":"#N/A"},{"$error":"#N/A"},{"$error":"#N/A"},{"$error":"#N/A"},{"$error":"#N/A"},{"$error":"#N/A"},{"$error":"#N/A"},{"$error":"#N/A"},{"$error":"#N/A"},{"$f":"IF($AK$38=0,TRANSPOSE(MMULT($O$10:$Q$12,TRANSPOSE(C216:E216))),TRANSPOSE(MMULT($O$10:$Q$12,TRANSPOSE(Y216:AA216))))","v":{"$error":"#N/A"}},{"$error":"#N/A"},{"$error":"#N/A"},{"$error":"#N/A"},{"$error":"#N/A"},{"$f":"TRANSPOSE(MMULT($AE$10:$AG$12,TRANSPOSE(F216:H216)))","v":{"$error":"#N/A"}},{"$error":"#N/A"},{"$error":"#N/A"},{"$error":"#N/A"},{"$error":"#N/A"},{"$f":"TRANSPOSE(MMULT($AO$40:$AQ$42,TRANSPOSE(C216:E216)))","v":{"$error":"#N/A"}},{"$error":"#N/A"},{"$error":"#N/A"},{"$error":"#N/A"},{"$error":"#N/A"},{"$error":"#N/A"}]
[217,{"$error":"#N/A"},{"$error":"#N/A"},{"$error":"#N/A"},{"$error":"#N/A"},{"$error":"#N/A"},{"$error":"#N/A"},{"$error":"#N/A"},{"$error":"#N/A"},{"$error":"#N/A"},{"$error":"#N/A"},{"$f":"IF($AK$38=0,TRANSPOSE(MMULT($O$10:$Q$12,TRANSPOSE(C217:E217))),TRANSPOSE(MMULT($O$10:$Q$12,TRANSPOSE(Y217:AA217))))","v":{"$error":"#N/A"}},{"$error":"#N/A"},{"$error":"#N/A"},{"$error":"#N/A"},{"$error":"#N/A"},{"$f":"TRANSPOSE(MMULT($AE$10:$AG$12,TRANSPOSE(F217:H217)))","v":{"$error":"#N/A"}},{"$error":"#N/A"},{"$error":"#N/A"},{"$error":"#N/A"},{"$error":"#N/A"},{"$f":"TRANSPOSE(MMULT($AO$40:$AQ$42,TRANSPOSE(C217:E217)))","v":{"$error":"#N/A"}},{"$error":"#N/A"},{"$error":"#N/A"},{"$error":"#N/A"},{"$error":"#N/A"},{"$error":"#N/A"}]
[218,{"$error":"#N/A"},{"$error":"#N/A"},{"$error":"#N/A"},{"$error":"#N/A"},{"$error":"#N/A"},{"$error":"#N/A"},{"$error":"#N/A"},{"$error":"#N/A"},{"$error":"#N/A"},{"$error":"#N/A"},{"$f":"IF($AK$38=0,TRANSPOSE(MMULT($O$10:$Q$12,TRANSPOSE(C218:E218))),TRANSPOSE(MMULT($O$10:$Q$12,TRANSPOSE(Y218:AA218))))","v":{"$error":"#N/A"}},{"$error":"#N/A"},{"$error":"#N/A"},{"$error":"#N/A"},{"$error":"#N/A"},{"$f":"TRANSPOSE(MMULT($AE$10:$AG$12,TRANSPOSE(F218:H218)))","v":{"$error":"#N/A"}},{"$error":"#N/A"},{"$error":"#N/A"},{"$error":"#N/A"},{"$error":"#N/A"},{"$f":"TRANSPOSE(MMULT($AO$40:$AQ$42,TRANSPOSE(C218:E218)))","v":{"$error":"#N/A"}},{"$error":"#N/A"},{"$error":"#N/A"},{"$error":"#N/A"},{"$error":"#N/A"},{"$error":"#N/A"}]
[219,{"$error":"#N/A"},{"$error":"#N/A"},{"$error":"#N/A"},{"$error":"#N/A"},{"$error":"#N/A"},{"$error":"#N/A"},{"$error":"#N/A"},{"$error":"#N/A"},{"$error":"#N/A"},{"$error":"#N/A"},{"$f":"IF($AK$38=0,TRANSPOSE(MMULT($O$10:$Q$12,TRANSPOSE(C219:E219))),TRANSPOSE(MMULT($O$10:$Q$12,TRANSPOSE(Y219:AA219))))","v":{"$error":"#N/A"}},{"$error":"#N/A"},{"$error":"#N/A"},{"$error":"#N/A"},{"$error":"#N/A"},{"$f":"TRANSPOSE(MMULT($AE$10:$AG$12,TRANSPOSE(F219:H219)))","v":{"$error":"#N/A"}},{"$error":"#N/A"},{"$error":"#N/A"},{"$error":"#N/A"},{"$error":"#N/A"},{"$f":"TRANSPOSE(MMULT($AO$40:$AQ$42,TRANSPOSE(C219:E219)))","v":{"$error":"#N/A"}},{"$error":"#N/A"},{"$error":"#N/A"},{"$error":"#N/A"},{"$error":"#N/A"},{"$error":"#N/A"}]
[220,{"$error":"#N/A"},{"$error":"#N/A"},{"$error":"#N/A"},{"$error":"#N/A"},{"$error":"#N/A"},{"$error":"#N/A"},{"$error":"#N/A"},{"$error":"#N/A"},{"$error":"#N/A"},{"$error":"#N/A"},{"$f":"IF($AK$38=0,TRANSPOSE(MMULT($O$10:$Q$12,TRANSPOSE(C220:E220))),TRANSPOSE(MMULT($O$10:$Q$12,TRANSPOSE(Y220:AA220))))","v":{"$error":"#N/A"}},{"$error":"#N/A"},{"$error":"#N/A"},{"$error":"#N/A"},{"$error":"#N/A"},{"$f":"TRANSPOSE(MMULT($AE$10:$AG$12,TRANSPOSE(F220:H220)))","v":{"$error":"#N/A"}},{"$error":"#N/A"},{"$error":"#N/A"},{"$error":"#N/A"},{"$error":"#N/A"},{"$f":"TRANSPOSE(MMULT($AO$40:$AQ$42,TRANSPOSE(C220:E220)))","v":{"$error":"#N/A"}},{"$error":"#N/A"},{"$error":"#N/A"},{"$error":"#N/A"},{"$error":"#N/A"},{"$error":"#N/A"}]
[221,{"$error":"#N/A"},{"$error":"#N/A"},{"$error":"#N/A"},{"$error":"#N/A"},{"$error":"#N/A"},{"$error":"#N/A"},{"$error":"#N/A"},{"$error":"#N/A"},{"$error":"#N/A"},{"$error":"#N/A"},{"$f":"IF($AK$38=0,TRANSPOSE(MMULT($O$10:$Q$12,TRANSPOSE(C221:E221))),TRANSPOSE(MMULT($O$10:$Q$12,TRANSPOSE(Y221:AA221))))","v":{"$error":"#N/A"}},{"$error":"#N/A"},{"$error":"#N/A"},{"$error":"#N/A"},{"$error":"#N/A"},{"$f":"TRANSPOSE(MMULT($AE$10:$AG$12,TRANSPOSE(F221:H221)))","v":{"$error":"#N/A"}},{"$error":"#N/A"},{"$error":"#N/A"},{"$error":"#N/A"},{"$error":"#N/A"},{"$f":"TRANSPOSE(MMULT($AO$40:$AQ$42,TRANSPOSE(C221:E221)))","v":{"$error":"#N/A"}},{"$error":"#N/A"},{"$error":"#N/A"},{"$error":"#N/A"},{"$error":"#N/A"},{"$error":"#N/A"}]
[222,{"$error":"#N/A"},{"$error":"#N/A"},{"$error":"#N/A"},{"$error":"#N/A"},{"$error":"#N/A"},{"$error":"#N/A"},{"$error":"#N/A"},{"$error":"#N/A"},{"$error":"#N/A"},{"$error":"#N/A"},{"$f":"IF($AK$38=0,TRANSPOSE(MMULT($O$10:$Q$12,TRANSPOSE(C222:E222))),TRANSPOSE(MMULT($O$10:$Q$12,TRANSPOSE(Y222:AA222))))","v":{"$error":"#N/A"}},{"$error":"#N/A"},{"$error":"#N/A"},{"$error":"#N/A"},{"$error":"#N/A"},{"$f":"TRANSPOSE(MMULT($AE$10:$AG$12,TRANSPOSE(F222:H222)))","v":{"$error":"#N/A"}},{"$error":"#N/A"},{"$error":"#N/A"},{"$error":"#N/A"},{"$error":"#N/A"},{"$f":"TRANSPOSE(MMULT($AO$40:$AQ$42,TRANSPOSE(C222:E222)))","v":{"$error":"#N/A"}},{"$error":"#N/A"},{"$error":"#N/A"},{"$error":"#N/A"},{"$error":"#N/A"},{"$error":"#N/A"}]
[223,{"$error":"#N/A"},{"$error":"#N/A"},{"$error":"#N/A"},{"$error":"#N/A"},{"$error":"#N/A"},{"$error":"#N/A"},{"$error":"#N/A"},{"$error":"#N/A"},{"$error":"#N/A"},{"$error":"#N/A"},{"$f":"IF($AK$38=0,TRANSPOSE(MMULT($O$10:$Q$12,TRANSPOSE(C223:E223))),TRANSPOSE(MMULT($O$10:$Q$12,TRANSPOSE(Y223:AA223))))","v":{"$error":"#N/A"}},{"$error":"#N/A"},{"$error":"#N/A"},{"$error":"#N/A"},{"$error":"#N/A"},{"$f":"TRANSPOSE(MMULT($AE$10:$AG$12,TRANSPOSE(F223:H223)))","v":{"$error":"#N/A"}},{"$error":"#N/A"},{"$error":"#N/A"},{"$error":"#N/A"},{"$error":"#N/A"},{"$f":"TRANSPOSE(MMULT($AO$40:$AQ$42,TRANSPOSE(C223:E223)))","v":{"$error":"#N/A"}},{"$error":"#N/A"},{"$error":"#N/A"},{"$error":"#N/A"},{"$error":"#N/A"},{"$error":"#N/A"}]
[224,{"$error":"#N/A"},{"$error":"#N/A"},{"$error":"#N/A"},{"$error":"#N/A"},{"$error":"#N/A"},{"$error":"#N/A"},{"$error":"#N/A"},{"$error":"#N/A"},{"$error":"#N/A"},{"$error":"#N/A"},{"$f":"IF($AK$38=0,TRANSPOSE(MMULT($O$10:$Q$12,TRANSPOSE(C224:E224))),TRANSPOSE(MMULT($O$10:$Q$12,TRANSPOSE(Y224:AA224))))","v":{"$error":"#N/A"}},{"$error":"#N/A"},{"$error":"#N/A"},{"$error":"#N/A"},{"$error":"#N/A"},{"$f":"TRANSPOSE(MMULT($AE$10:$AG$12,TRANSPOSE(F224:H224)))","v":{"$error":"#N/A"}},{"$error":"#N/A"},{"$error":"#N/A"},{"$error":"#N/A"},{"$error":"#N/A"},{"$f":"TRANSPOSE(MMULT($AO$40:$AQ$42,TRANSPOSE(C224:E224)))","v":{"$error":"#N/A"}},{"$error":"#N/A"},{"$error":"#N/A"},{"$error":"#N/A"},{"$error":"#N/A"},{"$error":"#N/A"}]
[225,{"$error":"#N/A"},{"$error":"#N/A"},{"$error":"#N/A"},{"$error":"#N/A"},{"$error":"#N/A"},{"$error":"#N/A"},{"$error":"#N/A"},{"$error":"#N/A"},{"$error":"#N/A"},{"$error":"#N/A"},{"$f":"IF($AK$38=0,TRANSPOSE(MMULT($O$10:$Q$12,TRANSPOSE(C225:E225))),TRANSPOSE(MMULT($O$10:$Q$12,TRANSPOSE(Y225:AA225))))","v":{"$error":"#N/A"}},{"$error":"#N/A"},{"$error":"#N/A"},{"$error":"#N/A"},{"$error":"#N/A"},{"$f":"TRANSPOSE(MMULT($AE$10:$AG$12,TRANSPOSE(F225:H225)))","v":{"$error":"#N/A"}},{"$error":"#N/A"},{"$error":"#N/A"},{"$error":"#N/A"},{"$error":"#N/A"},{"$f":"TRANSPOSE(MMULT($AO$40:$AQ$42,TRANSPOSE(C225:E225)))","v":{"$error":"#N/A"}},{"$error":"#N/A"},{"$error":"#N/A"},{"$error":"#N/A"},{"$error":"#N/A"},{"$error":"#N/A"}]
[226,{"$error":"#N/A"},{"$error":"#N/A"},{"$error":"#N/A"},{"$error":"#N/A"},{"$error":"#N/A"},{"$error":"#N/A"},{"$error":"#N/A"},{"$error":"#N/A"},{"$error":"#N/A"},{"$error":"#N/A"},{"$f":"IF($AK$38=0,TRANSPOSE(MMULT($O$10:$Q$12,TRANSPOSE(C226:E226))),TRANSPOSE(MMULT($O$10:$Q$12,TRANSPOSE(Y226:AA226))))","v":{"$error":"#N/A"}},{"$error":"#N/A"},{"$error":"#N/A"},{"$error":"#N/A"},{"$error":"#N/A"},{"$f":"TRANSPOSE(MMULT($AE$10:$AG$12,TRANSPOSE(F226:H226)))","v":{"$error":"#N/A"}},{"$error":"#N/A"},{"$error":"#N/A"},{"$error":"#N/A"},{"$error":"#N/A"},{"$f":"TRANSPOSE(MMULT($AO$40:$AQ$42,TRANSPOSE(C226:E226)))","v":{"$error":"#N/A"}},{"$error":"#N/A"},{"$error":"#N/A"},{"$error":"#N/A"},{"$error":"#N/A"},{"$error":"#N/A"}]
[227,{"$error":"#N/A"},{"$error":"#N/A"},{"$error":"#N/A"},{"$error":"#N/A"},{"$error":"#N/A"},{"$error":"#N/A"},{"$error":"#N/A"},{"$error":"#N/A"},{"$error":"#N/A"},{"$error":"#N/A"},{"$f":"IF($AK$38=0,TRANSPOSE(MMULT($O$10:$Q$12,TRANSPOSE(C227:E227))),TRANSPOSE(MMULT($O$10:$Q$12,TRANSPOSE(Y227:AA227))))","v":{"$error":"#N/A"}},{"$error":"#N/A"},{"$error":"#N/A"},{"$error":"#N/A"},{"$error":"#N/A"},{"$f":"TRANSPOSE(MMULT($AE$10:$AG$12,TRANSPOSE(F227:H227)))","v":{"$error":"#N/A"}},{"$error":"#N/A"},{"$error":"#N/A"},{"$error":"#N/A"},{"$error":"#N/A"},{"$f":"TRANSPOSE(MMULT($AO$40:$AQ$42,TRANSPOSE(C227:E227)))","v":{"$error":"#N/A"}},{"$error":"#N/A"},{"$error":"#N/A"},{"$error":"#N/A"},{"$error":"#N/A"},{"$error":"#N/A"}]
[228,{"$error":"#N/A"},{"$error":"#N/A"},{"$error":"#N/A"},{"$error":"#N/A"},{"$error":"#N/A"},{"$error":"#N/A"},{"$error":"#N/A"},{"$error":"#N/A"},{"$error":"#N/A"},{"$error":"#N/A"},{"$f":"IF($AK$38=0,TRANSPOSE(MMULT($O$10:$Q$12,TRANSPOSE(C228:E228))),TRANSPOSE(MMULT($O$10:$Q$12,TRANSPOSE(Y228:AA228))))","v":{"$error":"#N/A"}},{"$error":"#N/A"},{"$error":"#N/A"},{"$error":"#N/A"},{"$error":"#N/A"},{"$f":"TRANSPOSE(MMULT($AE$10:$AG$12,TRANSPOSE(F228:H228)))","v":{"$error":"#N/A"}},{"$error":"#N/A"},{"$error":"#N/A"},{"$error":"#N/A"},{"$error":"#N/A"},{"$f":"TRANSPOSE(MMULT($AO$40:$AQ$42,TRANSPOSE(C228:E228)))","v":{"$error":"#N/A"}},{"$error":"#N/A"},{"$error":"#N/A"},{"$error":"#N/A"},{"$error":"#N/A"},{"$error":"#N/A"}]
[229,{"$error":"#N/A"},{"$error":"#N/A"},{"$error":"#N/A"},{"$error":"#N/A"},{"$error":"#N/A"},{"$error":"#N/A"},{"$error":"#N/A"},{"$error":"#N/A"},{"$error":"#N/A"},{"$error":"#N/A"},{"$f":"IF($AK$38=0,TRANSPOSE(MMULT($O$10:$Q$12,TRANSPOSE(C229:E229))),TRANSPOSE(MMULT($O$10:$Q$12,TRANSPOSE(Y229:AA229))))","v":{"$error":"#N/A"}},{"$error":"#N/A"},{"$error":"#N/A"},{"$error":"#N/A"},{"$error":"#N/A"},{"$f":"TRANSPOSE(MMULT($AE$10:$AG$12,TRANSPOSE(F229:H229)))","v":{"$error":"#N/A"}},{"$error":"#N/A"},{"$error":"#N/A"},{"$error":"#N/A"},{"$error":"#N/A"},{"$f":"TRANSPOSE(MMULT($AO$40:$AQ$42,TRANSPOSE(C229:E229)))","v":{"$error":"#N/A"}},{"$error":"#N/A"},{"$error":"#N/A"},{"$error":"#N/A"},{"$error":"#N/A"},{"$error":"#N/A"}]
[230,{"$error":"#N/A"},{"$error":"#N/A"},{"$error":"#N/A"},{"$error":"#N/A"},{"$error":"#N/A"},{"$error":"#N/A"},{"$error":"#N/A"},{"$error":"#N/A"},{"$error":"#N/A"},{"$error":"#N/A"},{"$f":"IF($AK$38=0,TRANSPOSE(MMULT($O$10:$Q$12,TRANSPOSE(C230:E230))),TRANSPOSE(MMULT($O$10:$Q$12,TRANSPOSE(Y230:AA230))))","v":{"$error":"#N/A"}},{"$error":"#N/A"},{"$error":"#N/A"},{"$error":"#N/A"},{"$error":"#N/A"},{"$f":"TRANSPOSE(MMULT($AE$10:$AG$12,TRANSPOSE(F230:H230)))","v":{"$error":"#N/A"}},{"$error":"#N/A"},{"$error":"#N/A"},{"$error":"#N/A"},{"$error":"#N/A"},{"$f":"TRANSPOSE(MMULT($AO$40:$AQ$42,TRANSPOSE(C230:E230)))","v":{"$error":"#N/A"}},{"$error":"#N/A"},{"$error":"#N/A"},{"$error":"#N/A"},{"$error":"#N/A"},{"$error":"#N/A"}]
[231,{"$error":"#N/A"},{"$error":"#N/A"},{"$error":"#N/A"},{"$error":"#N/A"},{"$error":"#N/A"},{"$error":"#N/A"},{"$error":"#N/A"},{"$error":"#N/A"},{"$error":"#N/A"},{"$error":"#N/A"},{"$f":"IF($AK$38=0,TRANSPOSE(MMULT($O$10:$Q$12,TRANSPOSE(C231:E231))),TRANSPOSE(MMULT($O$10:$Q$12,TRANSPOSE(Y231:AA231))))","v":{"$error":"#N/A"}},{"$error":"#N/A"},{"$error":"#N/A"},{"$error":"#N/A"},{"$error":"#N/A"},{"$f":"TRANSPOSE(MMULT($AE$10:$AG$12,TRANSPOSE(F231:H231)))","v":{"$error":"#N/A"}},{"$error":"#N/A"},{"$error":"#N/A"},{"$error":"#N/A"},{"$error":"#N/A"},{"$f":"TRANSPOSE(MMULT($AO$40:$AQ$42,TRANSPOSE(C231:E231)))","v":{"$error":"#N/A"}},{"$error":"#N/A"},{"$error":"#N/A"},{"$error":"#N/A"},{"$error":"#N/A"},{"$error":"#N/A"}]
[232,{"$error":"#N/A"},{"$error":"#N/A"},{"$error":"#N/A"},{"$error":"#N/A"},{"$error":"#N/A"},{"$error":"#N/A"},{"$error":"#N/A"},{"$error":"#N/A"},{"$error":"#N/A"},{"$error":"#N/A"},{"$f":"IF($AK$38=0,TRANSPOSE(MMULT($O$10:$Q$12,TRANSPOSE(C232:E232))),TRANSPOSE(MMULT($O$10:$Q$12,TRANSPOSE(Y232:AA232))))","v":{"$error":"#N/A"}},{"$error":"#N/A"},{"$error":"#N/A"},{"$error":"#N/A"},{"$error":"#N/A"},{"$f":"TRANSPOSE(MMULT($AE$10:$AG$12,TRANSPOSE(F232:H232)))","v":{"$error":"#N/A"}},{"$error":"#N/A"},{"$error":"#N/A"},{"$error":"#N/A"},{"$error":"#N/A"},{"$f":"TRANSPOSE(MMULT($AO$40:$AQ$42,TRANSPOSE(C232:E232)))","v":{"$error":"#N/A"}},{"$error":"#N/A"},{"$error":"#N/A"},{"$error":"#N/A"},{"$error":"#N/A"},{"$error":"#N/A"}]
[233,{"$error":"#N/A"},{"$error":"#N/A"},{"$error":"#N/A"},{"$error":"#N/A"},{"$error":"#N/A"},{"$error":"#N/A"},{"$error":"#N/A"},{"$error":"#N/A"},{"$error":"#N/A"},{"$error":"#N/A"},{"$f":"IF($AK$38=0,TRANSPOSE(MMULT($O$10:$Q$12,TRANSPOSE(C233:E233))),TRANSPOSE(MMULT($O$10:$Q$12,TRANSPOSE(Y233:AA233))))","v":{"$error":"#N/A"}},{"$error":"#N/A"},{"$error":"#N/A"},{"$error":"#N/A"},{"$error":"#N/A"},{"$f":"TRANSPOSE(MMULT($AE$10:$AG$12,TRANSPOSE(F233:H233)))","v":{"$error":"#N/A"}},{"$error":"#N/A"},{"$error":"#N/A"},{"$error":"#N/A"},{"$error":"#N/A"},{"$f":"TRANSPOSE(MMULT($AO$40:$AQ$42,TRANSPOSE(C233:E233)))","v":{"$error":"#N/A"}},{"$error":"#N/A"},{"$error":"#N/A"},{"$error":"#N/A"},{"$error":"#N/A"},{"$error":"#N/A"}]
[234,{"$error":"#N/A"},{"$error":"#N/A"},{"$error":"#N/A"},{"$error":"#N/A"},{"$error":"#N/A"},{"$error":"#N/A"},{"$error":"#N/A"},{"$error":"#N/A"},{"$error":"#N/A"},{"$error":"#N/A"},{"$f":"IF($AK$38=0,TRANSPOSE(MMULT($O$10:$Q$12,TRANSPOSE(C234:E234))),TRANSPOSE(MMULT($O$10:$Q$12,TRANSPOSE(Y234:AA234))))","v":{"$error":"#N/A"}},{"$error":"#N/A"},{"$error":"#N/A"},{"$error":"#N/A"},{"$error":"#N/A"},{"$f":"TRANSPOSE(MMULT($AE$10:$AG$12,TRANSPOSE(F234:H234)))","v":{"$error":"#N/A"}},{"$error":"#N/A"},{"$error":"#N/A"},{"$error":"#N/A"},{"$error":"#N/A"},{"$f":"TRANSPOSE(MMULT($AO$40:$AQ$42,TRANSPOSE(C234:E234)))","v":{"$error":"#N/A"}},{"$error":"#N/A"},{"$error":"#N/A"},{"$error":"#N/A"},{"$error":"#N/A"},{"$error":"#N/A"}]
[235,{"$error":"#N/A"},{"$error":"#N/A"},{"$error":"#N/A"},{"$error":"#N/A"},{"$error":"#N/A"},{"$error":"#N/A"},{"$error":"#N/A"},{"$error":"#N/A"},{"$error":"#N/A"},{"$error":"#N/A"},{"$f":"IF($AK$38=0,TRANSPOSE(MMULT($O$10:$Q$12,TRANSPOSE(C235:E235))),TRANSPOSE(MMULT($O$10:$Q$12,TRANSPOSE(Y235:AA235))))","v":{"$error":"#N/A"}},{"$error":"#N/A"},{"$error":"#N/A"},{"$error":"#N/A"},{"$error":"#N/A"},{"$f":"TRANSPOSE(MMULT($AE$10:$AG$12,TRANSPOSE(F235:H235)))","v":{"$error":"#N/A"}},{"$error":"#N/A"},{"$error":"#N/A"},{"$error":"#N/A"},{"$error":"#N/A"},{"$f":"TRANSPOSE(MMULT($AO$40:$AQ$42,TRANSPOSE(C235:E235)))","v":{"$error":"#N/A"}},{"$error":"#N/A"},{"$error":"#N/A"},{"$error":"#N/A"},{"$error":"#N/A"},{"$error":"#N/A"}]
[236,{"$error":"#N/A"},{"$error":"#N/A"},{"$error":"#N/A"},{"$error":"#N/A"},{"$error":"#N/A"},{"$error":"#N/A"},{"$error":"#N/A"},{"$error":"#N/A"},{"$error":"#N/A"},{"$error":"#N/A"},{"$f":"IF($AK$38=0,TRANSPOSE(MMULT($O$10:$Q$12,TRANSPOSE(C236:E236))),TRANSPOSE(MMULT($O$10:$Q$12,TRANSPOSE(Y236:AA236))))","v":{"$error":"#N/A"}},{"$error":"#N/A"},{"$error":"#N/A"},{"$error":"#N/A"},{"$error":"#N/A"},{"$f":"TRANSPOSE(MMULT($AE$10:$AG$12,TRANSPOSE(F236:H236)))","v":{"$error":"#N/A"}},{"$error":"#N/A"},{"$error":"#N/A"},{"$error":"#N/A"},{"$error":"#N/A"},{"$f":"TRANSPOSE(MMULT($AO$40:$AQ$42,TRANSPOSE(C236:E236)))","v":{"$error":"#N/A"}},{"$error":"#N/A"},{"$error":"#N/A"},{"$error":"#N/A"},{"$error":"#N/A"},{"$error":"#N/A"}]
[237,{"$error":"#N/A"},{"$error":"#N/A"},{"$error":"#N/A"},{"$error":"#N/A"},{"$error":"#N/A"},{"$error":"#N/A"},{"$error":"#N/A"},{"$error":"#N/A"},{"$error":"#N/A"},{"$error":"#N/A"},{"$f":"IF($AK$38=0,TRANSPOSE(MMULT($O$10:$Q$12,TRANSPOSE(C237:E237))),TRANSPOSE(MMULT($O$10:$Q$12,TRANSPOSE(Y237:AA237))))","v":{"$error":"#N/A"}},{"$error":"#N/A"},{"$error":"#N/A"},{"$error":"#N/A"},{"$error":"#N/A"},{"$f":"TRANSPOSE(MMULT($AE$10:$AG$12,TRANSPOSE(F237:H237)))","v":{"$error":"#N/A"}},{"$error":"#N/A"},{"$error":"#N/A"},{"$error":"#N/A"},{"$error":"#N/A"},{"$f":"TRANSPOSE(MMULT($AO$40:$AQ$42,TRANSPOSE(C237:E237)))","v":{"$error":"#N/A"}},{"$error":"#N/A"},{"$error":"#N/A"},{"$error":"#N/A"},{"$error":"#N/A"},{"$error":"#N/A"}]
[238,{"$error":"#N/A"},{"$error":"#N/A"},{"$error":"#N/A"},{"$error":"#N/A"},{"$error":"#N/A"},{"$error":"#N/A"},{"$error":"#N/A"},{"$error":"#N/A"},{"$error":"#N/A"},{"$error":"#N/A"},{"$f":"IF($AK$38=0,TRANSPOSE(MMULT($O$10:$Q$12,TRANSPOSE(C238:E238))),TRANSPOSE(MMULT($O$10:$Q$12,TRANSPOSE(Y238:AA238))))","v":{"$error":"#N/A"}},{"$error":"#N/A"},{"$error":"#N/A"},{"$error":"#N/A"},{"$error":"#N/A"},{"$f":"TRANSPOSE(MMULT($AE$10:$AG$12,TRANSPOSE(F238:H238)))","v":{"$error":"#N/A"}},{"$error":"#N/A"},{"$error":"#N/A"},{"$error":"#N/A"},{"$error":"#N/A"},{"$f":"TRANSPOSE(MMULT($AO$40:$AQ$42,TRANSPOSE(C238:E238)))","v":{"$error":"#N/A"}},{"$error":"#N/A"},{"$error":"#N/A"},{"$error":"#N/A"},{"$error":"#N/A"},{"$error":"#N/A"}]
[239,{"$error":"#N/A"},{"$error":"#N/A"},{"$error":"#N/A"},{"$error":"#N/A"},{"$error":"#N/A"},{"$error":"#N/A"},{"$error":"#N/A"},{"$error":"#N/A"},{"$error":"#N/A"},{"$error":"#N/A"},{"$f":"IF($AK$38=0,TRANSPOSE(MMULT($O$10:$Q$12,TRANSPOSE(C239:E239))),TRANSPOSE(MMULT($O$10:$Q$12,TRANSPOSE(Y239:AA239))))","v":{"$error":"#N/A"}},{"$error":"#N/A"},{"$error":"#N/A"},{"$error":"#N/A"},{"$error":"#N/A"},{"$f":"TRANSPOSE(MMULT($AE$10:$AG$12,TRANSPOSE(F239:H239)))","v":{"$error":"#N/A"}},{"$error":"#N/A"},{"$error":"#N/A"},{"$error":"#N/A"},{"$error":"#N/A"},{"$f":"TRANSPOSE(MMULT($AO$40:$AQ$42,TRANSPOSE(C239:E239)))","v":{"$error":"#N/A"}},{"$error":"#N/A"},{"$error":"#N/A"},{"$error":"#N/A"},{"$error":"#N/A"},{"$error":"#N/A"}]
[240,{"$error":"#N/A"},{"$error":"#N/A"},{"$error":"#N/A"},{"$error":"#N/A"},{"$error":"#N/A"},{"$error":"#N/A"},{"$error":"#N/A"},{"$error":"#N/A"},{"$error":"#N/A"},{"$error":"#N/A"},{"$f":"IF($AK$38=0,TRANSPOSE(MMULT($O$10:$Q$12,TRANSPOSE(C240:E240))),TRANSPOSE(MMULT($O$10:$Q$12,TRANSPOSE(Y240:AA240))))","v":{"$error":"#N/A"}},{"$error":"#N/A"},{"$error":"#N/A"},{"$error":"#N/A"},{"$error":"#N/A"},{"$f":"TRANSPOSE(MMULT($AE$10:$AG$12,TRANSPOSE(F240:H240)))","v":{"$error":"#N/A"}},{"$error":"#N/A"},{"$error":"#N/A"},{"$error":"#N/A"},{"$error":"#N/A"},{"$f":"TRANSPOSE(MMULT($AO$40:$AQ$42,TRANSPOSE(C240:E240)))","v":{"$error":"#N/A"}},{"$error":"#N/A"},{"$error":"#N/A"},{"$error":"#N/A"},{"$error":"#N/A"},{"$error":"#N/A"}]
[241,{"$error":"#N/A"},{"$error":"#N/A"},{"$error":"#N/A"},{"$error":"#N/A"},{"$error":"#N/A"},{"$error":"#N/A"},{"$error":"#N/A"},{"$error":"#N/A"},{"$error":"#N/A"},{"$error":"#N/A"},{"$f":"IF($AK$38=0,TRANSPOSE(MMULT($O$10:$Q$12,TRANSPOSE(C241:E241))),TRANSPOSE(MMULT($O$10:$Q$12,TRANSPOSE(Y241:AA241))))","v":{"$error":"#N/A"}},{"$error":"#N/A"},{"$error":"#N/A"},{"$error":"#N/A"},{"$error":"#N/A"},{"$f":"TRANSPOSE(MMULT($AE$10:$AG$12,TRANSPOSE(F241:H241)))","v":{"$error":"#N/A"}},{"$error":"#N/A"},{"$error":"#N/A"},{"$error":"#N/A"},{"$error":"#N/A"},{"$f":"TRANSPOSE(MMULT($AO$40:$AQ$42,TRANSPOSE(C241:E241)))","v":{"$error":"#N/A"}},{"$error":"#N/A"},{"$error":"#N/A"},{"$error":"#N/A"},{"$error":"#N/A"},{"$error":"#N/A"}]
[242,{"$error":"#N/A"},{"$error":"#N/A"},{"$error":"#N/A"},{"$error":"#N/A"},{"$error":"#N/A"},{"$error":"#N/A"},{"$error":"#N/A"},{"$error":"#N/A"},{"$error":"#N/A"},{"$error":"#N/A"},{"$f":"IF($AK$38=0,TRANSPOSE(MMULT($O$10:$Q$12,TRANSPOSE(C242:E242))),TRANSPOSE(MMULT($O$10:$Q$12,TRANSPOSE(Y242:AA242))))","v":{"$error":"#N/A"}},{"$error":"#N/A"},{"$error":"#N/A"},{"$error":"#N/A"},{"$error":"#N/A"},{"$f":"TRANSPOSE(MMULT($AE$10:$AG$12,TRANSPOSE(F242:H242)))","v":{"$error":"#N/A"}},{"$error":"#N/A"},{"$error":"#N/A"},{"$error":"#N/A"},{"$error":"#N/A"},{"$f":"TRANSPOSE(MMULT($AO$40:$AQ$42,TRANSPOSE(C242:E242)))","v":{"$error":"#N/A"}},{"$error":"#N/A"},{"$error":"#N/A"},{"$error":"#N/A"},{"$error":"#N/A"},{"$error":"#N/A"}]
[243,{"$error":"#N/A"},{"$error":"#N/A"},{"$error":"#N/A"},{"$error":"#N/A"},{"$error":"#N/A"},{"$error":"#N/A"},{"$error":"#N/A"},{"$error":"#N/A"},{"$error":"#N/A"},{"$error":"#N/A"},{"$f":"IF($AK$38=0,TRANSPOSE(MMULT($O$10:$Q$12,TRANSPOSE(C243:E243))),TRANSPOSE(MMULT($O$10:$Q$12,TRANSPOSE(Y243:AA243))))","v":{"$error":"#N/A"}},{"$error":"#N/A"},{"$error":"#N/A"},{"$error":"#N/A"},{"$error":"#N/A"},{"$f":"TRANSPOSE(MMULT($AE$10:$AG$12,TRANSPOSE(F243:H243)))","v":{"$error":"#N/A"}},{"$error":"#N/A"},{"$error":"#N/A"},{"$error":"#N/A"},{"$error":"#N/A"},{"$f":"TRANSPOSE(MMULT($AO$40:$AQ$42,TRANSPOSE(C243:E243)))","v":{"$error":"#N/A"}},{"$error":"#N/A"},{"$error":"#N/A"},{"$error":"#N/A"},{"$error":"#N/A"},{"$error":"#N/A"}]
[244,{"$error":"#N/A"},{"$f":"(C$4+F$4*$B244+I$4*$B244^2+L$4*$B244^3+O$4*$B244^4)+(C$5+F$5*$B244+I$5*$B244^2+L$5*$B244^3+O$5*$B244^5)*(COS(C$6+F$6*$B244+I$6*$B244^2+L$6*$B244^3+O$6*$B244^4))+(C$7+F$7*$B244+I$7*$B244^2+L$7*$B244^3+O$7*$B244^4)*(SIN(C$8+F$8*$B244+I$8*$B244^2+L$8*$B244^3+O$8*$B244^4))","v":{"$error":"#N/A"}},{"$f":"(D$4+G$4*$B244+J$4*$B244^2+M$4*$B244^3+P$4*$B244^4)+(D$5+G$5*$B244+J$5*$B244^2+M$5*$B244^3+P$5*$B244^5)*(COS(D$6+G$6*$B244+J$6*$B244^2+M$6*$B244^3+P$6*$B244^4))+(D$7+G$7*$B244+J$7*$B244^2+M$7*$B244^3+P$7*$B244^4)*(SIN(D$8+G$8*$B244+J$8*$B244^2+M$8*$B244^3+P$8*$B244^4))","v":{"$error":"#N/A"}},{"$f":"(E$4+H$4*$B244+K$4*$B244^2+N$4*$B244^3+Q$4*$B244^4)+(E$5+H$5*$B244+K$5*$B244^2+N$5*$B244^3+Q$5*$B244^5)*(COS(E$6+H$6*$B244+K$6*$B244^2+N$6*$B244^3+Q$6*$B244^4))+(E$7+H$7*$B244+K$7*$B244^2+N$7*$B244^3+Q$7*$B244^4)*(SIN(E$8+H$8*$B244+K$8*$B244^2+N$8*$B244^3+Q$8*$B244^4))","v":{"$error":"#N/A"}},{"$error":"#N/A"},{"$error":"#N/A"},{"$error":"#N/A"},{"$error":"#N/A"},{"$error":"#N/A"},{"$error":"#N/A"},{"$f":"IF($AK$38=0,TRANSPOSE(MMULT($O$10:$Q$12,TRANSPOSE(C244:E244))),TRANSPOSE(MMULT($O$10:$Q$12,TRANSPOSE(Y244:AA244))))","v":{"$error":"#N/A"}},{"$error":"#N/A"},{"$error":"#N/A"},{"$error":"#N/A"},{"$error":"#N/A"},{"$f":"TRANSPOSE(MMULT($AE$10:$AG$12,TRANSPOSE(F244:H244)))","v":{"$error":"#N/A"}},{"$error":"#N/A"},{"$error":"#N/A"},{"$error":"#N/A"},{"$error":"#N/A"},{"$f":"TRANSPOSE(MMULT($AO$40:$AQ$42,TRANSPOSE(C244:E244)))","v":{"$error":"#N/A"}},{"$error":"#N/A"},{"$error":"#N/A"},{"$error":"#N/A"},{"$error":"#N/A"},{"$error":"#N/A"}]
[245,{"$error":"#N/A"},{"$error":"#N/A"},{"$error":"#N/A"},{"$error":"#N/A"},{"$error":"#N/A"},{"$error":"#N/A"},{"$error":"#N/A"},{"$error":"#N/A"},{"$error":"#N/A"},{"$error":"#N/A"},{"$f":"IF($AK$38=0,TRANSPOSE(MMULT($O$10:$Q$12,TRANSPOSE(C245:E245))),TRANSPOSE(MMULT($O$10:$Q$12,TRANSPOSE(Y245:AA245))))","v":{"$error":"#N/A"}},{"$error":"#N/A"},{"$error":"#N/A"},{"$error":"#N/A"},{"$error":"#N/A"},{"$f":"TRANSPOSE(MMULT($AE$10:$AG$12,TRANSPOSE(F245:H245)))","v":{"$error":"#N/A"}},{"$error":"#N/A"},{"$error":"#N/A"},{"$error":"#N/A"},{"$error":"#N/A"},{"$f":"TRANSPOSE(MMULT($AO$40:$AQ$42,TRANSPOSE(C245:E245)))","v":{"$error":"#N/A"}},{"$error":"#N/A"},{"$error":"#N/A"},{"$error":"#N/A"},{"$error":"#N/A"},{"$error":"#N/A"}]
[246,{"$error":"#N/A"},{"$error":"#N/A"},{"$error":"#N/A"},{"$error":"#N/A"},{"$error":"#N/A"},{"$error":"#N/A"},{"$error":"#N/A"},{"$error":"#N/A"},{"$error":"#N/A"},{"$error":"#N/A"},{"$f":"IF($AK$38=0,TRANSPOSE(MMULT($O$10:$Q$12,TRANSPOSE(C246:E246))),TRANSPOSE(MMULT($O$10:$Q$12,TRANSPOSE(Y246:AA246))))","v":{"$error":"#N/A"}},{"$error":"#N/A"},{"$error":"#N/A"},{"$error":"#N/A"},{"$error":"#N/A"},{"$f":"TRANSPOSE(MMULT($AE$10:$AG$12,TRANSPOSE(F246:H246)))","v":{"$error":"#N/A"}},{"$error":"#N/A"},{"$error":"#N/A"},{"$error":"#N/A"},{"$error":"#N/A"},{"$f":"TRANSPOSE(MMULT($AO$40:$AQ$42,TRANSPOSE(C246:E246)))","v":{"$error":"#N/A"}},{"$error":"#N/A"},{"$error":"#N/A"},{"$error":"#N/A"},{"$error":"#N/A"},{"$error":"#N/A"}]
[247,{"$error":"#N/A"},{"$error":"#N/A"},{"$error":"#N/A"},{"$error":"#N/A"},{"$error":"#N/A"},{"$error":"#N/A"},{"$error":"#N/A"},{"$error":"#N/A"},{"$error":"#N/A"},{"$error":"#N/A"},{"$f":"IF($AK$38=0,TRANSPOSE(MMULT($O$10:$Q$12,TRANSPOSE(C247:E247))),TRANSPOSE(MMULT($O$10:$Q$12,TRANSPOSE(Y247:AA247))))","v":{"$error":"#N/A"}},{"$error":"#N/A"},{"$error":"#N/A"},{"$error":"#N/A"},{"$error":"#N/A"},{"$f":"TRANSPOSE(MMULT($AE$10:$AG$12,TRANSPOSE(F247:H247)))","v":{"$error":"#N/A"}},{"$error":"#N/A"},{"$error":"#N/A"},{"$error":"#N/A"},{"$error":"#N/A"},{"$f":"TRANSPOSE(MMULT($AO$40:$AQ$42,TRANSPOSE(C247:E247)))","v":{"$error":"#N/A"}},{"$error":"#N/A"},{"$error":"#N/A"},{"$error":"#N/A"},{"$error":"#N/A"},{"$error":"#N/A"}]
[248,{"$error":"#N/A"},{"$error":"#N/A"},{"$error":"#N/A"},{"$error":"#N/A"},{"$error":"#N/A"},{"$error":"#N/A"},{"$error":"#N/A"},{"$error":"#N/A"},{"$error":"#N/A"},{"$error":"#N/A"},{"$f":"IF($AK$38=0,TRANSPOSE(MMULT($O$10:$Q$12,TRANSPOSE(C248:E248))),TRANSPOSE(MMULT($O$10:$Q$12,TRANSPOSE(Y248:AA248))))","v":{"$error":"#N/A"}},{"$error":"#N/A"},{"$error":"#N/A"},{"$error":"#N/A"},{"$error":"#N/A"},{"$f":"TRANSPOSE(MMULT($AE$10:$AG$12,TRANSPOSE(F248:H248)))","v":{"$error":"#N/A"}},{"$error":"#N/A"},{"$error":"#N/A"},{"$error":"#N/A"},{"$error":"#N/A"},{"$f":"TRANSPOSE(MMULT($AO$40:$AQ$42,TRANSPOSE(C248:E248)))","v":{"$error":"#N/A"}},{"$error":"#N/A"},{"$error":"#N/A"},{"$error":"#N/A"},{"$error":"#N/A"},{"$error":"#N/A"}]
[249,{"$error":"#N/A"},{"$error":"#N/A"},{"$error":"#N/A"},{"$error":"#N/A"},{"$error":"#N/A"},{"$error":"#N/A"},{"$error":"#N/A"},{"$error":"#N/A"},{"$error":"#N/A"},{"$error":"#N/A"},{"$f":"IF($AK$38=0,TRANSPOSE(MMULT($O$10:$Q$12,TRANSPOSE(C249:E249))),TRANSPOSE(MMULT($O$10:$Q$12,TRANSPOSE(Y249:AA249))))","v":{"$error":"#N/A"}},{"$error":"#N/A"},{"$error":"#N/A"},{"$error":"#N/A"},{"$error":"#N/A"},{"$f":"TRANSPOSE(MMULT($AE$10:$AG$12,TRANSPOSE(F249:H249)))","v":{"$error":"#N/A"}},{"$error":"#N/A"},{"$error":"#N/A"},{"$error":"#N/A"},{"$error":"#N/A"},{"$f":"TRANSPOSE(MMULT($AO$40:$AQ$42,TRANSPOSE(C249:E249)))","v":{"$error":"#N/A"}},{"$error":"#N/A"},{"$error":"#N/A"},{"$error":"#N/A"},{"$error":"#N/A"},{"$error":"#N/A"}]
[250,{"$error":"#N/A"},{"$error":"#N/A"},{"$error":"#N/A"},{"$error":"#N/A"},{"$error":"#N/A"},{"$error":"#N/A"},{"$error":"#N/A"},{"$error":"#N/A"},{"$error":"#N/A"},{"$error":"#N/A"},{"$f":"IF($AK$38=0,TRANSPOSE(MMULT($O$10:$Q$12,TRANSPOSE(C250:E250))),TRANSPOSE(MMULT($O$10:$Q$12,TRANSPOSE(Y250:AA250))))","v":{"$error":"#N/A"}},{"$error":"#N/A"},{"$error":"#N/A"},{"$error":"#N/A"},{"$error":"#N/A"},{"$f":"TRANSPOSE(MMULT($AE$10:$AG$12,TRANSPOSE(F250:H250)))","v":{"$error":"#N/A"}},{"$error":"#N/A"},{"$error":"#N/A"},{"$error":"#N/A"},{"$error":"#N/A"},{"$f":"TRANSPOSE(MMULT($AO$40:$AQ$42,TRANSPOSE(C250:E250)))","v":{"$error":"#N/A"}},{"$error":"#N/A"},{"$error":"#N/A"},{"$error":"#N/A"},{"$error":"#N/A"},{"$error":"#N/A"}]
[251,{"$error":"#N/A"},{"$error":"#N/A"},{"$error":"#N/A"},{"$error":"#N/A"},{"$error":"#N/A"},{"$error":"#N/A"},{"$error":"#N/A"},{"$error":"#N/A"},{"$error":"#N/A"},{"$error":"#N/A"},{"$f":"IF($AK$38=0,TRANSPOSE(MMULT($O$10:$Q$12,TRANSPOSE(C251:E251))),TRANSPOSE(MMULT($O$10:$Q$12,TRANSPOSE(Y251:AA251))))","v":{"$error":"#N/A"}},{"$error":"#N/A"},{"$error":"#N/A"},{"$error":"#N/A"},{"$error":"#N/A"},{"$f":"TRANSPOSE(MMULT($AE$10:$AG$12,TRANSPOSE(F251:H251)))","v":{"$error":"#N/A"}},{"$error":"#N/A"},{"$error":"#N/A"},{"$error":"#N/A"},{"$error":"#N/A"},{"$f":"TRANSPOSE(MMULT($AO$40:$AQ$42,TRANSPOSE(C251:E251)))","v":{"$error":"#N/A"}},{"$error":"#N/A"},{"$error":"#N/A"},{"$error":"#N/A"},{"$error":"#N/A"},{"$error":"#N/A"}]
[252,{"$error":"#N/A"},{"$error":"#N/A"},{"$error":"#N/A"},{"$error":"#N/A"},{"$error":"#N/A"},{"$error":"#N/A"},{"$error":"#N/A"},{"$error":"#N/A"},{"$error":"#N/A"},{"$error":"#N/A"},{"$f":"IF($AK$38=0,TRANSPOSE(MMULT($O$10:$Q$12,TRANSPOSE(C252:E252))),TRANSPOSE(MMULT($O$10:$Q$12,TRANSPOSE(Y252:AA252))))","v":{"$error":"#N/A"}},{"$error":"#N/A"},{"$error":"#N/A"},{"$error":"#N/A"},{"$error":"#N/A"},{"$f":"TRANSPOSE(MMULT($AE$10:$AG$12,TRANSPOSE(F252:H252)))","v":{"$error":"#N/A"}},{"$error":"#N/A"},{"$error":"#N/A"},{"$error":"#N/A"},{"$error":"#N/A"},{"$f":"TRANSPOSE(MMULT($AO$40:$AQ$42,TRANSPOSE(C252:E252)))","v":{"$error":"#N/A"}},{"$error":"#N/A"},{"$error":"#N/A"},{"$error":"#N/A"},{"$error":"#N/A"},{"$error":"#N/A"}]
[253,{"$error":"#N/A"},{"$error":"#N/A"},{"$error":"#N/A"},{"$error":"#N/A"},{"$error":"#N/A"},{"$error":"#N/A"},{"$error":"#N/A"},{"$error":"#N/A"},{"$error":"#N/A"},{"$error":"#N/A"},{"$f":"IF($AK$38=0,TRANSPOSE(MMULT($O$10:$Q$12,TRANSPOSE(C253:E253))),TRANSPOSE(MMULT($O$10:$Q$12,TRANSPOSE(Y253:AA253))))","v":{"$error":"#N/A"}},{"$error":"#N/A"},{"$error":"#N/A"},{"$error":"#N/A"},{"$error":"#N/A"},{"$f":"TRANSPOSE(MMULT($AE$10:$AG$12,TRANSPOSE(F253:H253)))","v":{"$error":"#N/A"}},{"$error":"#N/A"},{"$error":"#N/A"},{"$error":"#N/A"},{"$error":"#N/A"},{"$f":"TRANSPOSE(MMULT($AO$40:$AQ$42,TRANSPOSE(C253:E253)))","v":{"$error":"#N/A"}},{"$error":"#N/A"},{"$error":"#N/A"},{"$error":"#N/A"},{"$error":"#N/A"},{"$error":"#N/A"}]
[254,{"$error":"#N/A"},{"$error":"#N/A"},{"$error":"#N/A"},{"$error":"#N/A"},{"$error":"#N/A"},{"$error":"#N/A"},{"$error":"#N/A"},{"$error":"#N/A"},{"$error":"#N/A"},{"$error":"#N/A"},{"$f":"IF($AK$38=0,TRANSPOSE(MMULT($O$10:$Q$12,TRANSPOSE(C254:E254))),TRANSPOSE(MMULT($O$10:$Q$12,TRANSPOSE(Y254:AA254))))","v":{"$error":"#N/A"}},{"$error":"#N/A"},{"$error":"#N/A"},{"$error":"#N/A"},{"$error":"#N/A"},{"$f":"TRANSPOSE(MMULT($AE$10:$AG$12,TRANSPOSE(F254:H254)))","v":{"$error":"#N/A"}},{"$error":"#N/A"},{"$error":"#N/A"},{"$error":"#N/A"},{"$error":"#N/A"},{"$f":"TRANSPOSE(MMULT($AO$40:$AQ$42,TRANSPOSE(C254:E254)))","v":{"$error":"#N/A"}},{"$error":"#N/A"},{"$error":"#N/A"},{"$error":"#N/A"},{"$error":"#N/A"},{"$error":"#N/A"}]
[255,{"$error":"#N/A"},{"$error":"#N/A"},{"$error":"#N/A"},{"$error":"#N/A"},{"$error":"#N/A"},{"$error":"#N/A"},{"$error":"#N/A"},{"$error":"#N/A"},{"$error":"#N/A"},{"$error":"#N/A"},{"$f":"IF($AK$38=0,TRANSPOSE(MMULT($O$10:$Q$12,TRANSPOSE(C255:E255))),TRANSPOSE(MMULT($O$10:$Q$12,TRANSPOSE(Y255:AA255))))","v":{"$error":"#N/A"}},{"$error":"#N/A"},{"$error":"#N/A"},{"$error":"#N/A"},{"$error":"#N/A"},{"$f":"TRANSPOSE(MMULT($AE$10:$AG$12,TRANSPOSE(F255:H255)))","v":{"$error":"#N/A"}},{"$error":"#N/A"},{"$error":"#N/A"},{"$error":"#N/A"},{"$error":"#N/A"},{"$f":"TRANSPOSE(MMULT($AO$40:$AQ$42,TRANSPOSE(C255:E255)))","v":{"$error":"#N/A"}},{"$error":"#N/A"},{"$error":"#N/A"},{"$error":"#N/A"},{"$error":"#N/A"},{"$error":"#N/A"}]
[256,{"$error":"#N/A"},{"$error":"#N/A"},{"$error":"#N/A"},{"$error":"#N/A"},{"$error":"#N/A"},{"$error":"#N/A"},{"$error":"#N/A"},{"$error":"#N/A"},{"$error":"#N/A"},{"$error":"#N/A"},{"$f":"IF($AK$38=0,TRANSPOSE(MMULT($O$10:$Q$12,TRANSPOSE(C256:E256))),TRANSPOSE(MMULT($O$10:$Q$12,TRANSPOSE(Y256:AA256))))","v":{"$error":"#N/A"}},{"$error":"#N/A"},{"$error":"#N/A"},{"$error":"#N/A"},{"$error":"#N/A"},{"$f":"TRANSPOSE(MMULT($AE$10:$AG$12,TRANSPOSE(F256:H256)))","v":{"$error":"#N/A"}},{"$error":"#N/A"},{"$error":"#N/A"},{"$error":"#N/A"},{"$error":"#N/A"},{"$f":"TRANSPOSE(MMULT($AO$40:$AQ$42,TRANSPOSE(C256:E256)))","v":{"$error":"#N/A"}},{"$error":"#N/A"},{"$error":"#N/A"},{"$error":"#N/A"},{"$error":"#N/A"},{"$error":"#N/A"}]
[257,{"$error":"#N/A"},{"$error":"#N/A"},{"$error":"#N/A"},{"$error":"#N/A"},{"$error":"#N/A"},{"$error":"#N/A"},{"$error":"#N/A"},{"$error":"#N/A"},{"$error":"#N/A"},{"$error":"#N/A"},{"$f":"IF($AK$38=0,TRANSPOSE(MMULT($O$10:$Q$12,TRANSPOSE(C257:E257))),TRANSPOSE(MMULT($O$10:$Q$12,TRANSPOSE(Y257:AA257))))","v":{"$error":"#N/A"}},{"$error":"#N/A"},{"$error":"#N/A"},{"$error":"#N/A"},{"$error":"#N/A"},{"$f":"TRANSPOSE(MMULT($AE$10:$AG$12,TRANSPOSE(F257:H257)))","v":{"$error":"#N/A"}},{"$error":"#N/A"},{"$error":"#N/A"},{"$error":"#N/A"},{"$error":"#N/A"},{"$f":"TRANSPOSE(MMULT($AO$40:$AQ$42,TRANSPOSE(C257:E257)))","v":{"$error":"#N/A"}},{"$error":"#N/A"},{"$error":"#N/A"},{"$error":"#N/A"},{"$error":"#N/A"},{"$error":"#N/A"}]
[258,{"$error":"#N/A"},{"$error":"#N/A"},{"$error":"#N/A"},{"$error":"#N/A"},{"$error":"#N/A"},{"$error":"#N/A"},{"$error":"#N/A"},{"$error":"#N/A"},{"$error":"#N/A"},{"$error":"#N/A"},{"$f":"IF($AK$38=0,TRANSPOSE(MMULT($O$10:$Q$12,TRANSPOSE(C258:E258))),TRANSPOSE(MMULT($O$10:$Q$12,TRANSPOSE(Y258:AA258))))","v":{"$error":"#N/A"}},{"$error":"#N/A"},{"$error":"#N/A"},{"$error":"#N/A"},{"$error":"#N/A"},{"$f":"TRANSPOSE(MMULT($AE$10:$AG$12,TRANSPOSE(F258:H258)))","v":{"$error":"#N/A"}},{"$error":"#N/A"},{"$error":"#N/A"},{"$error":"#N/A"},{"$error":"#N/A"},{"$f":"TRANSPOSE(MMULT($AO$40:$AQ$42,TRANSPOSE(C258:E258)))","v":{"$error":"#N/A"}},{"$error":"#N/A"},{"$error":"#N/A"},{"$error":"#N/A"},{"$error":"#N/A"},{"$error":"#N/A"}]
[259,{"$error":"#N/A"},{"$error":"#N/A"},{"$error":"#N/A"},{"$error":"#N/A"},{"$error":"#N/A"},{"$error":"#N/A"},{"$error":"#N/A"},{"$error":"#N/A"},{"$error":"#N/A"},{"$error":"#N/A"},{"$f":"IF($AK$38=0,TRANSPOSE(MMULT($O$10:$Q$12,TRANSPOSE(C259:E259))),TRANSPOSE(MMULT($O$10:$Q$12,TRANSPOSE(Y259:AA259))))","v":{"$error":"#N/A"}},{"$error":"#N/A"},{"$error":"#N/A"},{"$error":"#N/A"},{"$error":"#N/A"},{"$f":"TRANSPOSE(MMULT($AE$10:$AG$12,TRANSPOSE(F259:H259)))","v":{"$error":"#N/A"}},{"$error":"#N/A"},{"$error":"#N/A"},{"$error":"#N/A"},{"$error":"#N/A"},{"$f":"TRANSPOSE(MMULT($AO$40:$AQ$42,TRANSPOSE(C259:E259)))","v":{"$error":"#N/A"}},{"$error":"#N/A"},{"$error":"#N/A"},{"$error":"#N/A"},{"$error":"#N/A"},{"$error":"#N/A"}]
[260,{"$error":"#N/A"},{"$error":"#N/A"},{"$error":"#N/A"},{"$error":"#N/A"},{"$error":"#N/A"},{"$error":"#N/A"},{"$error":"#N/A"},{"$error":"#N/A"},{"$error":"#N/A"},{"$error":"#N/A"},{"$f":"IF($AK$38=0,TRANSPOSE(MMULT($O$10:$Q$12,TRANSPOSE(C260:E260))),TRANSPOSE(MMULT($O$10:$Q$12,TRANSPOSE(Y260:AA260))))","v":{"$error":"#N/A"}},{"$error":"#N/A"},{"$error":"#N/A"},{"$error":"#N/A"},{"$error":"#N/A"},{"$f":"TRANSPOSE(MMULT($AE$10:$AG$12,TRANSPOSE(F260:H260)))","v":{"$error":"#N/A"}},{"$error":"#N/A"},{"$error":"#N/A"},{"$error":"#N/A"},{"$error":"#N/A"},{"$f":"TRANSPOSE(MMULT($AO$40:$AQ$42,TRANSPOSE(C260:E260)))","v":{"$error":"#N/A"}},{"$error":"#N/A"},{"$error":"#N/A"},{"$error":"#N/A"},{"$error":"#N/A"},{"$error":"#N/A"}]
[261,{"$error":"#N/A"},{"$error":"#N/A"},{"$error":"#N/A"},{"$error":"#N/A"},{"$error":"#N/A"},{"$error":"#N/A"},{"$error":"#N/A"},{"$error":"#N/A"},{"$error":"#N/A"},{"$error":"#N/A"},{"$f":"IF($AK$38=0,TRANSPOSE(MMULT($O$10:$Q$12,TRANSPOSE(C261:E261))),TRANSPOSE(MMULT($O$10:$Q$12,TRANSPOSE(Y261:AA261))))","v":{"$error":"#N/A"}},{"$error":"#N/A"},{"$error":"#N/A"},{"$error":"#N/A"},{"$error":"#N/A"},{"$f":"TRANSPOSE(MMULT($AE$10:$AG$12,TRANSPOSE(F261:H261)))","v":{"$error":"#N/A"}},{"$error":"#N/A"},{"$error":"#N/A"},{"$error":"#N/A"},{"$error":"#N/A"},{"$f":"TRANSPOSE(MMULT($AO$40:$AQ$42,TRANSPOSE(C261:E261)))","v":{"$error":"#N/A"}},{"$error":"#N/A"},{"$error":"#N/A"},{"$error":"#N/A"},{"$error":"#N/A"},{"$error":"#N/A"}]
[262,{"$error":"#N/A"},{"$error":"#N/A"},{"$error":"#N/A"},{"$error":"#N/A"},{"$error":"#N/A"},{"$error":"#N/A"},{"$error":"#N/A"},{"$error":"#N/A"},{"$error":"#N/A"},{"$error":"#N/A"},{"$f":"IF($AK$38=0,TRANSPOSE(MMULT($O$10:$Q$12,TRANSPOSE(C262:E262))),TRANSPOSE(MMULT($O$10:$Q$12,TRANSPOSE(Y262:AA262))))","v":{"$error":"#N/A"}},{"$error":"#N/A"},{"$error":"#N/A"},{"$error":"#N/A"},{"$error":"#N/A"},{"$f":"TRANSPOSE(MMULT($AE$10:$AG$12,TRANSPOSE(F262:H262)))","v":{"$error":"#N/A"}},{"$error":"#N/A"},{"$error":"#N/A"},{"$error":"#N/A"},{"$error":"#N/A"},{"$f":"TRANSPOSE(MMULT($AO$40:$AQ$42,TRANSPOSE(C262:E262)))","v":{"$error":"#N/A"}},{"$error":"#N/A"},{"$error":"#N/A"},{"$error":"#N/A"},{"$error":"#N/A"},{"$error":"#N/A"}]
[263,{"$error":"#N/A"},{"$error":"#N/A"},{"$error":"#N/A"},{"$error":"#N/A"},{"$error":"#N/A"},{"$error":"#N/A"},{"$error":"#N/A"},{"$error":"#N/A"},{"$error":"#N/A"},{"$error":"#N/A"},{"$f":"IF($AK$38=0,TRANSPOSE(MMULT($O$10:$Q$12,TRANSPOSE(C263:E263))),TRANSPOSE(MMULT($O$10:$Q$12,TRANSPOSE(Y263:AA263))))","v":{"$error":"#N/A"}},{"$error":"#N/A"},{"$error":"#N/A"},{"$error":"#N/A"},{"$error":"#N/A"},{"$f":"TRANSPOSE(MMULT($AE$10:$AG$12,TRANSPOSE(F263:H263)))","v":{"$error":"#N/A"}},{"$error":"#N/A"},{"$error":"#N/A"},{"$error":"#N/A"},{"$error":"#N/A"},{"$f":"TRANSPOSE(MMULT($AO$40:$AQ$42,TRANSPOSE(C263:E263)))","v":{"$error":"#N/A"}},{"$error":"#N/A"},{"$error":"#N/A"},{"$error":"#N/A"},{"$error":"#N/A"},{"$error":"#N/A"}]
[264,{"$error":"#N/A"},{"$error":"#N/A"},{"$error":"#N/A"},{"$error":"#N/A"},{"$error":"#N/A"},{"$error":"#N/A"},{"$error":"#N/A"},{"$error":"#N/A"},{"$error":"#N/A"},{"$error":"#N/A"},{"$f":"IF($AK$38=0,TRANSPOSE(MMULT($O$10:$Q$12,TRANSPOSE(C264:E264))),TRANSPOSE(MMULT($O$10:$Q$12,TRANSPOSE(Y264:AA264))))","v":{"$error":"#N/A"}},{"$error":"#N/A"},{"$error":"#N/A"},{"$error":"#N/A"},{"$error":"#N/A"},{"$f":"TRANSPOSE(MMULT($AE$10:$AG$12,TRANSPOSE(F264:H264)))","v":{"$error":"#N/A"}},{"$error":"#N/A"},{"$error":"#N/A"},{"$error":"#N/A"},{"$error":"#N/A"},{"$f":"TRANSPOSE(MMULT($AO$40:$AQ$42,TRANSPOSE(C264:E264)))","v":{"$error":"#N/A"}},{"$error":"#N/A"},{"$error":"#N/A"},{"$error":"#N/A"},{"$error":"#N/A"},{"$error":"#N/A"}]
[265,{"$error":"#N/A"},{"$error":"#N/A"},{"$error":"#N/A"},{"$error":"#N/A"},{"$error":"#N/A"},{"$error":"#N/A"},{"$error":"#N/A"},{"$error":"#N/A"},{"$error":"#N/A"},{"$error":"#N/A"},{"$f":"IF($AK$38=0,TRANSPOSE(MMULT($O$10:$Q$12,TRANSPOSE(C265:E265))),TRANSPOSE(MMULT($O$10:$Q$12,TRANSPOSE(Y265:AA265))))","v":{"$error":"#N/A"}},{"$error":"#N/A"},{"$error":"#N/A"},{"$error":"#N/A"},{"$error":"#N/A"},{"$f":"TRANSPOSE(MMULT($AE$10:$AG$12,TRANSPOSE(F265:H265)))","v":{"$error":"#N/A"}},{"$error":"#N/A"},{"$error":"#N/A"},{"$error":"#N/A"},{"$error":"#N/A"},{"$f":"TRANSPOSE(MMULT($AO$40:$AQ$42,TRANSPOSE(C265:E265)))","v":{"$error":"#N/A"}},{"$error":"#N/A"},{"$error":"#N/A"},{"$error":"#N/A"},{"$error":"#N/A"},{"$error":"#N/A"}]
[266,{"$error":"#N/A"},{"$error":"#N/A"},{"$error":"#N/A"},{"$error":"#N/A"},{"$error":"#N/A"},{"$error":"#N/A"},{"$error":"#N/A"},{"$error":"#N/A"},{"$error":"#N/A"},{"$error":"#N/A"},{"$f":"IF($AK$38=0,TRANSPOSE(MMULT($O$10:$Q$12,TRANSPOSE(C266:E266))),TRANSPOSE(MMULT($O$10:$Q$12,TRANSPOSE(Y266:AA266))))","v":{"$error":"#N/A"}},{"$error":"#N/A"},{"$error":"#N/A"},{"$error":"#N/A"},{"$error":"#N/A"},{"$f":"TRANSPOSE(MMULT($AE$10:$AG$12,TRANSPOSE(F266:H266)))","v":{"$error":"#N/A"}},{"$error":"#N/A"},{"$error":"#N/A"},{"$error":"#N/A"},{"$error":"#N/A"},{"$f":"TRANSPOSE(MMULT($AO$40:$AQ$42,TRANSPOSE(C266:E266)))","v":{"$error":"#N/A"}},{"$error":"#N/A"},{"$error":"#N/A"},{"$error":"#N/A"},{"$error":"#N/A"},{"$error":"#N/A"}]
[267,{"$error":"#N/A"},{"$error":"#N/A"},{"$error":"#N/A"},{"$error":"#N/A"},{"$error":"#N/A"},{"$error":"#N/A"},{"$error":"#N/A"},{"$error":"#N/A"},{"$error":"#N/A"},{"$error":"#N/A"},{"$f":"IF($AK$38=0,TRANSPOSE(MMULT($O$10:$Q$12,TRANSPOSE(C267:E267))),TRANSPOSE(MMULT($O$10:$Q$12,TRANSPOSE(Y267:AA267))))","v":{"$error":"#N/A"}},{"$error":"#N/A"},{"$error":"#N/A"},{"$error":"#N/A"},{"$error":"#N/A"},{"$f":"TRANSPOSE(MMULT($AE$10:$AG$12,TRANSPOSE(F267:H267)))","v":{"$error":"#N/A"}},{"$error":"#N/A"},{"$error":"#N/A"},{"$error":"#N/A"},{"$error":"#N/A"},{"$f":"TRANSPOSE(MMULT($AO$40:$AQ$42,TRANSPOSE(C267:E267)))","v":{"$error":"#N/A"}},{"$error":"#N/A"},{"$error":"#N/A"},{"$error":"#N/A"},{"$error":"#N/A"},{"$error":"#N/A"}]
[268,{"$error":"#N/A"},{"$error":"#N/A"},{"$error":"#N/A"},{"$error":"#N/A"},{"$error":"#N/A"},{"$error":"#N/A"},{"$error":"#N/A"},{"$error":"#N/A"},{"$error":"#N/A"},{"$error":"#N/A"},{"$f":"IF($AK$38=0,TRANSPOSE(MMULT($O$10:$Q$12,TRANSPOSE(C268:E268))),TRANSPOSE(MMULT($O$10:$Q$12,TRANSPOSE(Y268:AA268))))","v":{"$error":"#N/A"}},{"$error":"#N/A"},{"$error":"#N/A"},{"$error":"#N/A"},{"$error":"#N/A"},{"$f":"TRANSPOSE(MMULT($AE$10:$AG$12,TRANSPOSE(F268:H268)))","v":{"$error":"#N/A"}},{"$error":"#N/A"},{"$error":"#N/A"},{"$error":"#N/A"},{"$error":"#N/A"},{"$f":"TRANSPOSE(MMULT($AO$40:$AQ$42,TRANSPOSE(C268:E268)))","v":{"$error":"#N/A"}},{"$error":"#N/A"},{"$error":"#N/A"},{"$error":"#N/A"},{"$error":"#N/A"},{"$error":"#N/A"}]
[269,{"$error":"#N/A"},{"$error":"#N/A"},{"$error":"#N/A"},{"$error":"#N/A"},{"$error":"#N/A"},{"$error":"#N/A"},{"$error":"#N/A"},{"$error":"#N/A"},{"$error":"#N/A"},{"$error":"#N/A"},{"$f":"IF($AK$38=0,TRANSPOSE(MMULT($O$10:$Q$12,TRANSPOSE(C269:E269))),TRANSPOSE(MMULT($O$10:$Q$12,TRANSPOSE(Y269:AA269))))","v":{"$error":"#N/A"}},{"$error":"#N/A"},{"$error":"#N/A"},{"$error":"#N/A"},{"$error":"#N/A"},{"$f":"TRANSPOSE(MMULT($AE$10:$AG$12,TRANSPOSE(F269:H269)))","v":{"$error":"#N/A"}},{"$error":"#N/A"},{"$error":"#N/A"},{"$error":"#N/A"},{"$error":"#N/A"},{"$f":"TRANSPOSE(MMULT($AO$40:$AQ$42,TRANSPOSE(C269:E269)))","v":{"$error":"#N/A"}},{"$error":"#N/A"},{"$error":"#N/A"},{"$error":"#N/A"},{"$error":"#N/A"},{"$error":"#N/A"}]
[270,{"$error":"#N/A"},{"$error":"#N/A"},{"$error":"#N/A"},{"$error":"#N/A"},{"$error":"#N/A"},{"$error":"#N/A"},{"$error":"#N/A"},{"$error":"#N/A"},{"$error":"#N/A"},{"$error":"#N/A"},{"$f":"IF($AK$38=0,TRANSPOSE(MMULT($O$10:$Q$12,TRANSPOSE(C270:E270))),TRANSPOSE(MMULT($O$10:$Q$12,TRANSPOSE(Y270:AA270))))","v":{"$error":"#N/A"}},{"$error":"#N/A"},{"$error":"#N/A"},{"$error":"#N/A"},{"$error":"#N/A"},{"$f":"TRANSPOSE(MMULT($AE$10:$AG$12,TRANSPOSE(F270:H270)))","v":{"$error":"#N/A"}},{"$error":"#N/A"},{"$error":"#N/A"},{"$error":"#N/A"},{"$error":"#N/A"},{"$f":"TRANSPOSE(MMULT($AO$40:$AQ$42,TRANSPOSE(C270:E270)))","v":{"$error":"#N/A"}},{"$error":"#N/A"},{"$error":"#N/A"},{"$error":"#N/A"},{"$error":"#N/A"},{"$error":"#N/A"}]
[271,{"$error":"#N/A"},{"$error":"#N/A"},{"$error":"#N/A"},{"$error":"#N/A"},{"$error":"#N/A"},{"$error":"#N/A"},{"$error":"#N/A"},{"$error":"#N/A"},{"$error":"#N/A"},{"$error":"#N/A"},{"$f":"IF($AK$38=0,TRANSPOSE(MMULT($O$10:$Q$12,TRANSPOSE(C271:E271))),TRANSPOSE(MMULT($O$10:$Q$12,TRANSPOSE(Y271:AA271))))","v":{"$error":"#N/A"}},{"$error":"#N/A"},{"$error":"#N/A"},{"$error":"#N/A"},{"$error":"#N/A"},{"$f":"TRANSPOSE(MMULT($AE$10:$AG$12,TRANSPOSE(F271:H271)))","v":{"$error":"#N/A"}},{"$error":"#N/A"},{"$error":"#N/A"},{"$error":"#N/A"},{"$error":"#N/A"},{"$f":"TRANSPOSE(MMULT($AO$40:$AQ$42,TRANSPOSE(C271:E271)))","v":{"$error":"#N/A"}},{"$error":"#N/A"},{"$error":"#N/A"},{"$error":"#N/A"},{"$error":"#N/A"},{"$error":"#N/A"}]
[272,{"$error":"#N/A"},{"$error":"#N/A"},{"$error":"#N/A"},{"$error":"#N/A"},{"$f":"(F$7+2*I$7*$B272+3*L$7*$B272^2+4*O$7*$B272^3)*SIN(O$8*$B272^4+L$8*$B272^3+I$8*$B272^2+F$8*$B272+C$8)+(F$8+2*I$8*$B272+3*L$8*$B272^2+4*O$8*$B272^3)*(C$7+F$7*$B272+I$7*$B272^2+L$7*$B272^3+O$7*$B272^4)*COS(O$8*$B272^4+L$8*$B272^3+I$8*$B272^2+F$8*$B272+C$8)-(F$6+2*I$6*$B272+3*L$6*$B272^2+4*O$6*$B272^3)*(C$5+F$5*$B272+I$5*$B272^2+L$5*$B272^3+O$5*$B272^4)*SIN(O$6*$B272^4+L$6*$B272^3+I$6*$B272^2+F$6*$B272+C$6)+(F$5+2*I$5*$B272+3*L$5*$B272^2+4*O$5*$B272^3)*COS(O$6*$B272^4+L$6*$B272^3+I$6*$B272^2+F$6*$B272+C$6)+4*O$4*$B272^3+3*L$4*$B272^2+2*I$4*$B272+F$4","v":{"$error":"#N/A"}},{"$f":"(G$7+2*J$7*$B272+3*M$7*$B272^2+4*P$7*$B272^3)*SIN(P$8*$B272^4+M$8*$B272^3+J$8*$B272^2+G$8*$B272+D$8)+(G$8+2*J$8*$B272+3*M$8*$B272^2+4*P$8*$B272^3)*(D$7+G$7*$B272+J$7*$B272^2+M$7*$B272^3+P$7*$B272^4)*COS(P$8*$B272^4+M$8*$B272^3+J$8*$B272^2+G$8*$B272+D$8)-(G$6+2*J$6*$B272+3*M$6*$B272^2+4*P$6*$B272^3)*(D$5+G$5*$B272+J$5*$B272^2+M$5*$B272^3+P$5*$B272^4)*SIN(P$6*$B272^4+M$6*$B272^3+J$6*$B272^2+G$6*$B272+D$6)+(G$5+2*J$5*$B272+3*M$5*$B272^2+4*P$5*$B272^3)*COS(P$6*$B272^4+M$6*$B272^3+J$6*$B272^2+G$6*$B272+D$6)+4*P$4*$B272^3+3*M$4*$B272^2+2*J$4*$B272+G$4","v":{"$error":"#N/A"}},{"$f":"(H$7+2*K$7*$B272+3*N$7*$B272^2+4*Q$7*$B272^3)*SIN(Q$8*$B272^4+N$8*$B272^3+K$8*$B272^2+H$8*$B272+E$8)+(H$8+2*K$8*$B272+3*N$8*$B272^2+4*Q$8*$B272^3)*(E$7+H$7*$B272+K$7*$B272^2+N$7*$B272^3+Q$7*$B272^4)*COS(Q$8*$B272^4+N$8*$B272^3+K$8*$B272^2+H$8*$B272+E$8)-(H$6+2*K$6*$B272+3*N$6*$B272^2+4*Q$6*$B272^3)*(E$5+H$5*$B272+K$5*$B272^2+N$5*$B272^3+Q$5*$B272^4)*SIN(Q$6*$B272^4+N$6*$B272^3+K$6*$B272^2+H$6*$B272+E$6)+(H$5+2*K$5*$B272+3*N$5*$B272^2+4*Q$5*$B272^3)*COS(Q$6*$B272^4+N$6*$B272^3+K$6*$B272^2+H$6*$B272+E$6)+4*Q$4*$B272^3+3*N$4*$B272^2+2*K$4*$B272+H$4","v":{"$error":"#N/A"}},{"$f":"-1*(F$8+2*I$8*$B272+3*L$8*$B272^2+4*O$8*$B272^3)^2*(C$7+F$7*$B272+I$7*$B272^2+L$7*$B272^3+O$7*$B272^4)*SIN(O$8*$B272^4+L$8*$B272^3+I$8*$B272^2+F$8*$B272+C$8)+(2*I$7+6*L$7*$B272+12*O$7*$B272^2)*SIN(O$8*$B272^4+L$8*$B272^3+I$8*$B272^2+F$8*$B272+C$8)+(2*I$8+6*L$8*$B272+12*O$8*$B272^2)*(C$7+F$7*$B272+I$7*$B272^2+L$7*$B272^3+O$7*$B272^4)*COS(O$8*$B272^4+L$8*$B272^3+I$8*$B272^2+F$8*$B272+C$8)+2*(F$7+2*I$7*$B272+3*L$7*$B272^2+4*O$7*$B272^3)*(F$8+2*I$8*$B272+3*L$8*$B272^2+4*O$8*$B272^3)*COS(O$8*$B272^4+L$8*$B272^3+I$8*$B272^2+F$8*$B272+C$8)-(2*I$6+6*L$6*$B272+12*O$6*$B272^2)*(C$5+F$5*$B272+I$5*$B272^2+L$5*$B272^3+O$5*$B272^4)*SIN(O$6*$B272^4+L$6*$B272^3+I$6*$B272^2+F$6*$B272+C$6)-2*(F$5+2*I$5*$B272+3*L$5*$B272^2+4*O$5*$B272^3)*(F$6+2*I$6*$B272+3*L$6*$B272^2+4*O$6*$B272^3)*SIN(O$6*$B272^4+L$6*$B272^3+I$6*$B272^2+F$6*$B272+C$6)-(F$6+2*I$6*$B272+3*L$6*$B272^2+4*O$6*$B272^3)^2*(C$5+F$5*$B272+I$5*$B272^2+L$5*$B272^3+O$5*$B272^4)*COS(O$6*$B272^4+L$6*$B272^3+I$6*$B272^2+F$6*$B272+C$6)+(2*I$5+6*L$5*$B272+12*O$5*$B272^2)*COS(O$6*$B272^4+L$6*$B272^3+I$6*$B272^2+F$6*$B272+C$6)+12*O$4*$B272^2+6*L$4*$B272+2*I$4","v":{"$error":"#N/A"}},{"$f":"-1*(G$8+2*J$8*$B272+3*M$8*$B272^2+4*P$8*$B272^3)^2*(D$7+G$7*$B272+J$7*$B272^2+M$7*$B272^3+P$7*$B272^4)*SIN(P$8*$B272^4+M$8*$B272^3+J$8*$B272^2+G$8*$B272+D$8)+(2*J$7+6*M$7*$B272+12*P$7*$B272^2)*SIN(P$8*$B272^4+M$8*$B272^3+J$8*$B272^2+G$8*$B272+D$8)+(2*J$8+6*M$8*$B272+12*P$8*$B272^2)*(D$7+G$7*$B272+J$7*$B272^2+M$7*$B272^3+P$7*$B272^4)*COS(P$8*$B272^4+M$8*$B272^3+J$8*$B272^2+G$8*$B272+D$8)+2*(G$7+2*J$7*$B272+3*M$7*$B272^2+4*P$7*$B272^3)*(G$8+2*J$8*$B272+3*M$8*$B272^2+4*P$8*$B272^3)*COS(P$8*$B272^4+M$8*$B272^3+J$8*$B272^2+G$8*$B272+D$8)-(2*J$6+6*M$6*$B272+12*P$6*$B272^2)*(D$5+G$5*$B272+J$5*$B272^2+M$5*$B272^3+P$5*$B272^4)*SIN(P$6*$B272^4+M$6*$B272^3+J$6*$B272^2+G$6*$B272+D$6)-2*(G$5+2*J$5*$B272+3*M$5*$B272^2+4*P$5*$B272^3)*(G$6+2*J$6*$B272+3*M$6*$B272^2+4*P$6*$B272^3)*SIN(P$6*$B272^4+M$6*$B272^3+J$6*$B272^2+G$6*$B272+D$6)-(G$6+2*J$6*$B272+3*M$6*$B272^2+4*P$6*$B272^3)^2*(D$5+G$5*$B272+J$5*$B272^2+M$5*$B272^3+P$5*$B272^4)*COS(P$6*$B272^4+M$6*$B272^3+J$6*$B272^2+G$6*$B272+D$6)+(2*J$5+6*M$5*$B272+12*P$5*$B272^2)*COS(P$6*$B272^4+M$6*$B272^3+J$6*$B272^2+G$6*$B272+D$6)+12*P$4*$B272^2+6*M$4*$B272+2*J$4","v":{"$error":"#N/A"}},{"$f":"-1*(H$8+2*K$8*$B272+3*N$8*$B272^2+4*Q$8*$B272^3)^2*(E$7+H$7*$B272+K$7*$B272^2+N$7*$B272^3+Q$7*$B272^4)*SIN(Q$8*$B272^4+N$8*$B272^3+K$8*$B272^2+H$8*$B272+E$8)+(2*K$7+6*N$7*$B272+12*Q$7*$B272^2)*SIN(Q$8*$B272^4+N$8*$B272^3+K$8*$B272^2+H$8*$B272+E$8)+(2*K$8+6*N$8*$B272+12*Q$8*$B272^2)*(E$7+H$7*$B272+K$7*$B272^2+N$7*$B272^3+Q$7*$B272^4)*COS(Q$8*$B272^4+N$8*$B272^3+K$8*$B272^2+H$8*$B272+E$8)+2*(H$7+2*K$7*$B272+3*N$7*$B272^2+4*Q$7*$B272^3)*(H$8+2*K$8*$B272+3*N$8*$B272^2+4*Q$8*$B272^3)*COS(Q$8*$B272^4+N$8*$B272^3+K$8*$B272^2+H$8*$B272+E$8)-(2*K$6+6*N$6*$B272+12*Q$6*$B272^2)*(E$5+H$5*$B272+K$5*$B272^2+N$5*$B272^3+Q$5*$B272^4)*SIN(Q$6*$B272^4+N$6*$B272^3+K$6*$B272^2+H$6*$B272+E$6)-2*(H$5+2*K$5*$B272+3*N$5*$B272^2+4*Q$5*$B272^3)*(H$6+2*K$6*$B272+3*N$6*$B272^2+4*Q$6*$B272^3)*SIN(Q$6*$B272^4+N$6*$B272^3+K$6*$B272^2+H$6*$B272+E$6)-(H$6+2*K$6*$B272+3*N$6*$B272^2+4*Q$6*$B272^3)^2*(E$5+H$5*$B272+K$5*$B272^2+N$5*$B272^3+Q$5*$B272^4)*COS(Q$6*$B272^4+N$6*$B272^3+K$6*$B272^2+H$6*$B272+E$6)+(2*K$5+6*N$5*$B272+12*Q$5*$B272^2)*COS(Q$6*$B272^4+N$6*$B272^3+K$6*$B272^2+H$6*$B272+E$6)+12*Q$4*$B272^2+6*N$4*$B272+2*K$4","v":{"$error":"#N/A"}},{"$f":"IF($AK$38=0,TRANSPOSE(MMULT($O$10:$Q$12,TRANSPOSE(C272:E272))),TRANSPOSE(MMULT($O$10:$Q$12,TRANSPOSE(Y272:AA272))))","v":{"$error":"#N/A"}},{"$error":"#N/A"},{"$error":"#N/A"},{"$error":"#N/A"},{"$error":"#N/A"},{"$f":"TRANSPOSE(MMULT($AE$10:$AG$12,TRANSPOSE(F272:H272)))","v":{"$error":"#N/A"}},{"$error":"#N/A"},{"$error":"#N/A"},{"$f":"$Y$5+$Y$4*IF($U$8=1,Q272,(Q272*$U$6)/($U$6+$U$7+R272))","v":{"$error":"#N/A"}},{"$f":"$Y$6+$Y$4*IF($U$8=1,R272,(S272*$U$6)/($U$6+$U$7+R272))","v":{"$error":"#N/A"}},{"$f":"TRANSPOSE(MMULT($AO$40:$AQ$42,TRANSPOSE(C272:E272)))","v":{"$error":"#N/A"}},{"$error":"#N/A"},{"$error":"#N/A"},{"$f":"V272+$AL$46","v":{"$error":"#N/A"}},{"$f":"W272+$AL$47","v":{"$error":"#N/A"}},{"$f":"X272+$AL$48","v":{"$error":"#N/A"}}]
[273,{"$error":"#N/A"},{"$error":"#N/A"},{"$error":"#N/A"},{"$error":"#N/A"},{"$error":"#N/A"},{"$error":"#N/A"},{"$error":"#N/A"},{"$error":"#N/A"},{"$error":"#N/A"},{"$error":"#N/A"},{"$f":"IF($AK$38=0,TRANSPOSE(MMULT($O$10:$Q$12,TRANSPOSE(C273:E273))),TRANSPOSE(MMULT($O$10:$Q$12,TRANSPOSE(Y273:AA273))))","v":{"$error":"#N/A"}},{"$error":"#N/A"},{"$error":"#N/A"},{"$f":"IF($AD$4=0,NA(),$X$5+$X$4*IF($U$8=1,L273,(L273*$U$6)/($U$6+$U$7+M273)))","v":{"$error":"#N/A"}},{"$f":"IF($AD$4=0,NA(),$X$6+$X$4*IF($U$8=1,M273,(N273*$U$6)/($U$6+$U$7+M273)))","v":{"$error":"#N/A"}},{"$f":"TRANSPOSE(MMULT($AE$10:$AG$12,TRANSPOSE(F273:H273)))","v":{"$error":"#N/A"}},{"$error":"#N/A"},{"$error":"#N/A"},{"$error":"#N/A"},{"$error":"#N/A"},{"$f":"TRANSPOSE(MMULT($AO$40:$AQ$42,TRANSPOSE(C273:E273)))","v":{"$error":"#N/A"}},{"$error":"#N/A"},{"$error":"#N/A"},{"$error":"#N/A"},{"$error":"#N/A"},{"$error":"#N/A"}]
[274,{"$f":"IF(B273<$B$3,B273+$S$3,NA())","v":{"$error":"#N/A"}},{"$error":"#N/A"},{"$error":"#N/A"},{"$error":"#N/A"},{"$error":"#N/A"},{"$error":"#N/A"},{"$error":"#N/A"},{"$error":"#N/A"},{"$error":"#N/A"},{"$error":"#N/A"},{"$f":"IF($AK$38=0,TRANSPOSE(MMULT($O$10:$Q$12,TRANSPOSE(C274:E274))),TRANSPOSE(MMULT($O$10:$Q$12,TRANSPOSE(Y274:AA274))))","v":{"$error":"#N/A"}},{"$error":"#N/A"},{"$error":"#N/A"},{"$error":"#N/A"},{"$error":"#N/A"},{"$f":"TRANSPOSE(MMULT($AE$10:$AG$12,TRANSPOSE(F274:H274)))","v":{"$error":"#N/A"}},{"$error":"#N/A"},{"$error":"#N/A"},{"$error":"#N/A"},{"$error":"#N/A"},{"$f":"TRANSPOSE(MMULT($AO$40:$AQ$42,TRANSPOSE(C274:E274)))","v":{"$error":"#N/A"}},{"$error":"#N/A"},{"$error":"#N/A"},{"$error":"#N/A"},{"$error":"#N/A"},{"$error":"#N/A"}]
[275,{"$error":"#N/A"},{"$error":"#N/A"},{"$error":"#N/A"},{"$error":"#N/A"},{"$error":"#N/A"},{"$error":"#N/A"},{"$error":"#N/A"},{"$error":"#N/A"},{"$error":"#N/A"},{"$error":"#N/A"},{"$f":"IF($AK$38=0,TRANSPOSE(MMULT($O$10:$Q$12,TRANSPOSE(C275:E275))),TRANSPOSE(MMULT($O$10:$Q$12,TRANSPOSE(Y275:AA275))))","v":{"$error":"#N/A"}},{"$error":"#N/A"},{"$error":"#N/A"},{"$error":"#N/A"},{"$error":"#N/A"},{"$f":"TRANSPOSE(MMULT($AE$10:$AG$12,TRANSPOSE(F275:H275)))","v":{"$error":"#N/A"}},{"$error":"#N/A"},{"$error":"#N/A"},{"$error":"#N/A"},{"$error":"#N/A"},{"$f":"TRANSPOSE(MMULT($AO$40:$AQ$42,TRANSPOSE(C275:E275)))","v":{"$error":"#N/A"}},{"$error":"#N/A"},{"$error":"#N/A"},{"$error":"#N/A"},{"$error":"#N/A"},{"$error":"#N/A"}]
[276,{"$error":"#N/A"},{"$error":"#N/A"},{"$error":"#N/A"},{"$error":"#N/A"},{"$error":"#N/A"},{"$error":"#N/A"},{"$error":"#N/A"},{"$error":"#N/A"},{"$error":"#N/A"},{"$error":"#N/A"},{"$f":"IF($AK$38=0,TRANSPOSE(MMULT($O$10:$Q$12,TRANSPOSE(C276:E276))),TRANSPOSE(MMULT($O$10:$Q$12,TRANSPOSE(Y276:AA276))))","v":{"$error":"#N/A"}},{"$error":"#N/A"},{"$error":"#N/A"},{"$error":"#N/A"},{"$error":"#N/A"},{"$f":"TRANSPOSE(MMULT($AE$10:$AG$12,TRANSPOSE(F276:H276)))","v":{"$error":"#N/A"}},{"$error":"#N/A"},{"$error":"#N/A"},{"$error":"#N/A"},{"$error":"#N/A"},{"$f":"TRANSPOSE(MMULT($AO$40:$AQ$42,TRANSPOSE(C276:E276)))","v":{"$error":"#N/A"}},{"$error":"#N/A"},{"$error":"#N/A"},{"$error":"#N/A"},{"$error":"#N/A"},{"$error":"#N/A"}]
[277,{"$error":"#N/A"},{"$error":"#N/A"},{"$error":"#N/A"},{"$error":"#N/A"},{"$error":"#N/A"},{"$error":"#N/A"},{"$error":"#N/A"},{"$error":"#N/A"},{"$error":"#N/A"},{"$error":"#N/A"},{"$f":"IF($AK$38=0,TRANSPOSE(MMULT($O$10:$Q$12,TRANSPOSE(C277:E277))),TRANSPOSE(MMULT($O$10:$Q$12,TRANSPOSE(Y277:AA277))))","v":{"$error":"#N/A"}},{"$error":"#N/A"},{"$error":"#N/A"},{"$error":"#N/A"},{"$error":"#N/A"},{"$f":"TRANSPOSE(MMULT($AE$10:$AG$12,TRANSPOSE(F277:H277)))","v":{"$error":"#N/A"}},{"$error":"#N/A"},{"$error":"#N/A"},{"$error":"#N/A"},{"$error":"#N/A"},{"$f":"TRANSPOSE(MMULT($AO$40:$AQ$42,TRANSPOSE(C277:E277)))","v":{"$error":"#N/A"}},{"$error":"#N/A"},{"$error":"#N/A"},{"$error":"#N/A"},{"$error":"#N/A"},{"$error":"#N/A"}]
[278,{"$error":"#N/A"},{"$error":"#N/A"},{"$error":"#N/A"},{"$error":"#N/A"},{"$error":"#N/A"},{"$error":"#N/A"},{"$error":"#N/A"},{"$error":"#N/A"},{"$error":"#N/A"},{"$error":"#N/A"},{"$f":"IF($AK$38=0,TRANSPOSE(MMULT($O$10:$Q$12,TRANSPOSE(C278:E278))),TRANSPOSE(MMULT($O$10:$Q$12,TRANSPOSE(Y278:AA278))))","v":{"$error":"#N/A"}},{"$error":"#N/A"},{"$error":"#N/A"},{"$error":"#N/A"},{"$error":"#N/A"},{"$f":"TRANSPOSE(MMULT($AE$10:$AG$12,TRANSPOSE(F278:H278)))","v":{"$error":"#N/A"}},{"$error":"#N/A"},{"$error":"#N/A"},{"$error":"#N/A"},{"$error":"#N/A"},{"$f":"TRANSPOSE(MMULT($AO$40:$AQ$42,TRANSPOSE(C278:E278)))","v":{"$error":"#N/A"}},{"$error":"#N/A"},{"$error":"#N/A"},{"$error":"#N/A"},{"$error":"#N/A"},{"$error":"#N/A"}]
[279,{"$error":"#N/A"},{"$error":"#N/A"},{"$error":"#N/A"},{"$error":"#N/A"},{"$error":"#N/A"},{"$error":"#N/A"},{"$error":"#N/A"},{"$error":"#N/A"},{"$error":"#N/A"},{"$error":"#N/A"},{"$f":"IF($AK$38=0,TRANSPOSE(MMULT($O$10:$Q$12,TRANSPOSE(C279:E279))),TRANSPOSE(MMULT($O$10:$Q$12,TRANSPOSE(Y279:AA279))))","v":{"$error":"#N/A"}},{"$error":"#N/A"},{"$error":"#N/A"},{"$error":"#N/A"},{"$error":"#N/A"},{"$f":"TRANSPOSE(MMULT($AE$10:$AG$12,TRANSPOSE(F279:H279)))","v":{"$error":"#N/A"}},{"$error":"#N/A"},{"$error":"#N/A"},{"$error":"#N/A"},{"$error":"#N/A"},{"$f":"TRANSPOSE(MMULT($AO$40:$AQ$42,TRANSPOSE(C279:E279)))","v":{"$error":"#N/A"}},{"$error":"#N/A"},{"$error":"#N/A"},{"$error":"#N/A"},{"$error":"#N/A"},{"$error":"#N/A"}]
[280,{"$error":"#N/A"},{"$error":"#N/A"},{"$error":"#N/A"},{"$error":"#N/A"},{"$error":"#N/A"},{"$error":"#N/A"},{"$error":"#N/A"},{"$error":"#N/A"},{"$error":"#N/A"},{"$error":"#N/A"},{"$f":"IF($AK$38=0,TRANSPOSE(MMULT($O$10:$Q$12,TRANSPOSE(C280:E280))),TRANSPOSE(MMULT($O$10:$Q$12,TRANSPOSE(Y280:AA280))))","v":{"$error":"#N/A"}},{"$error":"#N/A"},{"$error":"#N/A"},{"$error":"#N/A"},{"$error":"#N/A"},{"$f":"TRANSPOSE(MMULT($AE$10:$AG$12,TRANSPOSE(F280:H280)))","v":{"$error":"#N/A"}},{"$error":"#N/A"},{"$error":"#N/A"},{"$error":"#N/A"},{"$error":"#N/A"},{"$f":"TRANSPOSE(MMULT($AO$40:$AQ$42,TRANSPOSE(C280:E280)))","v":{"$error":"#N/A"}},{"$error":"#N/A"},{"$error":"#N/A"},{"$error":"#N/A"},{"$error":"#N/A"},{"$error":"#N/A"}]
[281,{"$error":"#N/A"},{"$error":"#N/A"},{"$error":"#N/A"},{"$error":"#N/A"},{"$error":"#N/A"},{"$error":"#N/A"},{"$error":"#N/A"},{"$error":"#N/A"},{"$error":"#N/A"},{"$error":"#N/A"},{"$f":"IF($AK$38=0,TRANSPOSE(MMULT($O$10:$Q$12,TRANSPOSE(C281:E281))),TRANSPOSE(MMULT($O$10:$Q$12,TRANSPOSE(Y281:AA281))))","v":{"$error":"#N/A"}},{"$error":"#N/A"},{"$error":"#N/A"},{"$error":"#N/A"},{"$error":"#N/A"},{"$f":"TRANSPOSE(MMULT($AE$10:$AG$12,TRANSPOSE(F281:H281)))","v":{"$error":"#N/A"}},{"$error":"#N/A"},{"$error":"#N/A"},{"$error":"#N/A"},{"$error":"#N/A"},{"$f":"TRANSPOSE(MMULT($AO$40:$AQ$42,TRANSPOSE(C281:E281)))","v":{"$error":"#N/A"}},{"$error":"#N/A"},{"$error":"#N/A"},{"$error":"#N/A"},{"$error":"#N/A"},{"$error":"#N/A"}]
[282,{"$error":"#N/A"},{"$error":"#N/A"},{"$error":"#N/A"},{"$error":"#N/A"},{"$error":"#N/A"},{"$error":"#N/A"},{"$error":"#N/A"},{"$error":"#N/A"},{"$error":"#N/A"},{"$error":"#N/A"},{"$f":"IF($AK$38=0,TRANSPOSE(MMULT($O$10:$Q$12,TRANSPOSE(C282:E282))),TRANSPOSE(MMULT($O$10:$Q$12,TRANSPOSE(Y282:AA282))))","v":{"$error":"#N/A"}},{"$error":"#N/A"},{"$error":"#N/A"},{"$error":"#N/A"},{"$error":"#N/A"},{"$f":"TRANSPOSE(MMULT($AE$10:$AG$12,TRANSPOSE(F282:H282)))","v":{"$error":"#N/A"}},{"$error":"#N/A"},{"$error":"#N/A"},{"$error":"#N/A"},{"$error":"#N/A"},{"$f":"TRANSPOSE(MMULT($AO$40:$AQ$42,TRANSPOSE(C282:E282)))","v":{"$error":"#N/A"}},{"$error":"#N/A"},{"$error":"#N/A"},{"$error":"#N/A"},{"$error":"#N/A"},{"$error":"#N/A"}]
[283,{"$error":"#N/A"},{"$error":"#N/A"},{"$error":"#N/A"},{"$error":"#N/A"},{"$error":"#N/A"},{"$error":"#N/A"},{"$error":"#N/A"},{"$error":"#N/A"},{"$error":"#N/A"},{"$error":"#N/A"},{"$f":"IF($AK$38=0,TRANSPOSE(MMULT($O$10:$Q$12,TRANSPOSE(C283:E283))),TRANSPOSE(MMULT($O$10:$Q$12,TRANSPOSE(Y283:AA283))))","v":{"$error":"#N/A"}},{"$error":"#N/A"},{"$error":"#N/A"},{"$error":"#N/A"},{"$error":"#N/A"},{"$f":"TRANSPOSE(MMULT($AE$10:$AG$12,TRANSPOSE(F283:H283)))","v":{"$error":"#N/A"}},{"$error":"#N/A"},{"$error":"#N/A"},{"$error":"#N/A"},{"$error":"#N/A"},{"$f":"TRANSPOSE(MMULT($AO$40:$AQ$42,TRANSPOSE(C283:E283)))","v":{"$error":"#N/A"}},{"$error":"#N/A"},{"$error":"#N/A"},{"$error":"#N/A"},{"$error":"#N/A"},{"$error":"#N/A"}]
[284,{"$error":"#N/A"},{"$error":"#N/A"},{"$error":"#N/A"},{"$error":"#N/A"},{"$error":"#N/A"},{"$error":"#N/A"},{"$error":"#N/A"},{"$error":"#N/A"},{"$error":"#N/A"},{"$error":"#N/A"},{"$f":"IF($AK$38=0,TRANSPOSE(MMULT($O$10:$Q$12,TRANSPOSE(C284:E284))),TRANSPOSE(MMULT($O$10:$Q$12,TRANSPOSE(Y284:AA284))))","v":{"$error":"#N/A"}},{"$error":"#N/A"},{"$error":"#N/A"},{"$error":"#N/A"},{"$error":"#N/A"},{"$f":"TRANSPOSE(MMULT($AE$10:$AG$12,TRANSPOSE(F284:H284)))","v":{"$error":"#N/A"}},{"$error":"#N/A"},{"$error":"#N/A"},{"$error":"#N/A"},{"$error":"#N/A"},{"$f":"TRANSPOSE(MMULT($AO$40:$AQ$42,TRANSPOSE(C284:E284)))","v":{"$error":"#N/A"}},{"$error":"#N/A"},{"$error":"#N/A"},{"$error":"#N/A"},{"$error":"#N/A"},{"$error":"#N/A"}]
[285,{"$error":"#N/A"},{"$error":"#N/A"},{"$error":"#N/A"},{"$error":"#N/A"},{"$error":"#N/A"},{"$error":"#N/A"},{"$error":"#N/A"},{"$error":"#N/A"},{"$error":"#N/A"},{"$error":"#N/A"},{"$f":"IF($AK$38=0,TRANSPOSE(MMULT($O$10:$Q$12,TRANSPOSE(C285:E285))),TRANSPOSE(MMULT($O$10:$Q$12,TRANSPOSE(Y285:AA285))))","v":{"$error":"#N/A"}},{"$error":"#N/A"},{"$error":"#N/A"},{"$error":"#N/A"},{"$error":"#N/A"},{"$f":"TRANSPOSE(MMULT($AE$10:$AG$12,TRANSPOSE(F285:H285)))","v":{"$error":"#N/A"}},{"$error":"#N/A"},{"$error":"#N/A"},{"$error":"#N/A"},{"$error":"#N/A"},{"$f":"TRANSPOSE(MMULT($AO$40:$AQ$42,TRANSPOSE(C285:E285)))","v":{"$error":"#N/A"}},{"$error":"#N/A"},{"$error":"#N/A"},{"$error":"#N/A"},{"$error":"#N/A"},{"$error":"#N/A"}]
[286,{"$error":"#N/A"},{"$error":"#N/A"},{"$error":"#N/A"},{"$error":"#N/A"},{"$error":"#N/A"},{"$error":"#N/A"},{"$error":"#N/A"},{"$error":"#N/A"},{"$error":"#N/A"},{"$error":"#N/A"},{"$f":"IF($AK$38=0,TRANSPOSE(MMULT($O$10:$Q$12,TRANSPOSE(C286:E286))),TRANSPOSE(MMULT($O$10:$Q$12,TRANSPOSE(Y286:AA286))))","v":{"$error":"#N/A"}},{"$error":"#N/A"},{"$error":"#N/A"},{"$error":"#N/A"},{"$error":"#N/A"},{"$f":"TRANSPOSE(MMULT($AE$10:$AG$12,TRANSPOSE(F286:H286)))","v":{"$error":"#N/A"}},{"$error":"#N/A"},{"$error":"#N/A"},{"$error":"#N/A"},{"$error":"#N/A"},{"$f":"TRANSPOSE(MMULT($AO$40:$AQ$42,TRANSPOSE(C286:E286)))","v":{"$error":"#N/A"}},{"$error":"#N/A"},{"$error":"#N/A"},{"$error":"#N/A"},{"$error":"#N/A"},{"$error":"#N/A"}]
[287,{"$error":"#N/A"},{"$error":"#N/A"},{"$error":"#N/A"},{"$error":"#N/A"},{"$error":"#N/A"},{"$error":"#N/A"},{"$error":"#N/A"},{"$error":"#N/A"},{"$error":"#N/A"},{"$error":"#N/A"},{"$f":"IF($AK$38=0,TRANSPOSE(MMULT($O$10:$Q$12,TRANSPOSE(C287:E287))),TRANSPOSE(MMULT($O$10:$Q$12,TRANSPOSE(Y287:AA287))))","v":{"$error":"#N/A"}},{"$error":"#N/A"},{"$error":"#N/A"},{"$error":"#N/A"},{"$error":"#N/A"},{"$f":"TRANSPOSE(MMULT($AE$10:$AG$12,TRANSPOSE(F287:H287)))","v":{"$error":"#N/A"}},{"$error":"#N/A"},{"$error":"#N/A"},{"$error":"#N/A"},{"$error":"#N/A"},{"$f":"TRANSPOSE(MMULT($AO$40:$AQ$42,TRANSPOSE(C287:E287)))","v":{"$error":"#N/A"}},{"$error":"#N/A"},{"$error":"#N/A"},{"$error":"#N/A"},{"$error":"#N/A"},{"$error":"#N/A"}]
[288,{"$error":"#N/A"},{"$error":"#N/A"},{"$error":"#N/A"},{"$error":"#N/A"},{"$error":"#N/A"},{"$error":"#N/A"},{"$error":"#N/A"},{"$error":"#N/A"},{"$error":"#N/A"},{"$error":"#N/A"},{"$f":"IF($AK$38=0,TRANSPOSE(MMULT($O$10:$Q$12,TRANSPOSE(C288:E288))),TRANSPOSE(MMULT($O$10:$Q$12,TRANSPOSE(Y288:AA288))))","v":{"$error":"#N/A"}},{"$error":"#N/A"},{"$error":"#N/A"},{"$error":"#N/A"},{"$error":"#N/A"},{"$f":"TRANSPOSE(MMULT($AE$10:$AG$12,TRANSPOSE(F288:H288)))","v":{"$error":"#N/A"}},{"$error":"#N/A"},{"$error":"#N/A"},{"$error":"#N/A"},{"$error":"#N/A"},{"$f":"TRANSPOSE(MMULT($AO$40:$AQ$42,TRANSPOSE(C288:E288)))","v":{"$error":"#N/A"}},{"$error":"#N/A"},{"$error":"#N/A"},{"$error":"#N/A"},{"$error":"#N/A"},{"$error":"#N/A"}]
[289,{"$error":"#N/A"},{"$error":"#N/A"},{"$error":"#N/A"},{"$error":"#N/A"},{"$error":"#N/A"},{"$error":"#N/A"},{"$error":"#N/A"},{"$error":"#N/A"},{"$error":"#N/A"},{"$error":"#N/A"},{"$f":"IF($AK$38=0,TRANSPOSE(MMULT($O$10:$Q$12,TRANSPOSE(C289:E289))),TRANSPOSE(MMULT($O$10:$Q$12,TRANSPOSE(Y289:AA289))))","v":{"$error":"#N/A"}},{"$error":"#N/A"},{"$error":"#N/A"},{"$error":"#N/A"},{"$error":"#N/A"},{"$f":"TRANSPOSE(MMULT($AE$10:$AG$12,TRANSPOSE(F289:H289)))","v":{"$error":"#N/A"}},{"$error":"#N/A"},{"$error":"#N/A"},{"$error":"#N/A"},{"$error":"#N/A"},{"$f":"TRANSPOSE(MMULT($AO$40:$AQ$42,TRANSPOSE(C289:E289)))","v":{"$error":"#N/A"}},{"$error":"#N/A"},{"$error":"#N/A"},{"$error":"#N/A"},{"$error":"#N/A"},{"$error":"#N/A"}]
[290,{"$error":"#N/A"},{"$error":"#N/A"},{"$error":"#N/A"},{"$error":"#N/A"},{"$error":"#N/A"},{"$error":"#N/A"},{"$error":"#N/A"},{"$error":"#N/A"},{"$error":"#N/A"},{"$error":"#N/A"},{"$f":"IF($AK$38=0,TRANSPOSE(MMULT($O$10:$Q$12,TRANSPOSE(C290:E290))),TRANSPOSE(MMULT($O$10:$Q$12,TRANSPOSE(Y290:AA290))))","v":{"$error":"#N/A"}},{"$error":"#N/A"},{"$error":"#N/A"},{"$error":"#N/A"},{"$error":"#N/A"},{"$f":"TRANSPOSE(MMULT($AE$10:$AG$12,TRANSPOSE(F290:H290)))","v":{"$error":"#N/A"}},{"$error":"#N/A"},{"$error":"#N/A"},{"$error":"#N/A"},{"$error":"#N/A"},{"$f":"TRANSPOSE(MMULT($AO$40:$AQ$42,TRANSPOSE(C290:E290)))","v":{"$error":"#N/A"}},{"$error":"#N/A"},{"$error":"#N/A"},{"$error":"#N/A"},{"$error":"#N/A"},{"$error":"#N/A"}]
[291,{"$error":"#N/A"},{"$error":"#N/A"},{"$error":"#N/A"},{"$error":"#N/A"},{"$error":"#N/A"},{"$error":"#N/A"},{"$error":"#N/A"},{"$error":"#N/A"},{"$error":"#N/A"},{"$error":"#N/A"},{"$f":"IF($AK$38=0,TRANSPOSE(MMULT($O$10:$Q$12,TRANSPOSE(C291:E291))),TRANSPOSE(MMULT($O$10:$Q$12,TRANSPOSE(Y291:AA291))))","v":{"$error":"#N/A"}},{"$error":"#N/A"},{"$error":"#N/A"},{"$error":"#N/A"},{"$error":"#N/A"},{"$f":"TRANSPOSE(MMULT($AE$10:$AG$12,TRANSPOSE(F291:H291)))","v":{"$error":"#N/A"}},{"$error":"#N/A"},{"$error":"#N/A"},{"$error":"#N/A"},{"$error":"#N/A"},{"$f":"TRANSPOSE(MMULT($AO$40:$AQ$42,TRANSPOSE(C291:E291)))","v":{"$error":"#N/A"}},{"$error":"#N/A"},{"$error":"#N/A"},{"$error":"#N/A"},{"$error":"#N/A"},{"$error":"#N/A"}]
[292,{"$error":"#N/A"},{"$error":"#N/A"},{"$error":"#N/A"},{"$error":"#N/A"},{"$error":"#N/A"},{"$error":"#N/A"},{"$error":"#N/A"},{"$error":"#N/A"},{"$error":"#N/A"},{"$error":"#N/A"},{"$f":"IF($AK$38=0,TRANSPOSE(MMULT($O$10:$Q$12,TRANSPOSE(C292:E292))),TRANSPOSE(MMULT($O$10:$Q$12,TRANSPOSE(Y292:AA292))))","v":{"$error":"#N/A"}},{"$error":"#N/A"},{"$error":"#N/A"},{"$error":"#N/A"},{"$error":"#N/A"},{"$f":"TRANSPOSE(MMULT($AE$10:$AG$12,TRANSPOSE(F292:H292)))","v":{"$error":"#N/A"}},{"$error":"#N/A"},{"$error":"#N/A"},{"$error":"#N/A"},{"$error":"#N/A"},{"$f":"TRANSPOSE(MMULT($AO$40:$AQ$42,TRANSPOSE(C292:E292)))","v":{"$error":"#N/A"}},{"$error":"#N/A"},{"$error":"#N/A"},{"$error":"#N/A"},{"$error":"#N/A"},{"$error":"#N/A"}]
[293,{"$error":"#N/A"},{"$error":"#N/A"},{"$error":"#N/A"},{"$error":"#N/A"},{"$error":"#N/A"},{"$error":"#N/A"},{"$error":"#N/A"},{"$error":"#N/A"},{"$error":"#N/A"},{"$error":"#N/A"},{"$f":"IF($AK$38=0,TRANSPOSE(MMULT($O$10:$Q$12,TRANSPOSE(C293:E293))),TRANSPOSE(MMULT($O$10:$Q$12,TRANSPOSE(Y293:AA293))))","v":{"$error":"#N/A"}},{"$error":"#N/A"},{"$error":"#N/A"},{"$error":"#N/A"},{"$error":"#N/A"},{"$f":"TRANSPOSE(MMULT($AE$10:$AG$12,TRANSPOSE(F293:H293)))","v":{"$error":"#N/A"}},{"$error":"#N/A"},{"$error":"#N/A"},{"$error":"#N/A"},{"$error":"#N/A"},{"$f":"TRANSPOSE(MMULT($AO$40:$AQ$42,TRANSPOSE(C293:E293)))","v":{"$error":"#N/A"}},{"$error":"#N/A"},{"$error":"#N/A"},{"$error":"#N/A"},{"$error":"#N/A"},{"$error":"#N/A"}]
[294,{"$error":"#N/A"},{"$error":"#N/A"},{"$error":"#N/A"},{"$error":"#N/A"},{"$error":"#N/A"},{"$error":"#N/A"},{"$error":"#N/A"},{"$error":"#N/A"},{"$error":"#N/A"},{"$error":"#N/A"},{"$f":"IF($AK$38=0,TRANSPOSE(MMULT($O$10:$Q$12,TRANSPOSE(C294:E294))),TRANSPOSE(MMULT($O$10:$Q$12,TRANSPOSE(Y294:AA294))))","v":{"$error":"#N/A"}},{"$error":"#N/A"},{"$error":"#N/A"},{"$error":"#N/A"},{"$error":"#N/A"},{"$f":"TRANSPOSE(MMULT($AE$10:$AG$12,TRANSPOSE(F294:H294)))","v":{"$error":"#N/A"}},{"$error":"#N/A"},{"$error":"#N/A"},{"$error":"#N/A"},{"$error":"#N/A"},{"$f":"TRANSPOSE(MMULT($AO$40:$AQ$42,TRANSPOSE(C294:E294)))","v":{"$error":"#N/A"}},{"$error":"#N/A"},{"$error":"#N/A"},{"$error":"#N/A"},{"$error":"#N/A"},{"$error":"#N/A"}]
[295,{"$error":"#N/A"},{"$error":"#N/A"},{"$error":"#N/A"},{"$error":"#N/A"},{"$error":"#N/A"},{"$error":"#N/A"},{"$error":"#N/A"},{"$error":"#N/A"},{"$error":"#N/A"},{"$error":"#N/A"},{"$f":"IF($AK$38=0,TRANSPOSE(MMULT($O$10:$Q$12,TRANSPOSE(C295:E295))),TRANSPOSE(MMULT($O$10:$Q$12,TRANSPOSE(Y295:AA295))))","v":{"$error":"#N/A"}},{"$error":"#N/A"},{"$error":"#N/A"},{"$error":"#N/A"},{"$error":"#N/A"},{"$f":"TRANSPOSE(MMULT($AE$10:$AG$12,TRANSPOSE(F295:H295)))","v":{"$error":"#N/A"}},{"$error":"#N/A"},{"$error":"#N/A"},{"$error":"#N/A"},{"$error":"#N/A"},{"$f":"TRANSPOSE(MMULT($AO$40:$AQ$42,TRANSPOSE(C295:E295)))","v":{"$error":"#N/A"}},{"$error":"#N/A"},{"$error":"#N/A"},{"$error":"#N/A"},{"$error":"#N/A"},{"$error":"#N/A"}]
[296,{"$error":"#N/A"},{"$error":"#N/A"},{"$error":"#N/A"},{"$error":"#N/A"},{"$error":"#N/A"},{"$error":"#N/A"},{"$error":"#N/A"},{"$error":"#N/A"},{"$error":"#N/A"},{"$error":"#N/A"},{"$f":"IF($AK$38=0,TRANSPOSE(MMULT($O$10:$Q$12,TRANSPOSE(C296:E296))),TRANSPOSE(MMULT($O$10:$Q$12,TRANSPOSE(Y296:AA296))))","v":{"$error":"#N/A"}},{"$error":"#N/A"},{"$error":"#N/A"},{"$error":"#N/A"},{"$error":"#N/A"},{"$f":"TRANSPOSE(MMULT($AE$10:$AG$12,TRANSPOSE(F296:H296)))","v":{"$error":"#N/A"}},{"$error":"#N/A"},{"$error":"#N/A"},{"$error":"#N/A"},{"$error":"#N/A"},{"$f":"TRANSPOSE(MMULT($AO$40:$AQ$42,TRANSPOSE(C296:E296)))","v":{"$error":"#N/A"}},{"$error":"#N/A"},{"$error":"#N/A"},{"$error":"#N/A"},{"$error":"#N/A"},{"$error":"#N/A"}]
[297,{"$error":"#N/A"},{"$error":"#N/A"},{"$error":"#N/A"},{"$error":"#N/A"},{"$error":"#N/A"},{"$error":"#N/A"},{"$error":"#N/A"},{"$error":"#N/A"},{"$error":"#N/A"},{"$error":"#N/A"},{"$f":"IF($AK$38=0,TRANSPOSE(MMULT($O$10:$Q$12,TRANSPOSE(C297:E297))),TRANSPOSE(MMULT($O$10:$Q$12,TRANSPOSE(Y297:AA297))))","v":{"$error":"#N/A"}},{"$error":"#N/A"},{"$error":"#N/A"},{"$error":"#N/A"},{"$error":"#N/A"},{"$f":"TRANSPOSE(MMULT($AE$10:$AG$12,TRANSPOSE(F297:H297)))","v":{"$error":"#N/A"}},{"$error":"#N/A"},{"$error":"#N/A"},{"$error":"#N/A"},{"$error":"#N/A"},{"$f":"TRANSPOSE(MMULT($AO$40:$AQ$42,TRANSPOSE(C297:E297)))","v":{"$error":"#N/A"}},{"$error":"#N/A"},{"$error":"#N/A"},{"$error":"#N/A"},{"$error":"#N/A"},{"$error":"#N/A"}]
[298,{"$error":"#N/A"},{"$error":"#N/A"},{"$error":"#N/A"},{"$error":"#N/A"},{"$error":"#N/A"},{"$error":"#N/A"},{"$error":"#N/A"},{"$error":"#N/A"},{"$error":"#N/A"},{"$error":"#N/A"},{"$f":"IF($AK$38=0,TRANSPOSE(MMULT($O$10:$Q$12,TRANSPOSE(C298:E298))),TRANSPOSE(MMULT($O$10:$Q$12,TRANSPOSE(Y298:AA298))))","v":{"$error":"#N/A"}},{"$error":"#N/A"},{"$error":"#N/A"},{"$error":"#N/A"},{"$error":"#N/A"},{"$f":"TRANSPOSE(MMULT($AE$10:$AG$12,TRANSPOSE(F298:H298)))","v":{"$error":"#N/A"}},{"$error":"#N/A"},{"$error":"#N/A"},{"$error":"#N/A"},{"$error":"#N/A"},{"$f":"TRANSPOSE(MMULT($AO$40:$AQ$42,TRANSPOSE(C298:E298)))","v":{"$error":"#N/A"}},{"$error":"#N/A"},{"$error":"#N/A"},{"$error":"#N/A"},{"$error":"#N/A"},{"$error":"#N/A"}]
[299,{"$error":"#N/A"},{"$error":"#N/A"},{"$error":"#N/A"},{"$error":"#N/A"},{"$error":"#N/A"},{"$error":"#N/A"},{"$error":"#N/A"},{"$error":"#N/A"},{"$error":"#N/A"},{"$error":"#N/A"},{"$f":"IF($AK$38=0,TRANSPOSE(MMULT($O$10:$Q$12,TRANSPOSE(C299:E299))),TRANSPOSE(MMULT($O$10:$Q$12,TRANSPOSE(Y299:AA299))))","v":{"$error":"#N/A"}},{"$error":"#N/A"},{"$error":"#N/A"},{"$error":"#N/A"},{"$error":"#N/A"},{"$f":"TRANSPOSE(MMULT($AE$10:$AG$12,TRANSPOSE(F299:H299)))","v":{"$error":"#N/A"}},{"$error":"#N/A"},{"$error":"#N/A"},{"$error":"#N/A"},{"$error":"#N/A"},{"$f":"TRANSPOSE(MMULT($AO$40:$AQ$42,TRANSPOSE(C299:E299)))","v":{"$error":"#N/A"}},{"$error":"#N/A"},{"$error":"#N/A"},{"$error":"#N/A"},{"$error":"#N/A"},{"$error":"#N/A"}]
[300,{"$error":"#N/A"},{"$error":"#N/A"},{"$error":"#N/A"},{"$error":"#N/A"},{"$error":"#N/A"},{"$error":"#N/A"},{"$error":"#N/A"},{"$error":"#N/A"},{"$error":"#N/A"},{"$error":"#N/A"},{"$f":"IF($AK$38=0,TRANSPOSE(MMULT($O$10:$Q$12,TRANSPOSE(C300:E300))),TRANSPOSE(MMULT($O$10:$Q$12,TRANSPOSE(Y300:AA300))))","v":{"$error":"#N/A"}},{"$error":"#N/A"},{"$error":"#N/A"},{"$error":"#N/A"},{"$error":"#N/A"},{"$f":"TRANSPOSE(MMULT($AE$10:$AG$12,TRANSPOSE(F300:H300)))","v":{"$error":"#N/A"}},{"$error":"#N/A"},{"$error":"#N/A"},{"$error":"#N/A"},{"$error":"#N/A"},{"$f":"TRANSPOSE(MMULT($AO$40:$AQ$42,TRANSPOSE(C300:E300)))","v":{"$error":"#N/A"}},{"$error":"#N/A"},{"$error":"#N/A"},{"$error":"#N/A"},{"$error":"#N/A"},{"$error":"#N/A"}]
[301,{"$error":"#N/A"},{"$error":"#N/A"},{"$error":"#N/A"},{"$error":"#N/A"},{"$error":"#N/A"},{"$error":"#N/A"},{"$error":"#N/A"},{"$error":"#N/A"},{"$error":"#N/A"},{"$error":"#N/A"},{"$f":"IF($AK$38=0,TRANSPOSE(MMULT($O$10:$Q$12,TRANSPOSE(C301:E301))),TRANSPOSE(MMULT($O$10:$Q$12,TRANSPOSE(Y301:AA301))))","v":{"$error":"#N/A"}},{"$error":"#N/A"},{"$error":"#N/A"},{"$error":"#N/A"},{"$error":"#N/A"},{"$f":"TRANSPOSE(MMULT($AE$10:$AG$12,TRANSPOSE(F301:H301)))","v":{"$error":"#N/A"}},{"$error":"#N/A"},{"$error":"#N/A"},{"$error":"#N/A"},{"$error":"#N/A"},{"$f":"TRANSPOSE(MMULT($AO$40:$AQ$42,TRANSPOSE(C301:E301)))","v":{"$error":"#N/A"}},{"$error":"#N/A"},{"$error":"#N/A"},{"$error":"#N/A"},{"$error":"#N/A"},{"$error":"#N/A"}]
[302,{"$error":"#N/A"},{"$error":"#N/A"},{"$error":"#N/A"},{"$error":"#N/A"},{"$error":"#N/A"},{"$error":"#N/A"},{"$error":"#N/A"},{"$error":"#N/A"},{"$error":"#N/A"},{"$error":"#N/A"},{"$f":"IF($AK$38=0,TRANSPOSE(MMULT($O$10:$Q$12,TRANSPOSE(C302:E302))),TRANSPOSE(MMULT($O$10:$Q$12,TRANSPOSE(Y302:AA302))))","v":{"$error":"#N/A"}},{"$error":"#N/A"},{"$error":"#N/A"},{"$error":"#N/A"},{"$error":"#N/A"},{"$f":"TRANSPOSE(MMULT($AE$10:$AG$12,TRANSPOSE(F302:H302)))","v":{"$error":"#N/A"}},{"$error":"#N/A"},{"$error":"#N/A"},{"$error":"#N/A"},{"$error":"#N/A"},{"$f":"TRANSPOSE(MMULT($AO$40:$AQ$42,TRANSPOSE(C302:E302)))","v":{"$error":"#N/A"}},{"$error":"#N/A"},{"$error":"#N/A"},{"$error":"#N/A"},{"$error":"#N/A"},{"$error":"#N/A"}]
[303,{"$error":"#N/A"},{"$error":"#N/A"},{"$error":"#N/A"},{"$error":"#N/A"},{"$error":"#N/A"},{"$error":"#N/A"},{"$error":"#N/A"},{"$error":"#N/A"},{"$error":"#N/A"},{"$error":"#N/A"},{"$f":"IF($AK$38=0,TRANSPOSE(MMULT($O$10:$Q$12,TRANSPOSE(C303:E303))),TRANSPOSE(MMULT($O$10:$Q$12,TRANSPOSE(Y303:AA303))))","v":{"$error":"#N/A"}},{"$error":"#N/A"},{"$error":"#N/A"},{"$error":"#N/A"},{"$error":"#N/A"},{"$f":"TRANSPOSE(MMULT($AE$10:$AG$12,TRANSPOSE(F303:H303)))","v":{"$error":"#N/A"}},{"$error":"#N/A"},{"$error":"#N/A"},{"$error":"#N/A"},{"$error":"#N/A"},{"$f":"TRANSPOSE(MMULT($AO$40:$AQ$42,TRANSPOSE(C303:E303)))","v":{"$error":"#N/A"}},{"$error":"#N/A"},{"$error":"#N/A"},{"$error":"#N/A"},{"$error":"#N/A"},{"$error":"#N/A"}]
[304,{"$error":"#N/A"},{"$error":"#N/A"},{"$error":"#N/A"},{"$error":"#N/A"},{"$error":"#N/A"},{"$error":"#N/A"},{"$error":"#N/A"},{"$error":"#N/A"},{"$error":"#N/A"},{"$error":"#N/A"},{"$f":"IF($AK$38=0,TRANSPOSE(MMULT($O$10:$Q$12,TRANSPOSE(C304:E304))),TRANSPOSE(MMULT($O$10:$Q$12,TRANSPOSE(Y304:AA304))))","v":{"$error":"#N/A"}},{"$error":"#N/A"},{"$error":"#N/A"},{"$error":"#N/A"},{"$error":"#N/A"},{"$f":"TRANSPOSE(MMULT($AE$10:$AG$12,TRANSPOSE(F304:H304)))","v":{"$error":"#N/A"}},{"$error":"#N/A"},{"$error":"#N/A"},{"$error":"#N/A"},{"$error":"#N/A"},{"$f":"TRANSPOSE(MMULT($AO$40:$AQ$42,TRANSPOSE(C304:E304)))","v":{"$error":"#N/A"}},{"$error":"#N/A"},{"$error":"#N/A"},{"$error":"#N/A"},{"$error":"#N/A"},{"$error":"#N/A"}]
[305,{"$error":"#N/A"},{"$error":"#N/A"},{"$error":"#N/A"},{"$error":"#N/A"},{"$error":"#N/A"},{"$error":"#N/A"},{"$error":"#N/A"},{"$error":"#N/A"},{"$error":"#N/A"},{"$error":"#N/A"},{"$f":"IF($AK$38=0,TRANSPOSE(MMULT($O$10:$Q$12,TRANSPOSE(C305:E305))),TRANSPOSE(MMULT($O$10:$Q$12,TRANSPOSE(Y305:AA305))))","v":{"$error":"#N/A"}},{"$error":"#N/A"},{"$error":"#N/A"},{"$error":"#N/A"},{"$error":"#N/A"},{"$f":"TRANSPOSE(MMULT($AE$10:$AG$12,TRANSPOSE(F305:H305)))","v":{"$error":"#N/A"}},{"$error":"#N/A"},{"$error":"#N/A"},{"$error":"#N/A"},{"$error":"#N/A"},{"$f":"TRANSPOSE(MMULT($AO$40:$AQ$42,TRANSPOSE(C305:E305)))","v":{"$error":"#N/A"}},{"$error":"#N/A"},{"$error":"#N/A"},{"$error":"#N/A"},{"$error":"#N/A"},{"$error":"#N/A"}]
[306,{"$error":"#N/A"},{"$error":"#N/A"},{"$error":"#N/A"},{"$error":"#N/A"},{"$error":"#N/A"},{"$error":"#N/A"},{"$error":"#N/A"},{"$error":"#N/A"},{"$error":"#N/A"},{"$error":"#N/A"},{"$f":"IF($AK$38=0,TRANSPOSE(MMULT($O$10:$Q$12,TRANSPOSE(C306:E306))),TRANSPOSE(MMULT($O$10:$Q$12,TRANSPOSE(Y306:AA306))))","v":{"$error":"#N/A"}},{"$error":"#N/A"},{"$error":"#N/A"},{"$error":"#N/A"},{"$error":"#N/A"},{"$f":"TRANSPOSE(MMULT($AE$10:$AG$12,TRANSPOSE(F306:H306)))","v":{"$error":"#N/A"}},{"$error":"#N/A"},{"$error":"#N/A"},{"$error":"#N/A"},{"$error":"#N/A"},{"$f":"TRANSPOSE(MMULT($AO$40:$AQ$42,TRANSPOSE(C306:E306)))","v":{"$error":"#N/A"}},{"$error":"#N/A"},{"$error":"#N/A"},{"$error":"#N/A"},{"$error":"#N/A"},{"$error":"#N/A"}]
[307,{"$error":"#N/A"},{"$error":"#N/A"},{"$error":"#N/A"},{"$error":"#N/A"},{"$error":"#N/A"},{"$error":"#N/A"},{"$error":"#N/A"},{"$error":"#N/A"},{"$error":"#N/A"},{"$error":"#N/A"},{"$f":"IF($AK$38=0,TRANSPOSE(MMULT($O$10:$Q$12,TRANSPOSE(C307:E307))),TRANSPOSE(MMULT($O$10:$Q$12,TRANSPOSE(Y307:AA307))))","v":{"$error":"#N/A"}},{"$error":"#N/A"},{"$error":"#N/A"},{"$error":"#N/A"},{"$error":"#N/A"},{"$f":"TRANSPOSE(MMULT($AE$10:$AG$12,TRANSPOSE(F307:H307)))","v":{"$error":"#N/A"}},{"$error":"#N/A"},{"$error":"#N/A"},{"$error":"#N/A"},{"$error":"#N/A"},{"$f":"TRANSPOSE(MMULT($AO$40:$AQ$42,TRANSPOSE(C307:E307)))","v":{"$error":"#N/A"}},{"$error":"#N/A"},{"$error":"#N/A"},{"$error":"#N/A"},{"$error":"#N/A"},{"$error":"#N/A"}]
[308,{"$error":"#N/A"},{"$f":"(C$4+F$4*$B308+I$4*$B308^2+L$4*$B308^3+O$4*$B308^4)+(C$5+F$5*$B308+I$5*$B308^2+L$5*$B308^3+O$5*$B308^5)*(COS(C$6+F$6*$B308+I$6*$B308^2+L$6*$B308^3+O$6*$B308^4))+(C$7+F$7*$B308+I$7*$B308^2+L$7*$B308^3+O$7*$B308^4)*(SIN(C$8+F$8*$B308+I$8*$B308^2+L$8*$B308^3+O$8*$B308^4))","v":{"$error":"#N/A"}},{"$f":"(D$4+G$4*$B308+J$4*$B308^2+M$4*$B308^3+P$4*$B308^4)+(D$5+G$5*$B308+J$5*$B308^2+M$5*$B308^3+P$5*$B308^5)*(COS(D$6+G$6*$B308+J$6*$B308^2+M$6*$B308^3+P$6*$B308^4))+(D$7+G$7*$B308+J$7*$B308^2+M$7*$B308^3+P$7*$B308^4)*(SIN(D$8+G$8*$B308+J$8*$B308^2+M$8*$B308^3+P$8*$B308^4))","v":{"$error":"#N/A"}},{"$f":"(E$4+H$4*$B308+K$4*$B308^2+N$4*$B308^3+Q$4*$B308^4)+(E$5+H$5*$B308+K$5*$B308^2+N$5*$B308^3+Q$5*$B308^5)*(COS(E$6+H$6*$B308+K$6*$B308^2+N$6*$B308^3+Q$6*$B308^4))+(E$7+H$7*$B308+K$7*$B308^2+N$7*$B308^3+Q$7*$B308^4)*(SIN(E$8+H$8*$B308+K$8*$B308^2+N$8*$B308^3+Q$8*$B308^4))","v":{"$error":"#N/A"}},{"$error":"#N/A"},{"$error":"#N/A"},{"$error":"#N/A"},{"$error":"#N/A"},{"$error":"#N/A"},{"$error":"#N/A"},{"$f":"IF($AK$38=0,TRANSPOSE(MMULT($O$10:$Q$12,TRANSPOSE(C308:E308))),TRANSPOSE(MMULT($O$10:$Q$12,TRANSPOSE(Y308:AA308))))","v":{"$error":"#N/A"}},{"$error":"#N/A"},{"$error":"#N/A"},{"$error":"#N/A"},{"$error":"#N/A"},{"$f":"TRANSPOSE(MMULT($AE$10:$AG$12,TRANSPOSE(F308:H308)))","v":{"$error":"#N/A"}},{"$error":"#N/A"},{"$error":"#N/A"},{"$error":"#N/A"},{"$error":"#N/A"},{"$f":"TRANSPOSE(MMULT($AO$40:$AQ$42,TRANSPOSE(C308:E308)))","v":{"$error":"#N/A"}},{"$error":"#N/A"},{"$error":"#N/A"},{"$error":"#N/A"},{"$error":"#N/A"},{"$error":"#N/A"}]
[309,{"$error":"#N/A"},{"$error":"#N/A"},{"$error":"#N/A"},{"$error":"#N/A"},{"$error":"#N/A"},{"$error":"#N/A"},{"$error":"#N/A"},{"$error":"#N/A"},{"$error":"#N/A"},{"$error":"#N/A"},{"$f":"IF($AK$38=0,TRANSPOSE(MMULT($O$10:$Q$12,TRANSPOSE(C309:E309))),TRANSPOSE(MMULT($O$10:$Q$12,TRANSPOSE(Y309:AA309))))","v":{"$error":"#N/A"}},{"$error":"#N/A"},{"$error":"#N/A"},{"$error":"#N/A"},{"$error":"#N/A"},{"$f":"TRANSPOSE(MMULT($AE$10:$AG$12,TRANSPOSE(F309:H309)))","v":{"$error":"#N/A"}},{"$error":"#N/A"},{"$error":"#N/A"},{"$error":"#N/A"},{"$error":"#N/A"},{"$f":"TRANSPOSE(MMULT($AO$40:$AQ$42,TRANSPOSE(C309:E309)))","v":{"$error":"#N/A"}},{"$error":"#N/A"},{"$error":"#N/A"},{"$error":"#N/A"},{"$error":"#N/A"},{"$error":"#N/A"}]
[310,{"$error":"#N/A"},{"$error":"#N/A"},{"$error":"#N/A"},{"$error":"#N/A"},{"$error":"#N/A"},{"$error":"#N/A"},{"$error":"#N/A"},{"$error":"#N/A"},{"$error":"#N/A"},{"$error":"#N/A"},{"$f":"IF($AK$38=0,TRANSPOSE(MMULT($O$10:$Q$12,TRANSPOSE(C310:E310))),TRANSPOSE(MMULT($O$10:$Q$12,TRANSPOSE(Y310:AA310))))","v":{"$error":"#N/A"}},{"$error":"#N/A"},{"$error":"#N/A"},{"$error":"#N/A"},{"$error":"#N/A"},{"$f":"TRANSPOSE(MMULT($AE$10:$AG$12,TRANSPOSE(F310:H310)))","v":{"$error":"#N/A"}},{"$error":"#N/A"},{"$error":"#N/A"},{"$error":"#N/A"},{"$error":"#N/A"},{"$f":"TRANSPOSE(MMULT($AO$40:$AQ$42,TRANSPOSE(C310:E310)))","v":{"$error":"#N/A"}},{"$error":"#N/A"},{"$error":"#N/A"},{"$error":"#N/A"},{"$error":"#N/A"},{"$error":"#N/A"}]
[311,{"$error":"#N/A"},{"$error":"#N/A"},{"$error":"#N/A"},{"$error":"#N/A"},{"$error":"#N/A"},{"$error":"#N/A"},{"$error":"#N/A"},{"$error":"#N/A"},{"$error":"#N/A"},{"$error":"#N/A"},{"$f":"IF($AK$38=0,TRANSPOSE(MMULT($O$10:$Q$12,TRANSPOSE(C311:E311))),TRANSPOSE(MMULT($O$10:$Q$12,TRANSPOSE(Y311:AA311))))","v":{"$error":"#N/A"}},{"$error":"#N/A"},{"$error":"#N/A"},{"$error":"#N/A"},{"$error":"#N/A"},{"$f":"TRANSPOSE(MMULT($AE$10:$AG$12,TRANSPOSE(F311:H311)))","v":{"$error":"#N/A"}},{"$error":"#N/A"},{"$error":"#N/A"},{"$error":"#N/A"},{"$error":"#N/A"},{"$f":"TRANSPOSE(MMULT($AO$40:$AQ$42,TRANSPOSE(C311:E311)))","v":{"$error":"#N/A"}},{"$error":"#N/A"},{"$error":"#N/A"},{"$error":"#N/A"},{"$error":"#N/A"},{"$error":"#N/A"}]
[312,{"$error":"#N/A"},{"$error":"#N/A"},{"$error":"#N/A"},{"$error":"#N/A"},{"$error":"#N/A"},{"$error":"#N/A"},{"$error":"#N/A"},{"$error":"#N/A"},{"$error":"#N/A"},{"$error":"#N/A"},{"$f":"IF($AK$38=0,TRANSPOSE(MMULT($O$10:$Q$12,TRANSPOSE(C312:E312))),TRANSPOSE(MMULT($O$10:$Q$12,TRANSPOSE(Y312:AA312))))","v":{"$error":"#N/A"}},{"$error":"#N/A"},{"$error":"#N/A"},{"$error":"#N/A"},{"$error":"#N/A"},{"$f":"TRANSPOSE(MMULT($AE$10:$AG$12,TRANSPOSE(F312:H312)))","v":{"$error":"#N/A"}},{"$error":"#N/A"},{"$error":"#N/A"},{"$error":"#N/A"},{"$error":"#N/A"},{"$f":"TRANSPOSE(MMULT($AO$40:$AQ$42,TRANSPOSE(C312:E312)))","v":{"$error":"#N/A"}},{"$error":"#N/A"},{"$error":"#N/A"},{"$error":"#N/A"},{"$error":"#N/A"},{"$error":"#N/A"}]
[313,{"$error":"#N/A"},{"$error":"#N/A"},{"$error":"#N/A"},{"$error":"#N/A"},{"$error":"#N/A"},{"$error":"#N/A"},{"$error":"#N/A"},{"$error":"#N/A"},{"$error":"#N/A"},{"$error":"#N/A"},{"$f":"IF($AK$38=0,TRANSPOSE(MMULT($O$10:$Q$12,TRANSPOSE(C313:E313))),TRANSPOSE(MMULT($O$10:$Q$12,TRANSPOSE(Y313:AA313))))","v":{"$error":"#N/A"}},{"$error":"#N/A"},{"$error":"#N/A"},{"$error":"#N/A"},{"$error":"#N/A"},{"$f":"TRANSPOSE(MMULT($AE$10:$AG$12,TRANSPOSE(F313:H313)))","v":{"$error":"#N/A"}},{"$error":"#N/A"},{"$error":"#N/A"},{"$error":"#N/A"},{"$error":"#N/A"},{"$f":"TRANSPOSE(MMULT($AO$40:$AQ$42,TRANSPOSE(C313:E313)))","v":{"$error":"#N/A"}},{"$error":"#N/A"},{"$error":"#N/A"},{"$error":"#N/A"},{"$error":"#N/A"},{"$error":"#N/A"}]
[314,{"$error":"#N/A"},{"$error":"#N/A"},{"$error":"#N/A"},{"$error":"#N/A"},{"$error":"#N/A"},{"$error":"#N/A"},{"$error":"#N/A"},{"$error":"#N/A"},{"$error":"#N/A"},{"$error":"#N/A"},{"$f":"IF($AK$38=0,TRANSPOSE(MMULT($O$10:$Q$12,TRANSPOSE(C314:E314))),TRANSPOSE(MMULT($O$10:$Q$12,TRANSPOSE(Y314:AA314))))","v":{"$error":"#N/A"}},{"$error":"#N/A"},{"$error":"#N/A"},{"$error":"#N/A"},{"$error":"#N/A"},{"$f":"TRANSPOSE(MMULT($AE$10:$AG$12,TRANSPOSE(F314:H314)))","v":{"$error":"#N/A"}},{"$error":"#N/A"},{"$error":"#N/A"},{"$error":"#N/A"},{"$error":"#N/A"},{"$f":"TRANSPOSE(MMULT($AO$40:$AQ$42,TRANSPOSE(C314:E314)))","v":{"$error":"#N/A"}},{"$error":"#N/A"},{"$error":"#N/A"},{"$error":"#N/A"},{"$error":"#N/A"},{"$error":"#N/A"}]
[315,{"$error":"#N/A"},{"$error":"#N/A"},{"$error":"#N/A"},{"$error":"#N/A"},{"$error":"#N/A"},{"$error":"#N/A"},{"$error":"#N/A"},{"$error":"#N/A"},{"$error":"#N/A"},{"$error":"#N/A"},{"$f":"IF($AK$38=0,TRANSPOSE(MMULT($O$10:$Q$12,TRANSPOSE(C315:E315))),TRANSPOSE(MMULT($O$10:$Q$12,TRANSPOSE(Y315:AA315))))","v":{"$error":"#N/A"}},{"$error":"#N/A"},{"$error":"#N/A"},{"$error":"#N/A"},{"$error":"#N/A"},{"$f":"TRANSPOSE(MMULT($AE$10:$AG$12,TRANSPOSE(F315:H315)))","v":{"$error":"#N/A"}},{"$error":"#N/A"},{"$error":"#N/A"},{"$error":"#N/A"},{"$error":"#N/A"},{"$f":"TRANSPOSE(MMULT($AO$40:$AQ$42,TRANSPOSE(C315:E315)))","v":{"$error":"#N/A"}},{"$error":"#N/A"},{"$error":"#N/A"},{"$error":"#N/A"},{"$error":"#N/A"},{"$error":"#N/A"}]
[316,{"$error":"#N/A"},{"$error":"#N/A"},{"$error":"#N/A"},{"$error":"#N/A"},{"$error":"#N/A"},{"$error":"#N/A"},{"$error":"#N/A"},{"$error":"#N/A"},{"$error":"#N/A"},{"$error":"#N/A"},{"$f":"IF($AK$38=0,TRANSPOSE(MMULT($O$10:$Q$12,TRANSPOSE(C316:E316))),TRANSPOSE(MMULT($O$10:$Q$12,TRANSPOSE(Y316:AA316))))","v":{"$error":"#N/A"}},{"$error":"#N/A"},{"$error":"#N/A"},{"$error":"#N/A"},{"$error":"#N/A"},{"$f":"TRANSPOSE(MMULT($AE$10:$AG$12,TRANSPOSE(F316:H316)))","v":{"$error":"#N/A"}},{"$error":"#N/A"},{"$error":"#N/A"},{"$error":"#N/A"},{"$error":"#N/A"},{"$f":"TRANSPOSE(MMULT($AO$40:$AQ$42,TRANSPOSE(C316:E316)))","v":{"$error":"#N/A"}},{"$error":"#N/A"},{"$error":"#N/A"},{"$error":"#N/A"},{"$error":"#N/A"},{"$error":"#N/A"}]
[317,{"$error":"#N/A"},{"$error":"#N/A"},{"$error":"#N/A"},{"$error":"#N/A"},{"$error":"#N/A"},{"$error":"#N/A"},{"$error":"#N/A"},{"$error":"#N/A"},{"$error":"#N/A"},{"$error":"#N/A"},{"$f":"IF($AK$38=0,TRANSPOSE(MMULT($O$10:$Q$12,TRANSPOSE(C317:E317))),TRANSPOSE(MMULT($O$10:$Q$12,TRANSPOSE(Y317:AA317))))","v":{"$error":"#N/A"}},{"$error":"#N/A"},{"$error":"#N/A"},{"$error":"#N/A"},{"$error":"#N/A"},{"$f":"TRANSPOSE(MMULT($AE$10:$AG$12,TRANSPOSE(F317:H317)))","v":{"$error":"#N/A"}},{"$error":"#N/A"},{"$error":"#N/A"},{"$error":"#N/A"},{"$error":"#N/A"},{"$f":"TRANSPOSE(MMULT($AO$40:$AQ$42,TRANSPOSE(C317:E317)))","v":{"$error":"#N/A"}},{"$error":"#N/A"},{"$error":"#N/A"},{"$error":"#N/A"},{"$error":"#N/A"},{"$error":"#N/A"}]
[318,{"$error":"#N/A"},{"$error":"#N/A"},{"$error":"#N/A"},{"$error":"#N/A"},{"$error":"#N/A"},{"$error":"#N/A"},{"$error":"#N/A"},{"$error":"#N/A"},{"$error":"#N/A"},{"$error":"#N/A"},{"$f":"IF($AK$38=0,TRANSPOSE(MMULT($O$10:$Q$12,TRANSPOSE(C318:E318))),TRANSPOSE(MMULT($O$10:$Q$12,TRANSPOSE(Y318:AA318))))","v":{"$error":"#N/A"}},{"$error":"#N/A"},{"$error":"#N/A"},{"$error":"#N/A"},{"$error":"#N/A"},{"$f":"TRANSPOSE(MMULT($AE$10:$AG$12,TRANSPOSE(F318:H318)))","v":{"$error":"#N/A"}},{"$error":"#N/A"},{"$error":"#N/A"},{"$error":"#N/A"},{"$error":"#N/A"},{"$f":"TRANSPOSE(MMULT($AO$40:$AQ$42,TRANSPOSE(C318:E318)))","v":{"$error":"#N/A"}},{"$error":"#N/A"},{"$error":"#N/A"},{"$error":"#N/A"},{"$error":"#N/A"},{"$error":"#N/A"}]
[319,{"$error":"#N/A"},{"$error":"#N/A"},{"$error":"#N/A"},{"$error":"#N/A"},{"$error":"#N/A"},{"$error":"#N/A"},{"$error":"#N/A"},{"$error":"#N/A"},{"$error":"#N/A"},{"$error":"#N/A"},{"$f":"IF($AK$38=0,TRANSPOSE(MMULT($O$10:$Q$12,TRANSPOSE(C319:E319))),TRANSPOSE(MMULT($O$10:$Q$12,TRANSPOSE(Y319:AA319))))","v":{"$error":"#N/A"}},{"$error":"#N/A"},{"$error":"#N/A"},{"$error":"#N/A"},{"$error":"#N/A"},{"$f":"TRANSPOSE(MMULT($AE$10:$AG$12,TRANSPOSE(F319:H319)))","v":{"$error":"#N/A"}},{"$error":"#N/A"},{"$error":"#N/A"},{"$error":"#N/A"},{"$error":"#N/A"},{"$f":"TRANSPOSE(MMULT($AO$40:$AQ$42,TRANSPOSE(C319:E319)))","v":{"$error":"#N/A"}},{"$error":"#N/A"},{"$error":"#N/A"},{"$error":"#N/A"},{"$error":"#N/A"},{"$error":"#N/A"}]
[320,{"$error":"#N/A"},{"$error":"#N/A"},{"$error":"#N/A"},{"$error":"#N/A"},{"$error":"#N/A"},{"$error":"#N/A"},{"$error":"#N/A"},{"$error":"#N/A"},{"$error":"#N/A"},{"$error":"#N/A"},{"$f":"IF($AK$38=0,TRANSPOSE(MMULT($O$10:$Q$12,TRANSPOSE(C320:E320))),TRANSPOSE(MMULT($O$10:$Q$12,TRANSPOSE(Y320:AA320))))","v":{"$error":"#N/A"}},{"$error":"#N/A"},{"$error":"#N/A"},{"$error":"#N/A"},{"$error":"#N/A"},{"$f":"TRANSPOSE(MMULT($AE$10:$AG$12,TRANSPOSE(F320:H320)))","v":{"$error":"#N/A"}},{"$error":"#N/A"},{"$error":"#N/A"},{"$error":"#N/A"},{"$error":"#N/A"},{"$f":"TRANSPOSE(MMULT($AO$40:$AQ$42,TRANSPOSE(C320:E320)))","v":{"$error":"#N/A"}},{"$error":"#N/A"},{"$error":"#N/A"},{"$error":"#N/A"},{"$error":"#N/A"},{"$error":"#N/A"}]
[321,{"$error":"#N/A"},{"$error":"#N/A"},{"$error":"#N/A"},{"$error":"#N/A"},{"$error":"#N/A"},{"$error":"#N/A"},{"$error":"#N/A"},{"$error":"#N/A"},{"$error":"#N/A"},{"$error":"#N/A"},{"$f":"IF($AK$38=0,TRANSPOSE(MMULT($O$10:$Q$12,TRANSPOSE(C321:E321))),TRANSPOSE(MMULT($O$10:$Q$12,TRANSPOSE(Y321:AA321))))","v":{"$error":"#N/A"}},{"$error":"#N/A"},{"$error":"#N/A"},{"$error":"#N/A"},{"$error":"#N/A"},{"$f":"TRANSPOSE(MMULT($AE$10:$AG$12,TRANSPOSE(F321:H321)))","v":{"$error":"#N/A"}},{"$error":"#N/A"},{"$error":"#N/A"},{"$error":"#N/A"},{"$error":"#N/A"},{"$f":"TRANSPOSE(MMULT($AO$40:$AQ$42,TRANSPOSE(C321:E321)))","v":{"$error":"#N/A"}},{"$error":"#N/A"},{"$error":"#N/A"},{"$error":"#N/A"},{"$error":"#N/A"},{"$error":"#N/A"}]
[322,{"$error":"#N/A"},{"$error":"#N/A"},{"$error":"#N/A"},{"$error":"#N/A"},{"$error":"#N/A"},{"$error":"#N/A"},{"$error":"#N/A"},{"$error":"#N/A"},{"$error":"#N/A"},{"$error":"#N/A"},{"$f":"IF($AK$38=0,TRANSPOSE(MMULT($O$10:$Q$12,TRANSPOSE(C322:E322))),TRANSPOSE(MMULT($O$10:$Q$12,TRANSPOSE(Y322:AA322))))","v":{"$error":"#N/A"}},{"$error":"#N/A"},{"$error":"#N/A"},{"$error":"#N/A"},{"$error":"#N/A"},{"$f":"TRANSPOSE(MMULT($AE$10:$AG$12,TRANSPOSE(F322:H322)))","v":{"$error":"#N/A"}},{"$error":"#N/A"},{"$error":"#N/A"},{"$error":"#N/A"},{"$error":"#N/A"},{"$f":"TRANSPOSE(MMULT($AO$40:$AQ$42,TRANSPOSE(C322:E322)))","v":{"$error":"#N/A"}},{"$error":"#N/A"},{"$error":"#N/A"},{"$error":"#N/A"},{"$error":"#N/A"},{"$error":"#N/A"}]
[323,{"$error":"#N/A"},{"$error":"#N/A"},{"$error":"#N/A"},{"$error":"#N/A"},{"$error":"#N/A"},{"$error":"#N/A"},{"$error":"#N/A"},{"$error":"#N/A"},{"$error":"#N/A"},{"$error":"#N/A"},{"$f":"IF($AK$38=0,TRANSPOSE(MMULT($O$10:$Q$12,TRANSPOSE(C323:E323))),TRANSPOSE(MMULT($O$10:$Q$12,TRANSPOSE(Y323:AA323))))","v":{"$error":"#N/A"}},{"$error":"#N/A"},{"$error":"#N/A"},{"$error":"#N/A"},{"$error":"#N/A"},{"$f":"TRANSPOSE(MMULT($AE$10:$AG$12,TRANSPOSE(F323:H323)))","v":{"$error":"#N/A"}},{"$error":"#N/A"},{"$error":"#N/A"},{"$error":"#N/A"},{"$error":"#N/A"},{"$f":"TRANSPOSE(MMULT($AO$40:$AQ$42,TRANSPOSE(C323:E323)))","v":{"$error":"#N/A"}},{"$error":"#N/A"},{"$error":"#N/A"},{"$error":"#N/A"},{"$error":"#N/A"},{"$error":"#N/A"}]
[324,{"$error":"#N/A"},{"$error":"#N/A"},{"$error":"#N/A"},{"$error":"#N/A"},{"$error":"#N/A"},{"$error":"#N/A"},{"$error":"#N/A"},{"$error":"#N/A"},{"$error":"#N/A"},{"$error":"#N/A"},{"$f":"IF($AK$38=0,TRANSPOSE(MMULT($O$10:$Q$12,TRANSPOSE(C324:E324))),TRANSPOSE(MMULT($O$10:$Q$12,TRANSPOSE(Y324:AA324))))","v":{"$error":"#N/A"}},{"$error":"#N/A"},{"$error":"#N/A"},{"$error":"#N/A"},{"$error":"#N/A"},{"$f":"TRANSPOSE(MMULT($AE$10:$AG$12,TRANSPOSE(F324:H324)))","v":{"$error":"#N/A"}},{"$error":"#N/A"},{"$error":"#N/A"},{"$error":"#N/A"},{"$error":"#N/A"},{"$f":"TRANSPOSE(MMULT($AO$40:$AQ$42,TRANSPOSE(C324:E324)))","v":{"$error":"#N/A"}},{"$error":"#N/A"},{"$error":"#N/A"},{"$error":"#N/A"},{"$error":"#N/A"},{"$error":"#N/A"}]
[325,{"$error":"#N/A"},{"$error":"#N/A"},{"$error":"#N/A"},{"$error":"#N/A"},{"$error":"#N/A"},{"$error":"#N/A"},{"$error":"#N/A"},{"$error":"#N/A"},{"$error":"#N/A"},{"$error":"#N/A"},{"$f":"IF($AK$38=0,TRANSPOSE(MMULT($O$10:$Q$12,TRANSPOSE(C325:E325))),TRANSPOSE(MMULT($O$10:$Q$12,TRANSPOSE(Y325:AA325))))","v":{"$error":"#N/A"}},{"$error":"#N/A"},{"$error":"#N/A"},{"$error":"#N/A"},{"$error":"#N/A"},{"$f":"TRANSPOSE(MMULT($AE$10:$AG$12,TRANSPOSE(F325:H325)))","v":{"$error":"#N/A"}},{"$error":"#N/A"},{"$error":"#N/A"},{"$error":"#N/A"},{"$error":"#N/A"},{"$f":"TRANSPOSE(MMULT($AO$40:$AQ$42,TRANSPOSE(C325:E325)))","v":{"$error":"#N/A"}},{"$error":"#N/A"},{"$error":"#N/A"},{"$error":"#N/A"},{"$error":"#N/A"},{"$error":"#N/A"}]
[326,{"$error":"#N/A"},{"$error":"#N/A"},{"$error":"#N/A"},{"$error":"#N/A"},{"$error":"#N/A"},{"$error":"#N/A"},{"$error":"#N/A"},{"$error":"#N/A"},{"$error":"#N/A"},{"$error":"#N/A"},{"$f":"IF($AK$38=0,TRANSPOSE(MMULT($O$10:$Q$12,TRANSPOSE(C326:E326))),TRANSPOSE(MMULT($O$10:$Q$12,TRANSPOSE(Y326:AA326))))","v":{"$error":"#N/A"}},{"$error":"#N/A"},{"$error":"#N/A"},{"$error":"#N/A"},{"$error":"#N/A"},{"$f":"TRANSPOSE(MMULT($AE$10:$AG$12,TRANSPOSE(F326:H326)))","v":{"$error":"#N/A"}},{"$error":"#N/A"},{"$error":"#N/A"},{"$error":"#N/A"},{"$error":"#N/A"},{"$f":"TRANSPOSE(MMULT($AO$40:$AQ$42,TRANSPOSE(C326:E326)))","v":{"$error":"#N/A"}},{"$error":"#N/A"},{"$error":"#N/A"},{"$error":"#N/A"},{"$error":"#N/A"},{"$error":"#N/A"}]
[327,{"$error":"#N/A"},{"$error":"#N/A"},{"$error":"#N/A"},{"$error":"#N/A"},{"$error":"#N/A"},{"$error":"#N/A"},{"$error":"#N/A"},{"$error":"#N/A"},{"$error":"#N/A"},{"$error":"#N/A"},{"$f":"IF($AK$38=0,TRANSPOSE(MMULT($O$10:$Q$12,TRANSPOSE(C327:E327))),TRANSPOSE(MMULT($O$10:$Q$12,TRANSPOSE(Y327:AA327))))","v":{"$error":"#N/A"}},{"$error":"#N/A"},{"$error":"#N/A"},{"$error":"#N/A"},{"$error":"#N/A"},{"$f":"TRANSPOSE(MMULT($AE$10:$AG$12,TRANSPOSE(F327:H327)))","v":{"$error":"#N/A"}},{"$error":"#N/A"},{"$error":"#N/A"},{"$error":"#N/A"},{"$error":"#N/A"},{"$f":"TRANSPOSE(MMULT($AO$40:$AQ$42,TRANSPOSE(C327:E327)))","v":{"$error":"#N/A"}},{"$error":"#N/A"},{"$error":"#N/A"},{"$error":"#N/A"},{"$error":"#N/A"},{"$error":"#N/A"}]
[328,{"$error":"#N/A"},{"$error":"#N/A"},{"$error":"#N/A"},{"$error":"#N/A"},{"$error":"#N/A"},{"$error":"#N/A"},{"$error":"#N/A"},{"$error":"#N/A"},{"$error":"#N/A"},{"$error":"#N/A"},{"$f":"IF($AK$38=0,TRANSPOSE(MMULT($O$10:$Q$12,TRANSPOSE(C328:E328))),TRANSPOSE(MMULT($O$10:$Q$12,TRANSPOSE(Y328:AA328))))","v":{"$error":"#N/A"}},{"$error":"#N/A"},{"$error":"#N/A"},{"$error":"#N/A"},{"$error":"#N/A"},{"$f":"TRANSPOSE(MMULT($AE$10:$AG$12,TRANSPOSE(F328:H328)))","v":{"$error":"#N/A"}},{"$error":"#N/A"},{"$error":"#N/A"},{"$error":"#N/A"},{"$error":"#N/A"},{"$f":"TRANSPOSE(MMULT($AO$40:$AQ$42,TRANSPOSE(C328:E328)))","v":{"$error":"#N/A"}},{"$error":"#N/A"},{"$error":"#N/A"},{"$error":"#N/A"},{"$error":"#N/A"},{"$error":"#N/A"}]
[329,{"$error":"#N/A"},{"$error":"#N/A"},{"$error":"#N/A"},{"$error":"#N/A"},{"$error":"#N/A"},{"$error":"#N/A"},{"$error":"#N/A"},{"$error":"#N/A"},{"$error":"#N/A"},{"$error":"#N/A"},{"$f":"IF($AK$38=0,TRANSPOSE(MMULT($O$10:$Q$12,TRANSPOSE(C329:E329))),TRANSPOSE(MMULT($O$10:$Q$12,TRANSPOSE(Y329:AA329))))","v":{"$error":"#N/A"}},{"$error":"#N/A"},{"$error":"#N/A"},{"$error":"#N/A"},{"$error":"#N/A"},{"$f":"TRANSPOSE(MMULT($AE$10:$AG$12,TRANSPOSE(F329:H329)))","v":{"$error":"#N/A"}},{"$error":"#N/A"},{"$error":"#N/A"},{"$error":"#N/A"},{"$error":"#N/A"},{"$f":"TRANSPOSE(MMULT($AO$40:$AQ$42,TRANSPOSE(C329:E329)))","v":{"$error":"#N/A"}},{"$error":"#N/A"},{"$error":"#N/A"},{"$error":"#N/A"},{"$error":"#N/A"},{"$error":"#N/A"}]
[330,{"$error":"#N/A"},{"$error":"#N/A"},{"$error":"#N/A"},{"$error":"#N/A"},{"$error":"#N/A"},{"$error":"#N/A"},{"$error":"#N/A"},{"$error":"#N/A"},{"$error":"#N/A"},{"$error":"#N/A"},{"$f":"IF($AK$38=0,TRANSPOSE(MMULT($O$10:$Q$12,TRANSPOSE(C330:E330))),TRANSPOSE(MMULT($O$10:$Q$12,TRANSPOSE(Y330:AA330))))","v":{"$error":"#N/A"}},{"$error":"#N/A"},{"$error":"#N/A"},{"$error":"#N/A"},{"$error":"#N/A"},{"$f":"TRANSPOSE(MMULT($AE$10:$AG$12,TRANSPOSE(F330:H330)))","v":{"$error":"#N/A"}},{"$error":"#N/A"},{"$error":"#N/A"},{"$error":"#N/A"},{"$error":"#N/A"},{"$f":"TRANSPOSE(MMULT($AO$40:$AQ$42,TRANSPOSE(C330:E330)))","v":{"$error":"#N/A"}},{"$error":"#N/A"},{"$error":"#N/A"},{"$error":"#N/A"},{"$error":"#N/A"},{"$error":"#N/A"}]
[331,{"$error":"#N/A"},{"$error":"#N/A"},{"$error":"#N/A"},{"$error":"#N/A"},{"$error":"#N/A"},{"$error":"#N/A"},{"$error":"#N/A"},{"$error":"#N/A"},{"$error":"#N/A"},{"$error":"#N/A"},{"$f":"IF($AK$38=0,TRANSPOSE(MMULT($O$10:$Q$12,TRANSPOSE(C331:E331))),TRANSPOSE(MMULT($O$10:$Q$12,TRANSPOSE(Y331:AA331))))","v":{"$error":"#N/A"}},{"$error":"#N/A"},{"$error":"#N/A"},{"$error":"#N/A"},{"$error":"#N/A"},{"$f":"TRANSPOSE(MMULT($AE$10:$AG$12,TRANSPOSE(F331:H331)))","v":{"$error":"#N/A"}},{"$error":"#N/A"},{"$error":"#N/A"},{"$error":"#N/A"},{"$error":"#N/A"},{"$f":"TRANSPOSE(MMULT($AO$40:$AQ$42,TRANSPOSE(C331:E331)))","v":{"$error":"#N/A"}},{"$error":"#N/A"},{"$error":"#N/A"},{"$error":"#N/A"},{"$error":"#N/A"},{"$error":"#N/A"}]
[332,{"$error":"#N/A"},{"$error":"#N/A"},{"$error":"#N/A"},{"$error":"#N/A"},{"$error":"#N/A"},{"$error":"#N/A"},{"$error":"#N/A"},{"$error":"#N/A"},{"$error":"#N/A"},{"$error":"#N/A"},{"$f":"IF($AK$38=0,TRANSPOSE(MMULT($O$10:$Q$12,TRANSPOSE(C332:E332))),TRANSPOSE(MMULT($O$10:$Q$12,TRANSPOSE(Y332:AA332))))","v":{"$error":"#N/A"}},{"$error":"#N/A"},{"$error":"#N/A"},{"$error":"#N/A"},{"$error":"#N/A"},{"$f":"TRANSPOSE(MMULT($AE$10:$AG$12,TRANSPOSE(F332:H332)))","v":{"$error":"#N/A"}},{"$error":"#N/A"},{"$error":"#N/A"},{"$error":"#N/A"},{"$error":"#N/A"},{"$f":"TRANSPOSE(MMULT($AO$40:$AQ$42,TRANSPOSE(C332:E332)))","v":{"$error":"#N/A"}},{"$error":"#N/A"},{"$error":"#N/A"},{"$error":"#N/A"},{"$error":"#N/A"},{"$error":"#N/A"}]
[333,{"$error":"#N/A"},{"$error":"#N/A"},{"$error":"#N/A"},{"$error":"#N/A"},{"$error":"#N/A"},{"$error":"#N/A"},{"$error":"#N/A"},{"$error":"#N/A"},{"$error":"#N/A"},{"$error":"#N/A"},{"$f":"IF($AK$38=0,TRANSPOSE(MMULT($O$10:$Q$12,TRANSPOSE(C333:E333))),TRANSPOSE(MMULT($O$10:$Q$12,TRANSPOSE(Y333:AA333))))","v":{"$error":"#N/A"}},{"$error":"#N/A"},{"$error":"#N/A"},{"$error":"#N/A"},{"$error":"#N/A"},{"$f":"TRANSPOSE(MMULT($AE$10:$AG$12,TRANSPOSE(F333:H333)))","v":{"$error":"#N/A"}},{"$error":"#N/A"},{"$error":"#N/A"},{"$error":"#N/A"},{"$error":"#N/A"},{"$f":"TRANSPOSE(MMULT($AO$40:$AQ$42,TRANSPOSE(C333:E333)))","v":{"$error":"#N/A"}},{"$error":"#N/A"},{"$error":"#N/A"},{"$error":"#N/A"},{"$error":"#N/A"},{"$error":"#N/A"}]
[334,{"$error":"#N/A"},{"$error":"#N/A"},{"$error":"#N/A"},{"$error":"#N/A"},{"$error":"#N/A"},{"$error":"#N/A"},{"$error":"#N/A"},{"$error":"#N/A"},{"$error":"#N/A"},{"$error":"#N/A"},{"$f":"IF($AK$38=0,TRANSPOSE(MMULT($O$10:$Q$12,TRANSPOSE(C334:E334))),TRANSPOSE(MMULT($O$10:$Q$12,TRANSPOSE(Y334:AA334))))","v":{"$error":"#N/A"}},{"$error":"#N/A"},{"$error":"#N/A"},{"$error":"#N/A"},{"$error":"#N/A"},{"$f":"TRANSPOSE(MMULT($AE$10:$AG$12,TRANSPOSE(F334:H334)))","v":{"$error":"#N/A"}},{"$error":"#N/A"},{"$error":"#N/A"},{"$error":"#N/A"},{"$error":"#N/A"},{"$f":"TRANSPOSE(MMULT($AO$40:$AQ$42,TRANSPOSE(C334:E334)))","v":{"$error":"#N/A"}},{"$error":"#N/A"},{"$error":"#N/A"},{"$error":"#N/A"},{"$error":"#N/A"},{"$error":"#N/A"}]
[335,{"$error":"#N/A"},{"$error":"#N/A"},{"$error":"#N/A"},{"$error":"#N/A"},{"$error":"#N/A"},{"$error":"#N/A"},{"$error":"#N/A"},{"$error":"#N/A"},{"$error":"#N/A"},{"$error":"#N/A"},{"$f":"IF($AK$38=0,TRANSPOSE(MMULT($O$10:$Q$12,TRANSPOSE(C335:E335))),TRANSPOSE(MMULT($O$10:$Q$12,TRANSPOSE(Y335:AA335))))","v":{"$error":"#N/A"}},{"$error":"#N/A"},{"$error":"#N/A"},{"$error":"#N/A"},{"$error":"#N/A"},{"$f":"TRANSPOSE(MMULT($AE$10:$AG$12,TRANSPOSE(F335:H335)))","v":{"$error":"#N/A"}},{"$error":"#N/A"},{"$error":"#N/A"},{"$error":"#N/A"},{"$error":"#N/A"},{"$f":"TRANSPOSE(MMULT($AO$40:$AQ$42,TRANSPOSE(C335:E335)))","v":{"$error":"#N/A"}},{"$error":"#N/A"},{"$error":"#N/A"},{"$error":"#N/A"},{"$error":"#N/A"},{"$error":"#N/A"}]
[336,{"$error":"#N/A"},{"$error":"#N/A"},{"$error":"#N/A"},{"$error":"#N/A"},{"$f":"(F$7+2*I$7*$B336+3*L$7*$B336^2+4*O$7*$B336^3)*SIN(O$8*$B336^4+L$8*$B336^3+I$8*$B336^2+F$8*$B336+C$8)+(F$8+2*I$8*$B336+3*L$8*$B336^2+4*O$8*$B336^3)*(C$7+F$7*$B336+I$7*$B336^2+L$7*$B336^3+O$7*$B336^4)*COS(O$8*$B336^4+L$8*$B336^3+I$8*$B336^2+F$8*$B336+C$8)-(F$6+2*I$6*$B336+3*L$6*$B336^2+4*O$6*$B336^3)*(C$5+F$5*$B336+I$5*$B336^2+L$5*$B336^3+O$5*$B336^4)*SIN(O$6*$B336^4+L$6*$B336^3+I$6*$B336^2+F$6*$B336+C$6)+(F$5+2*I$5*$B336+3*L$5*$B336^2+4*O$5*$B336^3)*COS(O$6*$B336^4+L$6*$B336^3+I$6*$B336^2+F$6*$B336+C$6)+4*O$4*$B336^3+3*L$4*$B336^2+2*I$4*$B336+F$4","v":{"$error":"#N/A"}},{"$f":"(G$7+2*J$7*$B336+3*M$7*$B336^2+4*P$7*$B336^3)*SIN(P$8*$B336^4+M$8*$B336^3+J$8*$B336^2+G$8*$B336+D$8)+(G$8+2*J$8*$B336+3*M$8*$B336^2+4*P$8*$B336^3)*(D$7+G$7*$B336+J$7*$B336^2+M$7*$B336^3+P$7*$B336^4)*COS(P$8*$B336^4+M$8*$B336^3+J$8*$B336^2+G$8*$B336+D$8)-(G$6+2*J$6*$B336+3*M$6*$B336^2+4*P$6*$B336^3)*(D$5+G$5*$B336+J$5*$B336^2+M$5*$B336^3+P$5*$B336^4)*SIN(P$6*$B336^4+M$6*$B336^3+J$6*$B336^2+G$6*$B336+D$6)+(G$5+2*J$5*$B336+3*M$5*$B336^2+4*P$5*$B336^3)*COS(P$6*$B336^4+M$6*$B336^3+J$6*$B336^2+G$6*$B336+D$6)+4*P$4*$B336^3+3*M$4*$B336^2+2*J$4*$B336+G$4","v":{"$error":"#N/A"}},{"$f":"(H$7+2*K$7*$B336+3*N$7*$B336^2+4*Q$7*$B336^3)*SIN(Q$8*$B336^4+N$8*$B336^3+K$8*$B336^2+H$8*$B336+E$8)+(H$8+2*K$8*$B336+3*N$8*$B336^2+4*Q$8*$B336^3)*(E$7+H$7*$B336+K$7*$B336^2+N$7*$B336^3+Q$7*$B336^4)*COS(Q$8*$B336^4+N$8*$B336^3+K$8*$B336^2+H$8*$B336+E$8)-(H$6+2*K$6*$B336+3*N$6*$B336^2+4*Q$6*$B336^3)*(E$5+H$5*$B336+K$5*$B336^2+N$5*$B336^3+Q$5*$B336^4)*SIN(Q$6*$B336^4+N$6*$B336^3+K$6*$B336^2+H$6*$B336+E$6)+(H$5+2*K$5*$B336+3*N$5*$B336^2+4*Q$5*$B336^3)*COS(Q$6*$B336^4+N$6*$B336^3+K$6*$B336^2+H$6*$B336+E$6)+4*Q$4*$B336^3+3*N$4*$B336^2+2*K$4*$B336+H$4","v":{"$error":"#N/A"}},{"$f":"-1*(F$8+2*I$8*$B336+3*L$8*$B336^2+4*O$8*$B336^3)^2*(C$7+F$7*$B336+I$7*$B336^2+L$7*$B336^3+O$7*$B336^4)*SIN(O$8*$B336^4+L$8*$B336^3+I$8*$B336^2+F$8*$B336+C$8)+(2*I$7+6*L$7*$B336+12*O$7*$B336^2)*SIN(O$8*$B336^4+L$8*$B336^3+I$8*$B336^2+F$8*$B336+C$8)+(2*I$8+6*L$8*$B336+12*O$8*$B336^2)*(C$7+F$7*$B336+I$7*$B336^2+L$7*$B336^3+O$7*$B336^4)*COS(O$8*$B336^4+L$8*$B336^3+I$8*$B336^2+F$8*$B336+C$8)+2*(F$7+2*I$7*$B336+3*L$7*$B336^2+4*O$7*$B336^3)*(F$8+2*I$8*$B336+3*L$8*$B336^2+4*O$8*$B336^3)*COS(O$8*$B336^4+L$8*$B336^3+I$8*$B336^2+F$8*$B336+C$8)-(2*I$6+6*L$6*$B336+12*O$6*$B336^2)*(C$5+F$5*$B336+I$5*$B336^2+L$5*$B336^3+O$5*$B336^4)*SIN(O$6*$B336^4+L$6*$B336^3+I$6*$B336^2+F$6*$B336+C$6)-2*(F$5+2*I$5*$B336+3*L$5*$B336^2+4*O$5*$B336^3)*(F$6+2*I$6*$B336+3*L$6*$B336^2+4*O$6*$B336^3)*SIN(O$6*$B336^4+L$6*$B336^3+I$6*$B336^2+F$6*$B336+C$6)-(F$6+2*I$6*$B336+3*L$6*$B336^2+4*O$6*$B336^3)^2*(C$5+F$5*$B336+I$5*$B336^2+L$5*$B336^3+O$5*$B336^4)*COS(O$6*$B336^4+L$6*$B336^3+I$6*$B336^2+F$6*$B336+C$6)+(2*I$5+6*L$5*$B336+12*O$5*$B336^2)*COS(O$6*$B336^4+L$6*$B336^3+I$6*$B336^2+F$6*$B336+C$6)+12*O$4*$B336^2+6*L$4*$B336+2*I$4","v":{"$error":"#N/A"}},{"$f":"-1*(G$8+2*J$8*$B336+3*M$8*$B336^2+4*P$8*$B336^3)^2*(D$7+G$7*$B336+J$7*$B336^2+M$7*$B336^3+P$7*$B336^4)*SIN(P$8*$B336^4+M$8*$B336^3+J$8*$B336^2+G$8*$B336+D$8)+(2*J$7+6*M$7*$B336+12*P$7*$B336^2)*SIN(P$8*$B336^4+M$8*$B336^3+J$8*$B336^2+G$8*$B336+D$8)+(2*J$8+6*M$8*$B336+12*P$8*$B336^2)*(D$7+G$7*$B336+J$7*$B336^2+M$7*$B336^3+P$7*$B336^4)*COS(P$8*$B336^4+M$8*$B336^3+J$8*$B336^2+G$8*$B336+D$8)+2*(G$7+2*J$7*$B336+3*M$7*$B336^2+4*P$7*$B336^3)*(G$8+2*J$8*$B336+3*M$8*$B336^2+4*P$8*$B336^3)*COS(P$8*$B336^4+M$8*$B336^3+J$8*$B336^2+G$8*$B336+D$8)-(2*J$6+6*M$6*$B336+12*P$6*$B336^2)*(D$5+G$5*$B336+J$5*$B336^2+M$5*$B336^3+P$5*$B336^4)*SIN(P$6*$B336^4+M$6*$B336^3+J$6*$B336^2+G$6*$B336+D$6)-2*(G$5+2*J$5*$B336+3*M$5*$B336^2+4*P$5*$B336^3)*(G$6+2*J$6*$B336+3*M$6*$B336^2+4*P$6*$B336^3)*SIN(P$6*$B336^4+M$6*$B336^3+J$6*$B336^2+G$6*$B336+D$6)-(G$6+2*J$6*$B336+3*M$6*$B336^2+4*P$6*$B336^3)^2*(D$5+G$5*$B336+J$5*$B336^2+M$5*$B336^3+P$5*$B336^4)*COS(P$6*$B336^4+M$6*$B336^3+J$6*$B336^2+G$6*$B336+D$6)+(2*J$5+6*M$5*$B336+12*P$5*$B336^2)*COS(P$6*$B336^4+M$6*$B336^3+J$6*$B336^2+G$6*$B336+D$6)+12*P$4*$B336^2+6*M$4*$B336+2*J$4","v":{"$error":"#N/A"}},{"$f":"-1*(H$8+2*K$8*$B336+3*N$8*$B336^2+4*Q$8*$B336^3)^2*(E$7+H$7*$B336+K$7*$B336^2+N$7*$B336^3+Q$7*$B336^4)*SIN(Q$8*$B336^4+N$8*$B336^3+K$8*$B336^2+H$8*$B336+E$8)+(2*K$7+6*N$7*$B336+12*Q$7*$B336^2)*SIN(Q$8*$B336^4+N$8*$B336^3+K$8*$B336^2+H$8*$B336+E$8)+(2*K$8+6*N$8*$B336+12*Q$8*$B336^2)*(E$7+H$7*$B336+K$7*$B336^2+N$7*$B336^3+Q$7*$B336^4)*COS(Q$8*$B336^4+N$8*$B336^3+K$8*$B336^2+H$8*$B336+E$8)+2*(H$7+2*K$7*$B336+3*N$7*$B336^2+4*Q$7*$B336^3)*(H$8+2*K$8*$B336+3*N$8*$B336^2+4*Q$8*$B336^3)*COS(Q$8*$B336^4+N$8*$B336^3+K$8*$B336^2+H$8*$B336+E$8)-(2*K$6+6*N$6*$B336+12*Q$6*$B336^2)*(E$5+H$5*$B336+K$5*$B336^2+N$5*$B336^3+Q$5*$B336^4)*SIN(Q$6*$B336^4+N$6*$B336^3+K$6*$B336^2+H$6*$B336+E$6)-2*(H$5+2*K$5*$B336+3*N$5*$B336^2+4*Q$5*$B336^3)*(H$6+2*K$6*$B336+3*N$6*$B336^2+4*Q$6*$B336^3)*SIN(Q$6*$B336^4+N$6*$B336^3+K$6*$B336^2+H$6*$B336+E$6)-(H$6+2*K$6*$B336+3*N$6*$B336^2+4*Q$6*$B336^3)^2*(E$5+H$5*$B336+K$5*$B336^2+N$5*$B336^3+Q$5*$B336^4)*COS(Q$6*$B336^4+N$6*$B336^3+K$6*$B336^2+H$6*$B336+E$6)+(2*K$5+6*N$5*$B336+12*Q$5*$B336^2)*COS(Q$6*$B336^4+N$6*$B336^3+K$6*$B336^2+H$6*$B336+E$6)+12*Q$4*$B336^2+6*N$4*$B336+2*K$4","v":{"$error":"#N/A"}},{"$f":"IF($AK$38=0,TRANSPOSE(MMULT($O$10:$Q$12,TRANSPOSE(C336:E336))),TRANSPOSE(MMULT($O$10:$Q$12,TRANSPOSE(Y336:AA336))))","v":{"$error":"#N/A"}},{"$error":"#N/A"},{"$error":"#N/A"},{"$error":"#N/A"},{"$error":"#N/A"},{"$f":"TRANSPOSE(MMULT($AE$10:$AG$12,TRANSPOSE(F336:H336)))","v":{"$error":"#N/A"}},{"$error":"#N/A"},{"$error":"#N/A"},{"$f":"$Y$5+$Y$4*IF($U$8=1,Q336,(Q336*$U$6)/($U$6+$U$7+R336))","v":{"$error":"#N/A"}},{"$f":"$Y$6+$Y$4*IF($U$8=1,R336,(S336*$U$6)/($U$6+$U$7+R336))","v":{"$error":"#N/A"}},{"$f":"TRANSPOSE(MMULT($AO$40:$AQ$42,TRANSPOSE(C336:E336)))","v":{"$error":"#N/A"}},{"$error":"#N/A"},{"$error":"#N/A"},{"$f":"V336+$AL$46","v":{"$error":"#N/A"}},{"$f":"W336+$AL$47","v":{"$error":"#N/A"}},{"$f":"X336+$AL$48","v":{"$error":"#N/A"}}]
[337,{"$error":"#N/A"},{"$error":"#N/A"},{"$error":"#N/A"},{"$error":"#N/A"},{"$error":"#N/A"},{"$error":"#N/A"},{"$error":"#N/A"},{"$error":"#N/A"},{"$error":"#N/A"},{"$error":"#N/A"},{"$f":"IF($AK$38=0,TRANSPOSE(MMULT($O$10:$Q$12,TRANSPOSE(C337:E337))),TRANSPOSE(MMULT($O$10:$Q$12,TRANSPOSE(Y337:AA337))))","v":{"$error":"#N/A"}},{"$error":"#N/A"},{"$error":"#N/A"},{"$f":"IF($AD$4=0,NA(),$X$5+$X$4*IF($U$8=1,L337,(L337*$U$6)/($U$6+$U$7+M337)))","v":{"$error":"#N/A"}},{"$f":"IF($AD$4=0,NA(),$X$6+$X$4*IF($U$8=1,M337,(N337*$U$6)/($U$6+$U$7+M337)))","v":{"$error":"#N/A"}},{"$f":"TRANSPOSE(MMULT($AE$10:$AG$12,TRANSPOSE(F337:H337)))","v":{"$error":"#N/A"}},{"$error":"#N/A"},{"$error":"#N/A"},{"$error":"#N/A"},{"$error":"#N/A"},{"$f":"TRANSPOSE(MMULT($AO$40:$AQ$42,TRANSPOSE(C337:E337)))","v":{"$error":"#N/A"}},{"$error":"#N/A"},{"$error":"#N/A"},{"$error":"#N/A"},{"$error":"#N/A"},{"$error":"#N/A"}]
[338,{"$f":"IF(B337<$B$3,B337+$S$3,NA())","v":{"$error":"#N/A"}},{"$error":"#N/A"},{"$error":"#N/A"},{"$error":"#N/A"},{"$error":"#N/A"},{"$error":"#N/A"},{"$error":"#N/A"},{"$error":"#N/A"},{"$error":"#N/A"},{"$error":"#N/A"},{"$f":"IF($AK$38=0,TRANSPOSE(MMULT($O$10:$Q$12,TRANSPOSE(C338:E338))),TRANSPOSE(MMULT($O$10:$Q$12,TRANSPOSE(Y338:AA338))))","v":{"$error":"#N/A"}},{"$error":"#N/A"},{"$error":"#N/A"},{"$error":"#N/A"},{"$error":"#N/A"},{"$f":"TRANSPOSE(MMULT($AE$10:$AG$12,TRANSPOSE(F338:H338)))","v":{"$error":"#N/A"}},{"$error":"#N/A"},{"$error":"#N/A"},{"$error":"#N/A"},{"$error":"#N/A"},{"$f":"TRANSPOSE(MMULT($AO$40:$AQ$42,TRANSPOSE(C338:E338)))","v":{"$error":"#N/A"}},{"$error":"#N/A"},{"$error":"#N/A"},{"$error":"#N/A"},{"$error":"#N/A"},{"$error":"#N/A"}]
[339,{"$error":"#N/A"},{"$error":"#N/A"},{"$error":"#N/A"},{"$error":"#N/A"},{"$error":"#N/A"},{"$error":"#N/A"},{"$error":"#N/A"},{"$error":"#N/A"},{"$error":"#N/A"},{"$error":"#N/A"},{"$f":"IF($AK$38=0,TRANSPOSE(MMULT($O$10:$Q$12,TRANSPOSE(C339:E339))),TRANSPOSE(MMULT($O$10:$Q$12,TRANSPOSE(Y339:AA339))))","v":{"$error":"#N/A"}},{"$error":"#N/A"},{"$error":"#N/A"},{"$error":"#N/A"},{"$error":"#N/A"},{"$f":"TRANSPOSE(MMULT($AE$10:$AG$12,TRANSPOSE(F339:H339)))","v":{"$error":"#N/A"}},{"$error":"#N/A"},{"$error":"#N/A"},{"$error":"#N/A"},{"$error":"#N/A"},{"$f":"TRANSPOSE(MMULT($AO$40:$AQ$42,TRANSPOSE(C339:E339)))","v":{"$error":"#N/A"}},{"$error":"#N/A"},{"$error":"#N/A"},{"$error":"#N/A"},{"$error":"#N/A"},{"$error":"#N/A"}]
[340,{"$error":"#N/A"},{"$error":"#N/A"},{"$error":"#N/A"},{"$error":"#N/A"},{"$error":"#N/A"},{"$error":"#N/A"},{"$error":"#N/A"},{"$error":"#N/A"},{"$error":"#N/A"},{"$error":"#N/A"},{"$f":"IF($AK$38=0,TRANSPOSE(MMULT($O$10:$Q$12,TRANSPOSE(C340:E340))),TRANSPOSE(MMULT($O$10:$Q$12,TRANSPOSE(Y340:AA340))))","v":{"$error":"#N/A"}},{"$error":"#N/A"},{"$error":"#N/A"},{"$error":"#N/A"},{"$error":"#N/A"},{"$f":"TRANSPOSE(MMULT($AE$10:$AG$12,TRANSPOSE(F340:H340)))","v":{"$error":"#N/A"}},{"$error":"#N/A"},{"$error":"#N/A"},{"$error":"#N/A"},{"$error":"#N/A"},{"$f":"TRANSPOSE(MMULT($AO$40:$AQ$42,TRANSPOSE(C340:E340)))","v":{"$error":"#N/A"}},{"$error":"#N/A"},{"$error":"#N/A"},{"$error":"#N/A"},{"$error":"#N/A"},{"$error":"#N/A"}]
[341,{"$error":"#N/A"},{"$error":"#N/A"},{"$error":"#N/A"},{"$error":"#N/A"},{"$error":"#N/A"},{"$error":"#N/A"},{"$error":"#N/A"},{"$error":"#N/A"},{"$error":"#N/A"},{"$error":"#N/A"},{"$f":"IF($AK$38=0,TRANSPOSE(MMULT($O$10:$Q$12,TRANSPOSE(C341:E341))),TRANSPOSE(MMULT($O$10:$Q$12,TRANSPOSE(Y341:AA341))))","v":{"$error":"#N/A"}},{"$error":"#N/A"},{"$error":"#N/A"},{"$error":"#N/A"},{"$error":"#N/A"},{"$f":"TRANSPOSE(MMULT($AE$10:$AG$12,TRANSPOSE(F341:H341)))","v":{"$error":"#N/A"}},{"$error":"#N/A"},{"$error":"#N/A"},{"$error":"#N/A"},{"$error":"#N/A"},{"$f":"TRANSPOSE(MMULT($AO$40:$AQ$42,TRANSPOSE(C341:E341)))","v":{"$error":"#N/A"}},{"$error":"#N/A"},{"$error":"#N/A"},{"$error":"#N/A"},{"$error":"#N/A"},{"$error":"#N/A"}]
[342,{"$error":"#N/A"},{"$error":"#N/A"},{"$error":"#N/A"},{"$error":"#N/A"},{"$error":"#N/A"},{"$error":"#N/A"},{"$error":"#N/A"},{"$error":"#N/A"},{"$error":"#N/A"},{"$error":"#N/A"},{"$f":"IF($AK$38=0,TRANSPOSE(MMULT($O$10:$Q$12,TRANSPOSE(C342:E342))),TRANSPOSE(MMULT($O$10:$Q$12,TRANSPOSE(Y342:AA342))))","v":{"$error":"#N/A"}},{"$error":"#N/A"},{"$error":"#N/A"},{"$error":"#N/A"},{"$error":"#N/A"},{"$f":"TRANSPOSE(MMULT($AE$10:$AG$12,TRANSPOSE(F342:H342)))","v":{"$error":"#N/A"}},{"$error":"#N/A"},{"$error":"#N/A"},{"$error":"#N/A"},{"$error":"#N/A"},{"$f":"TRANSPOSE(MMULT($AO$40:$AQ$42,TRANSPOSE(C342:E342)))","v":{"$error":"#N/A"}},{"$error":"#N/A"},{"$error":"#N/A"},{"$error":"#N/A"},{"$error":"#N/A"},{"$error":"#N/A"}]
[343,{"$error":"#N/A"},{"$error":"#N/A"},{"$error":"#N/A"},{"$error":"#N/A"},{"$error":"#N/A"},{"$error":"#N/A"},{"$error":"#N/A"},{"$error":"#N/A"},{"$error":"#N/A"},{"$error":"#N/A"},{"$f":"IF($AK$38=0,TRANSPOSE(MMULT($O$10:$Q$12,TRANSPOSE(C343:E343))),TRANSPOSE(MMULT($O$10:$Q$12,TRANSPOSE(Y343:AA343))))","v":{"$error":"#N/A"}},{"$error":"#N/A"},{"$error":"#N/A"},{"$error":"#N/A"},{"$error":"#N/A"},{"$f":"TRANSPOSE(MMULT($AE$10:$AG$12,TRANSPOSE(F343:H343)))","v":{"$error":"#N/A"}},{"$error":"#N/A"},{"$error":"#N/A"},{"$error":"#N/A"},{"$error":"#N/A"},{"$f":"TRANSPOSE(MMULT($AO$40:$AQ$42,TRANSPOSE(C343:E343)))","v":{"$error":"#N/A"}},{"$error":"#N/A"},{"$error":"#N/A"},{"$error":"#N/A"},{"$error":"#N/A"},{"$error":"#N/A"}]
[344,{"$error":"#N/A"},{"$error":"#N/A"},{"$error":"#N/A"},{"$error":"#N/A"},{"$error":"#N/A"},{"$error":"#N/A"},{"$error":"#N/A"},{"$error":"#N/A"},{"$error":"#N/A"},{"$error":"#N/A"},{"$f":"IF($AK$38=0,TRANSPOSE(MMULT($O$10:$Q$12,TRANSPOSE(C344:E344))),TRANSPOSE(MMULT($O$10:$Q$12,TRANSPOSE(Y344:AA344))))","v":{"$error":"#N/A"}},{"$error":"#N/A"},{"$error":"#N/A"},{"$error":"#N/A"},{"$error":"#N/A"},{"$f":"TRANSPOSE(MMULT($AE$10:$AG$12,TRANSPOSE(F344:H344)))","v":{"$error":"#N/A"}},{"$error":"#N/A"},{"$error":"#N/A"},{"$error":"#N/A"},{"$error":"#N/A"},{"$f":"TRANSPOSE(MMULT($AO$40:$AQ$42,TRANSPOSE(C344:E344)))","v":{"$error":"#N/A"}},{"$error":"#N/A"},{"$error":"#N/A"},{"$error":"#N/A"},{"$error":"#N/A"},{"$error":"#N/A"}]
[345,{"$error":"#N/A"},{"$error":"#N/A"},{"$error":"#N/A"},{"$error":"#N/A"},{"$error":"#N/A"},{"$error":"#N/A"},{"$error":"#N/A"},{"$error":"#N/A"},{"$error":"#N/A"},{"$error":"#N/A"},{"$f":"IF($AK$38=0,TRANSPOSE(MMULT($O$10:$Q$12,TRANSPOSE(C345:E345))),TRANSPOSE(MMULT($O$10:$Q$12,TRANSPOSE(Y345:AA345))))","v":{"$error":"#N/A"}},{"$error":"#N/A"},{"$error":"#N/A"},{"$error":"#N/A"},{"$error":"#N/A"},{"$f":"TRANSPOSE(MMULT($AE$10:$AG$12,TRANSPOSE(F345:H345)))","v":{"$error":"#N/A"}},{"$error":"#N/A"},{"$error":"#N/A"},{"$error":"#N/A"},{"$error":"#N/A"},{"$f":"TRANSPOSE(MMULT($AO$40:$AQ$42,TRANSPOSE(C345:E345)))","v":{"$error":"#N/A"}},{"$error":"#N/A"},{"$error":"#N/A"},{"$error":"#N/A"},{"$error":"#N/A"},{"$error":"#N/A"}]
[346,{"$error":"#N/A"},{"$error":"#N/A"},{"$error":"#N/A"},{"$error":"#N/A"},{"$error":"#N/A"},{"$error":"#N/A"},{"$error":"#N/A"},{"$error":"#N/A"},{"$error":"#N/A"},{"$error":"#N/A"},{"$f":"IF($AK$38=0,TRANSPOSE(MMULT($O$10:$Q$12,TRANSPOSE(C346:E346))),TRANSPOSE(MMULT($O$10:$Q$12,TRANSPOSE(Y346:AA346))))","v":{"$error":"#N/A"}},{"$error":"#N/A"},{"$error":"#N/A"},{"$error":"#N/A"},{"$error":"#N/A"},{"$f":"TRANSPOSE(MMULT($AE$10:$AG$12,TRANSPOSE(F346:H346)))","v":{"$error":"#N/A"}},{"$error":"#N/A"},{"$error":"#N/A"},{"$error":"#N/A"},{"$error":"#N/A"},{"$f":"TRANSPOSE(MMULT($AO$40:$AQ$42,TRANSPOSE(C346:E346)))","v":{"$error":"#N/A"}},{"$error":"#N/A"},{"$error":"#N/A"},{"$error":"#N/A"},{"$error":"#N/A"},{"$error":"#N/A"}]
[347,{"$error":"#N/A"},{"$error":"#N/A"},{"$error":"#N/A"},{"$error":"#N/A"},{"$error":"#N/A"},{"$error":"#N/A"},{"$error":"#N/A"},{"$error":"#N/A"},{"$error":"#N/A"},{"$error":"#N/A"},{"$f":"IF($AK$38=0,TRANSPOSE(MMULT($O$10:$Q$12,TRANSPOSE(C347:E347))),TRANSPOSE(MMULT($O$10:$Q$12,TRANSPOSE(Y347:AA347))))","v":{"$error":"#N/A"}},{"$error":"#N/A"},{"$error":"#N/A"},{"$error":"#N/A"},{"$error":"#N/A"},{"$f":"TRANSPOSE(MMULT($AE$10:$AG$12,TRANSPOSE(F347:H347)))","v":{"$error":"#N/A"}},{"$error":"#N/A"},{"$error":"#N/A"},{"$error":"#N/A"},{"$error":"#N/A"},{"$f":"TRANSPOSE(MMULT($AO$40:$AQ$42,TRANSPOSE(C347:E347)))","v":{"$error":"#N/A"}},{"$error":"#N/A"},{"$error":"#N/A"},{"$error":"#N/A"},{"$error":"#N/A"},{"$error":"#N/A"}]
[348,{"$error":"#N/A"},{"$error":"#N/A"},{"$error":"#N/A"},{"$error":"#N/A"},{"$error":"#N/A"},{"$error":"#N/A"},{"$error":"#N/A"},{"$error":"#N/A"},{"$error":"#N/A"},{"$error":"#N/A"},{"$f":"IF($AK$38=0,TRANSPOSE(MMULT($O$10:$Q$12,TRANSPOSE(C348:E348))),TRANSPOSE(MMULT($O$10:$Q$12,TRANSPOSE(Y348:AA348))))","v":{"$error":"#N/A"}},{"$error":"#N/A"},{"$error":"#N/A"},{"$error":"#N/A"},{"$error":"#N/A"},{"$f":"TRANSPOSE(MMULT($AE$10:$AG$12,TRANSPOSE(F348:H348)))","v":{"$error":"#N/A"}},{"$error":"#N/A"},{"$error":"#N/A"},{"$error":"#N/A"},{"$error":"#N/A"},{"$f":"TRANSPOSE(MMULT($AO$40:$AQ$42,TRANSPOSE(C348:E348)))","v":{"$error":"#N/A"}},{"$error":"#N/A"},{"$error":"#N/A"},{"$error":"#N/A"},{"$error":"#N/A"},{"$error":"#N/A"}]
[349,{"$error":"#N/A"},{"$error":"#N/A"},{"$error":"#N/A"},{"$error":"#N/A"},{"$error":"#N/A"},{"$error":"#N/A"},{"$error":"#N/A"},{"$error":"#N/A"},{"$error":"#N/A"},{"$error":"#N/A"},{"$f":"IF($AK$38=0,TRANSPOSE(MMULT($O$10:$Q$12,TRANSPOSE(C349:E349))),TRANSPOSE(MMULT($O$10:$Q$12,TRANSPOSE(Y349:AA349))))","v":{"$error":"#N/A"}},{"$error":"#N/A"},{"$error":"#N/A"},{"$error":"#N/A"},{"$error":"#N/A"},{"$f":"TRANSPOSE(MMULT($AE$10:$AG$12,TRANSPOSE(F349:H349)))","v":{"$error":"#N/A"}},{"$error":"#N/A"},{"$error":"#N/A"},{"$error":"#N/A"},{"$error":"#N/A"},{"$f":"TRANSPOSE(MMULT($AO$40:$AQ$42,TRANSPOSE(C349:E349)))","v":{"$error":"#N/A"}},{"$error":"#N/A"},{"$error":"#N/A"},{"$error":"#N/A"},{"$error":"#N/A"},{"$error":"#N/A"}]
[350,{"$error":"#N/A"},{"$error":"#N/A"},{"$error":"#N/A"},{"$error":"#N/A"},{"$error":"#N/A"},{"$error":"#N/A"},{"$error":"#N/A"},{"$error":"#N/A"},{"$error":"#N/A"},{"$error":"#N/A"},{"$f":"IF($AK$38=0,TRANSPOSE(MMULT($O$10:$Q$12,TRANSPOSE(C350:E350))),TRANSPOSE(MMULT($O$10:$Q$12,TRANSPOSE(Y350:AA350))))","v":{"$error":"#N/A"}},{"$error":"#N/A"},{"$error":"#N/A"},{"$error":"#N/A"},{"$error":"#N/A"},{"$f":"TRANSPOSE(MMULT($AE$10:$AG$12,TRANSPOSE(F350:H350)))","v":{"$error":"#N/A"}},{"$error":"#N/A"},{"$error":"#N/A"},{"$error":"#N/A"},{"$error":"#N/A"},{"$f":"TRANSPOSE(MMULT($AO$40:$AQ$42,TRANSPOSE(C350:E350)))","v":{"$error":"#N/A"}},{"$error":"#N/A"},{"$error":"#N/A"},{"$error":"#N/A"},{"$error":"#N/A"},{"$error":"#N/A"}]
[351,{"$error":"#N/A"},{"$error":"#N/A"},{"$error":"#N/A"},{"$error":"#N/A"},{"$error":"#N/A"},{"$error":"#N/A"},{"$error":"#N/A"},{"$error":"#N/A"},{"$error":"#N/A"},{"$error":"#N/A"},{"$f":"IF($AK$38=0,TRANSPOSE(MMULT($O$10:$Q$12,TRANSPOSE(C351:E351))),TRANSPOSE(MMULT($O$10:$Q$12,TRANSPOSE(Y351:AA351))))","v":{"$error":"#N/A"}},{"$error":"#N/A"},{"$error":"#N/A"},{"$error":"#N/A"},{"$error":"#N/A"},{"$f":"TRANSPOSE(MMULT($AE$10:$AG$12,TRANSPOSE(F351:H351)))","v":{"$error":"#N/A"}},{"$error":"#N/A"},{"$error":"#N/A"},{"$error":"#N/A"},{"$error":"#N/A"},{"$f":"TRANSPOSE(MMULT($AO$40:$AQ$42,TRANSPOSE(C351:E351)))","v":{"$error":"#N/A"}},{"$error":"#N/A"},{"$error":"#N/A"},{"$error":"#N/A"},{"$error":"#N/A"},{"$error":"#N/A"}]
[352,{"$error":"#N/A"},{"$error":"#N/A"},{"$error":"#N/A"},{"$error":"#N/A"},{"$error":"#N/A"},{"$error":"#N/A"},{"$error":"#N/A"},{"$error":"#N/A"},{"$error":"#N/A"},{"$error":"#N/A"},{"$f":"IF($AK$38=0,TRANSPOSE(MMULT($O$10:$Q$12,TRANSPOSE(C352:E352))),TRANSPOSE(MMULT($O$10:$Q$12,TRANSPOSE(Y352:AA352))))","v":{"$error":"#N/A"}},{"$error":"#N/A"},{"$error":"#N/A"},{"$error":"#N/A"},{"$error":"#N/A"},{"$f":"TRANSPOSE(MMULT($AE$10:$AG$12,TRANSPOSE(F352:H352)))","v":{"$error":"#N/A"}},{"$error":"#N/A"},{"$error":"#N/A"},{"$error":"#N/A"},{"$error":"#N/A"},{"$f":"TRANSPOSE(MMULT($AO$40:$AQ$42,TRANSPOSE(C352:E352)))","v":{"$error":"#N/A"}},{"$error":"#N/A"},{"$error":"#N/A"},{"$error":"#N/A"},{"$error":"#N/A"},{"$error":"#N/A"}]
[353,{"$error":"#N/A"},{"$error":"#N/A"},{"$error":"#N/A"},{"$error":"#N/A"},{"$error":"#N/A"},{"$error":"#N/A"},{"$error":"#N/A"},{"$error":"#N/A"},{"$error":"#N/A"},{"$error":"#N/A"},{"$f":"IF($AK$38=0,TRANSPOSE(MMULT($O$10:$Q$12,TRANSPOSE(C353:E353))),TRANSPOSE(MMULT($O$10:$Q$12,TRANSPOSE(Y353:AA353))))","v":{"$error":"#N/A"}},{"$error":"#N/A"},{"$error":"#N/A"},{"$error":"#N/A"},{"$error":"#N/A"},{"$f":"TRANSPOSE(MMULT($AE$10:$AG$12,TRANSPOSE(F353:H353)))","v":{"$error":"#N/A"}},{"$error":"#N/A"},{"$error":"#N/A"},{"$error":"#N/A"},{"$error":"#N/A"},{"$f":"TRANSPOSE(MMULT($AO$40:$AQ$42,TRANSPOSE(C353:E353)))","v":{"$error":"#N/A"}},{"$error":"#N/A"},{"$error":"#N/A"},{"$error":"#N/A"},{"$error":"#N/A"},{"$error":"#N/A"}]
[354,{"$error":"#N/A"},{"$error":"#N/A"},{"$error":"#N/A"},{"$error":"#N/A"},{"$error":"#N/A"},{"$error":"#N/A"},{"$error":"#N/A"},{"$error":"#N/A"},{"$error":"#N/A"},{"$error":"#N/A"},{"$f":"IF($AK$38=0,TRANSPOSE(MMULT($O$10:$Q$12,TRANSPOSE(C354:E354))),TRANSPOSE(MMULT($O$10:$Q$12,TRANSPOSE(Y354:AA354))))","v":{"$error":"#N/A"}},{"$error":"#N/A"},{"$error":"#N/A"},{"$error":"#N/A"},{"$error":"#N/A"},{"$f":"TRANSPOSE(MMULT($AE$10:$AG$12,TRANSPOSE(F354:H354)))","v":{"$error":"#N/A"}},{"$error":"#N/A"},{"$error":"#N/A"},{"$error":"#N/A"},{"$error":"#N/A"},{"$f":"TRANSPOSE(MMULT($AO$40:$AQ$42,TRANSPOSE(C354:E354)))","v":{"$error":"#N/A"}},{"$error":"#N/A"},{"$error":"#N/A"},{"$error":"#N/A"},{"$error":"#N/A"},{"$error":"#N/A"}]
[355,{"$error":"#N/A"},{"$error":"#N/A"},{"$error":"#N/A"},{"$error":"#N/A"},{"$error":"#N/A"},{"$error":"#N/A"},{"$error":"#N/A"},{"$error":"#N/A"},{"$error":"#N/A"},{"$error":"#N/A"},{"$f":"IF($AK$38=0,TRANSPOSE(MMULT($O$10:$Q$12,TRANSPOSE(C355:E355))),TRANSPOSE(MMULT($O$10:$Q$12,TRANSPOSE(Y355:AA355))))","v":{"$error":"#N/A"}},{"$error":"#N/A"},{"$error":"#N/A"},{"$error":"#N/A"},{"$error":"#N/A"},{"$f":"TRANSPOSE(MMULT($AE$10:$AG$12,TRANSPOSE(F355:H355)))","v":{"$error":"#N/A"}},{"$error":"#N/A"},{"$error":"#N/A"},{"$error":"#N/A"},{"$error":"#N/A"},{"$f":"TRANSPOSE(MMULT($AO$40:$AQ$42,TRANSPOSE(C355:E355)))","v":{"$error":"#N/A"}},{"$error":"#N/A"},{"$error":"#N/A"},{"$error":"#N/A"},{"$error":"#N/A"},{"$error":"#N/A"}]
[356,{"$error":"#N/A"},{"$error":"#N/A"},{"$error":"#N/A"},{"$error":"#N/A"},{"$error":"#N/A"},{"$error":"#N/A"},{"$error":"#N/A"},{"$error":"#N/A"},{"$error":"#N/A"},{"$error":"#N/A"},{"$f":"IF($AK$38=0,TRANSPOSE(MMULT($O$10:$Q$12,TRANSPOSE(C356:E356))),TRANSPOSE(MMULT($O$10:$Q$12,TRANSPOSE(Y356:AA356))))","v":{"$error":"#N/A"}},{"$error":"#N/A"},{"$error":"#N/A"},{"$error":"#N/A"},{"$error":"#N/A"},{"$f":"TRANSPOSE(MMULT($AE$10:$AG$12,TRANSPOSE(F356:H356)))","v":{"$error":"#N/A"}},{"$error":"#N/A"},{"$error":"#N/A"},{"$error":"#N/A"},{"$error":"#N/A"},{"$f":"TRANSPOSE(MMULT($AO$40:$AQ$42,TRANSPOSE(C356:E356)))","v":{"$error":"#N/A"}},{"$error":"#N/A"},{"$error":"#N/A"},{"$error":"#N/A"},{"$error":"#N/A"},{"$error":"#N/A"}]
[357,{"$error":"#N/A"},{"$error":"#N/A"},{"$error":"#N/A"},{"$error":"#N/A"},{"$error":"#N/A"},{"$error":"#N/A"},{"$error":"#N/A"},{"$error":"#N/A"},{"$error":"#N/A"},{"$error":"#N/A"},{"$f":"IF($AK$38=0,TRANSPOSE(MMULT($O$10:$Q$12,TRANSPOSE(C357:E357))),TRANSPOSE(MMULT($O$10:$Q$12,TRANSPOSE(Y357:AA357))))","v":{"$error":"#N/A"}},{"$error":"#N/A"},{"$error":"#N/A"},{"$error":"#N/A"},{"$error":"#N/A"},{"$f":"TRANSPOSE(MMULT($AE$10:$AG$12,TRANSPOSE(F357:H357)))","v":{"$error":"#N/A"}},{"$error":"#N/A"},{"$error":"#N/A"},{"$error":"#N/A"},{"$error":"#N/A"},{"$f":"TRANSPOSE(MMULT($AO$40:$AQ$42,TRANSPOSE(C357:E357)))","v":{"$error":"#N/A"}},{"$error":"#N/A"},{"$error":"#N/A"},{"$error":"#N/A"},{"$error":"#N/A"},{"$error":"#N/A"}]
[358,{"$error":"#N/A"},{"$error":"#N/A"},{"$error":"#N/A"},{"$error":"#N/A"},{"$error":"#N/A"},{"$error":"#N/A"},{"$error":"#N/A"},{"$error":"#N/A"},{"$error":"#N/A"},{"$error":"#N/A"},{"$f":"IF($AK$38=0,TRANSPOSE(MMULT($O$10:$Q$12,TRANSPOSE(C358:E358))),TRANSPOSE(MMULT($O$10:$Q$12,TRANSPOSE(Y358:AA358))))","v":{"$error":"#N/A"}},{"$error":"#N/A"},{"$error":"#N/A"},{"$error":"#N/A"},{"$error":"#N/A"},{"$f":"TRANSPOSE(MMULT($AE$10:$AG$12,TRANSPOSE(F358:H358)))","v":{"$error":"#N/A"}},{"$error":"#N/A"},{"$error":"#N/A"},{"$error":"#N/A"},{"$error":"#N/A"},{"$f":"TRANSPOSE(MMULT($AO$40:$AQ$42,TRANSPOSE(C358:E358)))","v":{"$error":"#N/A"}},{"$error":"#N/A"},{"$error":"#N/A"},{"$error":"#N/A"},{"$error":"#N/A"},{"$error":"#N/A"}]
[359,{"$error":"#N/A"},{"$error":"#N/A"},{"$error":"#N/A"},{"$error":"#N/A"},{"$error":"#N/A"},{"$error":"#N/A"},{"$error":"#N/A"},{"$error":"#N/A"},{"$error":"#N/A"},{"$error":"#N/A"},{"$f":"IF($AK$38=0,TRANSPOSE(MMULT($O$10:$Q$12,TRANSPOSE(C359:E359))),TRANSPOSE(MMULT($O$10:$Q$12,TRANSPOSE(Y359:AA359))))","v":{"$error":"#N/A"}},{"$error":"#N/A"},{"$error":"#N/A"},{"$error":"#N/A"},{"$error":"#N/A"},{"$f":"TRANSPOSE(MMULT($AE$10:$AG$12,TRANSPOSE(F359:H359)))","v":{"$error":"#N/A"}},{"$error":"#N/A"},{"$error":"#N/A"},{"$error":"#N/A"},{"$error":"#N/A"},{"$f":"TRANSPOSE(MMULT($AO$40:$AQ$42,TRANSPOSE(C359:E359)))","v":{"$error":"#N/A"}},{"$error":"#N/A"},{"$error":"#N/A"},{"$error":"#N/A"},{"$error":"#N/A"},{"$error":"#N/A"}]
[360,{"$error":"#N/A"},{"$error":"#N/A"},{"$error":"#N/A"},{"$error":"#N/A"},{"$error":"#N/A"},{"$error":"#N/A"},{"$error":"#N/A"},{"$error":"#N/A"},{"$error":"#N/A"},{"$error":"#N/A"},{"$f":"IF($AK$38=0,TRANSPOSE(MMULT($O$10:$Q$12,TRANSPOSE(C360:E360))),TRANSPOSE(MMULT($O$10:$Q$12,TRANSPOSE(Y360:AA360))))","v":{"$error":"#N/A"}},{"$error":"#N/A"},{"$error":"#N/A"},{"$error":"#N/A"},{"$error":"#N/A"},{"$f":"TRANSPOSE(MMULT($AE$10:$AG$12,TRANSPOSE(F360:H360)))","v":{"$error":"#N/A"}},{"$error":"#N/A"},{"$error":"#N/A"},{"$error":"#N/A"},{"$error":"#N/A"},{"$f":"TRANSPOSE(MMULT($AO$40:$AQ$42,TRANSPOSE(C360:E360)))","v":{"$error":"#N/A"}},{"$error":"#N/A"},{"$error":"#N/A"},{"$error":"#N/A"},{"$error":"#N/A"},{"$error":"#N/A"}]
[361,{"$error":"#N/A"},{"$error":"#N/A"},{"$error":"#N/A"},{"$error":"#N/A"},{"$error":"#N/A"},{"$error":"#N/A"},{"$error":"#N/A"},{"$error":"#N/A"},{"$error":"#N/A"},{"$error":"#N/A"},{"$f":"IF($AK$38=0,TRANSPOSE(MMULT($O$10:$Q$12,TRANSPOSE(C361:E361))),TRANSPOSE(MMULT($O$10:$Q$12,TRANSPOSE(Y361:AA361))))","v":{"$error":"#N/A"}},{"$error":"#N/A"},{"$error":"#N/A"},{"$error":"#N/A"},{"$error":"#N/A"},{"$f":"TRANSPOSE(MMULT($AE$10:$AG$12,TRANSPOSE(F361:H361)))","v":{"$error":"#N/A"}},{"$error":"#N/A"},{"$error":"#N/A"},{"$error":"#N/A"},{"$error":"#N/A"},{"$f":"TRANSPOSE(MMULT($AO$40:$AQ$42,TRANSPOSE(C361:E361)))","v":{"$error":"#N/A"}},{"$error":"#N/A"},{"$error":"#N/A"},{"$error":"#N/A"},{"$error":"#N/A"},{"$error":"#N/A"}]
[362,{"$error":"#N/A"},{"$error":"#N/A"},{"$error":"#N/A"},{"$error":"#N/A"},{"$error":"#N/A"},{"$error":"#N/A"},{"$error":"#N/A"},{"$error":"#N/A"},{"$error":"#N/A"},{"$error":"#N/A"},{"$f":"IF($AK$38=0,TRANSPOSE(MMULT($O$10:$Q$12,TRANSPOSE(C362:E362))),TRANSPOSE(MMULT($O$10:$Q$12,TRANSPOSE(Y362:AA362))))","v":{"$error":"#N/A"}},{"$error":"#N/A"},{"$error":"#N/A"},{"$error":"#N/A"},{"$error":"#N/A"},{"$f":"TRANSPOSE(MMULT($AE$10:$AG$12,TRANSPOSE(F362:H362)))","v":{"$error":"#N/A"}},{"$error":"#N/A"},{"$error":"#N/A"},{"$error":"#N/A"},{"$error":"#N/A"},{"$f":"TRANSPOSE(MMULT($AO$40:$AQ$42,TRANSPOSE(C362:E362)))","v":{"$error":"#N/A"}},{"$error":"#N/A"},{"$error":"#N/A"},{"$error":"#N/A"},{"$error":"#N/A"},{"$error":"#N/A"}]
[363,{"$error":"#N/A"},{"$error":"#N/A"},{"$error":"#N/A"},{"$error":"#N/A"},{"$error":"#N/A"},{"$error":"#N/A"},{"$error":"#N/A"},{"$error":"#N/A"},{"$error":"#N/A"},{"$error":"#N/A"},{"$f":"IF($AK$38=0,TRANSPOSE(MMULT($O$10:$Q$12,TRANSPOSE(C363:E363))),TRANSPOSE(MMULT($O$10:$Q$12,TRANSPOSE(Y363:AA363))))","v":{"$error":"#N/A"}},{"$error":"#N/A"},{"$error":"#N/A"},{"$error":"#N/A"},{"$error":"#N/A"},{"$f":"TRANSPOSE(MMULT($AE$10:$AG$12,TRANSPOSE(F363:H363)))","v":{"$error":"#N/A"}},{"$error":"#N/A"},{"$error":"#N/A"},{"$error":"#N/A"},{"$error":"#N/A"},{"$f":"TRANSPOSE(MMULT($AO$40:$AQ$42,TRANSPOSE(C363:E363)))","v":{"$error":"#N/A"}},{"$error":"#N/A"},{"$error":"#N/A"},{"$error":"#N/A"},{"$error":"#N/A"},{"$error":"#N/A"}]
[364,{"$error":"#N/A"},{"$error":"#N/A"},{"$error":"#N/A"},{"$error":"#N/A"},{"$error":"#N/A"},{"$error":"#N/A"},{"$error":"#N/A"},{"$error":"#N/A"},{"$error":"#N/A"},{"$error":"#N/A"},{"$f":"IF($AK$38=0,TRANSPOSE(MMULT($O$10:$Q$12,TRANSPOSE(C364:E364))),TRANSPOSE(MMULT($O$10:$Q$12,TRANSPOSE(Y364:AA364))))","v":{"$error":"#N/A"}},{"$error":"#N/A"},{"$error":"#N/A"},{"$error":"#N/A"},{"$error":"#N/A"},{"$f":"TRANSPOSE(MMULT($AE$10:$AG$12,TRANSPOSE(F364:H364)))","v":{"$error":"#N/A"}},{"$error":"#N/A"},{"$error":"#N/A"},{"$error":"#N/A"},{"$error":"#N/A"},{"$f":"TRANSPOSE(MMULT($AO$40:$AQ$42,TRANSPOSE(C364:E364)))","v":{"$error":"#N/A"}},{"$error":"#N/A"},{"$error":"#N/A"},{"$error":"#N/A"},{"$error":"#N/A"},{"$error":"#N/A"}]
[365,{"$error":"#N/A"},{"$error":"#N/A"},{"$error":"#N/A"},{"$error":"#N/A"},{"$error":"#N/A"},{"$error":"#N/A"},{"$error":"#N/A"},{"$error":"#N/A"},{"$error":"#N/A"},{"$error":"#N/A"},{"$f":"IF($AK$38=0,TRANSPOSE(MMULT($O$10:$Q$12,TRANSPOSE(C365:E365))),TRANSPOSE(MMULT($O$10:$Q$12,TRANSPOSE(Y365:AA365))))","v":{"$error":"#N/A"}},{"$error":"#N/A"},{"$error":"#N/A"},{"$error":"#N/A"},{"$error":"#N/A"},{"$f":"TRANSPOSE(MMULT($AE$10:$AG$12,TRANSPOSE(F365:H365)))","v":{"$error":"#N/A"}},{"$error":"#N/A"},{"$error":"#N/A"},{"$error":"#N/A"},{"$error":"#N/A"},{"$f":"TRANSPOSE(MMULT($AO$40:$AQ$42,TRANSPOSE(C365:E365)))","v":{"$error":"#N/A"}},{"$error":"#N/A"},{"$error":"#N/A"},{"$error":"#N/A"},{"$error":"#N/A"},{"$error":"#N/A"}]
[366,{"$error":"#N/A"},{"$error":"#N/A"},{"$error":"#N/A"},{"$error":"#N/A"},{"$error":"#N/A"},{"$error":"#N/A"},{"$error":"#N/A"},{"$error":"#N/A"},{"$error":"#N/A"},{"$error":"#N/A"},{"$f":"IF($AK$38=0,TRANSPOSE(MMULT($O$10:$Q$12,TRANSPOSE(C366:E366))),TRANSPOSE(MMULT($O$10:$Q$12,TRANSPOSE(Y366:AA366))))","v":{"$error":"#N/A"}},{"$error":"#N/A"},{"$error":"#N/A"},{"$error":"#N/A"},{"$error":"#N/A"},{"$f":"TRANSPOSE(MMULT($AE$10:$AG$12,TRANSPOSE(F366:H366)))","v":{"$error":"#N/A"}},{"$error":"#N/A"},{"$error":"#N/A"},{"$error":"#N/A"},{"$error":"#N/A"},{"$f":"TRANSPOSE(MMULT($AO$40:$AQ$42,TRANSPOSE(C366:E366)))","v":{"$error":"#N/A"}},{"$error":"#N/A"},{"$error":"#N/A"},{"$error":"#N/A"},{"$error":"#N/A"},{"$error":"#N/A"}]
[367,{"$error":"#N/A"},{"$error":"#N/A"},{"$error":"#N/A"},{"$error":"#N/A"},{"$error":"#N/A"},{"$error":"#N/A"},{"$error":"#N/A"},{"$error":"#N/A"},{"$error":"#N/A"},{"$error":"#N/A"},{"$f":"IF($AK$38=0,TRANSPOSE(MMULT($O$10:$Q$12,TRANSPOSE(C367:E367))),TRANSPOSE(MMULT($O$10:$Q$12,TRANSPOSE(Y367:AA367))))","v":{"$error":"#N/A"}},{"$error":"#N/A"},{"$error":"#N/A"},{"$error":"#N/A"},{"$error":"#N/A"},{"$f":"TRANSPOSE(MMULT($AE$10:$AG$12,TRANSPOSE(F367:H367)))","v":{"$error":"#N/A"}},{"$error":"#N/A"},{"$error":"#N/A"},{"$error":"#N/A"},{"$error":"#N/A"},{"$f":"TRANSPOSE(MMULT($AO$40:$AQ$42,TRANSPOSE(C367:E367)))","v":{"$error":"#N/A"}},{"$error":"#N/A"},{"$error":"#N/A"},{"$error":"#N/A"},{"$error":"#N/A"},{"$error":"#N/A"}]
[368,{"$error":"#N/A"},{"$error":"#N/A"},{"$error":"#N/A"},{"$error":"#N/A"},{"$error":"#N/A"},{"$error":"#N/A"},{"$error":"#N/A"},{"$error":"#N/A"},{"$error":"#N/A"},{"$error":"#N/A"},{"$f":"IF($AK$38=0,TRANSPOSE(MMULT($O$10:$Q$12,TRANSPOSE(C368:E368))),TRANSPOSE(MMULT($O$10:$Q$12,TRANSPOSE(Y368:AA368))))","v":{"$error":"#N/A"}},{"$error":"#N/A"},{"$error":"#N/A"},{"$error":"#N/A"},{"$error":"#N/A"},{"$f":"TRANSPOSE(MMULT($AE$10:$AG$12,TRANSPOSE(F368:H368)))","v":{"$error":"#N/A"}},{"$error":"#N/A"},{"$error":"#N/A"},{"$error":"#N/A"},{"$error":"#N/A"},{"$f":"TRANSPOSE(MMULT($AO$40:$AQ$42,TRANSPOSE(C368:E368)))","v":{"$error":"#N/A"}},{"$error":"#N/A"},{"$error":"#N/A"},{"$error":"#N/A"},{"$error":"#N/A"},{"$error":"#N/A"}]
[369,{"$error":"#N/A"},{"$error":"#N/A"},{"$error":"#N/A"},{"$error":"#N/A"},{"$error":"#N/A"},{"$error":"#N/A"},{"$error":"#N/A"},{"$error":"#N/A"},{"$error":"#N/A"},{"$error":"#N/A"},{"$f":"IF($AK$38=0,TRANSPOSE(MMULT($O$10:$Q$12,TRANSPOSE(C369:E369))),TRANSPOSE(MMULT($O$10:$Q$12,TRANSPOSE(Y369:AA369))))","v":{"$error":"#N/A"}},{"$error":"#N/A"},{"$error":"#N/A"},{"$error":"#N/A"},{"$error":"#N/A"},{"$f":"TRANSPOSE(MMULT($AE$10:$AG$12,TRANSPOSE(F369:H369)))","v":{"$error":"#N/A"}},{"$error":"#N/A"},{"$error":"#N/A"},{"$error":"#N/A"},{"$error":"#N/A"},{"$f":"TRANSPOSE(MMULT($AO$40:$AQ$42,TRANSPOSE(C369:E369)))","v":{"$error":"#N/A"}},{"$error":"#N/A"},{"$error":"#N/A"},{"$error":"#N/A"},{"$error":"#N/A"},{"$error":"#N/A"}]
[370,{"$error":"#N/A"},{"$error":"#N/A"},{"$error":"#N/A"},{"$error":"#N/A"},{"$error":"#N/A"},{"$error":"#N/A"},{"$error":"#N/A"},{"$error":"#N/A"},{"$error":"#N/A"},{"$error":"#N/A"},{"$f":"IF($AK$38=0,TRANSPOSE(MMULT($O$10:$Q$12,TRANSPOSE(C370:E370))),TRANSPOSE(MMULT($O$10:$Q$12,TRANSPOSE(Y370:AA370))))","v":{"$error":"#N/A"}},{"$error":"#N/A"},{"$error":"#N/A"},{"$error":"#N/A"},{"$error":"#N/A"},{"$f":"TRANSPOSE(MMULT($AE$10:$AG$12,TRANSPOSE(F370:H370)))","v":{"$error":"#N/A"}},{"$error":"#N/A"},{"$error":"#N/A"},{"$error":"#N/A"},{"$error":"#N/A"},{"$f":"TRANSPOSE(MMULT($AO$40:$AQ$42,TRANSPOSE(C370:E370)))","v":{"$error":"#N/A"}},{"$error":"#N/A"},{"$error":"#N/A"},{"$error":"#N/A"},{"$error":"#N/A"},{"$error":"#N/A"}]
[371,{"$error":"#N/A"},{"$error":"#N/A"},{"$error":"#N/A"},{"$error":"#N/A"},{"$error":"#N/A"},{"$error":"#N/A"},{"$error":"#N/A"},{"$error":"#N/A"},{"$error":"#N/A"},{"$error":"#N/A"},{"$f":"IF($AK$38=0,TRANSPOSE(MMULT($O$10:$Q$12,TRANSPOSE(C371:E371))),TRANSPOSE(MMULT($O$10:$Q$12,TRANSPOSE(Y371:AA371))))","v":{"$error":"#N/A"}},{"$error":"#N/A"},{"$error":"#N/A"},{"$error":"#N/A"},{"$error":"#N/A"},{"$f":"TRANSPOSE(MMULT($AE$10:$AG$12,TRANSPOSE(F371:H371)))","v":{"$error":"#N/A"}},{"$error":"#N/A"},{"$error":"#N/A"},{"$error":"#N/A"},{"$error":"#N/A"},{"$f":"TRANSPOSE(MMULT($AO$40:$AQ$42,TRANSPOSE(C371:E371)))","v":{"$error":"#N/A"}},{"$error":"#N/A"},{"$error":"#N/A"},{"$error":"#N/A"},{"$error":"#N/A"},{"$error":"#N/A"}]
[372,{"$error":"#N/A"},{"$f":"(C$4+F$4*$B372+I$4*$B372^2+L$4*$B372^3+O$4*$B372^4)+(C$5+F$5*$B372+I$5*$B372^2+L$5*$B372^3+O$5*$B372^5)*(COS(C$6+F$6*$B372+I$6*$B372^2+L$6*$B372^3+O$6*$B372^4))+(C$7+F$7*$B372+I$7*$B372^2+L$7*$B372^3+O$7*$B372^4)*(SIN(C$8+F$8*$B372+I$8*$B372^2+L$8*$B372^3+O$8*$B372^4))","v":{"$error":"#N/A"}},{"$f":"(D$4+G$4*$B372+J$4*$B372^2+M$4*$B372^3+P$4*$B372^4)+(D$5+G$5*$B372+J$5*$B372^2+M$5*$B372^3+P$5*$B372^5)*(COS(D$6+G$6*$B372+J$6*$B372^2+M$6*$B372^3+P$6*$B372^4))+(D$7+G$7*$B372+J$7*$B372^2+M$7*$B372^3+P$7*$B372^4)*(SIN(D$8+G$8*$B372+J$8*$B372^2+M$8*$B372^3+P$8*$B372^4))","v":{"$error":"#N/A"}},{"$f":"(E$4+H$4*$B372+K$4*$B372^2+N$4*$B372^3+Q$4*$B372^4)+(E$5+H$5*$B372+K$5*$B372^2+N$5*$B372^3+Q$5*$B372^5)*(COS(E$6+H$6*$B372+K$6*$B372^2+N$6*$B372^3+Q$6*$B372^4))+(E$7+H$7*$B372+K$7*$B372^2+N$7*$B372^3+Q$7*$B372^4)*(SIN(E$8+H$8*$B372+K$8*$B372^2+N$8*$B372^3+Q$8*$B372^4))","v":{"$error":"#N/A"}},{"$error":"#N/A"},{"$error":"#N/A"},{"$error":"#N/A"},{"$error":"#N/A"},{"$error":"#N/A"},{"$error":"#N/A"},{"$f":"IF($AK$38=0,TRANSPOSE(MMULT($O$10:$Q$12,TRANSPOSE(C372:E372))),TRANSPOSE(MMULT($O$10:$Q$12,TRANSPOSE(Y372:AA372))))","v":{"$error":"#N/A"}},{"$error":"#N/A"},{"$error":"#N/A"},{"$error":"#N/A"},{"$error":"#N/A"},{"$f":"TRANSPOSE(MMULT($AE$10:$AG$12,TRANSPOSE(F372:H372)))","v":{"$error":"#N/A"}},{"$error":"#N/A"},{"$error":"#N/A"},{"$error":"#N/A"},{"$error":"#N/A"},{"$f":"TRANSPOSE(MMULT($AO$40:$AQ$42,TRANSPOSE(C372:E372)))","v":{"$error":"#N/A"}},{"$error":"#N/A"},{"$error":"#N/A"},{"$error":"#N/A"},{"$error":"#N/A"},{"$error":"#N/A"}]
[373,{"$error":"#N/A"},{"$error":"#N/A"},{"$error":"#N/A"},{"$error":"#N/A"},{"$error":"#N/A"},{"$error":"#N/A"},{"$error":"#N/A"},{"$error":"#N/A"},{"$error":"#N/A"},{"$error":"#N/A"},{"$f":"IF($AK$38=0,TRANSPOSE(MMULT($O$10:$Q$12,TRANSPOSE(C373:E373))),TRANSPOSE(MMULT($O$10:$Q$12,TRANSPOSE(Y373:AA373))))","v":{"$error":"#N/A"}},{"$error":"#N/A"},{"$error":"#N/A"},{"$error":"#N/A"},{"$error":"#N/A"},{"$f":"TRANSPOSE(MMULT($AE$10:$AG$12,TRANSPOSE(F373:H373)))","v":{"$error":"#N/A"}},{"$error":"#N/A"},{"$error":"#N/A"},{"$error":"#N/A"},{"$error":"#N/A"},{"$f":"TRANSPOSE(MMULT($AO$40:$AQ$42,TRANSPOSE(C373:E373)))","v":{"$error":"#N/A"}},{"$error":"#N/A"},{"$error":"#N/A"},{"$error":"#N/A"},{"$error":"#N/A"},{"$error":"#N/A"}]
[374,{"$error":"#N/A"},{"$error":"#N/A"},{"$error":"#N/A"},{"$error":"#N/A"},{"$error":"#N/A"},{"$error":"#N/A"},{"$error":"#N/A"},{"$error":"#N/A"},{"$error":"#N/A"},{"$error":"#N/A"},{"$f":"IF($AK$38=0,TRANSPOSE(MMULT($O$10:$Q$12,TRANSPOSE(C374:E374))),TRANSPOSE(MMULT($O$10:$Q$12,TRANSPOSE(Y374:AA374))))","v":{"$error":"#N/A"}},{"$error":"#N/A"},{"$error":"#N/A"},{"$error":"#N/A"},{"$error":"#N/A"},{"$f":"TRANSPOSE(MMULT($AE$10:$AG$12,TRANSPOSE(F374:H374)))","v":{"$error":"#N/A"}},{"$error":"#N/A"},{"$error":"#N/A"},{"$error":"#N/A"},{"$error":"#N/A"},{"$f":"TRANSPOSE(MMULT($AO$40:$AQ$42,TRANSPOSE(C374:E374)))","v":{"$error":"#N/A"}},{"$error":"#N/A"},{"$error":"#N/A"},{"$error":"#N/A"},{"$error":"#N/A"},{"$error":"#N/A"}]
[375,{"$error":"#N/A"},{"$error":"#N/A"},{"$error":"#N/A"},{"$error":"#N/A"},{"$error":"#N/A"},{"$error":"#N/A"},{"$error":"#N/A"},{"$error":"#N/A"},{"$error":"#N/A"},{"$error":"#N/A"},{"$f":"IF($AK$38=0,TRANSPOSE(MMULT($O$10:$Q$12,TRANSPOSE(C375:E375))),TRANSPOSE(MMULT($O$10:$Q$12,TRANSPOSE(Y375:AA375))))","v":{"$error":"#N/A"}},{"$error":"#N/A"},{"$error":"#N/A"},{"$error":"#N/A"},{"$error":"#N/A"},{"$f":"TRANSPOSE(MMULT($AE$10:$AG$12,TRANSPOSE(F375:H375)))","v":{"$error":"#N/A"}},{"$error":"#N/A"},{"$error":"#N/A"},{"$error":"#N/A"},{"$error":"#N/A"},{"$f":"TRANSPOSE(MMULT($AO$40:$AQ$42,TRANSPOSE(C375:E375)))","v":{"$error":"#N/A"}},{"$error":"#N/A"},{"$error":"#N/A"},{"$error":"#N/A"},{"$error":"#N/A"},{"$error":"#N/A"}]
[376,{"$error":"#N/A"},{"$error":"#N/A"},{"$error":"#N/A"},{"$error":"#N/A"},{"$error":"#N/A"},{"$error":"#N/A"},{"$error":"#N/A"},{"$error":"#N/A"},{"$error":"#N/A"},{"$error":"#N/A"},{"$f":"IF($AK$38=0,TRANSPOSE(MMULT($O$10:$Q$12,TRANSPOSE(C376:E376))),TRANSPOSE(MMULT($O$10:$Q$12,TRANSPOSE(Y376:AA376))))","v":{"$error":"#N/A"}},{"$error":"#N/A"},{"$error":"#N/A"},{"$error":"#N/A"},{"$error":"#N/A"},{"$f":"TRANSPOSE(MMULT($AE$10:$AG$12,TRANSPOSE(F376:H376)))","v":{"$error":"#N/A"}},{"$error":"#N/A"},{"$error":"#N/A"},{"$error":"#N/A"},{"$error":"#N/A"},{"$f":"TRANSPOSE(MMULT($AO$40:$AQ$42,TRANSPOSE(C376:E376)))","v":{"$error":"#N/A"}},{"$error":"#N/A"},{"$error":"#N/A"},{"$error":"#N/A"},{"$error":"#N/A"},{"$error":"#N/A"}]
[377,{"$error":"#N/A"},{"$error":"#N/A"},{"$error":"#N/A"},{"$error":"#N/A"},{"$error":"#N/A"},{"$error":"#N/A"},{"$error":"#N/A"},{"$error":"#N/A"},{"$error":"#N/A"},{"$error":"#N/A"},{"$f":"IF($AK$38=0,TRANSPOSE(MMULT($O$10:$Q$12,TRANSPOSE(C377:E377))),TRANSPOSE(MMULT($O$10:$Q$12,TRANSPOSE(Y377:AA377))))","v":{"$error":"#N/A"}},{"$error":"#N/A"},{"$error":"#N/A"},{"$error":"#N/A"},{"$error":"#N/A"},{"$f":"TRANSPOSE(MMULT($AE$10:$AG$12,TRANSPOSE(F377:H377)))","v":{"$error":"#N/A"}},{"$error":"#N/A"},{"$error":"#N/A"},{"$error":"#N/A"},{"$error":"#N/A"},{"$f":"TRANSPOSE(MMULT($AO$40:$AQ$42,TRANSPOSE(C377:E377)))","v":{"$error":"#N/A"}},{"$error":"#N/A"},{"$error":"#N/A"},{"$error":"#N/A"},{"$error":"#N/A"},{"$error":"#N/A"}]
[378,{"$error":"#N/A"},{"$error":"#N/A"},{"$error":"#N/A"},{"$error":"#N/A"},{"$error":"#N/A"},{"$error":"#N/A"},{"$error":"#N/A"},{"$error":"#N/A"},{"$error":"#N/A"},{"$error":"#N/A"},{"$f":"IF($AK$38=0,TRANSPOSE(MMULT($O$10:$Q$12,TRANSPOSE(C378:E378))),TRANSPOSE(MMULT($O$10:$Q$12,TRANSPOSE(Y378:AA378))))","v":{"$error":"#N/A"}},{"$error":"#N/A"},{"$error":"#N/A"},{"$error":"#N/A"},{"$error":"#N/A"},{"$f":"TRANSPOSE(MMULT($AE$10:$AG$12,TRANSPOSE(F378:H378)))","v":{"$error":"#N/A"}},{"$error":"#N/A"},{"$error":"#N/A"},{"$error":"#N/A"},{"$error":"#N/A"},{"$f":"TRANSPOSE(MMULT($AO$40:$AQ$42,TRANSPOSE(C378:E378)))","v":{"$error":"#N/A"}},{"$error":"#N/A"},{"$error":"#N/A"},{"$error":"#N/A"},{"$error":"#N/A"},{"$error":"#N/A"}]
[379,{"$error":"#N/A"},{"$error":"#N/A"},{"$error":"#N/A"},{"$error":"#N/A"},{"$error":"#N/A"},{"$error":"#N/A"},{"$error":"#N/A"},{"$error":"#N/A"},{"$error":"#N/A"},{"$error":"#N/A"},{"$f":"IF($AK$38=0,TRANSPOSE(MMULT($O$10:$Q$12,TRANSPOSE(C379:E379))),TRANSPOSE(MMULT($O$10:$Q$12,TRANSPOSE(Y379:AA379))))","v":{"$error":"#N/A"}},{"$error":"#N/A"},{"$error":"#N/A"},{"$error":"#N/A"},{"$error":"#N/A"},{"$f":"TRANSPOSE(MMULT($AE$10:$AG$12,TRANSPOSE(F379:H379)))","v":{"$error":"#N/A"}},{"$error":"#N/A"},{"$error":"#N/A"},{"$error":"#N/A"},{"$error":"#N/A"},{"$f":"TRANSPOSE(MMULT($AO$40:$AQ$42,TRANSPOSE(C379:E379)))","v":{"$error":"#N/A"}},{"$error":"#N/A"},{"$error":"#N/A"},{"$error":"#N/A"},{"$error":"#N/A"},{"$error":"#N/A"}]
[380,{"$error":"#N/A"},{"$error":"#N/A"},{"$error":"#N/A"},{"$error":"#N/A"},{"$error":"#N/A"},{"$error":"#N/A"},{"$error":"#N/A"},{"$error":"#N/A"},{"$error":"#N/A"},{"$error":"#N/A"},{"$f":"IF($AK$38=0,TRANSPOSE(MMULT($O$10:$Q$12,TRANSPOSE(C380:E380))),TRANSPOSE(MMULT($O$10:$Q$12,TRANSPOSE(Y380:AA380))))","v":{"$error":"#N/A"}},{"$error":"#N/A"},{"$error":"#N/A"},{"$error":"#N/A"},{"$error":"#N/A"},{"$f":"TRANSPOSE(MMULT($AE$10:$AG$12,TRANSPOSE(F380:H380)))","v":{"$error":"#N/A"}},{"$error":"#N/A"},{"$error":"#N/A"},{"$error":"#N/A"},{"$error":"#N/A"},{"$f":"TRANSPOSE(MMULT($AO$40:$AQ$42,TRANSPOSE(C380:E380)))","v":{"$error":"#N/A"}},{"$error":"#N/A"},{"$error":"#N/A"},{"$error":"#N/A"},{"$error":"#N/A"},{"$error":"#N/A"}]
[381,{"$error":"#N/A"},{"$error":"#N/A"},{"$error":"#N/A"},{"$error":"#N/A"},{"$error":"#N/A"},{"$error":"#N/A"},{"$error":"#N/A"},{"$error":"#N/A"},{"$error":"#N/A"},{"$error":"#N/A"},{"$f":"IF($AK$38=0,TRANSPOSE(MMULT($O$10:$Q$12,TRANSPOSE(C381:E381))),TRANSPOSE(MMULT($O$10:$Q$12,TRANSPOSE(Y381:AA381))))","v":{"$error":"#N/A"}},{"$error":"#N/A"},{"$error":"#N/A"},{"$error":"#N/A"},{"$error":"#N/A"},{"$f":"TRANSPOSE(MMULT($AE$10:$AG$12,TRANSPOSE(F381:H381)))","v":{"$error":"#N/A"}},{"$error":"#N/A"},{"$error":"#N/A"},{"$error":"#N/A"},{"$error":"#N/A"},{"$f":"TRANSPOSE(MMULT($AO$40:$AQ$42,TRANSPOSE(C381:E381)))","v":{"$error":"#N/A"}},{"$error":"#N/A"},{"$error":"#N/A"},{"$error":"#N/A"},{"$error":"#N/A"},{"$error":"#N/A"}]
[382,{"$error":"#N/A"},{"$error":"#N/A"},{"$error":"#N/A"},{"$error":"#N/A"},{"$error":"#N/A"},{"$error":"#N/A"},{"$error":"#N/A"},{"$error":"#N/A"},{"$error":"#N/A"},{"$error":"#N/A"},{"$f":"IF($AK$38=0,TRANSPOSE(MMULT($O$10:$Q$12,TRANSPOSE(C382:E382))),TRANSPOSE(MMULT($O$10:$Q$12,TRANSPOSE(Y382:AA382))))","v":{"$error":"#N/A"}},{"$error":"#N/A"},{"$error":"#N/A"},{"$error":"#N/A"},{"$error":"#N/A"},{"$f":"TRANSPOSE(MMULT($AE$10:$AG$12,TRANSPOSE(F382:H382)))","v":{"$error":"#N/A"}},{"$error":"#N/A"},{"$error":"#N/A"},{"$error":"#N/A"},{"$error":"#N/A"},{"$f":"TRANSPOSE(MMULT($AO$40:$AQ$42,TRANSPOSE(C382:E382)))","v":{"$error":"#N/A"}},{"$error":"#N/A"},{"$error":"#N/A"},{"$error":"#N/A"},{"$error":"#N/A"},{"$error":"#N/A"}]
[383,{"$error":"#N/A"},{"$error":"#N/A"},{"$error":"#N/A"},{"$error":"#N/A"},{"$error":"#N/A"},{"$error":"#N/A"},{"$error":"#N/A"},{"$error":"#N/A"},{"$error":"#N/A"},{"$error":"#N/A"},{"$f":"IF($AK$38=0,TRANSPOSE(MMULT($O$10:$Q$12,TRANSPOSE(C383:E383))),TRANSPOSE(MMULT($O$10:$Q$12,TRANSPOSE(Y383:AA383))))","v":{"$error":"#N/A"}},{"$error":"#N/A"},{"$error":"#N/A"},{"$error":"#N/A"},{"$error":"#N/A"},{"$f":"TRANSPOSE(MMULT($AE$10:$AG$12,TRANSPOSE(F383:H383)))","v":{"$error":"#N/A"}},{"$error":"#N/A"},{"$error":"#N/A"},{"$error":"#N/A"},{"$error":"#N/A"},{"$f":"TRANSPOSE(MMULT($AO$40:$AQ$42,TRANSPOSE(C383:E383)))","v":{"$error":"#N/A"}},{"$error":"#N/A"},{"$error":"#N/A"},{"$error":"#N/A"},{"$error":"#N/A"},{"$error":"#N/A"}]
[384,{"$error":"#N/A"},{"$error":"#N/A"},{"$error":"#N/A"},{"$error":"#N/A"},{"$error":"#N/A"},{"$error":"#N/A"},{"$error":"#N/A"},{"$error":"#N/A"},{"$error":"#N/A"},{"$error":"#N/A"},{"$f":"IF($AK$38=0,TRANSPOSE(MMULT($O$10:$Q$12,TRANSPOSE(C384:E384))),TRANSPOSE(MMULT($O$10:$Q$12,TRANSPOSE(Y384:AA384))))","v":{"$error":"#N/A"}},{"$error":"#N/A"},{"$error":"#N/A"},{"$error":"#N/A"},{"$error":"#N/A"},{"$f":"TRANSPOSE(MMULT($AE$10:$AG$12,TRANSPOSE(F384:H384)))","v":{"$error":"#N/A"}},{"$error":"#N/A"},{"$error":"#N/A"},{"$error":"#N/A"},{"$error":"#N/A"},{"$f":"TRANSPOSE(MMULT($AO$40:$AQ$42,TRANSPOSE(C384:E384)))","v":{"$error":"#N/A"}},{"$error":"#N/A"},{"$error":"#N/A"},{"$error":"#N/A"},{"$error":"#N/A"},{"$error":"#N/A"}]
[385,{"$error":"#N/A"},{"$error":"#N/A"},{"$error":"#N/A"},{"$error":"#N/A"},{"$error":"#N/A"},{"$error":"#N/A"},{"$error":"#N/A"},{"$error":"#N/A"},{"$error":"#N/A"},{"$error":"#N/A"},{"$f":"IF($AK$38=0,TRANSPOSE(MMULT($O$10:$Q$12,TRANSPOSE(C385:E385))),TRANSPOSE(MMULT($O$10:$Q$12,TRANSPOSE(Y385:AA385))))","v":{"$error":"#N/A"}},{"$error":"#N/A"},{"$error":"#N/A"},{"$error":"#N/A"},{"$error":"#N/A"},{"$f":"TRANSPOSE(MMULT($AE$10:$AG$12,TRANSPOSE(F385:H385)))","v":{"$error":"#N/A"}},{"$error":"#N/A"},{"$error":"#N/A"},{"$error":"#N/A"},{"$error":"#N/A"},{"$f":"TRANSPOSE(MMULT($AO$40:$AQ$42,TRANSPOSE(C385:E385)))","v":{"$error":"#N/A"}},{"$error":"#N/A"},{"$error":"#N/A"},{"$error":"#N/A"},{"$error":"#N/A"},{"$error":"#N/A"}]
[386,{"$error":"#N/A"},{"$error":"#N/A"},{"$error":"#N/A"},{"$error":"#N/A"},{"$error":"#N/A"},{"$error":"#N/A"},{"$error":"#N/A"},{"$error":"#N/A"},{"$error":"#N/A"},{"$error":"#N/A"},{"$f":"IF($AK$38=0,TRANSPOSE(MMULT($O$10:$Q$12,TRANSPOSE(C386:E386))),TRANSPOSE(MMULT($O$10:$Q$12,TRANSPOSE(Y386:AA386))))","v":{"$error":"#N/A"}},{"$error":"#N/A"},{"$error":"#N/A"},{"$error":"#N/A"},{"$error":"#N/A"},{"$f":"TRANSPOSE(MMULT($AE$10:$AG$12,TRANSPOSE(F386:H386)))","v":{"$error":"#N/A"}},{"$error":"#N/A"},{"$error":"#N/A"},{"$error":"#N/A"},{"$error":"#N/A"},{"$f":"TRANSPOSE(MMULT($AO$40:$AQ$42,TRANSPOSE(C386:E386)))","v":{"$error":"#N/A"}},{"$error":"#N/A"},{"$error":"#N/A"},{"$error":"#N/A"},{"$error":"#N/A"},{"$error":"#N/A"}]
[387,{"$error":"#N/A"},{"$error":"#N/A"},{"$error":"#N/A"},{"$error":"#N/A"},{"$error":"#N/A"},{"$error":"#N/A"},{"$error":"#N/A"},{"$error":"#N/A"},{"$error":"#N/A"},{"$error":"#N/A"},{"$f":"IF($AK$38=0,TRANSPOSE(MMULT($O$10:$Q$12,TRANSPOSE(C387:E387))),TRANSPOSE(MMULT($O$10:$Q$12,TRANSPOSE(Y387:AA387))))","v":{"$error":"#N/A"}},{"$error":"#N/A"},{"$error":"#N/A"},{"$error":"#N/A"},{"$error":"#N/A"},{"$f":"TRANSPOSE(MMULT($AE$10:$AG$12,TRANSPOSE(F387:H387)))","v":{"$error":"#N/A"}},{"$error":"#N/A"},{"$error":"#N/A"},{"$error":"#N/A"},{"$error":"#N/A"},{"$f":"TRANSPOSE(MMULT($AO$40:$AQ$42,TRANSPOSE(C387:E387)))","v":{"$error":"#N/A"}},{"$error":"#N/A"},{"$error":"#N/A"},{"$error":"#N/A"},{"$error":"#N/A"},{"$error":"#N/A"}]
[388,{"$error":"#N/A"},{"$error":"#N/A"},{"$error":"#N/A"},{"$error":"#N/A"},{"$error":"#N/A"},{"$error":"#N/A"},{"$error":"#N/A"},{"$error":"#N/A"},{"$error":"#N/A"},{"$error":"#N/A"},{"$f":"IF($AK$38=0,TRANSPOSE(MMULT($O$10:$Q$12,TRANSPOSE(C388:E388))),TRANSPOSE(MMULT($O$10:$Q$12,TRANSPOSE(Y388:AA388))))","v":{"$error":"#N/A"}},{"$error":"#N/A"},{"$error":"#N/A"},{"$error":"#N/A"},{"$error":"#N/A"},{"$f":"TRANSPOSE(MMULT($AE$10:$AG$12,TRANSPOSE(F388:H388)))","v":{"$error":"#N/A"}},{"$error":"#N/A"},{"$error":"#N/A"},{"$error":"#N/A"},{"$error":"#N/A"},{"$f":"TRANSPOSE(MMULT($AO$40:$AQ$42,TRANSPOSE(C388:E388)))","v":{"$error":"#N/A"}},{"$error":"#N/A"},{"$error":"#N/A"},{"$error":"#N/A"},{"$error":"#N/A"},{"$error":"#N/A"}]
[389,{"$error":"#N/A"},{"$error":"#N/A"},{"$error":"#N/A"},{"$error":"#N/A"},{"$error":"#N/A"},{"$error":"#N/A"},{"$error":"#N/A"},{"$error":"#N/A"},{"$error":"#N/A"},{"$error":"#N/A"},{"$f":"IF($AK$38=0,TRANSPOSE(MMULT($O$10:$Q$12,TRANSPOSE(C389:E389))),TRANSPOSE(MMULT($O$10:$Q$12,TRANSPOSE(Y389:AA389))))","v":{"$error":"#N/A"}},{"$error":"#N/A"},{"$error":"#N/A"},{"$error":"#N/A"},{"$error":"#N/A"},{"$f":"TRANSPOSE(MMULT($AE$10:$AG$12,TRANSPOSE(F389:H389)))","v":{"$error":"#N/A"}},{"$error":"#N/A"},{"$error":"#N/A"},{"$error":"#N/A"},{"$error":"#N/A"},{"$f":"TRANSPOSE(MMULT($AO$40:$AQ$42,TRANSPOSE(C389:E389)))","v":{"$error":"#N/A"}},{"$error":"#N/A"},{"$error":"#N/A"},{"$error":"#N/A"},{"$error":"#N/A"},{"$error":"#N/A"}]
[390,{"$error":"#N/A"},{"$error":"#N/A"},{"$error":"#N/A"},{"$error":"#N/A"},{"$error":"#N/A"},{"$error":"#N/A"},{"$error":"#N/A"},{"$error":"#N/A"},{"$error":"#N/A"},{"$error":"#N/A"},{"$f":"IF($AK$38=0,TRANSPOSE(MMULT($O$10:$Q$12,TRANSPOSE(C390:E390))),TRANSPOSE(MMULT($O$10:$Q$12,TRANSPOSE(Y390:AA390))))","v":{"$error":"#N/A"}},{"$error":"#N/A"},{"$error":"#N/A"},{"$error":"#N/A"},{"$error":"#N/A"},{"$f":"TRANSPOSE(MMULT($AE$10:$AG$12,TRANSPOSE(F390:H390)))","v":{"$error":"#N/A"}},{"$error":"#N/A"},{"$error":"#N/A"},{"$error":"#N/A"},{"$error":"#N/A"},{"$f":"TRANSPOSE(MMULT($AO$40:$AQ$42,TRANSPOSE(C390:E390)))","v":{"$error":"#N/A"}},{"$error":"#N/A"},{"$error":"#N/A"},{"$error":"#N/A"},{"$error":"#N/A"},{"$error":"#N/A"}]
[391,{"$error":"#N/A"},{"$error":"#N/A"},{"$error":"#N/A"},{"$error":"#N/A"},{"$error":"#N/A"},{"$error":"#N/A"},{"$error":"#N/A"},{"$error":"#N/A"},{"$error":"#N/A"},{"$error":"#N/A"},{"$f":"IF($AK$38=0,TRANSPOSE(MMULT($O$10:$Q$12,TRANSPOSE(C391:E391))),TRANSPOSE(MMULT($O$10:$Q$12,TRANSPOSE(Y391:AA391))))","v":{"$error":"#N/A"}},{"$error":"#N/A"},{"$error":"#N/A"},{"$error":"#N/A"},{"$error":"#N/A"},{"$f":"TRANSPOSE(MMULT($AE$10:$AG$12,TRANSPOSE(F391:H391)))","v":{"$error":"#N/A"}},{"$error":"#N/A"},{"$error":"#N/A"},{"$error":"#N/A"},{"$error":"#N/A"},{"$f":"TRANSPOSE(MMULT($AO$40:$AQ$42,TRANSPOSE(C391:E391)))","v":{"$error":"#N/A"}},{"$error":"#N/A"},{"$error":"#N/A"},{"$error":"#N/A"},{"$error":"#N/A"},{"$error":"#N/A"}]
[392,{"$error":"#N/A"},{"$error":"#N/A"},{"$error":"#N/A"},{"$error":"#N/A"},{"$error":"#N/A"},{"$error":"#N/A"},{"$error":"#N/A"},{"$error":"#N/A"},{"$error":"#N/A"},{"$error":"#N/A"},{"$f":"IF($AK$38=0,TRANSPOSE(MMULT($O$10:$Q$12,TRANSPOSE(C392:E392))),TRANSPOSE(MMULT($O$10:$Q$12,TRANSPOSE(Y392:AA392))))","v":{"$error":"#N/A"}},{"$error":"#N/A"},{"$error":"#N/A"},{"$error":"#N/A"},{"$error":"#N/A"},{"$f":"TRANSPOSE(MMULT($AE$10:$AG$12,TRANSPOSE(F392:H392)))","v":{"$error":"#N/A"}},{"$error":"#N/A"},{"$error":"#N/A"},{"$error":"#N/A"},{"$error":"#N/A"},{"$f":"TRANSPOSE(MMULT($AO$40:$AQ$42,TRANSPOSE(C392:E392)))","v":{"$error":"#N/A"}},{"$error":"#N/A"},{"$error":"#N/A"},{"$error":"#N/A"},{"$error":"#N/A"},{"$error":"#N/A"}]
[393,{"$error":"#N/A"},{"$error":"#N/A"},{"$error":"#N/A"},{"$error":"#N/A"},{"$error":"#N/A"},{"$error":"#N/A"},{"$error":"#N/A"},{"$error":"#N/A"},{"$error":"#N/A"},{"$error":"#N/A"},{"$f":"IF($AK$38=0,TRANSPOSE(MMULT($O$10:$Q$12,TRANSPOSE(C393:E393))),TRANSPOSE(MMULT($O$10:$Q$12,TRANSPOSE(Y393:AA393))))","v":{"$error":"#N/A"}},{"$error":"#N/A"},{"$error":"#N/A"},{"$error":"#N/A"},{"$error":"#N/A"},{"$f":"TRANSPOSE(MMULT($AE$10:$AG$12,TRANSPOSE(F393:H393)))","v":{"$error":"#N/A"}},{"$error":"#N/A"},{"$error":"#N/A"},{"$error":"#N/A"},{"$error":"#N/A"},{"$f":"TRANSPOSE(MMULT($AO$40:$AQ$42,TRANSPOSE(C393:E393)))","v":{"$error":"#N/A"}},{"$error":"#N/A"},{"$error":"#N/A"},{"$error":"#N/A"},{"$error":"#N/A"},{"$error":"#N/A"}]
[394,{"$error":"#N/A"},{"$error":"#N/A"},{"$error":"#N/A"},{"$error":"#N/A"},{"$error":"#N/A"},{"$error":"#N/A"},{"$error":"#N/A"},{"$error":"#N/A"},{"$error":"#N/A"},{"$error":"#N/A"},{"$f":"IF($AK$38=0,TRANSPOSE(MMULT($O$10:$Q$12,TRANSPOSE(C394:E394))),TRANSPOSE(MMULT($O$10:$Q$12,TRANSPOSE(Y394:AA394))))","v":{"$error":"#N/A"}},{"$error":"#N/A"},{"$error":"#N/A"},{"$error":"#N/A"},{"$error":"#N/A"},{"$f":"TRANSPOSE(MMULT($AE$10:$AG$12,TRANSPOSE(F394:H394)))","v":{"$error":"#N/A"}},{"$error":"#N/A"},{"$error":"#N/A"},{"$error":"#N/A"},{"$error":"#N/A"},{"$f":"TRANSPOSE(MMULT($AO$40:$AQ$42,TRANSPOSE(C394:E394)))","v":{"$error":"#N/A"}},{"$error":"#N/A"},{"$error":"#N/A"},{"$error":"#N/A"},{"$error":"#N/A"},{"$error":"#N/A"}]
[395,{"$error":"#N/A"},{"$error":"#N/A"},{"$error":"#N/A"},{"$error":"#N/A"},{"$error":"#N/A"},{"$error":"#N/A"},{"$error":"#N/A"},{"$error":"#N/A"},{"$error":"#N/A"},{"$error":"#N/A"},{"$f":"IF($AK$38=0,TRANSPOSE(MMULT($O$10:$Q$12,TRANSPOSE(C395:E395))),TRANSPOSE(MMULT($O$10:$Q$12,TRANSPOSE(Y395:AA395))))","v":{"$error":"#N/A"}},{"$error":"#N/A"},{"$error":"#N/A"},{"$error":"#N/A"},{"$error":"#N/A"},{"$f":"TRANSPOSE(MMULT($AE$10:$AG$12,TRANSPOSE(F395:H395)))","v":{"$error":"#N/A"}},{"$error":"#N/A"},{"$error":"#N/A"},{"$error":"#N/A"},{"$error":"#N/A"},{"$f":"TRANSPOSE(MMULT($AO$40:$AQ$42,TRANSPOSE(C395:E395)))","v":{"$error":"#N/A"}},{"$error":"#N/A"},{"$error":"#N/A"},{"$error":"#N/A"},{"$error":"#N/A"},{"$error":"#N/A"}]
[396,{"$error":"#N/A"},{"$error":"#N/A"},{"$error":"#N/A"},{"$error":"#N/A"},{"$error":"#N/A"},{"$error":"#N/A"},{"$error":"#N/A"},{"$error":"#N/A"},{"$error":"#N/A"},{"$error":"#N/A"},{"$f":"IF($AK$38=0,TRANSPOSE(MMULT($O$10:$Q$12,TRANSPOSE(C396:E396))),TRANSPOSE(MMULT($O$10:$Q$12,TRANSPOSE(Y396:AA396))))","v":{"$error":"#N/A"}},{"$error":"#N/A"},{"$error":"#N/A"},{"$error":"#N/A"},{"$error":"#N/A"},{"$f":"TRANSPOSE(MMULT($AE$10:$AG$12,TRANSPOSE(F396:H396)))","v":{"$error":"#N/A"}},{"$error":"#N/A"},{"$error":"#N/A"},{"$error":"#N/A"},{"$error":"#N/A"},{"$f":"TRANSPOSE(MMULT($AO$40:$AQ$42,TRANSPOSE(C396:E396)))","v":{"$error":"#N/A"}},{"$error":"#N/A"},{"$error":"#N/A"},{"$error":"#N/A"},{"$error":"#N/A"},{"$error":"#N/A"}]
[397,{"$error":"#N/A"},{"$error":"#N/A"},{"$error":"#N/A"},{"$error":"#N/A"},{"$error":"#N/A"},{"$error":"#N/A"},{"$error":"#N/A"},{"$error":"#N/A"},{"$error":"#N/A"},{"$error":"#N/A"},{"$f":"IF($AK$38=0,TRANSPOSE(MMULT($O$10:$Q$12,TRANSPOSE(C397:E397))),TRANSPOSE(MMULT($O$10:$Q$12,TRANSPOSE(Y397:AA397))))","v":{"$error":"#N/A"}},{"$error":"#N/A"},{"$error":"#N/A"},{"$error":"#N/A"},{"$error":"#N/A"},{"$f":"TRANSPOSE(MMULT($AE$10:$AG$12,TRANSPOSE(F397:H397)))","v":{"$error":"#N/A"}},{"$error":"#N/A"},{"$error":"#N/A"},{"$error":"#N/A"},{"$error":"#N/A"},{"$f":"TRANSPOSE(MMULT($AO$40:$AQ$42,TRANSPOSE(C397:E397)))","v":{"$error":"#N/A"}},{"$error":"#N/A"},{"$error":"#N/A"},{"$error":"#N/A"},{"$error":"#N/A"},{"$error":"#N/A"}]
[398,{"$error":"#N/A"},{"$error":"#N/A"},{"$error":"#N/A"},{"$error":"#N/A"},{"$error":"#N/A"},{"$error":"#N/A"},{"$error":"#N/A"},{"$error":"#N/A"},{"$error":"#N/A"},{"$error":"#N/A"},{"$f":"IF($AK$38=0,TRANSPOSE(MMULT($O$10:$Q$12,TRANSPOSE(C398:E398))),TRANSPOSE(MMULT($O$10:$Q$12,TRANSPOSE(Y398:AA398))))","v":{"$error":"#N/A"}},{"$error":"#N/A"},{"$error":"#N/A"},{"$error":"#N/A"},{"$error":"#N/A"},{"$f":"TRANSPOSE(MMULT($AE$10:$AG$12,TRANSPOSE(F398:H398)))","v":{"$error":"#N/A"}},{"$error":"#N/A"},{"$error":"#N/A"},{"$error":"#N/A"},{"$error":"#N/A"},{"$f":"TRANSPOSE(MMULT($AO$40:$AQ$42,TRANSPOSE(C398:E398)))","v":{"$error":"#N/A"}},{"$error":"#N/A"},{"$error":"#N/A"},{"$error":"#N/A"},{"$error":"#N/A"},{"$error":"#N/A"}]
[399,{"$error":"#N/A"},{"$error":"#N/A"},{"$error":"#N/A"},{"$error":"#N/A"},{"$error":"#N/A"},{"$error":"#N/A"},{"$error":"#N/A"},{"$error":"#N/A"},{"$error":"#N/A"},{"$error":"#N/A"},{"$f":"IF($AK$38=0,TRANSPOSE(MMULT($O$10:$Q$12,TRANSPOSE(C399:E399))),TRANSPOSE(MMULT($O$10:$Q$12,TRANSPOSE(Y399:AA399))))","v":{"$error":"#N/A"}},{"$error":"#N/A"},{"$error":"#N/A"},{"$error":"#N/A"},{"$error":"#N/A"},{"$f":"TRANSPOSE(MMULT($AE$10:$AG$12,TRANSPOSE(F399:H399)))","v":{"$error":"#N/A"}},{"$error":"#N/A"},{"$error":"#N/A"},{"$error":"#N/A"},{"$error":"#N/A"},{"$f":"TRANSPOSE(MMULT($AO$40:$AQ$42,TRANSPOSE(C399:E399)))","v":{"$error":"#N/A"}},{"$error":"#N/A"},{"$error":"#N/A"},{"$error":"#N/A"},{"$error":"#N/A"},{"$error":"#N/A"}]
[400,{"$error":"#N/A"},{"$error":"#N/A"},{"$error":"#N/A"},{"$error":"#N/A"},{"$f":"(F$7+2*I$7*$B400+3*L$7*$B400^2+4*O$7*$B400^3)*SIN(O$8*$B400^4+L$8*$B400^3+I$8*$B400^2+F$8*$B400+C$8)+(F$8+2*I$8*$B400+3*L$8*$B400^2+4*O$8*$B400^3)*(C$7+F$7*$B400+I$7*$B400^2+L$7*$B400^3+O$7*$B400^4)*COS(O$8*$B400^4+L$8*$B400^3+I$8*$B400^2+F$8*$B400+C$8)-(F$6+2*I$6*$B400+3*L$6*$B400^2+4*O$6*$B400^3)*(C$5+F$5*$B400+I$5*$B400^2+L$5*$B400^3+O$5*$B400^4)*SIN(O$6*$B400^4+L$6*$B400^3+I$6*$B400^2+F$6*$B400+C$6)+(F$5+2*I$5*$B400+3*L$5*$B400^2+4*O$5*$B400^3)*COS(O$6*$B400^4+L$6*$B400^3+I$6*$B400^2+F$6*$B400+C$6)+4*O$4*$B400^3+3*L$4*$B400^2+2*I$4*$B400+F$4","v":{"$error":"#N/A"}},{"$f":"(G$7+2*J$7*$B400+3*M$7*$B400^2+4*P$7*$B400^3)*SIN(P$8*$B400^4+M$8*$B400^3+J$8*$B400^2+G$8*$B400+D$8)+(G$8+2*J$8*$B400+3*M$8*$B400^2+4*P$8*$B400^3)*(D$7+G$7*$B400+J$7*$B400^2+M$7*$B400^3+P$7*$B400^4)*COS(P$8*$B400^4+M$8*$B400^3+J$8*$B400^2+G$8*$B400+D$8)-(G$6+2*J$6*$B400+3*M$6*$B400^2+4*P$6*$B400^3)*(D$5+G$5*$B400+J$5*$B400^2+M$5*$B400^3+P$5*$B400^4)*SIN(P$6*$B400^4+M$6*$B400^3+J$6*$B400^2+G$6*$B400+D$6)+(G$5+2*J$5*$B400+3*M$5*$B400^2+4*P$5*$B400^3)*COS(P$6*$B400^4+M$6*$B400^3+J$6*$B400^2+G$6*$B400+D$6)+4*P$4*$B400^3+3*M$4*$B400^2+2*J$4*$B400+G$4","v":{"$error":"#N/A"}},{"$f":"(H$7+2*K$7*$B400+3*N$7*$B400^2+4*Q$7*$B400^3)*SIN(Q$8*$B400^4+N$8*$B400^3+K$8*$B400^2+H$8*$B400+E$8)+(H$8+2*K$8*$B400+3*N$8*$B400^2+4*Q$8*$B400^3)*(E$7+H$7*$B400+K$7*$B400^2+N$7*$B400^3+Q$7*$B400^4)*COS(Q$8*$B400^4+N$8*$B400^3+K$8*$B400^2+H$8*$B400+E$8)-(H$6+2*K$6*$B400+3*N$6*$B400^2+4*Q$6*$B400^3)*(E$5+H$5*$B400+K$5*$B400^2+N$5*$B400^3+Q$5*$B400^4)*SIN(Q$6*$B400^4+N$6*$B400^3+K$6*$B400^2+H$6*$B400+E$6)+(H$5+2*K$5*$B400+3*N$5*$B400^2+4*Q$5*$B400^3)*COS(Q$6*$B400^4+N$6*$B400^3+K$6*$B400^2+H$6*$B400+E$6)+4*Q$4*$B400^3+3*N$4*$B400^2+2*K$4*$B400+H$4","v":{"$error":"#N/A"}},{"$f":"-1*(F$8+2*I$8*$B400+3*L$8*$B400^2+4*O$8*$B400^3)^2*(C$7+F$7*$B400+I$7*$B400^2+L$7*$B400^3+O$7*$B400^4)*SIN(O$8*$B400^4+L$8*$B400^3+I$8*$B400^2+F$8*$B400+C$8)+(2*I$7+6*L$7*$B400+12*O$7*$B400^2)*SIN(O$8*$B400^4+L$8*$B400^3+I$8*$B400^2+F$8*$B400+C$8)+(2*I$8+6*L$8*$B400+12*O$8*$B400^2)*(C$7+F$7*$B400+I$7*$B400^2+L$7*$B400^3+O$7*$B400^4)*COS(O$8*$B400^4+L$8*$B400^3+I$8*$B400^2+F$8*$B400+C$8)+2*(F$7+2*I$7*$B400+3*L$7*$B400^2+4*O$7*$B400^3)*(F$8+2*I$8*$B400+3*L$8*$B400^2+4*O$8*$B400^3)*COS(O$8*$B400^4+L$8*$B400^3+I$8*$B400^2+F$8*$B400+C$8)-(2*I$6+6*L$6*$B400+12*O$6*$B400^2)*(C$5+F$5*$B400+I$5*$B400^2+L$5*$B400^3+O$5*$B400^4)*SIN(O$6*$B400^4+L$6*$B400^3+I$6*$B400^2+F$6*$B400+C$6)-2*(F$5+2*I$5*$B400+3*L$5*$B400^2+4*O$5*$B400^3)*(F$6+2*I$6*$B400+3*L$6*$B400^2+4*O$6*$B400^3)*SIN(O$6*$B400^4+L$6*$B400^3+I$6*$B400^2+F$6*$B400+C$6)-(F$6+2*I$6*$B400+3*L$6*$B400^2+4*O$6*$B400^3)^2*(C$5+F$5*$B400+I$5*$B400^2+L$5*$B400^3+O$5*$B400^4)*COS(O$6*$B400^4+L$6*$B400^3+I$6*$B400^2+F$6*$B400+C$6)+(2*I$5+6*L$5*$B400+12*O$5*$B400^2)*COS(O$6*$B400^4+L$6*$B400^3+I$6*$B400^2+F$6*$B400+C$6)+12*O$4*$B400^2+6*L$4*$B400+2*I$4","v":{"$error":"#N/A"}},{"$f":"-1*(G$8+2*J$8*$B400+3*M$8*$B400^2+4*P$8*$B400^3)^2*(D$7+G$7*$B400+J$7*$B400^2+M$7*$B400^3+P$7*$B400^4)*SIN(P$8*$B400^4+M$8*$B400^3+J$8*$B400^2+G$8*$B400+D$8)+(2*J$7+6*M$7*$B400+12*P$7*$B400^2)*SIN(P$8*$B400^4+M$8*$B400^3+J$8*$B400^2+G$8*$B400+D$8)+(2*J$8+6*M$8*$B400+12*P$8*$B400^2)*(D$7+G$7*$B400+J$7*$B400^2+M$7*$B400^3+P$7*$B400^4)*COS(P$8*$B400^4+M$8*$B400^3+J$8*$B400^2+G$8*$B400+D$8)+2*(G$7+2*J$7*$B400+3*M$7*$B400^2+4*P$7*$B400^3)*(G$8+2*J$8*$B400+3*M$8*$B400^2+4*P$8*$B400^3)*COS(P$8*$B400^4+M$8*$B400^3+J$8*$B400^2+G$8*$B400+D$8)-(2*J$6+6*M$6*$B400+12*P$6*$B400^2)*(D$5+G$5*$B400+J$5*$B400^2+M$5*$B400^3+P$5*$B400^4)*SIN(P$6*$B400^4+M$6*$B400^3+J$6*$B400^2+G$6*$B400+D$6)-2*(G$5+2*J$5*$B400+3*M$5*$B400^2+4*P$5*$B400^3)*(G$6+2*J$6*$B400+3*M$6*$B400^2+4*P$6*$B400^3)*SIN(P$6*$B400^4+M$6*$B400^3+J$6*$B400^2+G$6*$B400+D$6)-(G$6+2*J$6*$B400+3*M$6*$B400^2+4*P$6*$B400^3)^2*(D$5+G$5*$B400+J$5*$B400^2+M$5*$B400^3+P$5*$B400^4)*COS(P$6*$B400^4+M$6*$B400^3+J$6*$B400^2+G$6*$B400+D$6)+(2*J$5+6*M$5*$B400+12*P$5*$B400^2)*COS(P$6*$B400^4+M$6*$B400^3+J$6*$B400^2+G$6*$B400+D$6)+12*P$4*$B400^2+6*M$4*$B400+2*J$4","v":{"$error":"#N/A"}},{"$f":"-1*(H$8+2*K$8*$B400+3*N$8*$B400^2+4*Q$8*$B400^3)^2*(E$7+H$7*$B400+K$7*$B400^2+N$7*$B400^3+Q$7*$B400^4)*SIN(Q$8*$B400^4+N$8*$B400^3+K$8*$B400^2+H$8*$B400+E$8)+(2*K$7+6*N$7*$B400+12*Q$7*$B400^2)*SIN(Q$8*$B400^4+N$8*$B400^3+K$8*$B400^2+H$8*$B400+E$8)+(2*K$8+6*N$8*$B400+12*Q$8*$B400^2)*(E$7+H$7*$B400+K$7*$B400^2+N$7*$B400^3+Q$7*$B400^4)*COS(Q$8*$B400^4+N$8*$B400^3+K$8*$B400^2+H$8*$B400+E$8)+2*(H$7+2*K$7*$B400+3*N$7*$B400^2+4*Q$7*$B400^3)*(H$8+2*K$8*$B400+3*N$8*$B400^2+4*Q$8*$B400^3)*COS(Q$8*$B400^4+N$8*$B400^3+K$8*$B400^2+H$8*$B400+E$8)-(2*K$6+6*N$6*$B400+12*Q$6*$B400^2)*(E$5+H$5*$B400+K$5*$B400^2+N$5*$B400^3+Q$5*$B400^4)*SIN(Q$6*$B400^4+N$6*$B400^3+K$6*$B400^2+H$6*$B400+E$6)-2*(H$5+2*K$5*$B400+3*N$5*$B400^2+4*Q$5*$B400^3)*(H$6+2*K$6*$B400+3*N$6*$B400^2+4*Q$6*$B400^3)*SIN(Q$6*$B400^4+N$6*$B400^3+K$6*$B400^2+H$6*$B400+E$6)-(H$6+2*K$6*$B400+3*N$6*$B400^2+4*Q$6*$B400^3)^2*(E$5+H$5*$B400+K$5*$B400^2+N$5*$B400^3+Q$5*$B400^4)*COS(Q$6*$B400^4+N$6*$B400^3+K$6*$B400^2+H$6*$B400+E$6)+(2*K$5+6*N$5*$B400+12*Q$5*$B400^2)*COS(Q$6*$B400^4+N$6*$B400^3+K$6*$B400^2+H$6*$B400+E$6)+12*Q$4*$B400^2+6*N$4*$B400+2*K$4","v":{"$error":"#N/A"}},{"$f":"IF($AK$38=0,TRANSPOSE(MMULT($O$10:$Q$12,TRANSPOSE(C400:E400))),TRANSPOSE(MMULT($O$10:$Q$12,TRANSPOSE(Y400:AA400))))","v":{"$error":"#N/A"}},{"$error":"#N/A"},{"$error":"#N/A"},{"$error":"#N/A"},{"$error":"#N/A"},{"$f":"TRANSPOSE(MMULT($AE$10:$AG$12,TRANSPOSE(F400:H400)))","v":{"$error":"#N/A"}},{"$error":"#N/A"},{"$error":"#N/A"},{"$f":"$Y$5+$Y$4*IF($U$8=1,Q400,(Q400*$U$6)/($U$6+$U$7+R400))","v":{"$error":"#N/A"}},{"$f":"$Y$6+$Y$4*IF($U$8=1,R400,(S400*$U$6)/($U$6+$U$7+R400))","v":{"$error":"#N/A"}},{"$f":"TRANSPOSE(MMULT($AO$40:$AQ$42,TRANSPOSE(C400:E400)))","v":{"$error":"#N/A"}},{"$error":"#N/A"},{"$error":"#N/A"},{"$f":"V400+$AL$46","v":{"$error":"#N/A"}},{"$f":"W400+$AL$47","v":{"$error":"#N/A"}},{"$f":"X400+$AL$48","v":{"$error":"#N/A"}}]
[401,{"$error":"#N/A"},{"$error":"#N/A"},{"$error":"#N/A"},{"$error":"#N/A"},{"$error":"#N/A"},{"$error":"#N/A"},{"$error":"#N/A"},{"$error":"#N/A"},{"$error":"#N/A"},{"$error":"#N/A"},{"$f":"IF($AK$38=0,TRANSPOSE(MMULT($O$10:$Q$12,TRANSPOSE(C401:E401))),TRANSPOSE(MMULT($O$10:$Q$12,TRANSPOSE(Y401:AA401))))","v":{"$error":"#N/A"}},{"$error":"#N/A"},{"$error":"#N/A"},{"$f":"IF($AD$4=0,NA(),$X$5+$X$4*IF($U$8=1,L401,(L401*$U$6)/($U$6+$U$7+M401)))","v":{"$error":"#N/A"}},{"$f":"IF($AD$4=0,NA(),$X$6+$X$4*IF($U$8=1,M401,(N401*$U$6)/($U$6+$U$7+M401)))","v":{"$error":"#N/A"}},{"$f":"TRANSPOSE(MMULT($AE$10:$AG$12,TRANSPOSE(F401:H401)))","v":{"$error":"#N/A"}},{"$error":"#N/A"},{"$error":"#N/A"},{"$error":"#N/A"},{"$error":"#N/A"},{"$f":"TRANSPOSE(MMULT($AO$40:$AQ$42,TRANSPOSE(C401:E401)))","v":{"$error":"#N/A"}},{"$error":"#N/A"},{"$error":"#N/A"},{"$error":"#N/A"},{"$error":"#N/A"},{"$error":"#N/A"}]
[402,{"$f":"IF(B401<$B$3,B401+$S$3,NA())","v":{"$error":"#N/A"}},{"$error":"#N/A"},{"$error":"#N/A"},{"$error":"#N/A"},{"$error":"#N/A"},{"$error":"#N/A"},{"$error":"#N/A"},{"$error":"#N/A"},{"$error":"#N/A"},{"$error":"#N/A"},{"$f":"IF($AK$38=0,TRANSPOSE(MMULT($O$10:$Q$12,TRANSPOSE(C402:E402))),TRANSPOSE(MMULT($O$10:$Q$12,TRANSPOSE(Y402:AA402))))","v":{"$error":"#N/A"}},{"$error":"#N/A"},{"$error":"#N/A"},{"$error":"#N/A"},{"$error":"#N/A"},{"$f":"TRANSPOSE(MMULT($AE$10:$AG$12,TRANSPOSE(F402:H402)))","v":{"$error":"#N/A"}},{"$error":"#N/A"},{"$error":"#N/A"},{"$error":"#N/A"},{"$error":"#N/A"},{"$f":"TRANSPOSE(MMULT($AO$40:$AQ$42,TRANSPOSE(C402:E402)))","v":{"$error":"#N/A"}},{"$error":"#N/A"},{"$error":"#N/A"},{"$error":"#N/A"},{"$error":"#N/A"},{"$error":"#N/A"}]
[403,{"$error":"#N/A"},{"$error":"#N/A"},{"$error":"#N/A"},{"$error":"#N/A"},{"$error":"#N/A"},{"$error":"#N/A"},{"$error":"#N/A"},{"$error":"#N/A"},{"$error":"#N/A"},{"$error":"#N/A"},{"$f":"IF($AK$38=0,TRANSPOSE(MMULT($O$10:$Q$12,TRANSPOSE(C403:E403))),TRANSPOSE(MMULT($O$10:$Q$12,TRANSPOSE(Y403:AA403))))","v":{"$error":"#N/A"}},{"$error":"#N/A"},{"$error":"#N/A"},{"$error":"#N/A"},{"$error":"#N/A"},{"$f":"TRANSPOSE(MMULT($AE$10:$AG$12,TRANSPOSE(F403:H403)))","v":{"$error":"#N/A"}},{"$error":"#N/A"},{"$error":"#N/A"},{"$error":"#N/A"},{"$error":"#N/A"},{"$f":"TRANSPOSE(MMULT($AO$40:$AQ$42,TRANSPOSE(C403:E403)))","v":{"$error":"#N/A"}},{"$error":"#N/A"},{"$error":"#N/A"},{"$error":"#N/A"},{"$error":"#N/A"},{"$error":"#N/A"}]
[404,{"$error":"#N/A"},{"$error":"#N/A"},{"$error":"#N/A"},{"$error":"#N/A"},{"$error":"#N/A"},{"$error":"#N/A"},{"$error":"#N/A"},{"$error":"#N/A"},{"$error":"#N/A"},{"$error":"#N/A"},{"$f":"IF($AK$38=0,TRANSPOSE(MMULT($O$10:$Q$12,TRANSPOSE(C404:E404))),TRANSPOSE(MMULT($O$10:$Q$12,TRANSPOSE(Y404:AA404))))","v":{"$error":"#N/A"}},{"$error":"#N/A"},{"$error":"#N/A"},{"$error":"#N/A"},{"$error":"#N/A"},{"$f":"TRANSPOSE(MMULT($AE$10:$AG$12,TRANSPOSE(F404:H404)))","v":{"$error":"#N/A"}},{"$error":"#N/A"},{"$error":"#N/A"},{"$error":"#N/A"},{"$error":"#N/A"},{"$f":"TRANSPOSE(MMULT($AO$40:$AQ$42,TRANSPOSE(C404:E404)))","v":{"$error":"#N/A"}},{"$error":"#N/A"},{"$error":"#N/A"},{"$error":"#N/A"},{"$error":"#N/A"},{"$error":"#N/A"}]
[405,{"$error":"#N/A"},{"$error":"#N/A"},{"$error":"#N/A"},{"$error":"#N/A"},{"$error":"#N/A"},{"$error":"#N/A"},{"$error":"#N/A"},{"$error":"#N/A"},{"$error":"#N/A"},{"$error":"#N/A"},{"$f":"IF($AK$38=0,TRANSPOSE(MMULT($O$10:$Q$12,TRANSPOSE(C405:E405))),TRANSPOSE(MMULT($O$10:$Q$12,TRANSPOSE(Y405:AA405))))","v":{"$error":"#N/A"}},{"$error":"#N/A"},{"$error":"#N/A"},{"$error":"#N/A"},{"$error":"#N/A"},{"$f":"TRANSPOSE(MMULT($AE$10:$AG$12,TRANSPOSE(F405:H405)))","v":{"$error":"#N/A"}},{"$error":"#N/A"},{"$error":"#N/A"},{"$error":"#N/A"},{"$error":"#N/A"},{"$f":"TRANSPOSE(MMULT($AO$40:$AQ$42,TRANSPOSE(C405:E405)))","v":{"$error":"#N/A"}},{"$error":"#N/A"},{"$error":"#N/A"},{"$error":"#N/A"},{"$error":"#N/A"},{"$error":"#N/A"}]
[406,{"$error":"#N/A"},{"$error":"#N/A"},{"$error":"#N/A"},{"$error":"#N/A"},{"$error":"#N/A"},{"$error":"#N/A"},{"$error":"#N/A"},{"$error":"#N/A"},{"$error":"#N/A"},{"$error":"#N/A"},{"$f":"IF($AK$38=0,TRANSPOSE(MMULT($O$10:$Q$12,TRANSPOSE(C406:E406))),TRANSPOSE(MMULT($O$10:$Q$12,TRANSPOSE(Y406:AA406))))","v":{"$error":"#N/A"}},{"$error":"#N/A"},{"$error":"#N/A"},{"$error":"#N/A"},{"$error":"#N/A"},{"$f":"TRANSPOSE(MMULT($AE$10:$AG$12,TRANSPOSE(F406:H406)))","v":{"$error":"#N/A"}},{"$error":"#N/A"},{"$error":"#N/A"},{"$error":"#N/A"},{"$error":"#N/A"},{"$f":"TRANSPOSE(MMULT($AO$40:$AQ$42,TRANSPOSE(C406:E406)))","v":{"$error":"#N/A"}},{"$error":"#N/A"},{"$error":"#N/A"},{"$error":"#N/A"},{"$error":"#N/A"},{"$error":"#N/A"}]
[407,{"$error":"#N/A"},{"$error":"#N/A"},{"$error":"#N/A"},{"$error":"#N/A"},{"$error":"#N/A"},{"$error":"#N/A"},{"$error":"#N/A"},{"$error":"#N/A"},{"$error":"#N/A"},{"$error":"#N/A"},{"$f":"IF($AK$38=0,TRANSPOSE(MMULT($O$10:$Q$12,TRANSPOSE(C407:E407))),TRANSPOSE(MMULT($O$10:$Q$12,TRANSPOSE(Y407:AA407))))","v":{"$error":"#N/A"}},{"$error":"#N/A"},{"$error":"#N/A"},{"$error":"#N/A"},{"$error":"#N/A"},{"$f":"TRANSPOSE(MMULT($AE$10:$AG$12,TRANSPOSE(F407:H407)))","v":{"$error":"#N/A"}},{"$error":"#N/A"},{"$error":"#N/A"},{"$error":"#N/A"},{"$error":"#N/A"},{"$f":"TRANSPOSE(MMULT($AO$40:$AQ$42,TRANSPOSE(C407:E407)))","v":{"$error":"#N/A"}},{"$error":"#N/A"},{"$error":"#N/A"},{"$error":"#N/A"},{"$error":"#N/A"},{"$error":"#N/A"}]
[408,{"$error":"#N/A"},{"$error":"#N/A"},{"$error":"#N/A"},{"$error":"#N/A"},{"$error":"#N/A"},{"$error":"#N/A"},{"$error":"#N/A"},{"$error":"#N/A"},{"$error":"#N/A"},{"$error":"#N/A"},{"$f":"IF($AK$38=0,TRANSPOSE(MMULT($O$10:$Q$12,TRANSPOSE(C408:E408))),TRANSPOSE(MMULT($O$10:$Q$12,TRANSPOSE(Y408:AA408))))","v":{"$error":"#N/A"}},{"$error":"#N/A"},{"$error":"#N/A"},{"$error":"#N/A"},{"$error":"#N/A"},{"$f":"TRANSPOSE(MMULT($AE$10:$AG$12,TRANSPOSE(F408:H408)))","v":{"$error":"#N/A"}},{"$error":"#N/A"},{"$error":"#N/A"},{"$error":"#N/A"},{"$error":"#N/A"},{"$f":"TRANSPOSE(MMULT($AO$40:$AQ$42,TRANSPOSE(C408:E408)))","v":{"$error":"#N/A"}},{"$error":"#N/A"},{"$error":"#N/A"},{"$error":"#N/A"},{"$error":"#N/A"},{"$error":"#N/A"}]
[409,{"$error":"#N/A"},{"$error":"#N/A"},{"$error":"#N/A"},{"$error":"#N/A"},{"$error":"#N/A"},{"$error":"#N/A"},{"$error":"#N/A"},{"$error":"#N/A"},{"$error":"#N/A"},{"$error":"#N/A"},{"$f":"IF($AK$38=0,TRANSPOSE(MMULT($O$10:$Q$12,TRANSPOSE(C409:E409))),TRANSPOSE(MMULT($O$10:$Q$12,TRANSPOSE(Y409:AA409))))","v":{"$error":"#N/A"}},{"$error":"#N/A"},{"$error":"#N/A"},{"$error":"#N/A"},{"$error":"#N/A"},{"$f":"TRANSPOSE(MMULT($AE$10:$AG$12,TRANSPOSE(F409:H409)))","v":{"$error":"#N/A"}},{"$error":"#N/A"},{"$error":"#N/A"},{"$error":"#N/A"},{"$error":"#N/A"},{"$f":"TRANSPOSE(MMULT($AO$40:$AQ$42,TRANSPOSE(C409:E409)))","v":{"$error":"#N/A"}},{"$error":"#N/A"},{"$error":"#N/A"},{"$error":"#N/A"},{"$error":"#N/A"},{"$error":"#N/A"}]
[410,{"$error":"#N/A"},{"$error":"#N/A"},{"$error":"#N/A"},{"$error":"#N/A"},{"$error":"#N/A"},{"$error":"#N/A"},{"$error":"#N/A"},{"$error":"#N/A"},{"$error":"#N/A"},{"$error":"#N/A"},{"$f":"IF($AK$38=0,TRANSPOSE(MMULT($O$10:$Q$12,TRANSPOSE(C410:E410))),TRANSPOSE(MMULT($O$10:$Q$12,TRANSPOSE(Y410:AA410))))","v":{"$error":"#N/A"}},{"$error":"#N/A"},{"$error":"#N/A"},{"$error":"#N/A"},{"$error":"#N/A"},{"$f":"TRANSPOSE(MMULT($AE$10:$AG$12,TRANSPOSE(F410:H410)))","v":{"$error":"#N/A"}},{"$error":"#N/A"},{"$error":"#N/A"},{"$error":"#N/A"},{"$error":"#N/A"},{"$f":"TRANSPOSE(MMULT($AO$40:$AQ$42,TRANSPOSE(C410:E410)))","v":{"$error":"#N/A"}},{"$error":"#N/A"},{"$error":"#N/A"},{"$error":"#N/A"},{"$error":"#N/A"},{"$error":"#N/A"}]
[411,{"$error":"#N/A"},{"$error":"#N/A"},{"$error":"#N/A"},{"$error":"#N/A"},{"$error":"#N/A"},{"$error":"#N/A"},{"$error":"#N/A"},{"$error":"#N/A"},{"$error":"#N/A"},{"$error":"#N/A"},{"$f":"IF($AK$38=0,TRANSPOSE(MMULT($O$10:$Q$12,TRANSPOSE(C411:E411))),TRANSPOSE(MMULT($O$10:$Q$12,TRANSPOSE(Y411:AA411))))","v":{"$error":"#N/A"}},{"$error":"#N/A"},{"$error":"#N/A"},{"$error":"#N/A"},{"$error":"#N/A"},{"$f":"TRANSPOSE(MMULT($AE$10:$AG$12,TRANSPOSE(F411:H411)))","v":{"$error":"#N/A"}},{"$error":"#N/A"},{"$error":"#N/A"},{"$error":"#N/A"},{"$error":"#N/A"},{"$f":"TRANSPOSE(MMULT($AO$40:$AQ$42,TRANSPOSE(C411:E411)))","v":{"$error":"#N/A"}},{"$error":"#N/A"},{"$error":"#N/A"},{"$error":"#N/A"},{"$error":"#N/A"},{"$error":"#N/A"}]
[412,{"$error":"#N/A"},{"$error":"#N/A"},{"$error":"#N/A"},{"$error":"#N/A"},{"$error":"#N/A"},{"$error":"#N/A"},{"$error":"#N/A"},{"$error":"#N/A"},{"$error":"#N/A"},{"$error":"#N/A"},{"$f":"IF($AK$38=0,TRANSPOSE(MMULT($O$10:$Q$12,TRANSPOSE(C412:E412))),TRANSPOSE(MMULT($O$10:$Q$12,TRANSPOSE(Y412:AA412))))","v":{"$error":"#N/A"}},{"$error":"#N/A"},{"$error":"#N/A"},{"$error":"#N/A"},{"$error":"#N/A"},{"$f":"TRANSPOSE(MMULT($AE$10:$AG$12,TRANSPOSE(F412:H412)))","v":{"$error":"#N/A"}},{"$error":"#N/A"},{"$error":"#N/A"},{"$error":"#N/A"},{"$error":"#N/A"},{"$f":"TRANSPOSE(MMULT($AO$40:$AQ$42,TRANSPOSE(C412:E412)))","v":{"$error":"#N/A"}},{"$error":"#N/A"},{"$error":"#N/A"},{"$error":"#N/A"},{"$error":"#N/A"},{"$error":"#N/A"}]
[413,{"$error":"#N/A"},{"$error":"#N/A"},{"$error":"#N/A"},{"$error":"#N/A"},{"$error":"#N/A"},{"$error":"#N/A"},{"$error":"#N/A"},{"$error":"#N/A"},{"$error":"#N/A"},{"$error":"#N/A"},{"$f":"IF($AK$38=0,TRANSPOSE(MMULT($O$10:$Q$12,TRANSPOSE(C413:E413))),TRANSPOSE(MMULT($O$10:$Q$12,TRANSPOSE(Y413:AA413))))","v":{"$error":"#N/A"}},{"$error":"#N/A"},{"$error":"#N/A"},{"$error":"#N/A"},{"$error":"#N/A"},{"$f":"TRANSPOSE(MMULT($AE$10:$AG$12,TRANSPOSE(F413:H413)))","v":{"$error":"#N/A"}},{"$error":"#N/A"},{"$error":"#N/A"},{"$error":"#N/A"},{"$error":"#N/A"},{"$f":"TRANSPOSE(MMULT($AO$40:$AQ$42,TRANSPOSE(C413:E413)))","v":{"$error":"#N/A"}},{"$error":"#N/A"},{"$error":"#N/A"},{"$error":"#N/A"},{"$error":"#N/A"},{"$error":"#N/A"}]
[414,{"$error":"#N/A"},{"$error":"#N/A"},{"$error":"#N/A"},{"$error":"#N/A"},{"$error":"#N/A"},{"$error":"#N/A"},{"$error":"#N/A"},{"$error":"#N/A"},{"$error":"#N/A"},{"$error":"#N/A"},{"$f":"IF($AK$38=0,TRANSPOSE(MMULT($O$10:$Q$12,TRANSPOSE(C414:E414))),TRANSPOSE(MMULT($O$10:$Q$12,TRANSPOSE(Y414:AA414))))","v":{"$error":"#N/A"}},{"$error":"#N/A"},{"$error":"#N/A"},{"$error":"#N/A"},{"$error":"#N/A"},{"$f":"TRANSPOSE(MMULT($AE$10:$AG$12,TRANSPOSE(F414:H414)))","v":{"$error":"#N/A"}},{"$error":"#N/A"},{"$error":"#N/A"},{"$error":"#N/A"},{"$error":"#N/A"},{"$f":"TRANSPOSE(MMULT($AO$40:$AQ$42,TRANSPOSE(C414:E414)))","v":{"$error":"#N/A"}},{"$error":"#N/A"},{"$error":"#N/A"},{"$error":"#N/A"},{"$error":"#N/A"},{"$error":"#N/A"}]
[415,{"$error":"#N/A"},{"$error":"#N/A"},{"$error":"#N/A"},{"$error":"#N/A"},{"$error":"#N/A"},{"$error":"#N/A"},{"$error":"#N/A"},{"$error":"#N/A"},{"$error":"#N/A"},{"$error":"#N/A"},{"$f":"IF($AK$38=0,TRANSPOSE(MMULT($O$10:$Q$12,TRANSPOSE(C415:E415))),TRANSPOSE(MMULT($O$10:$Q$12,TRANSPOSE(Y415:AA415))))","v":{"$error":"#N/A"}},{"$error":"#N/A"},{"$error":"#N/A"},{"$error":"#N/A"},{"$error":"#N/A"},{"$f":"TRANSPOSE(MMULT($AE$10:$AG$12,TRANSPOSE(F415:H415)))","v":{"$error":"#N/A"}},{"$error":"#N/A"},{"$error":"#N/A"},{"$error":"#N/A"},{"$error":"#N/A"},{"$f":"TRANSPOSE(MMULT($AO$40:$AQ$42,TRANSPOSE(C415:E415)))","v":{"$error":"#N/A"}},{"$error":"#N/A"},{"$error":"#N/A"},{"$error":"#N/A"},{"$error":"#N/A"},{"$error":"#N/A"}]
[416,{"$error":"#N/A"},{"$error":"#N/A"},{"$error":"#N/A"},{"$error":"#N/A"},{"$error":"#N/A"},{"$error":"#N/A"},{"$error":"#N/A"},{"$error":"#N/A"},{"$error":"#N/A"},{"$error":"#N/A"},{"$f":"IF($AK$38=0,TRANSPOSE(MMULT($O$10:$Q$12,TRANSPOSE(C416:E416))),TRANSPOSE(MMULT($O$10:$Q$12,TRANSPOSE(Y416:AA416))))","v":{"$error":"#N/A"}},{"$error":"#N/A"},{"$error":"#N/A"},{"$error":"#N/A"},{"$error":"#N/A"},{"$f":"TRANSPOSE(MMULT($AE$10:$AG$12,TRANSPOSE(F416:H416)))","v":{"$error":"#N/A"}},{"$error":"#N/A"},{"$error":"#N/A"},{"$error":"#N/A"},{"$error":"#N/A"},{"$f":"TRANSPOSE(MMULT($AO$40:$AQ$42,TRANSPOSE(C416:E416)))","v":{"$error":"#N/A"}},{"$error":"#N/A"},{"$error":"#N/A"},{"$error":"#N/A"},{"$error":"#N/A"},{"$error":"#N/A"}]
[417,{"$error":"#N/A"},{"$error":"#N/A"},{"$error":"#N/A"},{"$error":"#N/A"},{"$error":"#N/A"},{"$error":"#N/A"},{"$error":"#N/A"},{"$error":"#N/A"},{"$error":"#N/A"},{"$error":"#N/A"},{"$f":"IF($AK$38=0,TRANSPOSE(MMULT($O$10:$Q$12,TRANSPOSE(C417:E417))),TRANSPOSE(MMULT($O$10:$Q$12,TRANSPOSE(Y417:AA417))))","v":{"$error":"#N/A"}},{"$error":"#N/A"},{"$error":"#N/A"},{"$error":"#N/A"},{"$error":"#N/A"},{"$f":"TRANSPOSE(MMULT($AE$10:$AG$12,TRANSPOSE(F417:H417)))","v":{"$error":"#N/A"}},{"$error":"#N/A"},{"$error":"#N/A"},{"$error":"#N/A"},{"$error":"#N/A"},{"$f":"TRANSPOSE(MMULT($AO$40:$AQ$42,TRANSPOSE(C417:E417)))","v":{"$error":"#N/A"}},{"$error":"#N/A"},{"$error":"#N/A"},{"$error":"#N/A"},{"$error":"#N/A"},{"$error":"#N/A"}]
[418,{"$error":"#N/A"},{"$error":"#N/A"},{"$error":"#N/A"},{"$error":"#N/A"},{"$error":"#N/A"},{"$error":"#N/A"},{"$error":"#N/A"},{"$error":"#N/A"},{"$error":"#N/A"},{"$error":"#N/A"},{"$f":"IF($AK$38=0,TRANSPOSE(MMULT($O$10:$Q$12,TRANSPOSE(C418:E418))),TRANSPOSE(MMULT($O$10:$Q$12,TRANSPOSE(Y418:AA418))))","v":{"$error":"#N/A"}},{"$error":"#N/A"},{"$error":"#N/A"},{"$error":"#N/A"},{"$error":"#N/A"},{"$f":"TRANSPOSE(MMULT($AE$10:$AG$12,TRANSPOSE(F418:H418)))","v":{"$error":"#N/A"}},{"$error":"#N/A"},{"$error":"#N/A"},{"$error":"#N/A"},{"$error":"#N/A"},{"$f":"TRANSPOSE(MMULT($AO$40:$AQ$42,TRANSPOSE(C418:E418)))","v":{"$error":"#N/A"}},{"$error":"#N/A"},{"$error":"#N/A"},{"$error":"#N/A"},{"$error":"#N/A"},{"$error":"#N/A"}]
[419,{"$error":"#N/A"},{"$error":"#N/A"},{"$error":"#N/A"},{"$error":"#N/A"},{"$error":"#N/A"},{"$error":"#N/A"},{"$error":"#N/A"},{"$error":"#N/A"},{"$error":"#N/A"},{"$error":"#N/A"},{"$f":"IF($AK$38=0,TRANSPOSE(MMULT($O$10:$Q$12,TRANSPOSE(C419:E419))),TRANSPOSE(MMULT($O$10:$Q$12,TRANSPOSE(Y419:AA419))))","v":{"$error":"#N/A"}},{"$error":"#N/A"},{"$error":"#N/A"},{"$error":"#N/A"},{"$error":"#N/A"},{"$f":"TRANSPOSE(MMULT($AE$10:$AG$12,TRANSPOSE(F419:H419)))","v":{"$error":"#N/A"}},{"$error":"#N/A"},{"$error":"#N/A"},{"$error":"#N/A"},{"$error":"#N/A"},{"$f":"TRANSPOSE(MMULT($AO$40:$AQ$42,TRANSPOSE(C419:E419)))","v":{"$error":"#N/A"}},{"$error":"#N/A"},{"$error":"#N/A"},{"$error":"#N/A"},{"$error":"#N/A"},{"$error":"#N/A"}]
[420,{"$error":"#N/A"},{"$error":"#N/A"},{"$error":"#N/A"},{"$error":"#N/A"},{"$error":"#N/A"},{"$error":"#N/A"},{"$error":"#N/A"},{"$error":"#N/A"},{"$error":"#N/A"},{"$error":"#N/A"},{"$f":"IF($AK$38=0,TRANSPOSE(MMULT($O$10:$Q$12,TRANSPOSE(C420:E420))),TRANSPOSE(MMULT($O$10:$Q$12,TRANSPOSE(Y420:AA420))))","v":{"$error":"#N/A"}},{"$error":"#N/A"},{"$error":"#N/A"},{"$error":"#N/A"},{"$error":"#N/A"},{"$f":"TRANSPOSE(MMULT($AE$10:$AG$12,TRANSPOSE(F420:H420)))","v":{"$error":"#N/A"}},{"$error":"#N/A"},{"$error":"#N/A"},{"$error":"#N/A"},{"$error":"#N/A"},{"$f":"TRANSPOSE(MMULT($AO$40:$AQ$42,TRANSPOSE(C420:E420)))","v":{"$error":"#N/A"}},{"$error":"#N/A"},{"$error":"#N/A"},{"$error":"#N/A"},{"$error":"#N/A"},{"$error":"#N/A"}]
[421,{"$error":"#N/A"},{"$error":"#N/A"},{"$error":"#N/A"},{"$error":"#N/A"},{"$error":"#N/A"},{"$error":"#N/A"},{"$error":"#N/A"},{"$error":"#N/A"},{"$error":"#N/A"},{"$error":"#N/A"},{"$f":"IF($AK$38=0,TRANSPOSE(MMULT($O$10:$Q$12,TRANSPOSE(C421:E421))),TRANSPOSE(MMULT($O$10:$Q$12,TRANSPOSE(Y421:AA421))))","v":{"$error":"#N/A"}},{"$error":"#N/A"},{"$error":"#N/A"},{"$error":"#N/A"},{"$error":"#N/A"},{"$f":"TRANSPOSE(MMULT($AE$10:$AG$12,TRANSPOSE(F421:H421)))","v":{"$error":"#N/A"}},{"$error":"#N/A"},{"$error":"#N/A"},{"$error":"#N/A"},{"$error":"#N/A"},{"$f":"TRANSPOSE(MMULT($AO$40:$AQ$42,TRANSPOSE(C421:E421)))","v":{"$error":"#N/A"}},{"$error":"#N/A"},{"$error":"#N/A"},{"$error":"#N/A"},{"$error":"#N/A"},{"$error":"#N/A"}]
[422,{"$error":"#N/A"},{"$error":"#N/A"},{"$error":"#N/A"},{"$error":"#N/A"},{"$error":"#N/A"},{"$error":"#N/A"},{"$error":"#N/A"},{"$error":"#N/A"},{"$error":"#N/A"},{"$error":"#N/A"},{"$f":"IF($AK$38=0,TRANSPOSE(MMULT($O$10:$Q$12,TRANSPOSE(C422:E422))),TRANSPOSE(MMULT($O$10:$Q$12,TRANSPOSE(Y422:AA422))))","v":{"$error":"#N/A"}},{"$error":"#N/A"},{"$error":"#N/A"},{"$error":"#N/A"},{"$error":"#N/A"},{"$f":"TRANSPOSE(MMULT($AE$10:$AG$12,TRANSPOSE(F422:H422)))","v":{"$error":"#N/A"}},{"$error":"#N/A"},{"$error":"#N/A"},{"$error":"#N/A"},{"$error":"#N/A"},{"$f":"TRANSPOSE(MMULT($AO$40:$AQ$42,TRANSPOSE(C422:E422)))","v":{"$error":"#N/A"}},{"$error":"#N/A"},{"$error":"#N/A"},{"$error":"#N/A"},{"$error":"#N/A"},{"$error":"#N/A"}]
[423,{"$error":"#N/A"},{"$error":"#N/A"},{"$error":"#N/A"},{"$error":"#N/A"},{"$error":"#N/A"},{"$error":"#N/A"},{"$error":"#N/A"},{"$error":"#N/A"},{"$error":"#N/A"},{"$error":"#N/A"},{"$f":"IF($AK$38=0,TRANSPOSE(MMULT($O$10:$Q$12,TRANSPOSE(C423:E423))),TRANSPOSE(MMULT($O$10:$Q$12,TRANSPOSE(Y423:AA423))))","v":{"$error":"#N/A"}},{"$error":"#N/A"},{"$error":"#N/A"},{"$error":"#N/A"},{"$error":"#N/A"},{"$f":"TRANSPOSE(MMULT($AE$10:$AG$12,TRANSPOSE(F423:H423)))","v":{"$error":"#N/A"}},{"$error":"#N/A"},{"$error":"#N/A"},{"$error":"#N/A"},{"$error":"#N/A"},{"$f":"TRANSPOSE(MMULT($AO$40:$AQ$42,TRANSPOSE(C423:E423)))","v":{"$error":"#N/A"}},{"$error":"#N/A"},{"$error":"#N/A"},{"$error":"#N/A"},{"$error":"#N/A"},{"$error":"#N/A"}]
[424,{"$error":"#N/A"},{"$error":"#N/A"},{"$error":"#N/A"},{"$error":"#N/A"},{"$error":"#N/A"},{"$error":"#N/A"},{"$error":"#N/A"},{"$error":"#N/A"},{"$error":"#N/A"},{"$error":"#N/A"},{"$f":"IF($AK$38=0,TRANSPOSE(MMULT($O$10:$Q$12,TRANSPOSE(C424:E424))),TRANSPOSE(MMULT($O$10:$Q$12,TRANSPOSE(Y424:AA424))))","v":{"$error":"#N/A"}},{"$error":"#N/A"},{"$error":"#N/A"},{"$error":"#N/A"},{"$error":"#N/A"},{"$f":"TRANSPOSE(MMULT($AE$10:$AG$12,TRANSPOSE(F424:H424)))","v":{"$error":"#N/A"}},{"$error":"#N/A"},{"$error":"#N/A"},{"$error":"#N/A"},{"$error":"#N/A"},{"$f":"TRANSPOSE(MMULT($AO$40:$AQ$42,TRANSPOSE(C424:E424)))","v":{"$error":"#N/A"}},{"$error":"#N/A"},{"$error":"#N/A"},{"$error":"#N/A"},{"$error":"#N/A"},{"$error":"#N/A"}]
[425,{"$error":"#N/A"},{"$error":"#N/A"},{"$error":"#N/A"},{"$error":"#N/A"},{"$error":"#N/A"},{"$error":"#N/A"},{"$error":"#N/A"},{"$error":"#N/A"},{"$error":"#N/A"},{"$error":"#N/A"},{"$f":"IF($AK$38=0,TRANSPOSE(MMULT($O$10:$Q$12,TRANSPOSE(C425:E425))),TRANSPOSE(MMULT($O$10:$Q$12,TRANSPOSE(Y425:AA425))))","v":{"$error":"#N/A"}},{"$error":"#N/A"},{"$error":"#N/A"},{"$error":"#N/A"},{"$error":"#N/A"},{"$f":"TRANSPOSE(MMULT($AE$10:$AG$12,TRANSPOSE(F425:H425)))","v":{"$error":"#N/A"}},{"$error":"#N/A"},{"$error":"#N/A"},{"$error":"#N/A"},{"$error":"#N/A"},{"$f":"TRANSPOSE(MMULT($AO$40:$AQ$42,TRANSPOSE(C425:E425)))","v":{"$error":"#N/A"}},{"$error":"#N/A"},{"$error":"#N/A"},{"$error":"#N/A"},{"$error":"#N/A"},{"$error":"#N/A"}]
[426,{"$error":"#N/A"},{"$error":"#N/A"},{"$error":"#N/A"},{"$error":"#N/A"},{"$error":"#N/A"},{"$error":"#N/A"},{"$error":"#N/A"},{"$error":"#N/A"},{"$error":"#N/A"},{"$error":"#N/A"},{"$f":"IF($AK$38=0,TRANSPOSE(MMULT($O$10:$Q$12,TRANSPOSE(C426:E426))),TRANSPOSE(MMULT($O$10:$Q$12,TRANSPOSE(Y426:AA426))))","v":{"$error":"#N/A"}},{"$error":"#N/A"},{"$error":"#N/A"},{"$error":"#N/A"},{"$error":"#N/A"},{"$f":"TRANSPOSE(MMULT($AE$10:$AG$12,TRANSPOSE(F426:H426)))","v":{"$error":"#N/A"}},{"$error":"#N/A"},{"$error":"#N/A"},{"$error":"#N/A"},{"$error":"#N/A"},{"$f":"TRANSPOSE(MMULT($AO$40:$AQ$42,TRANSPOSE(C426:E426)))","v":{"$error":"#N/A"}},{"$error":"#N/A"},{"$error":"#N/A"},{"$error":"#N/A"},{"$error":"#N/A"},{"$error":"#N/A"}]
[427,{"$error":"#N/A"},{"$error":"#N/A"},{"$error":"#N/A"},{"$error":"#N/A"},{"$error":"#N/A"},{"$error":"#N/A"},{"$error":"#N/A"},{"$error":"#N/A"},{"$error":"#N/A"},{"$error":"#N/A"},{"$f":"IF($AK$38=0,TRANSPOSE(MMULT($O$10:$Q$12,TRANSPOSE(C427:E427))),TRANSPOSE(MMULT($O$10:$Q$12,TRANSPOSE(Y427:AA427))))","v":{"$error":"#N/A"}},{"$error":"#N/A"},{"$error":"#N/A"},{"$error":"#N/A"},{"$error":"#N/A"},{"$f":"TRANSPOSE(MMULT($AE$10:$AG$12,TRANSPOSE(F427:H427)))","v":{"$error":"#N/A"}},{"$error":"#N/A"},{"$error":"#N/A"},{"$error":"#N/A"},{"$error":"#N/A"},{"$f":"TRANSPOSE(MMULT($AO$40:$AQ$42,TRANSPOSE(C427:E427)))","v":{"$error":"#N/A"}},{"$error":"#N/A"},{"$error":"#N/A"},{"$error":"#N/A"},{"$error":"#N/A"},{"$error":"#N/A"}]
[428,{"$error":"#N/A"},{"$error":"#N/A"},{"$error":"#N/A"},{"$error":"#N/A"},{"$error":"#N/A"},{"$error":"#N/A"},{"$error":"#N/A"},{"$error":"#N/A"},{"$error":"#N/A"},{"$error":"#N/A"},{"$f":"IF($AK$38=0,TRANSPOSE(MMULT($O$10:$Q$12,TRANSPOSE(C428:E428))),TRANSPOSE(MMULT($O$10:$Q$12,TRANSPOSE(Y428:AA428))))","v":{"$error":"#N/A"}},{"$error":"#N/A"},{"$error":"#N/A"},{"$error":"#N/A"},{"$error":"#N/A"},{"$f":"TRANSPOSE(MMULT($AE$10:$AG$12,TRANSPOSE(F428:H428)))","v":{"$error":"#N/A"}},{"$error":"#N/A"},{"$error":"#N/A"},{"$error":"#N/A"},{"$error":"#N/A"},{"$f":"TRANSPOSE(MMULT($AO$40:$AQ$42,TRANSPOSE(C428:E428)))","v":{"$error":"#N/A"}},{"$error":"#N/A"},{"$error":"#N/A"},{"$error":"#N/A"},{"$error":"#N/A"},{"$error":"#N/A"}]
[429,{"$error":"#N/A"},{"$error":"#N/A"},{"$error":"#N/A"},{"$error":"#N/A"},{"$error":"#N/A"},{"$error":"#N/A"},{"$error":"#N/A"},{"$error":"#N/A"},{"$error":"#N/A"},{"$error":"#N/A"},{"$f":"IF($AK$38=0,TRANSPOSE(MMULT($O$10:$Q$12,TRANSPOSE(C429:E429))),TRANSPOSE(MMULT($O$10:$Q$12,TRANSPOSE(Y429:AA429))))","v":{"$error":"#N/A"}},{"$error":"#N/A"},{"$error":"#N/A"},{"$error":"#N/A"},{"$error":"#N/A"},{"$f":"TRANSPOSE(MMULT($AE$10:$AG$12,TRANSPOSE(F429:H429)))","v":{"$error":"#N/A"}},{"$error":"#N/A"},{"$error":"#N/A"},{"$error":"#N/A"},{"$error":"#N/A"},{"$f":"TRANSPOSE(MMULT($AO$40:$AQ$42,TRANSPOSE(C429:E429)))","v":{"$error":"#N/A"}},{"$error":"#N/A"},{"$error":"#N/A"},{"$error":"#N/A"},{"$error":"#N/A"},{"$error":"#N/A"}]
[430,{"$error":"#N/A"},{"$error":"#N/A"},{"$error":"#N/A"},{"$error":"#N/A"},{"$error":"#N/A"},{"$error":"#N/A"},{"$error":"#N/A"},{"$error":"#N/A"},{"$error":"#N/A"},{"$error":"#N/A"},{"$f":"IF($AK$38=0,TRANSPOSE(MMULT($O$10:$Q$12,TRANSPOSE(C430:E430))),TRANSPOSE(MMULT($O$10:$Q$12,TRANSPOSE(Y430:AA430))))","v":{"$error":"#N/A"}},{"$error":"#N/A"},{"$error":"#N/A"},{"$error":"#N/A"},{"$error":"#N/A"},{"$f":"TRANSPOSE(MMULT($AE$10:$AG$12,TRANSPOSE(F430:H430)))","v":{"$error":"#N/A"}},{"$error":"#N/A"},{"$error":"#N/A"},{"$error":"#N/A"},{"$error":"#N/A"},{"$f":"TRANSPOSE(MMULT($AO$40:$AQ$42,TRANSPOSE(C430:E430)))","v":{"$error":"#N/A"}},{"$error":"#N/A"},{"$error":"#N/A"},{"$error":"#N/A"},{"$error":"#N/A"},{"$error":"#N/A"}]
[431,{"$error":"#N/A"},{"$error":"#N/A"},{"$error":"#N/A"},{"$error":"#N/A"},{"$error":"#N/A"},{"$error":"#N/A"},{"$error":"#N/A"},{"$error":"#N/A"},{"$error":"#N/A"},{"$error":"#N/A"},{"$f":"IF($AK$38=0,TRANSPOSE(MMULT($O$10:$Q$12,TRANSPOSE(C431:E431))),TRANSPOSE(MMULT($O$10:$Q$12,TRANSPOSE(Y431:AA431))))","v":{"$error":"#N/A"}},{"$error":"#N/A"},{"$error":"#N/A"},{"$error":"#N/A"},{"$error":"#N/A"},{"$f":"TRANSPOSE(MMULT($AE$10:$AG$12,TRANSPOSE(F431:H431)))","v":{"$error":"#N/A"}},{"$error":"#N/A"},{"$error":"#N/A"},{"$error":"#N/A"},{"$error":"#N/A"},{"$f":"TRANSPOSE(MMULT($AO$40:$AQ$42,TRANSPOSE(C431:E431)))","v":{"$error":"#N/A"}},{"$error":"#N/A"},{"$error":"#N/A"},{"$error":"#N/A"},{"$error":"#N/A"},{"$error":"#N/A"}]
[432,{"$error":"#N/A"},{"$error":"#N/A"},{"$error":"#N/A"},{"$error":"#N/A"},{"$error":"#N/A"},{"$error":"#N/A"},{"$error":"#N/A"},{"$error":"#N/A"},{"$error":"#N/A"},{"$error":"#N/A"},{"$f":"IF($AK$38=0,TRANSPOSE(MMULT($O$10:$Q$12,TRANSPOSE(C432:E432))),TRANSPOSE(MMULT($O$10:$Q$12,TRANSPOSE(Y432:AA432))))","v":{"$error":"#N/A"}},{"$error":"#N/A"},{"$error":"#N/A"},{"$error":"#N/A"},{"$error":"#N/A"},{"$f":"TRANSPOSE(MMULT($AE$10:$AG$12,TRANSPOSE(F432:H432)))","v":{"$error":"#N/A"}},{"$error":"#N/A"},{"$error":"#N/A"},{"$error":"#N/A"},{"$error":"#N/A"},{"$f":"TRANSPOSE(MMULT($AO$40:$AQ$42,TRANSPOSE(C432:E432)))","v":{"$error":"#N/A"}},{"$error":"#N/A"},{"$error":"#N/A"},{"$error":"#N/A"},{"$error":"#N/A"},{"$error":"#N/A"}]
[433,{"$error":"#N/A"},{"$error":"#N/A"},{"$error":"#N/A"},{"$error":"#N/A"},{"$error":"#N/A"},{"$error":"#N/A"},{"$error":"#N/A"},{"$error":"#N/A"},{"$error":"#N/A"},{"$error":"#N/A"},{"$f":"IF($AK$38=0,TRANSPOSE(MMULT($O$10:$Q$12,TRANSPOSE(C433:E433))),TRANSPOSE(MMULT($O$10:$Q$12,TRANSPOSE(Y433:AA433))))","v":{"$error":"#N/A"}},{"$error":"#N/A"},{"$error":"#N/A"},{"$error":"#N/A"},{"$error":"#N/A"},{"$f":"TRANSPOSE(MMULT($AE$10:$AG$12,TRANSPOSE(F433:H433)))","v":{"$error":"#N/A"}},{"$error":"#N/A"},{"$error":"#N/A"},{"$error":"#N/A"},{"$error":"#N/A"},{"$f":"TRANSPOSE(MMULT($AO$40:$AQ$42,TRANSPOSE(C433:E433)))","v":{"$error":"#N/A"}},{"$error":"#N/A"},{"$error":"#N/A"},{"$error":"#N/A"},{"$error":"#N/A"},{"$error":"#N/A"}]
[434,{"$error":"#N/A"},{"$error":"#N/A"},{"$error":"#N/A"},{"$error":"#N/A"},{"$error":"#N/A"},{"$error":"#N/A"},{"$error":"#N/A"},{"$error":"#N/A"},{"$error":"#N/A"},{"$error":"#N/A"},{"$f":"IF($AK$38=0,TRANSPOSE(MMULT($O$10:$Q$12,TRANSPOSE(C434:E434))),TRANSPOSE(MMULT($O$10:$Q$12,TRANSPOSE(Y434:AA434))))","v":{"$error":"#N/A"}},{"$error":"#N/A"},{"$error":"#N/A"},{"$error":"#N/A"},{"$error":"#N/A"},{"$f":"TRANSPOSE(MMULT($AE$10:$AG$12,TRANSPOSE(F434:H434)))","v":{"$error":"#N/A"}},{"$error":"#N/A"},{"$error":"#N/A"},{"$error":"#N/A"},{"$error":"#N/A"},{"$f":"TRANSPOSE(MMULT($AO$40:$AQ$42,TRANSPOSE(C434:E434)))","v":{"$error":"#N/A"}},{"$error":"#N/A"},{"$error":"#N/A"},{"$error":"#N/A"},{"$error":"#N/A"},{"$error":"#N/A"}]
[435,{"$error":"#N/A"},{"$error":"#N/A"},{"$error":"#N/A"},{"$error":"#N/A"},{"$error":"#N/A"},{"$error":"#N/A"},{"$error":"#N/A"},{"$error":"#N/A"},{"$error":"#N/A"},{"$error":"#N/A"},{"$f":"IF($AK$38=0,TRANSPOSE(MMULT($O$10:$Q$12,TRANSPOSE(C435:E435))),TRANSPOSE(MMULT($O$10:$Q$12,TRANSPOSE(Y435:AA435))))","v":{"$error":"#N/A"}},{"$error":"#N/A"},{"$error":"#N/A"},{"$error":"#N/A"},{"$error":"#N/A"},{"$f":"TRANSPOSE(MMULT($AE$10:$AG$12,TRANSPOSE(F435:H435)))","v":{"$error":"#N/A"}},{"$error":"#N/A"},{"$error":"#N/A"},{"$error":"#N/A"},{"$error":"#N/A"},{"$f":"TRANSPOSE(MMULT($AO$40:$AQ$42,TRANSPOSE(C435:E435)))","v":{"$error":"#N/A"}},{"$error":"#N/A"},{"$error":"#N/A"},{"$error":"#N/A"},{"$error":"#N/A"},{"$error":"#N/A"}]
[436,{"$error":"#N/A"},{"$f":"(C$4+F$4*$B436+I$4*$B436^2+L$4*$B436^3+O$4*$B436^4)+(C$5+F$5*$B436+I$5*$B436^2+L$5*$B436^3+O$5*$B436^5)*(COS(C$6+F$6*$B436+I$6*$B436^2+L$6*$B436^3+O$6*$B436^4))+(C$7+F$7*$B436+I$7*$B436^2+L$7*$B436^3+O$7*$B436^4)*(SIN(C$8+F$8*$B436+I$8*$B436^2+L$8*$B436^3+O$8*$B436^4))","v":{"$error":"#N/A"}},{"$f":"(D$4+G$4*$B436+J$4*$B436^2+M$4*$B436^3+P$4*$B436^4)+(D$5+G$5*$B436+J$5*$B436^2+M$5*$B436^3+P$5*$B436^5)*(COS(D$6+G$6*$B436+J$6*$B436^2+M$6*$B436^3+P$6*$B436^4))+(D$7+G$7*$B436+J$7*$B436^2+M$7*$B436^3+P$7*$B436^4)*(SIN(D$8+G$8*$B436+J$8*$B436^2+M$8*$B436^3+P$8*$B436^4))","v":{"$error":"#N/A"}},{"$f":"(E$4+H$4*$B436+K$4*$B436^2+N$4*$B436^3+Q$4*$B436^4)+(E$5+H$5*$B436+K$5*$B436^2+N$5*$B436^3+Q$5*$B436^5)*(COS(E$6+H$6*$B436+K$6*$B436^2+N$6*$B436^3+Q$6*$B436^4))+(E$7+H$7*$B436+K$7*$B436^2+N$7*$B436^3+Q$7*$B436^4)*(SIN(E$8+H$8*$B436+K$8*$B436^2+N$8*$B436^3+Q$8*$B436^4))","v":{"$error":"#N/A"}},{"$error":"#N/A"},{"$error":"#N/A"},{"$error":"#N/A"},{"$error":"#N/A"},{"$error":"#N/A"},{"$error":"#N/A"},{"$f":"IF($AK$38=0,TRANSPOSE(MMULT($O$10:$Q$12,TRANSPOSE(C436:E436))),TRANSPOSE(MMULT($O$10:$Q$12,TRANSPOSE(Y436:AA436))))","v":{"$error":"#N/A"}},{"$error":"#N/A"},{"$error":"#N/A"},{"$error":"#N/A"},{"$error":"#N/A"},{"$f":"TRANSPOSE(MMULT($AE$10:$AG$12,TRANSPOSE(F436:H436)))","v":{"$error":"#N/A"}},{"$error":"#N/A"},{"$error":"#N/A"},{"$error":"#N/A"},{"$error":"#N/A"},{"$f":"TRANSPOSE(MMULT($AO$40:$AQ$42,TRANSPOSE(C436:E436)))","v":{"$error":"#N/A"}},{"$error":"#N/A"},{"$error":"#N/A"},{"$error":"#N/A"},{"$error":"#N/A"},{"$error":"#N/A"}]
[437,{"$error":"#N/A"},{"$error":"#N/A"},{"$error":"#N/A"},{"$error":"#N/A"},{"$error":"#N/A"},{"$error":"#N/A"},{"$error":"#N/A"},{"$error":"#N/A"},{"$error":"#N/A"},{"$error":"#N/A"},{"$f":"IF($AK$38=0,TRANSPOSE(MMULT($O$10:$Q$12,TRANSPOSE(C437:E437))),TRANSPOSE(MMULT($O$10:$Q$12,TRANSPOSE(Y437:AA437))))","v":{"$error":"#N/A"}},{"$error":"#N/A"},{"$error":"#N/A"},{"$error":"#N/A"},{"$error":"#N/A"},{"$f":"TRANSPOSE(MMULT($AE$10:$AG$12,TRANSPOSE(F437:H437)))","v":{"$error":"#N/A"}},{"$error":"#N/A"},{"$error":"#N/A"},{"$error":"#N/A"},{"$error":"#N/A"},{"$f":"TRANSPOSE(MMULT($AO$40:$AQ$42,TRANSPOSE(C437:E437)))","v":{"$error":"#N/A"}},{"$error":"#N/A"},{"$error":"#N/A"},{"$error":"#N/A"},{"$error":"#N/A"},{"$error":"#N/A"}]
[438,{"$error":"#N/A"},{"$error":"#N/A"},{"$error":"#N/A"},{"$error":"#N/A"},{"$error":"#N/A"},{"$error":"#N/A"},{"$error":"#N/A"},{"$error":"#N/A"},{"$error":"#N/A"},{"$error":"#N/A"},{"$f":"IF($AK$38=0,TRANSPOSE(MMULT($O$10:$Q$12,TRANSPOSE(C438:E438))),TRANSPOSE(MMULT($O$10:$Q$12,TRANSPOSE(Y438:AA438))))","v":{"$error":"#N/A"}},{"$error":"#N/A"},{"$error":"#N/A"},{"$error":"#N/A"},{"$error":"#N/A"},{"$f":"TRANSPOSE(MMULT($AE$10:$AG$12,TRANSPOSE(F438:H438)))","v":{"$error":"#N/A"}},{"$error":"#N/A"},{"$error":"#N/A"},{"$error":"#N/A"},{"$error":"#N/A"},{"$f":"TRANSPOSE(MMULT($AO$40:$AQ$42,TRANSPOSE(C438:E438)))","v":{"$error":"#N/A"}},{"$error":"#N/A"},{"$error":"#N/A"},{"$error":"#N/A"},{"$error":"#N/A"},{"$error":"#N/A"}]
[439,{"$error":"#N/A"},{"$error":"#N/A"},{"$error":"#N/A"},{"$error":"#N/A"},{"$error":"#N/A"},{"$error":"#N/A"},{"$error":"#N/A"},{"$error":"#N/A"},{"$error":"#N/A"},{"$error":"#N/A"},{"$f":"IF($AK$38=0,TRANSPOSE(MMULT($O$10:$Q$12,TRANSPOSE(C439:E439))),TRANSPOSE(MMULT($O$10:$Q$12,TRANSPOSE(Y439:AA439))))","v":{"$error":"#N/A"}},{"$error":"#N/A"},{"$error":"#N/A"},{"$error":"#N/A"},{"$error":"#N/A"},{"$f":"TRANSPOSE(MMULT($AE$10:$AG$12,TRANSPOSE(F439:H439)))","v":{"$error":"#N/A"}},{"$error":"#N/A"},{"$error":"#N/A"},{"$error":"#N/A"},{"$error":"#N/A"},{"$f":"TRANSPOSE(MMULT($AO$40:$AQ$42,TRANSPOSE(C439:E439)))","v":{"$error":"#N/A"}},{"$error":"#N/A"},{"$error":"#N/A"},{"$error":"#N/A"},{"$error":"#N/A"},{"$error":"#N/A"}]
[440,{"$error":"#N/A"},{"$error":"#N/A"},{"$error":"#N/A"},{"$error":"#N/A"},{"$error":"#N/A"},{"$error":"#N/A"},{"$error":"#N/A"},{"$error":"#N/A"},{"$error":"#N/A"},{"$error":"#N/A"},{"$f":"IF($AK$38=0,TRANSPOSE(MMULT($O$10:$Q$12,TRANSPOSE(C440:E440))),TRANSPOSE(MMULT($O$10:$Q$12,TRANSPOSE(Y440:AA440))))","v":{"$error":"#N/A"}},{"$error":"#N/A"},{"$error":"#N/A"},{"$error":"#N/A"},{"$error":"#N/A"},{"$f":"TRANSPOSE(MMULT($AE$10:$AG$12,TRANSPOSE(F440:H440)))","v":{"$error":"#N/A"}},{"$error":"#N/A"},{"$error":"#N/A"},{"$error":"#N/A"},{"$error":"#N/A"},{"$f":"TRANSPOSE(MMULT($AO$40:$AQ$42,TRANSPOSE(C440:E440)))","v":{"$error":"#N/A"}},{"$error":"#N/A"},{"$error":"#N/A"},{"$error":"#N/A"},{"$error":"#N/A"},{"$error":"#N/A"}]
[441,{"$error":"#N/A"},{"$error":"#N/A"},{"$error":"#N/A"},{"$error":"#N/A"},{"$error":"#N/A"},{"$error":"#N/A"},{"$error":"#N/A"},{"$error":"#N/A"},{"$error":"#N/A"},{"$error":"#N/A"},{"$f":"IF($AK$38=0,TRANSPOSE(MMULT($O$10:$Q$12,TRANSPOSE(C441:E441))),TRANSPOSE(MMULT($O$10:$Q$12,TRANSPOSE(Y441:AA441))))","v":{"$error":"#N/A"}},{"$error":"#N/A"},{"$error":"#N/A"},{"$error":"#N/A"},{"$error":"#N/A"},{"$f":"TRANSPOSE(MMULT($AE$10:$AG$12,TRANSPOSE(F441:H441)))","v":{"$error":"#N/A"}},{"$error":"#N/A"},{"$error":"#N/A"},{"$error":"#N/A"},{"$error":"#N/A"},{"$f":"TRANSPOSE(MMULT($AO$40:$AQ$42,TRANSPOSE(C441:E441)))","v":{"$error":"#N/A"}},{"$error":"#N/A"},{"$error":"#N/A"},{"$error":"#N/A"},{"$error":"#N/A"},{"$error":"#N/A"}]
[442,{"$error":"#N/A"},{"$error":"#N/A"},{"$error":"#N/A"},{"$error":"#N/A"},{"$error":"#N/A"},{"$error":"#N/A"},{"$error":"#N/A"},{"$error":"#N/A"},{"$error":"#N/A"},{"$error":"#N/A"},{"$f":"IF($AK$38=0,TRANSPOSE(MMULT($O$10:$Q$12,TRANSPOSE(C442:E442))),TRANSPOSE(MMULT($O$10:$Q$12,TRANSPOSE(Y442:AA442))))","v":{"$error":"#N/A"}},{"$error":"#N/A"},{"$error":"#N/A"},{"$error":"#N/A"},{"$error":"#N/A"},{"$f":"TRANSPOSE(MMULT($AE$10:$AG$12,TRANSPOSE(F442:H442)))","v":{"$error":"#N/A"}},{"$error":"#N/A"},{"$error":"#N/A"},{"$error":"#N/A"},{"$error":"#N/A"},{"$f":"TRANSPOSE(MMULT($AO$40:$AQ$42,TRANSPOSE(C442:E442)))","v":{"$error":"#N/A"}},{"$error":"#N/A"},{"$error":"#N/A"},{"$error":"#N/A"},{"$error":"#N/A"},{"$error":"#N/A"}]
[443,{"$error":"#N/A"},{"$error":"#N/A"},{"$error":"#N/A"},{"$error":"#N/A"},{"$error":"#N/A"},{"$error":"#N/A"},{"$error":"#N/A"},{"$error":"#N/A"},{"$error":"#N/A"},{"$error":"#N/A"},{"$f":"IF($AK$38=0,TRANSPOSE(MMULT($O$10:$Q$12,TRANSPOSE(C443:E443))),TRANSPOSE(MMULT($O$10:$Q$12,TRANSPOSE(Y443:AA443))))","v":{"$error":"#N/A"}},{"$error":"#N/A"},{"$error":"#N/A"},{"$error":"#N/A"},{"$error":"#N/A"},{"$f":"TRANSPOSE(MMULT($AE$10:$AG$12,TRANSPOSE(F443:H443)))","v":{"$error":"#N/A"}},{"$error":"#N/A"},{"$error":"#N/A"},{"$error":"#N/A"},{"$error":"#N/A"},{"$f":"TRANSPOSE(MMULT($AO$40:$AQ$42,TRANSPOSE(C443:E443)))","v":{"$error":"#N/A"}},{"$error":"#N/A"},{"$error":"#N/A"},{"$error":"#N/A"},{"$error":"#N/A"},{"$error":"#N/A"}]
[444,{"$error":"#N/A"},{"$error":"#N/A"},{"$error":"#N/A"},{"$error":"#N/A"},{"$error":"#N/A"},{"$error":"#N/A"},{"$error":"#N/A"},{"$error":"#N/A"},{"$error":"#N/A"},{"$error":"#N/A"},{"$f":"IF($AK$38=0,TRANSPOSE(MMULT($O$10:$Q$12,TRANSPOSE(C444:E444))),TRANSPOSE(MMULT($O$10:$Q$12,TRANSPOSE(Y444:AA444))))","v":{"$error":"#N/A"}},{"$error":"#N/A"},{"$error":"#N/A"},{"$error":"#N/A"},{"$error":"#N/A"},{"$f":"TRANSPOSE(MMULT($AE$10:$AG$12,TRANSPOSE(F444:H444)))","v":{"$error":"#N/A"}},{"$error":"#N/A"},{"$error":"#N/A"},{"$error":"#N/A"},{"$error":"#N/A"},{"$f":"TRANSPOSE(MMULT($AO$40:$AQ$42,TRANSPOSE(C444:E444)))","v":{"$error":"#N/A"}},{"$error":"#N/A"},{"$error":"#N/A"},{"$error":"#N/A"},{"$error":"#N/A"},{"$error":"#N/A"}]
[445,{"$error":"#N/A"},{"$error":"#N/A"},{"$error":"#N/A"},{"$error":"#N/A"},{"$error":"#N/A"},{"$error":"#N/A"},{"$error":"#N/A"},{"$error":"#N/A"},{"$error":"#N/A"},{"$error":"#N/A"},{"$f":"IF($AK$38=0,TRANSPOSE(MMULT($O$10:$Q$12,TRANSPOSE(C445:E445))),TRANSPOSE(MMULT($O$10:$Q$12,TRANSPOSE(Y445:AA445))))","v":{"$error":"#N/A"}},{"$error":"#N/A"},{"$error":"#N/A"},{"$error":"#N/A"},{"$error":"#N/A"},{"$f":"TRANSPOSE(MMULT($AE$10:$AG$12,TRANSPOSE(F445:H445)))","v":{"$error":"#N/A"}},{"$error":"#N/A"},{"$error":"#N/A"},{"$error":"#N/A"},{"$error":"#N/A"},{"$f":"TRANSPOSE(MMULT($AO$40:$AQ$42,TRANSPOSE(C445:E445)))","v":{"$error":"#N/A"}},{"$error":"#N/A"},{"$error":"#N/A"},{"$error":"#N/A"},{"$error":"#N/A"},{"$error":"#N/A"}]
[446,{"$error":"#N/A"},{"$error":"#N/A"},{"$error":"#N/A"},{"$error":"#N/A"},{"$error":"#N/A"},{"$error":"#N/A"},{"$error":"#N/A"},{"$error":"#N/A"},{"$error":"#N/A"},{"$error":"#N/A"},{"$f":"IF($AK$38=0,TRANSPOSE(MMULT($O$10:$Q$12,TRANSPOSE(C446:E446))),TRANSPOSE(MMULT($O$10:$Q$12,TRANSPOSE(Y446:AA446))))","v":{"$error":"#N/A"}},{"$error":"#N/A"},{"$error":"#N/A"},{"$error":"#N/A"},{"$error":"#N/A"},{"$f":"TRANSPOSE(MMULT($AE$10:$AG$12,TRANSPOSE(F446:H446)))","v":{"$error":"#N/A"}},{"$error":"#N/A"},{"$error":"#N/A"},{"$error":"#N/A"},{"$error":"#N/A"},{"$f":"TRANSPOSE(MMULT($AO$40:$AQ$42,TRANSPOSE(C446:E446)))","v":{"$error":"#N/A"}},{"$error":"#N/A"},{"$error":"#N/A"},{"$error":"#N/A"},{"$error":"#N/A"},{"$error":"#N/A"}]
[447,{"$error":"#N/A"},{"$error":"#N/A"},{"$error":"#N/A"},{"$error":"#N/A"},{"$error":"#N/A"},{"$error":"#N/A"},{"$error":"#N/A"},{"$error":"#N/A"},{"$error":"#N/A"},{"$error":"#N/A"},{"$f":"IF($AK$38=0,TRANSPOSE(MMULT($O$10:$Q$12,TRANSPOSE(C447:E447))),TRANSPOSE(MMULT($O$10:$Q$12,TRANSPOSE(Y447:AA447))))","v":{"$error":"#N/A"}},{"$error":"#N/A"},{"$error":"#N/A"},{"$error":"#N/A"},{"$error":"#N/A"},{"$f":"TRANSPOSE(MMULT($AE$10:$AG$12,TRANSPOSE(F447:H447)))","v":{"$error":"#N/A"}},{"$error":"#N/A"},{"$error":"#N/A"},{"$error":"#N/A"},{"$error":"#N/A"},{"$f":"TRANSPOSE(MMULT($AO$40:$AQ$42,TRANSPOSE(C447:E447)))","v":{"$error":"#N/A"}},{"$error":"#N/A"},{"$error":"#N/A"},{"$error":"#N/A"},{"$error":"#N/A"},{"$error":"#N/A"}]
[448,{"$error":"#N/A"},{"$error":"#N/A"},{"$error":"#N/A"},{"$error":"#N/A"},{"$error":"#N/A"},{"$error":"#N/A"},{"$error":"#N/A"},{"$error":"#N/A"},{"$error":"#N/A"},{"$error":"#N/A"},{"$f":"IF($AK$38=0,TRANSPOSE(MMULT($O$10:$Q$12,TRANSPOSE(C448:E448))),TRANSPOSE(MMULT($O$10:$Q$12,TRANSPOSE(Y448:AA448))))","v":{"$error":"#N/A"}},{"$error":"#N/A"},{"$error":"#N/A"},{"$error":"#N/A"},{"$error":"#N/A"},{"$f":"TRANSPOSE(MMULT($AE$10:$AG$12,TRANSPOSE(F448:H448)))","v":{"$error":"#N/A"}},{"$error":"#N/A"},{"$error":"#N/A"},{"$error":"#N/A"},{"$error":"#N/A"},{"$f":"TRANSPOSE(MMULT($AO$40:$AQ$42,TRANSPOSE(C448:E448)))","v":{"$error":"#N/A"}},{"$error":"#N/A"},{"$error":"#N/A"},{"$error":"#N/A"},{"$error":"#N/A"},{"$error":"#N/A"}]
[449,{"$error":"#N/A"},{"$error":"#N/A"},{"$error":"#N/A"},{"$error":"#N/A"},{"$error":"#N/A"},{"$error":"#N/A"},{"$error":"#N/A"},{"$error":"#N/A"},{"$error":"#N/A"},{"$error":"#N/A"},{"$f":"IF($AK$38=0,TRANSPOSE(MMULT($O$10:$Q$12,TRANSPOSE(C449:E449))),TRANSPOSE(MMULT($O$10:$Q$12,TRANSPOSE(Y449:AA449))))","v":{"$error":"#N/A"}},{"$error":"#N/A"},{"$error":"#N/A"},{"$error":"#N/A"},{"$error":"#N/A"},{"$f":"TRANSPOSE(MMULT($AE$10:$AG$12,TRANSPOSE(F449:H449)))","v":{"$error":"#N/A"}},{"$error":"#N/A"},{"$error":"#N/A"},{"$error":"#N/A"},{"$error":"#N/A"},{"$f":"TRANSPOSE(MMULT($AO$40:$AQ$42,TRANSPOSE(C449:E449)))","v":{"$error":"#N/A"}},{"$error":"#N/A"},{"$error":"#N/A"},{"$error":"#N/A"},{"$error":"#N/A"},{"$error":"#N/A"}]
[450,{"$error":"#N/A"},{"$error":"#N/A"},{"$error":"#N/A"},{"$error":"#N/A"},{"$error":"#N/A"},{"$error":"#N/A"},{"$error":"#N/A"},{"$error":"#N/A"},{"$error":"#N/A"},{"$error":"#N/A"},{"$f":"IF($AK$38=0,TRANSPOSE(MMULT($O$10:$Q$12,TRANSPOSE(C450:E450))),TRANSPOSE(MMULT($O$10:$Q$12,TRANSPOSE(Y450:AA450))))","v":{"$error":"#N/A"}},{"$error":"#N/A"},{"$error":"#N/A"},{"$error":"#N/A"},{"$error":"#N/A"},{"$f":"TRANSPOSE(MMULT($AE$10:$AG$12,TRANSPOSE(F450:H450)))","v":{"$error":"#N/A"}},{"$error":"#N/A"},{"$error":"#N/A"},{"$error":"#N/A"},{"$error":"#N/A"},{"$f":"TRANSPOSE(MMULT($AO$40:$AQ$42,TRANSPOSE(C450:E450)))","v":{"$error":"#N/A"}},{"$error":"#N/A"},{"$error":"#N/A"},{"$error":"#N/A"},{"$error":"#N/A"},{"$error":"#N/A"}]
[451,{"$error":"#N/A"},{"$error":"#N/A"},{"$error":"#N/A"},{"$error":"#N/A"},{"$error":"#N/A"},{"$error":"#N/A"},{"$error":"#N/A"},{"$error":"#N/A"},{"$error":"#N/A"},{"$error":"#N/A"},{"$f":"IF($AK$38=0,TRANSPOSE(MMULT($O$10:$Q$12,TRANSPOSE(C451:E451))),TRANSPOSE(MMULT($O$10:$Q$12,TRANSPOSE(Y451:AA451))))","v":{"$error":"#N/A"}},{"$error":"#N/A"},{"$error":"#N/A"},{"$error":"#N/A"},{"$error":"#N/A"},{"$f":"TRANSPOSE(MMULT($AE$10:$AG$12,TRANSPOSE(F451:H451)))","v":{"$error":"#N/A"}},{"$error":"#N/A"},{"$error":"#N/A"},{"$error":"#N/A"},{"$error":"#N/A"},{"$f":"TRANSPOSE(MMULT($AO$40:$AQ$42,TRANSPOSE(C451:E451)))","v":{"$error":"#N/A"}},{"$error":"#N/A"},{"$error":"#N/A"},{"$error":"#N/A"},{"$error":"#N/A"},{"$error":"#N/A"}]
[452,{"$error":"#N/A"},{"$error":"#N/A"},{"$error":"#N/A"},{"$error":"#N/A"},{"$error":"#N/A"},{"$error":"#N/A"},{"$error":"#N/A"},{"$error":"#N/A"},{"$error":"#N/A"},{"$error":"#N/A"},{"$f":"IF($AK$38=0,TRANSPOSE(MMULT($O$10:$Q$12,TRANSPOSE(C452:E452))),TRANSPOSE(MMULT($O$10:$Q$12,TRANSPOSE(Y452:AA452))))","v":{"$error":"#N/A"}},{"$error":"#N/A"},{"$error":"#N/A"},{"$error":"#N/A"},{"$error":"#N/A"},{"$f":"TRANSPOSE(MMULT($AE$10:$AG$12,TRANSPOSE(F452:H452)))","v":{"$error":"#N/A"}},{"$error":"#N/A"},{"$error":"#N/A"},{"$error":"#N/A"},{"$error":"#N/A"},{"$f":"TRANSPOSE(MMULT($AO$40:$AQ$42,TRANSPOSE(C452:E452)))","v":{"$error":"#N/A"}},{"$error":"#N/A"},{"$error":"#N/A"},{"$error":"#N/A"},{"$error":"#N/A"},{"$error":"#N/A"}]
[453,{"$error":"#N/A"},{"$error":"#N/A"},{"$error":"#N/A"},{"$error":"#N/A"},{"$error":"#N/A"},{"$error":"#N/A"},{"$error":"#N/A"},{"$error":"#N/A"},{"$error":"#N/A"},{"$error":"#N/A"},{"$f":"IF($AK$38=0,TRANSPOSE(MMULT($O$10:$Q$12,TRANSPOSE(C453:E453))),TRANSPOSE(MMULT($O$10:$Q$12,TRANSPOSE(Y453:AA453))))","v":{"$error":"#N/A"}},{"$error":"#N/A"},{"$error":"#N/A"},{"$error":"#N/A"},{"$error":"#N/A"},{"$f":"TRANSPOSE(MMULT($AE$10:$AG$12,TRANSPOSE(F453:H453)))","v":{"$error":"#N/A"}},{"$error":"#N/A"},{"$error":"#N/A"},{"$error":"#N/A"},{"$error":"#N/A"},{"$f":"TRANSPOSE(MMULT($AO$40:$AQ$42,TRANSPOSE(C453:E453)))","v":{"$error":"#N/A"}},{"$error":"#N/A"},{"$error":"#N/A"},{"$error":"#N/A"},{"$error":"#N/A"},{"$error":"#N/A"}]
[454,{"$error":"#N/A"},{"$error":"#N/A"},{"$error":"#N/A"},{"$error":"#N/A"},{"$error":"#N/A"},{"$error":"#N/A"},{"$error":"#N/A"},{"$error":"#N/A"},{"$error":"#N/A"},{"$error":"#N/A"},{"$f":"IF($AK$38=0,TRANSPOSE(MMULT($O$10:$Q$12,TRANSPOSE(C454:E454))),TRANSPOSE(MMULT($O$10:$Q$12,TRANSPOSE(Y454:AA454))))","v":{"$error":"#N/A"}},{"$error":"#N/A"},{"$error":"#N/A"},{"$error":"#N/A"},{"$error":"#N/A"},{"$f":"TRANSPOSE(MMULT($AE$10:$AG$12,TRANSPOSE(F454:H454)))","v":{"$error":"#N/A"}},{"$error":"#N/A"},{"$error":"#N/A"},{"$error":"#N/A"},{"$error":"#N/A"},{"$f":"TRANSPOSE(MMULT($AO$40:$AQ$42,TRANSPOSE(C454:E454)))","v":{"$error":"#N/A"}},{"$error":"#N/A"},{"$error":"#N/A"},{"$error":"#N/A"},{"$error":"#N/A"},{"$error":"#N/A"}]
[455,{"$error":"#N/A"},{"$error":"#N/A"},{"$error":"#N/A"},{"$error":"#N/A"},{"$error":"#N/A"},{"$error":"#N/A"},{"$error":"#N/A"},{"$error":"#N/A"},{"$error":"#N/A"},{"$error":"#N/A"},{"$f":"IF($AK$38=0,TRANSPOSE(MMULT($O$10:$Q$12,TRANSPOSE(C455:E455))),TRANSPOSE(MMULT($O$10:$Q$12,TRANSPOSE(Y455:AA455))))","v":{"$error":"#N/A"}},{"$error":"#N/A"},{"$error":"#N/A"},{"$error":"#N/A"},{"$error":"#N/A"},{"$f":"TRANSPOSE(MMULT($AE$10:$AG$12,TRANSPOSE(F455:H455)))","v":{"$error":"#N/A"}},{"$error":"#N/A"},{"$error":"#N/A"},{"$error":"#N/A"},{"$error":"#N/A"},{"$f":"TRANSPOSE(MMULT($AO$40:$AQ$42,TRANSPOSE(C455:E455)))","v":{"$error":"#N/A"}},{"$error":"#N/A"},{"$error":"#N/A"},{"$error":"#N/A"},{"$error":"#N/A"},{"$error":"#N/A"}]
[456,{"$error":"#N/A"},{"$error":"#N/A"},{"$error":"#N/A"},{"$error":"#N/A"},{"$error":"#N/A"},{"$error":"#N/A"},{"$error":"#N/A"},{"$error":"#N/A"},{"$error":"#N/A"},{"$error":"#N/A"},{"$f":"IF($AK$38=0,TRANSPOSE(MMULT($O$10:$Q$12,TRANSPOSE(C456:E456))),TRANSPOSE(MMULT($O$10:$Q$12,TRANSPOSE(Y456:AA456))))","v":{"$error":"#N/A"}},{"$error":"#N/A"},{"$error":"#N/A"},{"$error":"#N/A"},{"$error":"#N/A"},{"$f":"TRANSPOSE(MMULT($AE$10:$AG$12,TRANSPOSE(F456:H456)))","v":{"$error":"#N/A"}},{"$error":"#N/A"},{"$error":"#N/A"},{"$error":"#N/A"},{"$error":"#N/A"},{"$f":"TRANSPOSE(MMULT($AO$40:$AQ$42,TRANSPOSE(C456:E456)))","v":{"$error":"#N/A"}},{"$error":"#N/A"},{"$error":"#N/A"},{"$error":"#N/A"},{"$error":"#N/A"},{"$error":"#N/A"}]
[457,{"$error":"#N/A"},{"$error":"#N/A"},{"$error":"#N/A"},{"$error":"#N/A"},{"$error":"#N/A"},{"$error":"#N/A"},{"$error":"#N/A"},{"$error":"#N/A"},{"$error":"#N/A"},{"$error":"#N/A"},{"$f":"IF($AK$38=0,TRANSPOSE(MMULT($O$10:$Q$12,TRANSPOSE(C457:E457))),TRANSPOSE(MMULT($O$10:$Q$12,TRANSPOSE(Y457:AA457))))","v":{"$error":"#N/A"}},{"$error":"#N/A"},{"$error":"#N/A"},{"$error":"#N/A"},{"$error":"#N/A"},{"$f":"TRANSPOSE(MMULT($AE$10:$AG$12,TRANSPOSE(F457:H457)))","v":{"$error":"#N/A"}},{"$error":"#N/A"},{"$error":"#N/A"},{"$error":"#N/A"},{"$error":"#N/A"},{"$f":"TRANSPOSE(MMULT($AO$40:$AQ$42,TRANSPOSE(C457:E457)))","v":{"$error":"#N/A"}},{"$error":"#N/A"},{"$error":"#N/A"},{"$error":"#N/A"},{"$error":"#N/A"},{"$error":"#N/A"}]
[458,{"$error":"#N/A"},{"$error":"#N/A"},{"$error":"#N/A"},{"$error":"#N/A"},{"$error":"#N/A"},{"$error":"#N/A"},{"$error":"#N/A"},{"$error":"#N/A"},{"$error":"#N/A"},{"$error":"#N/A"},{"$f":"IF($AK$38=0,TRANSPOSE(MMULT($O$10:$Q$12,TRANSPOSE(C458:E458))),TRANSPOSE(MMULT($O$10:$Q$12,TRANSPOSE(Y458:AA458))))","v":{"$error":"#N/A"}},{"$error":"#N/A"},{"$error":"#N/A"},{"$error":"#N/A"},{"$error":"#N/A"},{"$f":"TRANSPOSE(MMULT($AE$10:$AG$12,TRANSPOSE(F458:H458)))","v":{"$error":"#N/A"}},{"$error":"#N/A"},{"$error":"#N/A"},{"$error":"#N/A"},{"$error":"#N/A"},{"$f":"TRANSPOSE(MMULT($AO$40:$AQ$42,TRANSPOSE(C458:E458)))","v":{"$error":"#N/A"}},{"$error":"#N/A"},{"$error":"#N/A"},{"$error":"#N/A"},{"$error":"#N/A"},{"$error":"#N/A"}]
[459,{"$error":"#N/A"},{"$error":"#N/A"},{"$error":"#N/A"},{"$error":"#N/A"},{"$error":"#N/A"},{"$error":"#N/A"},{"$error":"#N/A"},{"$error":"#N/A"},{"$error":"#N/A"},{"$error":"#N/A"},{"$f":"IF($AK$38=0,TRANSPOSE(MMULT($O$10:$Q$12,TRANSPOSE(C459:E459))),TRANSPOSE(MMULT($O$10:$Q$12,TRANSPOSE(Y459:AA459))))","v":{"$error":"#N/A"}},{"$error":"#N/A"},{"$error":"#N/A"},{"$error":"#N/A"},{"$error":"#N/A"},{"$f":"TRANSPOSE(MMULT($AE$10:$AG$12,TRANSPOSE(F459:H459)))","v":{"$error":"#N/A"}},{"$error":"#N/A"},{"$error":"#N/A"},{"$error":"#N/A"},{"$error":"#N/A"},{"$f":"TRANSPOSE(MMULT($AO$40:$AQ$42,TRANSPOSE(C459:E459)))","v":{"$error":"#N/A"}},{"$error":"#N/A"},{"$error":"#N/A"},{"$error":"#N/A"},{"$error":"#N/A"},{"$error":"#N/A"}]
[460,{"$error":"#N/A"},{"$error":"#N/A"},{"$error":"#N/A"},{"$error":"#N/A"},{"$error":"#N/A"},{"$error":"#N/A"},{"$error":"#N/A"},{"$error":"#N/A"},{"$error":"#N/A"},{"$error":"#N/A"},{"$f":"IF($AK$38=0,TRANSPOSE(MMULT($O$10:$Q$12,TRANSPOSE(C460:E460))),TRANSPOSE(MMULT($O$10:$Q$12,TRANSPOSE(Y460:AA460))))","v":{"$error":"#N/A"}},{"$error":"#N/A"},{"$error":"#N/A"},{"$error":"#N/A"},{"$error":"#N/A"},{"$f":"TRANSPOSE(MMULT($AE$10:$AG$12,TRANSPOSE(F460:H460)))","v":{"$error":"#N/A"}},{"$error":"#N/A"},{"$error":"#N/A"},{"$error":"#N/A"},{"$error":"#N/A"},{"$f":"TRANSPOSE(MMULT($AO$40:$AQ$42,TRANSPOSE(C460:E460)))","v":{"$error":"#N/A"}},{"$error":"#N/A"},{"$error":"#N/A"},{"$error":"#N/A"},{"$error":"#N/A"},{"$error":"#N/A"}]
[461,{"$error":"#N/A"},{"$error":"#N/A"},{"$error":"#N/A"},{"$error":"#N/A"},{"$error":"#N/A"},{"$error":"#N/A"},{"$error":"#N/A"},{"$error":"#N/A"},{"$error":"#N/A"},{"$error":"#N/A"},{"$f":"IF($AK$38=0,TRANSPOSE(MMULT($O$10:$Q$12,TRANSPOSE(C461:E461))),TRANSPOSE(MMULT($O$10:$Q$12,TRANSPOSE(Y461:AA461))))","v":{"$error":"#N/A"}},{"$error":"#N/A"},{"$error":"#N/A"},{"$error":"#N/A"},{"$error":"#N/A"},{"$f":"TRANSPOSE(MMULT($AE$10:$AG$12,TRANSPOSE(F461:H461)))","v":{"$error":"#N/A"}},{"$error":"#N/A"},{"$error":"#N/A"},{"$error":"#N/A"},{"$error":"#N/A"},{"$f":"TRANSPOSE(MMULT($AO$40:$AQ$42,TRANSPOSE(C461:E461)))","v":{"$error":"#N/A"}},{"$error":"#N/A"},{"$error":"#N/A"},{"$error":"#N/A"},{"$error":"#N/A"},{"$error":"#N/A"}]
[462,{"$error":"#N/A"},{"$error":"#N/A"},{"$error":"#N/A"},{"$error":"#N/A"},{"$error":"#N/A"},{"$error":"#N/A"},{"$error":"#N/A"},{"$error":"#N/A"},{"$error":"#N/A"},{"$error":"#N/A"},{"$f":"IF($AK$38=0,TRANSPOSE(MMULT($O$10:$Q$12,TRANSPOSE(C462:E462))),TRANSPOSE(MMULT($O$10:$Q$12,TRANSPOSE(Y462:AA462))))","v":{"$error":"#N/A"}},{"$error":"#N/A"},{"$error":"#N/A"},{"$error":"#N/A"},{"$error":"#N/A"},{"$f":"TRANSPOSE(MMULT($AE$10:$AG$12,TRANSPOSE(F462:H462)))","v":{"$error":"#N/A"}},{"$error":"#N/A"},{"$error":"#N/A"},{"$error":"#N/A"},{"$error":"#N/A"},{"$f":"TRANSPOSE(MMULT($AO$40:$AQ$42,TRANSPOSE(C462:E462)))","v":{"$error":"#N/A"}},{"$error":"#N/A"},{"$error":"#N/A"},{"$error":"#N/A"},{"$error":"#N/A"},{"$error":"#N/A"}]
[463,{"$error":"#N/A"},{"$error":"#N/A"},{"$error":"#N/A"},{"$error":"#N/A"},{"$error":"#N/A"},{"$error":"#N/A"},{"$error":"#N/A"},{"$error":"#N/A"},{"$error":"#N/A"},{"$error":"#N/A"},{"$f":"IF($AK$38=0,TRANSPOSE(MMULT($O$10:$Q$12,TRANSPOSE(C463:E463))),TRANSPOSE(MMULT($O$10:$Q$12,TRANSPOSE(Y463:AA463))))","v":{"$error":"#N/A"}},{"$error":"#N/A"},{"$error":"#N/A"},{"$error":"#N/A"},{"$error":"#N/A"},{"$f":"TRANSPOSE(MMULT($AE$10:$AG$12,TRANSPOSE(F463:H463)))","v":{"$error":"#N/A"}},{"$error":"#N/A"},{"$error":"#N/A"},{"$error":"#N/A"},{"$error":"#N/A"},{"$f":"TRANSPOSE(MMULT($AO$40:$AQ$42,TRANSPOSE(C463:E463)))","v":{"$error":"#N/A"}},{"$error":"#N/A"},{"$error":"#N/A"},{"$error":"#N/A"},{"$error":"#N/A"},{"$error":"#N/A"}]
[464,{"$error":"#N/A"},{"$error":"#N/A"},{"$error":"#N/A"},{"$error":"#N/A"},{"$f":"(F$7+2*I$7*$B464+3*L$7*$B464^2+4*O$7*$B464^3)*SIN(O$8*$B464^4+L$8*$B464^3+I$8*$B464^2+F$8*$B464+C$8)+(F$8+2*I$8*$B464+3*L$8*$B464^2+4*O$8*$B464^3)*(C$7+F$7*$B464+I$7*$B464^2+L$7*$B464^3+O$7*$B464^4)*COS(O$8*$B464^4+L$8*$B464^3+I$8*$B464^2+F$8*$B464+C$8)-(F$6+2*I$6*$B464+3*L$6*$B464^2+4*O$6*$B464^3)*(C$5+F$5*$B464+I$5*$B464^2+L$5*$B464^3+O$5*$B464^4)*SIN(O$6*$B464^4+L$6*$B464^3+I$6*$B464^2+F$6*$B464+C$6)+(F$5+2*I$5*$B464+3*L$5*$B464^2+4*O$5*$B464^3)*COS(O$6*$B464^4+L$6*$B464^3+I$6*$B464^2+F$6*$B464+C$6)+4*O$4*$B464^3+3*L$4*$B464^2+2*I$4*$B464+F$4","v":{"$error":"#N/A"}},{"$f":"(G$7+2*J$7*$B464+3*M$7*$B464^2+4*P$7*$B464^3)*SIN(P$8*$B464^4+M$8*$B464^3+J$8*$B464^2+G$8*$B464+D$8)+(G$8+2*J$8*$B464+3*M$8*$B464^2+4*P$8*$B464^3)*(D$7+G$7*$B464+J$7*$B464^2+M$7*$B464^3+P$7*$B464^4)*COS(P$8*$B464^4+M$8*$B464^3+J$8*$B464^2+G$8*$B464+D$8)-(G$6+2*J$6*$B464+3*M$6*$B464^2+4*P$6*$B464^3)*(D$5+G$5*$B464+J$5*$B464^2+M$5*$B464^3+P$5*$B464^4)*SIN(P$6*$B464^4+M$6*$B464^3+J$6*$B464^2+G$6*$B464+D$6)+(G$5+2*J$5*$B464+3*M$5*$B464^2+4*P$5*$B464^3)*COS(P$6*$B464^4+M$6*$B464^3+J$6*$B464^2+G$6*$B464+D$6)+4*P$4*$B464^3+3*M$4*$B464^2+2*J$4*$B464+G$4","v":{"$error":"#N/A"}},{"$f":"(H$7+2*K$7*$B464+3*N$7*$B464^2+4*Q$7*$B464^3)*SIN(Q$8*$B464^4+N$8*$B464^3+K$8*$B464^2+H$8*$B464+E$8)+(H$8+2*K$8*$B464+3*N$8*$B464^2+4*Q$8*$B464^3)*(E$7+H$7*$B464+K$7*$B464^2+N$7*$B464^3+Q$7*$B464^4)*COS(Q$8*$B464^4+N$8*$B464^3+K$8*$B464^2+H$8*$B464+E$8)-(H$6+2*K$6*$B464+3*N$6*$B464^2+4*Q$6*$B464^3)*(E$5+H$5*$B464+K$5*$B464^2+N$5*$B464^3+Q$5*$B464^4)*SIN(Q$6*$B464^4+N$6*$B464^3+K$6*$B464^2+H$6*$B464+E$6)+(H$5+2*K$5*$B464+3*N$5*$B464^2+4*Q$5*$B464^3)*COS(Q$6*$B464^4+N$6*$B464^3+K$6*$B464^2+H$6*$B464+E$6)+4*Q$4*$B464^3+3*N$4*$B464^2+2*K$4*$B464+H$4","v":{"$error":"#N/A"}},{"$f":"-1*(F$8+2*I$8*$B464+3*L$8*$B464^2+4*O$8*$B464^3)^2*(C$7+F$7*$B464+I$7*$B464^2+L$7*$B464^3+O$7*$B464^4)*SIN(O$8*$B464^4+L$8*$B464^3+I$8*$B464^2+F$8*$B464+C$8)+(2*I$7+6*L$7*$B464+12*O$7*$B464^2)*SIN(O$8*$B464^4+L$8*$B464^3+I$8*$B464^2+F$8*$B464+C$8)+(2*I$8+6*L$8*$B464+12*O$8*$B464^2)*(C$7+F$7*$B464+I$7*$B464^2+L$7*$B464^3+O$7*$B464^4)*COS(O$8*$B464^4+L$8*$B464^3+I$8*$B464^2+F$8*$B464+C$8)+2*(F$7+2*I$7*$B464+3*L$7*$B464^2+4*O$7*$B464^3)*(F$8+2*I$8*$B464+3*L$8*$B464^2+4*O$8*$B464^3)*COS(O$8*$B464^4+L$8*$B464^3+I$8*$B464^2+F$8*$B464+C$8)-(2*I$6+6*L$6*$B464+12*O$6*$B464^2)*(C$5+F$5*$B464+I$5*$B464^2+L$5*$B464^3+O$5*$B464^4)*SIN(O$6*$B464^4+L$6*$B464^3+I$6*$B464^2+F$6*$B464+C$6)-2*(F$5+2*I$5*$B464+3*L$5*$B464^2+4*O$5*$B464^3)*(F$6+2*I$6*$B464+3*L$6*$B464^2+4*O$6*$B464^3)*SIN(O$6*$B464^4+L$6*$B464^3+I$6*$B464^2+F$6*$B464+C$6)-(F$6+2*I$6*$B464+3*L$6*$B464^2+4*O$6*$B464^3)^2*(C$5+F$5*$B464+I$5*$B464^2+L$5*$B464^3+O$5*$B464^4)*COS(O$6*$B464^4+L$6*$B464^3+I$6*$B464^2+F$6*$B464+C$6)+(2*I$5+6*L$5*$B464+12*O$5*$B464^2)*COS(O$6*$B464^4+L$6*$B464^3+I$6*$B464^2+F$6*$B464+C$6)+12*O$4*$B464^2+6*L$4*$B464+2*I$4","v":{"$error":"#N/A"}},{"$f":"-1*(G$8+2*J$8*$B464+3*M$8*$B464^2+4*P$8*$B464^3)^2*(D$7+G$7*$B464+J$7*$B464^2+M$7*$B464^3+P$7*$B464^4)*SIN(P$8*$B464^4+M$8*$B464^3+J$8*$B464^2+G$8*$B464+D$8)+(2*J$7+6*M$7*$B464+12*P$7*$B464^2)*SIN(P$8*$B464^4+M$8*$B464^3+J$8*$B464^2+G$8*$B464+D$8)+(2*J$8+6*M$8*$B464+12*P$8*$B464^2)*(D$7+G$7*$B464+J$7*$B464^2+M$7*$B464^3+P$7*$B464^4)*COS(P$8*$B464^4+M$8*$B464^3+J$8*$B464^2+G$8*$B464+D$8)+2*(G$7+2*J$7*$B464+3*M$7*$B464^2+4*P$7*$B464^3)*(G$8+2*J$8*$B464+3*M$8*$B464^2+4*P$8*$B464^3)*COS(P$8*$B464^4+M$8*$B464^3+J$8*$B464^2+G$8*$B464+D$8)-(2*J$6+6*M$6*$B464+12*P$6*$B464^2)*(D$5+G$5*$B464+J$5*$B464^2+M$5*$B464^3+P$5*$B464^4)*SIN(P$6*$B464^4+M$6*$B464^3+J$6*$B464^2+G$6*$B464+D$6)-2*(G$5+2*J$5*$B464+3*M$5*$B464^2+4*P$5*$B464^3)*(G$6+2*J$6*$B464+3*M$6*$B464^2+4*P$6*$B464^3)*SIN(P$6*$B464^4+M$6*$B464^3+J$6*$B464^2+G$6*$B464+D$6)-(G$6+2*J$6*$B464+3*M$6*$B464^2+4*P$6*$B464^3)^2*(D$5+G$5*$B464+J$5*$B464^2+M$5*$B464^3+P$5*$B464^4)*COS(P$6*$B464^4+M$6*$B464^3+J$6*$B464^2+G$6*$B464+D$6)+(2*J$5+6*M$5*$B464+12*P$5*$B464^2)*COS(P$6*$B464^4+M$6*$B464^3+J$6*$B464^2+G$6*$B464+D$6)+12*P$4*$B464^2+6*M$4*$B464+2*J$4","v":{"$error":"#N/A"}},{"$f":"-1*(H$8+2*K$8*$B464+3*N$8*$B464^2+4*Q$8*$B464^3)^2*(E$7+H$7*$B464+K$7*$B464^2+N$7*$B464^3+Q$7*$B464^4)*SIN(Q$8*$B464^4+N$8*$B464^3+K$8*$B464^2+H$8*$B464+E$8)+(2*K$7+6*N$7*$B464+12*Q$7*$B464^2)*SIN(Q$8*$B464^4+N$8*$B464^3+K$8*$B464^2+H$8*$B464+E$8)+(2*K$8+6*N$8*$B464+12*Q$8*$B464^2)*(E$7+H$7*$B464+K$7*$B464^2+N$7*$B464^3+Q$7*$B464^4)*COS(Q$8*$B464^4+N$8*$B464^3+K$8*$B464^2+H$8*$B464+E$8)+2*(H$7+2*K$7*$B464+3*N$7*$B464^2+4*Q$7*$B464^3)*(H$8+2*K$8*$B464+3*N$8*$B464^2+4*Q$8*$B464^3)*COS(Q$8*$B464^4+N$8*$B464^3+K$8*$B464^2+H$8*$B464+E$8)-(2*K$6+6*N$6*$B464+12*Q$6*$B464^2)*(E$5+H$5*$B464+K$5*$B464^2+N$5*$B464^3+Q$5*$B464^4)*SIN(Q$6*$B464^4+N$6*$B464^3+K$6*$B464^2+H$6*$B464+E$6)-2*(H$5+2*K$5*$B464+3*N$5*$B464^2+4*Q$5*$B464^3)*(H$6+2*K$6*$B464+3*N$6*$B464^2+4*Q$6*$B464^3)*SIN(Q$6*$B464^4+N$6*$B464^3+K$6*$B464^2+H$6*$B464+E$6)-(H$6+2*K$6*$B464+3*N$6*$B464^2+4*Q$6*$B464^3)^2*(E$5+H$5*$B464+K$5*$B464^2+N$5*$B464^3+Q$5*$B464^4)*COS(Q$6*$B464^4+N$6*$B464^3+K$6*$B464^2+H$6*$B464+E$6)+(2*K$5+6*N$5*$B464+12*Q$5*$B464^2)*COS(Q$6*$B464^4+N$6*$B464^3+K$6*$B464^2+H$6*$B464+E$6)+12*Q$4*$B464^2+6*N$4*$B464+2*K$4","v":{"$error":"#N/A"}},{"$f":"IF($AK$38=0,TRANSPOSE(MMULT($O$10:$Q$12,TRANSPOSE(C464:E464))),TRANSPOSE(MMULT($O$10:$Q$12,TRANSPOSE(Y464:AA464))))","v":{"$error":"#N/A"}},{"$error":"#N/A"},{"$error":"#N/A"},{"$error":"#N/A"},{"$error":"#N/A"},{"$f":"TRANSPOSE(MMULT($AE$10:$AG$12,TRANSPOSE(F464:H464)))","v":{"$error":"#N/A"}},{"$error":"#N/A"},{"$error":"#N/A"},{"$f":"$Y$5+$Y$4*IF($U$8=1,Q464,(Q464*$U$6)/($U$6+$U$7+R464))","v":{"$error":"#N/A"}},{"$f":"$Y$6+$Y$4*IF($U$8=1,R464,(S464*$U$6)/($U$6+$U$7+R464))","v":{"$error":"#N/A"}},{"$f":"TRANSPOSE(MMULT($AO$40:$AQ$42,TRANSPOSE(C464:E464)))","v":{"$error":"#N/A"}},{"$error":"#N/A"},{"$error":"#N/A"},{"$f":"V464+$AL$46","v":{"$error":"#N/A"}},{"$f":"W464+$AL$47","v":{"$error":"#N/A"}},{"$f":"X464+$AL$48","v":{"$error":"#N/A"}}]
[465,{"$error":"#N/A"},{"$error":"#N/A"},{"$error":"#N/A"},{"$error":"#N/A"},{"$error":"#N/A"},{"$error":"#N/A"},{"$error":"#N/A"},{"$error":"#N/A"},{"$error":"#N/A"},{"$error":"#N/A"},{"$f":"IF($AK$38=0,TRANSPOSE(MMULT($O$10:$Q$12,TRANSPOSE(C465:E465))),TRANSPOSE(MMULT($O$10:$Q$12,TRANSPOSE(Y465:AA465))))","v":{"$error":"#N/A"}},{"$error":"#N/A"},{"$error":"#N/A"},{"$f":"IF($AD$4=0,NA(),$X$5+$X$4*IF($U$8=1,L465,(L465*$U$6)/($U$6+$U$7+M465)))","v":{"$error":"#N/A"}},{"$f":"IF($AD$4=0,NA(),$X$6+$X$4*IF($U$8=1,M465,(N465*$U$6)/($U$6+$U$7+M465)))","v":{"$error":"#N/A"}},{"$f":"TRANSPOSE(MMULT($AE$10:$AG$12,TRANSPOSE(F465:H465)))","v":{"$error":"#N/A"}},{"$error":"#N/A"},{"$error":"#N/A"},{"$error":"#N/A"},{"$error":"#N/A"},{"$f":"TRANSPOSE(MMULT($AO$40:$AQ$42,TRANSPOSE(C465:E465)))","v":{"$error":"#N/A"}},{"$error":"#N/A"},{"$error":"#N/A"},{"$error":"#N/A"},{"$error":"#N/A"},{"$error":"#N/A"}]
[466,{"$f":"IF(B465<$B$3,B465+$S$3,NA())","v":{"$error":"#N/A"}},{"$error":"#N/A"},{"$error":"#N/A"},{"$error":"#N/A"},{"$error":"#N/A"},{"$error":"#N/A"},{"$error":"#N/A"},{"$error":"#N/A"},{"$error":"#N/A"},{"$error":"#N/A"},{"$f":"IF($AK$38=0,TRANSPOSE(MMULT($O$10:$Q$12,TRANSPOSE(C466:E466))),TRANSPOSE(MMULT($O$10:$Q$12,TRANSPOSE(Y466:AA466))))","v":{"$error":"#N/A"}},{"$error":"#N/A"},{"$error":"#N/A"},{"$error":"#N/A"},{"$error":"#N/A"},{"$f":"TRANSPOSE(MMULT($AE$10:$AG$12,TRANSPOSE(F466:H466)))","v":{"$error":"#N/A"}},{"$error":"#N/A"},{"$error":"#N/A"},{"$error":"#N/A"},{"$error":"#N/A"},{"$f":"TRANSPOSE(MMULT($AO$40:$AQ$42,TRANSPOSE(C466:E466)))","v":{"$error":"#N/A"}},{"$error":"#N/A"},{"$error":"#N/A"},{"$error":"#N/A"},{"$error":"#N/A"},{"$error":"#N/A"}]
[467,{"$error":"#N/A"},{"$error":"#N/A"},{"$error":"#N/A"},{"$error":"#N/A"},{"$error":"#N/A"},{"$error":"#N/A"},{"$error":"#N/A"},{"$error":"#N/A"},{"$error":"#N/A"},{"$error":"#N/A"},{"$f":"IF($AK$38=0,TRANSPOSE(MMULT($O$10:$Q$12,TRANSPOSE(C467:E467))),TRANSPOSE(MMULT($O$10:$Q$12,TRANSPOSE(Y467:AA467))))","v":{"$error":"#N/A"}},{"$error":"#N/A"},{"$error":"#N/A"},{"$error":"#N/A"},{"$error":"#N/A"},{"$f":"TRANSPOSE(MMULT($AE$10:$AG$12,TRANSPOSE(F467:H467)))","v":{"$error":"#N/A"}},{"$error":"#N/A"},{"$error":"#N/A"},{"$error":"#N/A"},{"$error":"#N/A"},{"$f":"TRANSPOSE(MMULT($AO$40:$AQ$42,TRANSPOSE(C467:E467)))","v":{"$error":"#N/A"}},{"$error":"#N/A"},{"$error":"#N/A"},{"$error":"#N/A"},{"$error":"#N/A"},{"$error":"#N/A"}]
[468,{"$error":"#N/A"},{"$error":"#N/A"},{"$error":"#N/A"},{"$error":"#N/A"},{"$error":"#N/A"},{"$error":"#N/A"},{"$error":"#N/A"},{"$error":"#N/A"},{"$error":"#N/A"},{"$error":"#N/A"},{"$f":"IF($AK$38=0,TRANSPOSE(MMULT($O$10:$Q$12,TRANSPOSE(C468:E468))),TRANSPOSE(MMULT($O$10:$Q$12,TRANSPOSE(Y468:AA468))))","v":{"$error":"#N/A"}},{"$error":"#N/A"},{"$error":"#N/A"},{"$error":"#N/A"},{"$error":"#N/A"},{"$f":"TRANSPOSE(MMULT($AE$10:$AG$12,TRANSPOSE(F468:H468)))","v":{"$error":"#N/A"}},{"$error":"#N/A"},{"$error":"#N/A"},{"$error":"#N/A"},{"$error":"#N/A"},{"$f":"TRANSPOSE(MMULT($AO$40:$AQ$42,TRANSPOSE(C468:E468)))","v":{"$error":"#N/A"}},{"$error":"#N/A"},{"$error":"#N/A"},{"$error":"#N/A"},{"$error":"#N/A"},{"$error":"#N/A"}]
[469,{"$error":"#N/A"},{"$error":"#N/A"},{"$error":"#N/A"},{"$error":"#N/A"},{"$error":"#N/A"},{"$error":"#N/A"},{"$error":"#N/A"},{"$error":"#N/A"},{"$error":"#N/A"},{"$error":"#N/A"},{"$f":"IF($AK$38=0,TRANSPOSE(MMULT($O$10:$Q$12,TRANSPOSE(C469:E469))),TRANSPOSE(MMULT($O$10:$Q$12,TRANSPOSE(Y469:AA469))))","v":{"$error":"#N/A"}},{"$error":"#N/A"},{"$error":"#N/A"},{"$error":"#N/A"},{"$error":"#N/A"},{"$f":"TRANSPOSE(MMULT($AE$10:$AG$12,TRANSPOSE(F469:H469)))","v":{"$error":"#N/A"}},{"$error":"#N/A"},{"$error":"#N/A"},{"$error":"#N/A"},{"$error":"#N/A"},{"$f":"TRANSPOSE(MMULT($AO$40:$AQ$42,TRANSPOSE(C469:E469)))","v":{"$error":"#N/A"}},{"$error":"#N/A"},{"$error":"#N/A"},{"$error":"#N/A"},{"$error":"#N/A"},{"$error":"#N/A"}]
[470,{"$error":"#N/A"},{"$error":"#N/A"},{"$error":"#N/A"},{"$error":"#N/A"},{"$error":"#N/A"},{"$error":"#N/A"},{"$error":"#N/A"},{"$error":"#N/A"},{"$error":"#N/A"},{"$error":"#N/A"},{"$f":"IF($AK$38=0,TRANSPOSE(MMULT($O$10:$Q$12,TRANSPOSE(C470:E470))),TRANSPOSE(MMULT($O$10:$Q$12,TRANSPOSE(Y470:AA470))))","v":{"$error":"#N/A"}},{"$error":"#N/A"},{"$error":"#N/A"},{"$error":"#N/A"},{"$error":"#N/A"},{"$f":"TRANSPOSE(MMULT($AE$10:$AG$12,TRANSPOSE(F470:H470)))","v":{"$error":"#N/A"}},{"$error":"#N/A"},{"$error":"#N/A"},{"$error":"#N/A"},{"$error":"#N/A"},{"$f":"TRANSPOSE(MMULT($AO$40:$AQ$42,TRANSPOSE(C470:E470)))","v":{"$error":"#N/A"}},{"$error":"#N/A"},{"$error":"#N/A"},{"$error":"#N/A"},{"$error":"#N/A"},{"$error":"#N/A"}]
[471,{"$error":"#N/A"},{"$error":"#N/A"},{"$error":"#N/A"},{"$error":"#N/A"},{"$error":"#N/A"},{"$error":"#N/A"},{"$error":"#N/A"},{"$error":"#N/A"},{"$error":"#N/A"},{"$error":"#N/A"},{"$f":"IF($AK$38=0,TRANSPOSE(MMULT($O$10:$Q$12,TRANSPOSE(C471:E471))),TRANSPOSE(MMULT($O$10:$Q$12,TRANSPOSE(Y471:AA471))))","v":{"$error":"#N/A"}},{"$error":"#N/A"},{"$error":"#N/A"},{"$error":"#N/A"},{"$error":"#N/A"},{"$f":"TRANSPOSE(MMULT($AE$10:$AG$12,TRANSPOSE(F471:H471)))","v":{"$error":"#N/A"}},{"$error":"#N/A"},{"$error":"#N/A"},{"$error":"#N/A"},{"$error":"#N/A"},{"$f":"TRANSPOSE(MMULT($AO$40:$AQ$42,TRANSPOSE(C471:E471)))","v":{"$error":"#N/A"}},{"$error":"#N/A"},{"$error":"#N/A"},{"$error":"#N/A"},{"$error":"#N/A"},{"$error":"#N/A"}]
[472,{"$error":"#N/A"},{"$error":"#N/A"},{"$error":"#N/A"},{"$error":"#N/A"},{"$error":"#N/A"},{"$error":"#N/A"},{"$error":"#N/A"},{"$error":"#N/A"},{"$error":"#N/A"},{"$error":"#N/A"},{"$f":"IF($AK$38=0,TRANSPOSE(MMULT($O$10:$Q$12,TRANSPOSE(C472:E472))),TRANSPOSE(MMULT($O$10:$Q$12,TRANSPOSE(Y472:AA472))))","v":{"$error":"#N/A"}},{"$error":"#N/A"},{"$error":"#N/A"},{"$error":"#N/A"},{"$error":"#N/A"},{"$f":"TRANSPOSE(MMULT($AE$10:$AG$12,TRANSPOSE(F472:H472)))","v":{"$error":"#N/A"}},{"$error":"#N/A"},{"$error":"#N/A"},{"$error":"#N/A"},{"$error":"#N/A"},{"$f":"TRANSPOSE(MMULT($AO$40:$AQ$42,TRANSPOSE(C472:E472)))","v":{"$error":"#N/A"}},{"$error":"#N/A"},{"$error":"#N/A"},{"$error":"#N/A"},{"$error":"#N/A"},{"$error":"#N/A"}]
[473,{"$error":"#N/A"},{"$error":"#N/A"},{"$error":"#N/A"},{"$error":"#N/A"},{"$error":"#N/A"},{"$error":"#N/A"},{"$error":"#N/A"},{"$error":"#N/A"},{"$error":"#N/A"},{"$error":"#N/A"},{"$f":"IF($AK$38=0,TRANSPOSE(MMULT($O$10:$Q$12,TRANSPOSE(C473:E473))),TRANSPOSE(MMULT($O$10:$Q$12,TRANSPOSE(Y473:AA473))))","v":{"$error":"#N/A"}},{"$error":"#N/A"},{"$error":"#N/A"},{"$error":"#N/A"},{"$error":"#N/A"},{"$f":"TRANSPOSE(MMULT($AE$10:$AG$12,TRANSPOSE(F473:H473)))","v":{"$error":"#N/A"}},{"$error":"#N/A"},{"$error":"#N/A"},{"$error":"#N/A"},{"$error":"#N/A"},{"$f":"TRANSPOSE(MMULT($AO$40:$AQ$42,TRANSPOSE(C473:E473)))","v":{"$error":"#N/A"}},{"$error":"#N/A"},{"$error":"#N/A"},{"$error":"#N/A"},{"$error":"#N/A"},{"$error":"#N/A"}]
[474,{"$error":"#N/A"},{"$error":"#N/A"},{"$error":"#N/A"},{"$error":"#N/A"},{"$error":"#N/A"},{"$error":"#N/A"},{"$error":"#N/A"},{"$error":"#N/A"},{"$error":"#N/A"},{"$error":"#N/A"},{"$f":"IF($AK$38=0,TRANSPOSE(MMULT($O$10:$Q$12,TRANSPOSE(C474:E474))),TRANSPOSE(MMULT($O$10:$Q$12,TRANSPOSE(Y474:AA474))))","v":{"$error":"#N/A"}},{"$error":"#N/A"},{"$error":"#N/A"},{"$error":"#N/A"},{"$error":"#N/A"},{"$f":"TRANSPOSE(MMULT($AE$10:$AG$12,TRANSPOSE(F474:H474)))","v":{"$error":"#N/A"}},{"$error":"#N/A"},{"$error":"#N/A"},{"$error":"#N/A"},{"$error":"#N/A"},{"$f":"TRANSPOSE(MMULT($AO$40:$AQ$42,TRANSPOSE(C474:E474)))","v":{"$error":"#N/A"}},{"$error":"#N/A"},{"$error":"#N/A"},{"$error":"#N/A"},{"$error":"#N/A"},{"$error":"#N/A"}]
[475,{"$error":"#N/A"},{"$error":"#N/A"},{"$error":"#N/A"},{"$error":"#N/A"},{"$error":"#N/A"},{"$error":"#N/A"},{"$error":"#N/A"},{"$error":"#N/A"},{"$error":"#N/A"},{"$error":"#N/A"},{"$f":"IF($AK$38=0,TRANSPOSE(MMULT($O$10:$Q$12,TRANSPOSE(C475:E475))),TRANSPOSE(MMULT($O$10:$Q$12,TRANSPOSE(Y475:AA475))))","v":{"$error":"#N/A"}},{"$error":"#N/A"},{"$error":"#N/A"},{"$error":"#N/A"},{"$error":"#N/A"},{"$f":"TRANSPOSE(MMULT($AE$10:$AG$12,TRANSPOSE(F475:H475)))","v":{"$error":"#N/A"}},{"$error":"#N/A"},{"$error":"#N/A"},{"$error":"#N/A"},{"$error":"#N/A"},{"$f":"TRANSPOSE(MMULT($AO$40:$AQ$42,TRANSPOSE(C475:E475)))","v":{"$error":"#N/A"}},{"$error":"#N/A"},{"$error":"#N/A"},{"$error":"#N/A"},{"$error":"#N/A"},{"$error":"#N/A"}]
[476,{"$error":"#N/A"},{"$error":"#N/A"},{"$error":"#N/A"},{"$error":"#N/A"},{"$error":"#N/A"},{"$error":"#N/A"},{"$error":"#N/A"},{"$error":"#N/A"},{"$error":"#N/A"},{"$error":"#N/A"},{"$f":"IF($AK$38=0,TRANSPOSE(MMULT($O$10:$Q$12,TRANSPOSE(C476:E476))),TRANSPOSE(MMULT($O$10:$Q$12,TRANSPOSE(Y476:AA476))))","v":{"$error":"#N/A"}},{"$error":"#N/A"},{"$error":"#N/A"},{"$error":"#N/A"},{"$error":"#N/A"},{"$f":"TRANSPOSE(MMULT($AE$10:$AG$12,TRANSPOSE(F476:H476)))","v":{"$error":"#N/A"}},{"$error":"#N/A"},{"$error":"#N/A"},{"$error":"#N/A"},{"$error":"#N/A"},{"$f":"TRANSPOSE(MMULT($AO$40:$AQ$42,TRANSPOSE(C476:E476)))","v":{"$error":"#N/A"}},{"$error":"#N/A"},{"$error":"#N/A"},{"$error":"#N/A"},{"$error":"#N/A"},{"$error":"#N/A"}]
[477,{"$error":"#N/A"},{"$error":"#N/A"},{"$error":"#N/A"},{"$error":"#N/A"},{"$error":"#N/A"},{"$error":"#N/A"},{"$error":"#N/A"},{"$error":"#N/A"},{"$error":"#N/A"},{"$error":"#N/A"},{"$f":"IF($AK$38=0,TRANSPOSE(MMULT($O$10:$Q$12,TRANSPOSE(C477:E477))),TRANSPOSE(MMULT($O$10:$Q$12,TRANSPOSE(Y477:AA477))))","v":{"$error":"#N/A"}},{"$error":"#N/A"},{"$error":"#N/A"},{"$error":"#N/A"},{"$error":"#N/A"},{"$f":"TRANSPOSE(MMULT($AE$10:$AG$12,TRANSPOSE(F477:H477)))","v":{"$error":"#N/A"}},{"$error":"#N/A"},{"$error":"#N/A"},{"$error":"#N/A"},{"$error":"#N/A"},{"$f":"TRANSPOSE(MMULT($AO$40:$AQ$42,TRANSPOSE(C477:E477)))","v":{"$error":"#N/A"}},{"$error":"#N/A"},{"$error":"#N/A"},{"$error":"#N/A"},{"$error":"#N/A"},{"$error":"#N/A"}]
[478,{"$error":"#N/A"},{"$error":"#N/A"},{"$error":"#N/A"},{"$error":"#N/A"},{"$error":"#N/A"},{"$error":"#N/A"},{"$error":"#N/A"},{"$error":"#N/A"},{"$error":"#N/A"},{"$error":"#N/A"},{"$f":"IF($AK$38=0,TRANSPOSE(MMULT($O$10:$Q$12,TRANSPOSE(C478:E478))),TRANSPOSE(MMULT($O$10:$Q$12,TRANSPOSE(Y478:AA478))))","v":{"$error":"#N/A"}},{"$error":"#N/A"},{"$error":"#N/A"},{"$error":"#N/A"},{"$error":"#N/A"},{"$f":"TRANSPOSE(MMULT($AE$10:$AG$12,TRANSPOSE(F478:H478)))","v":{"$error":"#N/A"}},{"$error":"#N/A"},{"$error":"#N/A"},{"$error":"#N/A"},{"$error":"#N/A"},{"$f":"TRANSPOSE(MMULT($AO$40:$AQ$42,TRANSPOSE(C478:E478)))","v":{"$error":"#N/A"}},{"$error":"#N/A"},{"$error":"#N/A"},{"$error":"#N/A"},{"$error":"#N/A"},{"$error":"#N/A"}]
[479,{"$error":"#N/A"},{"$error":"#N/A"},{"$error":"#N/A"},{"$error":"#N/A"},{"$error":"#N/A"},{"$error":"#N/A"},{"$error":"#N/A"},{"$error":"#N/A"},{"$error":"#N/A"},{"$error":"#N/A"},{"$f":"IF($AK$38=0,TRANSPOSE(MMULT($O$10:$Q$12,TRANSPOSE(C479:E479))),TRANSPOSE(MMULT($O$10:$Q$12,TRANSPOSE(Y479:AA479))))","v":{"$error":"#N/A"}},{"$error":"#N/A"},{"$error":"#N/A"},{"$error":"#N/A"},{"$error":"#N/A"},{"$f":"TRANSPOSE(MMULT($AE$10:$AG$12,TRANSPOSE(F479:H479)))","v":{"$error":"#N/A"}},{"$error":"#N/A"},{"$error":"#N/A"},{"$error":"#N/A"},{"$error":"#N/A"},{"$f":"TRANSPOSE(MMULT($AO$40:$AQ$42,TRANSPOSE(C479:E479)))","v":{"$error":"#N/A"}},{"$error":"#N/A"},{"$error":"#N/A"},{"$error":"#N/A"},{"$error":"#N/A"},{"$error":"#N/A"}]
[480,{"$error":"#N/A"},{"$error":"#N/A"},{"$error":"#N/A"},{"$error":"#N/A"},{"$error":"#N/A"},{"$error":"#N/A"},{"$error":"#N/A"},{"$error":"#N/A"},{"$error":"#N/A"},{"$error":"#N/A"},{"$f":"IF($AK$38=0,TRANSPOSE(MMULT($O$10:$Q$12,TRANSPOSE(C480:E480))),TRANSPOSE(MMULT($O$10:$Q$12,TRANSPOSE(Y480:AA480))))","v":{"$error":"#N/A"}},{"$error":"#N/A"},{"$error":"#N/A"},{"$error":"#N/A"},{"$error":"#N/A"},{"$f":"TRANSPOSE(MMULT($AE$10:$AG$12,TRANSPOSE(F480:H480)))","v":{"$error":"#N/A"}},{"$error":"#N/A"},{"$error":"#N/A"},{"$error":"#N/A"},{"$error":"#N/A"},{"$f":"TRANSPOSE(MMULT($AO$40:$AQ$42,TRANSPOSE(C480:E480)))","v":{"$error":"#N/A"}},{"$error":"#N/A"},{"$error":"#N/A"},{"$error":"#N/A"},{"$error":"#N/A"},{"$error":"#N/A"}]
[481,{"$error":"#N/A"},{"$error":"#N/A"},{"$error":"#N/A"},{"$error":"#N/A"},{"$error":"#N/A"},{"$error":"#N/A"},{"$error":"#N/A"},{"$error":"#N/A"},{"$error":"#N/A"},{"$error":"#N/A"},{"$f":"IF($AK$38=0,TRANSPOSE(MMULT($O$10:$Q$12,TRANSPOSE(C481:E481))),TRANSPOSE(MMULT($O$10:$Q$12,TRANSPOSE(Y481:AA481))))","v":{"$error":"#N/A"}},{"$error":"#N/A"},{"$error":"#N/A"},{"$error":"#N/A"},{"$error":"#N/A"},{"$f":"TRANSPOSE(MMULT($AE$10:$AG$12,TRANSPOSE(F481:H481)))","v":{"$error":"#N/A"}},{"$error":"#N/A"},{"$error":"#N/A"},{"$error":"#N/A"},{"$error":"#N/A"},{"$f":"TRANSPOSE(MMULT($AO$40:$AQ$42,TRANSPOSE(C481:E481)))","v":{"$error":"#N/A"}},{"$error":"#N/A"},{"$error":"#N/A"},{"$error":"#N/A"},{"$error":"#N/A"},{"$error":"#N/A"}]
[482,{"$error":"#N/A"},{"$error":"#N/A"},{"$error":"#N/A"},{"$error":"#N/A"},{"$error":"#N/A"},{"$error":"#N/A"},{"$error":"#N/A"},{"$error":"#N/A"},{"$error":"#N/A"},{"$error":"#N/A"},{"$f":"IF($AK$38=0,TRANSPOSE(MMULT($O$10:$Q$12,TRANSPOSE(C482:E482))),TRANSPOSE(MMULT($O$10:$Q$12,TRANSPOSE(Y482:AA482))))","v":{"$error":"#N/A"}},{"$error":"#N/A"},{"$error":"#N/A"},{"$error":"#N/A"},{"$error":"#N/A"},{"$f":"TRANSPOSE(MMULT($AE$10:$AG$12,TRANSPOSE(F482:H482)))","v":{"$error":"#N/A"}},{"$error":"#N/A"},{"$error":"#N/A"},{"$error":"#N/A"},{"$error":"#N/A"},{"$f":"TRANSPOSE(MMULT($AO$40:$AQ$42,TRANSPOSE(C482:E482)))","v":{"$error":"#N/A"}},{"$error":"#N/A"},{"$error":"#N/A"},{"$error":"#N/A"},{"$error":"#N/A"},{"$error":"#N/A"}]
[483,{"$error":"#N/A"},{"$error":"#N/A"},{"$error":"#N/A"},{"$error":"#N/A"},{"$error":"#N/A"},{"$error":"#N/A"},{"$error":"#N/A"},{"$error":"#N/A"},{"$error":"#N/A"},{"$error":"#N/A"},{"$f":"IF($AK$38=0,TRANSPOSE(MMULT($O$10:$Q$12,TRANSPOSE(C483:E483))),TRANSPOSE(MMULT($O$10:$Q$12,TRANSPOSE(Y483:AA483))))","v":{"$error":"#N/A"}},{"$error":"#N/A"},{"$error":"#N/A"},{"$error":"#N/A"},{"$error":"#N/A"},{"$f":"TRANSPOSE(MMULT($AE$10:$AG$12,TRANSPOSE(F483:H483)))","v":{"$error":"#N/A"}},{"$error":"#N/A"},{"$error":"#N/A"},{"$error":"#N/A"},{"$error":"#N/A"},{"$f":"TRANSPOSE(MMULT($AO$40:$AQ$42,TRANSPOSE(C483:E483)))","v":{"$error":"#N/A"}},{"$error":"#N/A"},{"$error":"#N/A"},{"$error":"#N/A"},{"$error":"#N/A"},{"$error":"#N/A"}]
[484,{"$error":"#N/A"},{"$error":"#N/A"},{"$error":"#N/A"},{"$error":"#N/A"},{"$error":"#N/A"},{"$error":"#N/A"},{"$error":"#N/A"},{"$error":"#N/A"},{"$error":"#N/A"},{"$error":"#N/A"},{"$f":"IF($AK$38=0,TRANSPOSE(MMULT($O$10:$Q$12,TRANSPOSE(C484:E484))),TRANSPOSE(MMULT($O$10:$Q$12,TRANSPOSE(Y484:AA484))))","v":{"$error":"#N/A"}},{"$error":"#N/A"},{"$error":"#N/A"},{"$error":"#N/A"},{"$error":"#N/A"},{"$f":"TRANSPOSE(MMULT($AE$10:$AG$12,TRANSPOSE(F484:H484)))","v":{"$error":"#N/A"}},{"$error":"#N/A"},{"$error":"#N/A"},{"$error":"#N/A"},{"$error":"#N/A"},{"$f":"TRANSPOSE(MMULT($AO$40:$AQ$42,TRANSPOSE(C484:E484)))","v":{"$error":"#N/A"}},{"$error":"#N/A"},{"$error":"#N/A"},{"$error":"#N/A"},{"$error":"#N/A"},{"$error":"#N/A"}]
[485,{"$error":"#N/A"},{"$error":"#N/A"},{"$error":"#N/A"},{"$error":"#N/A"},{"$error":"#N/A"},{"$error":"#N/A"},{"$error":"#N/A"},{"$error":"#N/A"},{"$error":"#N/A"},{"$error":"#N/A"},{"$f":"IF($AK$38=0,TRANSPOSE(MMULT($O$10:$Q$12,TRANSPOSE(C485:E485))),TRANSPOSE(MMULT($O$10:$Q$12,TRANSPOSE(Y485:AA485))))","v":{"$error":"#N/A"}},{"$error":"#N/A"},{"$error":"#N/A"},{"$error":"#N/A"},{"$error":"#N/A"},{"$f":"TRANSPOSE(MMULT($AE$10:$AG$12,TRANSPOSE(F485:H485)))","v":{"$error":"#N/A"}},{"$error":"#N/A"},{"$error":"#N/A"},{"$error":"#N/A"},{"$error":"#N/A"},{"$f":"TRANSPOSE(MMULT($AO$40:$AQ$42,TRANSPOSE(C485:E485)))","v":{"$error":"#N/A"}},{"$error":"#N/A"},{"$error":"#N/A"},{"$error":"#N/A"},{"$error":"#N/A"},{"$error":"#N/A"}]
[486,{"$error":"#N/A"},{"$error":"#N/A"},{"$error":"#N/A"},{"$error":"#N/A"},{"$error":"#N/A"},{"$error":"#N/A"},{"$error":"#N/A"},{"$error":"#N/A"},{"$error":"#N/A"},{"$error":"#N/A"},{"$f":"IF($AK$38=0,TRANSPOSE(MMULT($O$10:$Q$12,TRANSPOSE(C486:E486))),TRANSPOSE(MMULT($O$10:$Q$12,TRANSPOSE(Y486:AA486))))","v":{"$error":"#N/A"}},{"$error":"#N/A"},{"$error":"#N/A"},{"$error":"#N/A"},{"$error":"#N/A"},{"$f":"TRANSPOSE(MMULT($AE$10:$AG$12,TRANSPOSE(F486:H486)))","v":{"$error":"#N/A"}},{"$error":"#N/A"},{"$error":"#N/A"},{"$error":"#N/A"},{"$error":"#N/A"},{"$f":"TRANSPOSE(MMULT($AO$40:$AQ$42,TRANSPOSE(C486:E486)))","v":{"$error":"#N/A"}},{"$error":"#N/A"},{"$error":"#N/A"},{"$error":"#N/A"},{"$error":"#N/A"},{"$error":"#N/A"}]
[487,{"$error":"#N/A"},{"$error":"#N/A"},{"$error":"#N/A"},{"$error":"#N/A"},{"$error":"#N/A"},{"$error":"#N/A"},{"$error":"#N/A"},{"$error":"#N/A"},{"$error":"#N/A"},{"$error":"#N/A"},{"$f":"IF($AK$38=0,TRANSPOSE(MMULT($O$10:$Q$12,TRANSPOSE(C487:E487))),TRANSPOSE(MMULT($O$10:$Q$12,TRANSPOSE(Y487:AA487))))","v":{"$error":"#N/A"}},{"$error":"#N/A"},{"$error":"#N/A"},{"$error":"#N/A"},{"$error":"#N/A"},{"$f":"TRANSPOSE(MMULT($AE$10:$AG$12,TRANSPOSE(F487:H487)))","v":{"$error":"#N/A"}},{"$error":"#N/A"},{"$error":"#N/A"},{"$error":"#N/A"},{"$error":"#N/A"},{"$f":"TRANSPOSE(MMULT($AO$40:$AQ$42,TRANSPOSE(C487:E487)))","v":{"$error":"#N/A"}},{"$error":"#N/A"},{"$error":"#N/A"},{"$error":"#N/A"},{"$error":"#N/A"},{"$error":"#N/A"}]
[488,{"$error":"#N/A"},{"$error":"#N/A"},{"$error":"#N/A"},{"$error":"#N/A"},{"$error":"#N/A"},{"$error":"#N/A"},{"$error":"#N/A"},{"$error":"#N/A"},{"$error":"#N/A"},{"$error":"#N/A"},{"$f":"IF($AK$38=0,TRANSPOSE(MMULT($O$10:$Q$12,TRANSPOSE(C488:E488))),TRANSPOSE(MMULT($O$10:$Q$12,TRANSPOSE(Y488:AA488))))","v":{"$error":"#N/A"}},{"$error":"#N/A"},{"$error":"#N/A"},{"$error":"#N/A"},{"$error":"#N/A"},{"$f":"TRANSPOSE(MMULT($AE$10:$AG$12,TRANSPOSE(F488:H488)))","v":{"$error":"#N/A"}},{"$error":"#N/A"},{"$error":"#N/A"},{"$error":"#N/A"},{"$error":"#N/A"},{"$f":"TRANSPOSE(MMULT($AO$40:$AQ$42,TRANSPOSE(C488:E488)))","v":{"$error":"#N/A"}},{"$error":"#N/A"},{"$error":"#N/A"},{"$error":"#N/A"},{"$error":"#N/A"},{"$error":"#N/A"}]
[489,{"$error":"#N/A"},{"$error":"#N/A"},{"$error":"#N/A"},{"$error":"#N/A"},{"$error":"#N/A"},{"$error":"#N/A"},{"$error":"#N/A"},{"$error":"#N/A"},{"$error":"#N/A"},{"$error":"#N/A"},{"$f":"IF($AK$38=0,TRANSPOSE(MMULT($O$10:$Q$12,TRANSPOSE(C489:E489))),TRANSPOSE(MMULT($O$10:$Q$12,TRANSPOSE(Y489:AA489))))","v":{"$error":"#N/A"}},{"$error":"#N/A"},{"$error":"#N/A"},{"$error":"#N/A"},{"$error":"#N/A"},{"$f":"TRANSPOSE(MMULT($AE$10:$AG$12,TRANSPOSE(F489:H489)))","v":{"$error":"#N/A"}},{"$error":"#N/A"},{"$error":"#N/A"},{"$error":"#N/A"},{"$error":"#N/A"},{"$f":"TRANSPOSE(MMULT($AO$40:$AQ$42,TRANSPOSE(C489:E489)))","v":{"$error":"#N/A"}},{"$error":"#N/A"},{"$error":"#N/A"},{"$error":"#N/A"},{"$error":"#N/A"},{"$error":"#N/A"}]
[490,{"$error":"#N/A"},{"$error":"#N/A"},{"$error":"#N/A"},{"$error":"#N/A"},{"$error":"#N/A"},{"$error":"#N/A"},{"$error":"#N/A"},{"$error":"#N/A"},{"$error":"#N/A"},{"$error":"#N/A"},{"$f":"IF($AK$38=0,TRANSPOSE(MMULT($O$10:$Q$12,TRANSPOSE(C490:E490))),TRANSPOSE(MMULT($O$10:$Q$12,TRANSPOSE(Y490:AA490))))","v":{"$error":"#N/A"}},{"$error":"#N/A"},{"$error":"#N/A"},{"$error":"#N/A"},{"$error":"#N/A"},{"$f":"TRANSPOSE(MMULT($AE$10:$AG$12,TRANSPOSE(F490:H490)))","v":{"$error":"#N/A"}},{"$error":"#N/A"},{"$error":"#N/A"},{"$error":"#N/A"},{"$error":"#N/A"},{"$f":"TRANSPOSE(MMULT($AO$40:$AQ$42,TRANSPOSE(C490:E490)))","v":{"$error":"#N/A"}},{"$error":"#N/A"},{"$error":"#N/A"},{"$error":"#N/A"},{"$error":"#N/A"},{"$error":"#N/A"}]
[491,{"$error":"#N/A"},{"$error":"#N/A"},{"$error":"#N/A"},{"$error":"#N/A"},{"$error":"#N/A"},{"$error":"#N/A"},{"$error":"#N/A"},{"$error":"#N/A"},{"$error":"#N/A"},{"$error":"#N/A"},{"$f":"IF($AK$38=0,TRANSPOSE(MMULT($O$10:$Q$12,TRANSPOSE(C491:E491))),TRANSPOSE(MMULT($O$10:$Q$12,TRANSPOSE(Y491:AA491))))","v":{"$error":"#N/A"}},{"$error":"#N/A"},{"$error":"#N/A"},{"$error":"#N/A"},{"$error":"#N/A"},{"$f":"TRANSPOSE(MMULT($AE$10:$AG$12,TRANSPOSE(F491:H491)))","v":{"$error":"#N/A"}},{"$error":"#N/A"},{"$error":"#N/A"},{"$error":"#N/A"},{"$error":"#N/A"},{"$f":"TRANSPOSE(MMULT($AO$40:$AQ$42,TRANSPOSE(C491:E491)))","v":{"$error":"#N/A"}},{"$error":"#N/A"},{"$error":"#N/A"},{"$error":"#N/A"},{"$error":"#N/A"},{"$error":"#N/A"}]
[492,{"$error":"#N/A"},{"$error":"#N/A"},{"$error":"#N/A"},{"$error":"#N/A"},{"$error":"#N/A"},{"$error":"#N/A"},{"$error":"#N/A"},{"$error":"#N/A"},{"$error":"#N/A"},{"$error":"#N/A"},{"$f":"IF($AK$38=0,TRANSPOSE(MMULT($O$10:$Q$12,TRANSPOSE(C492:E492))),TRANSPOSE(MMULT($O$10:$Q$12,TRANSPOSE(Y492:AA492))))","v":{"$error":"#N/A"}},{"$error":"#N/A"},{"$error":"#N/A"},{"$error":"#N/A"},{"$error":"#N/A"},{"$f":"TRANSPOSE(MMULT($AE$10:$AG$12,TRANSPOSE(F492:H492)))","v":{"$error":"#N/A"}},{"$error":"#N/A"},{"$error":"#N/A"},{"$error":"#N/A"},{"$error":"#N/A"},{"$f":"TRANSPOSE(MMULT($AO$40:$AQ$42,TRANSPOSE(C492:E492)))","v":{"$error":"#N/A"}},{"$error":"#N/A"},{"$error":"#N/A"},{"$error":"#N/A"},{"$error":"#N/A"},{"$error":"#N/A"}]
[493,{"$error":"#N/A"},{"$error":"#N/A"},{"$error":"#N/A"},{"$error":"#N/A"},{"$error":"#N/A"},{"$error":"#N/A"},{"$error":"#N/A"},{"$error":"#N/A"},{"$error":"#N/A"},{"$error":"#N/A"},{"$f":"IF($AK$38=0,TRANSPOSE(MMULT($O$10:$Q$12,TRANSPOSE(C493:E493))),TRANSPOSE(MMULT($O$10:$Q$12,TRANSPOSE(Y493:AA493))))","v":{"$error":"#N/A"}},{"$error":"#N/A"},{"$error":"#N/A"},{"$error":"#N/A"},{"$error":"#N/A"},{"$f":"TRANSPOSE(MMULT($AE$10:$AG$12,TRANSPOSE(F493:H493)))","v":{"$error":"#N/A"}},{"$error":"#N/A"},{"$error":"#N/A"},{"$error":"#N/A"},{"$error":"#N/A"},{"$f":"TRANSPOSE(MMULT($AO$40:$AQ$42,TRANSPOSE(C493:E493)))","v":{"$error":"#N/A"}},{"$error":"#N/A"},{"$error":"#N/A"},{"$error":"#N/A"},{"$error":"#N/A"},{"$error":"#N/A"}]
[494,{"$error":"#N/A"},{"$error":"#N/A"},{"$error":"#N/A"},{"$error":"#N/A"},{"$error":"#N/A"},{"$error":"#N/A"},{"$error":"#N/A"},{"$error":"#N/A"},{"$error":"#N/A"},{"$error":"#N/A"},{"$f":"IF($AK$38=0,TRANSPOSE(MMULT($O$10:$Q$12,TRANSPOSE(C494:E494))),TRANSPOSE(MMULT($O$10:$Q$12,TRANSPOSE(Y494:AA494))))","v":{"$error":"#N/A"}},{"$error":"#N/A"},{"$error":"#N/A"},{"$error":"#N/A"},{"$error":"#N/A"},{"$f":"TRANSPOSE(MMULT($AE$10:$AG$12,TRANSPOSE(F494:H494)))","v":{"$error":"#N/A"}},{"$error":"#N/A"},{"$error":"#N/A"},{"$error":"#N/A"},{"$error":"#N/A"},{"$f":"TRANSPOSE(MMULT($AO$40:$AQ$42,TRANSPOSE(C494:E494)))","v":{"$error":"#N/A"}},{"$error":"#N/A"},{"$error":"#N/A"},{"$error":"#N/A"},{"$error":"#N/A"},{"$error":"#N/A"}]
[495,{"$error":"#N/A"},{"$error":"#N/A"},{"$error":"#N/A"},{"$error":"#N/A"},{"$error":"#N/A"},{"$error":"#N/A"},{"$error":"#N/A"},{"$error":"#N/A"},{"$error":"#N/A"},{"$error":"#N/A"},{"$f":"IF($AK$38=0,TRANSPOSE(MMULT($O$10:$Q$12,TRANSPOSE(C495:E495))),TRANSPOSE(MMULT($O$10:$Q$12,TRANSPOSE(Y495:AA495))))","v":{"$error":"#N/A"}},{"$error":"#N/A"},{"$error":"#N/A"},{"$error":"#N/A"},{"$error":"#N/A"},{"$f":"TRANSPOSE(MMULT($AE$10:$AG$12,TRANSPOSE(F495:H495)))","v":{"$error":"#N/A"}},{"$error":"#N/A"},{"$error":"#N/A"},{"$error":"#N/A"},{"$error":"#N/A"},{"$f":"TRANSPOSE(MMULT($AO$40:$AQ$42,TRANSPOSE(C495:E495)))","v":{"$error":"#N/A"}},{"$error":"#N/A"},{"$error":"#N/A"},{"$error":"#N/A"},{"$error":"#N/A"},{"$error":"#N/A"}]
[496,{"$error":"#N/A"},{"$error":"#N/A"},{"$error":"#N/A"},{"$error":"#N/A"},{"$error":"#N/A"},{"$error":"#N/A"},{"$error":"#N/A"},{"$error":"#N/A"},{"$error":"#N/A"},{"$error":"#N/A"},{"$f":"IF($AK$38=0,TRANSPOSE(MMULT($O$10:$Q$12,TRANSPOSE(C496:E496))),TRANSPOSE(MMULT($O$10:$Q$12,TRANSPOSE(Y496:AA496))))","v":{"$error":"#N/A"}},{"$error":"#N/A"},{"$error":"#N/A"},{"$error":"#N/A"},{"$error":"#N/A"},{"$f":"TRANSPOSE(MMULT($AE$10:$AG$12,TRANSPOSE(F496:H496)))","v":{"$error":"#N/A"}},{"$error":"#N/A"},{"$error":"#N/A"},{"$error":"#N/A"},{"$error":"#N/A"},{"$f":"TRANSPOSE(MMULT($AO$40:$AQ$42,TRANSPOSE(C496:E496)))","v":{"$error":"#N/A"}},{"$error":"#N/A"},{"$error":"#N/A"},{"$error":"#N/A"},{"$error":"#N/A"},{"$error":"#N/A"}]
[497,{"$error":"#N/A"},{"$error":"#N/A"},{"$error":"#N/A"},{"$error":"#N/A"},{"$error":"#N/A"},{"$error":"#N/A"},{"$error":"#N/A"},{"$error":"#N/A"},{"$error":"#N/A"},{"$error":"#N/A"},{"$f":"IF($AK$38=0,TRANSPOSE(MMULT($O$10:$Q$12,TRANSPOSE(C497:E497))),TRANSPOSE(MMULT($O$10:$Q$12,TRANSPOSE(Y497:AA497))))","v":{"$error":"#N/A"}},{"$error":"#N/A"},{"$error":"#N/A"},{"$error":"#N/A"},{"$error":"#N/A"},{"$f":"TRANSPOSE(MMULT($AE$10:$AG$12,TRANSPOSE(F497:H497)))","v":{"$error":"#N/A"}},{"$error":"#N/A"},{"$error":"#N/A"},{"$error":"#N/A"},{"$error":"#N/A"},{"$f":"TRANSPOSE(MMULT($AO$40:$AQ$42,TRANSPOSE(C497:E497)))","v":{"$error":"#N/A"}},{"$error":"#N/A"},{"$error":"#N/A"},{"$error":"#N/A"},{"$error":"#N/A"},{"$error":"#N/A"}]
[498,{"$error":"#N/A"},{"$error":"#N/A"},{"$error":"#N/A"},{"$error":"#N/A"},{"$error":"#N/A"},{"$error":"#N/A"},{"$error":"#N/A"},{"$error":"#N/A"},{"$error":"#N/A"},{"$error":"#N/A"},{"$f":"IF($AK$38=0,TRANSPOSE(MMULT($O$10:$Q$12,TRANSPOSE(C498:E498))),TRANSPOSE(MMULT($O$10:$Q$12,TRANSPOSE(Y498:AA498))))","v":{"$error":"#N/A"}},{"$error":"#N/A"},{"$error":"#N/A"},{"$error":"#N/A"},{"$error":"#N/A"},{"$f":"TRANSPOSE(MMULT($AE$10:$AG$12,TRANSPOSE(F498:H498)))","v":{"$error":"#N/A"}},{"$error":"#N/A"},{"$error":"#N/A"},{"$error":"#N/A"},{"$error":"#N/A"},{"$f":"TRANSPOSE(MMULT($AO$40:$AQ$42,TRANSPOSE(C498:E498)))","v":{"$error":"#N/A"}},{"$error":"#N/A"},{"$error":"#N/A"},{"$error":"#N/A"},{"$error":"#N/A"},{"$error":"#N/A"}]
[499,{"$error":"#N/A"},{"$error":"#N/A"},{"$error":"#N/A"},{"$error":"#N/A"},{"$error":"#N/A"},{"$error":"#N/A"},{"$error":"#N/A"},{"$error":"#N/A"},{"$error":"#N/A"},{"$error":"#N/A"},{"$f":"IF($AK$38=0,TRANSPOSE(MMULT($O$10:$Q$12,TRANSPOSE(C499:E499))),TRANSPOSE(MMULT($O$10:$Q$12,TRANSPOSE(Y499:AA499))))","v":{"$error":"#N/A"}},{"$error":"#N/A"},{"$error":"#N/A"},{"$error":"#N/A"},{"$error":"#N/A"},{"$f":"TRANSPOSE(MMULT($AE$10:$AG$12,TRANSPOSE(F499:H499)))","v":{"$error":"#N/A"}},{"$error":"#N/A"},{"$error":"#N/A"},{"$error":"#N/A"},{"$error":"#N/A"},{"$f":"TRANSPOSE(MMULT($AO$40:$AQ$42,TRANSPOSE(C499:E499)))","v":{"$error":"#N/A"}},{"$error":"#N/A"},{"$error":"#N/A"},{"$error":"#N/A"},{"$error":"#N/A"},{"$error":"#N/A"}]
[500,{"$error":"#N/A"},{"$f":"(C$4+F$4*$B500+I$4*$B500^2+L$4*$B500^3+O$4*$B500^4)+(C$5+F$5*$B500+I$5*$B500^2+L$5*$B500^3+O$5*$B500^5)*(COS(C$6+F$6*$B500+I$6*$B500^2+L$6*$B500^3+O$6*$B500^4))+(C$7+F$7*$B500+I$7*$B500^2+L$7*$B500^3+O$7*$B500^4)*(SIN(C$8+F$8*$B500+I$8*$B500^2+L$8*$B500^3+O$8*$B500^4))","v":{"$error":"#N/A"}},{"$f":"(D$4+G$4*$B500+J$4*$B500^2+M$4*$B500^3+P$4*$B500^4)+(D$5+G$5*$B500+J$5*$B500^2+M$5*$B500^3+P$5*$B500^5)*(COS(D$6+G$6*$B500+J$6*$B500^2+M$6*$B500^3+P$6*$B500^4))+(D$7+G$7*$B500+J$7*$B500^2+M$7*$B500^3+P$7*$B500^4)*(SIN(D$8+G$8*$B500+J$8*$B500^2+M$8*$B500^3+P$8*$B500^4))","v":{"$error":"#N/A"}},{"$f":"(E$4+H$4*$B500+K$4*$B500^2+N$4*$B500^3+Q$4*$B500^4)+(E$5+H$5*$B500+K$5*$B500^2+N$5*$B500^3+Q$5*$B500^5)*(COS(E$6+H$6*$B500+K$6*$B500^2+N$6*$B500^3+Q$6*$B500^4))+(E$7+H$7*$B500+K$7*$B500^2+N$7*$B500^3+Q$7*$B500^4)*(SIN(E$8+H$8*$B500+K$8*$B500^2+N$8*$B500^3+Q$8*$B500^4))","v":{"$error":"#N/A"}},{"$error":"#N/A"},{"$error":"#N/A"},{"$error":"#N/A"},{"$error":"#N/A"},{"$error":"#N/A"},{"$error":"#N/A"},{"$f":"IF($AK$38=0,TRANSPOSE(MMULT($O$10:$Q$12,TRANSPOSE(C500:E500))),TRANSPOSE(MMULT($O$10:$Q$12,TRANSPOSE(Y500:AA500))))","v":{"$error":"#N/A"}},{"$error":"#N/A"},{"$error":"#N/A"},{"$error":"#N/A"},{"$error":"#N/A"},{"$f":"TRANSPOSE(MMULT($AE$10:$AG$12,TRANSPOSE(F500:H500)))","v":{"$error":"#N/A"}},{"$error":"#N/A"},{"$error":"#N/A"},{"$error":"#N/A"},{"$error":"#N/A"},{"$f":"TRANSPOSE(MMULT($AO$40:$AQ$42,TRANSPOSE(C500:E500)))","v":{"$error":"#N/A"}},{"$error":"#N/A"},{"$error":"#N/A"},{"$error":"#N/A"},{"$error":"#N/A"},{"$error":"#N/A"}]
[501,{"$error":"#N/A"},{"$error":"#N/A"},{"$error":"#N/A"},{"$error":"#N/A"},{"$error":"#N/A"},{"$error":"#N/A"},{"$error":"#N/A"},{"$error":"#N/A"},{"$error":"#N/A"},{"$error":"#N/A"},{"$f":"IF($AK$38=0,TRANSPOSE(MMULT($O$10:$Q$12,TRANSPOSE(C501:E501))),TRANSPOSE(MMULT($O$10:$Q$12,TRANSPOSE(Y501:AA501))))","v":{"$error":"#N/A"}},{"$error":"#N/A"},{"$error":"#N/A"},{"$error":"#N/A"},{"$error":"#N/A"},{"$f":"TRANSPOSE(MMULT($AE$10:$AG$12,TRANSPOSE(F501:H501)))","v":{"$error":"#N/A"}},{"$error":"#N/A"},{"$error":"#N/A"},{"$error":"#N/A"},{"$error":"#N/A"},{"$f":"TRANSPOSE(MMULT($AO$40:$AQ$42,TRANSPOSE(C501:E501)))","v":{"$error":"#N/A"}},{"$error":"#N/A"},{"$error":"#N/A"},{"$error":"#N/A"},{"$error":"#N/A"},{"$error":"#N/A"}]
[502,{"$error":"#N/A"},{"$error":"#N/A"},{"$error":"#N/A"},{"$error":"#N/A"},{"$error":"#N/A"},{"$error":"#N/A"},{"$error":"#N/A"},{"$error":"#N/A"},{"$error":"#N/A"},{"$error":"#N/A"},{"$f":"IF($AK$38=0,TRANSPOSE(MMULT($O$10:$Q$12,TRANSPOSE(C502:E502))),TRANSPOSE(MMULT($O$10:$Q$12,TRANSPOSE(Y502:AA502))))","v":{"$error":"#N/A"}},{"$error":"#N/A"},{"$error":"#N/A"},{"$error":"#N/A"},{"$error":"#N/A"},{"$f":"TRANSPOSE(MMULT($AE$10:$AG$12,TRANSPOSE(F502:H502)))","v":{"$error":"#N/A"}},{"$error":"#N/A"},{"$error":"#N/A"},{"$error":"#N/A"},{"$error":"#N/A"},{"$f":"TRANSPOSE(MMULT($AO$40:$AQ$42,TRANSPOSE(C502:E502)))","v":{"$error":"#N/A"}},{"$error":"#N/A"},{"$error":"#N/A"},{"$error":"#N/A"},{"$error":"#N/A"},{"$error":"#N/A"}]
[503,{"$error":"#N/A"},{"$error":"#N/A"},{"$error":"#N/A"},{"$error":"#N/A"},{"$error":"#N/A"},{"$error":"#N/A"},{"$error":"#N/A"},{"$error":"#N/A"},{"$error":"#N/A"},{"$error":"#N/A"},{"$f":"IF($AK$38=0,TRANSPOSE(MMULT($O$10:$Q$12,TRANSPOSE(C503:E503))),TRANSPOSE(MMULT($O$10:$Q$12,TRANSPOSE(Y503:AA503))))","v":{"$error":"#N/A"}},{"$error":"#N/A"},{"$error":"#N/A"},{"$error":"#N/A"},{"$error":"#N/A"},{"$f":"TRANSPOSE(MMULT($AE$10:$AG$12,TRANSPOSE(F503:H503)))","v":{"$error":"#N/A"}},{"$error":"#N/A"},{"$error":"#N/A"},{"$error":"#N/A"},{"$error":"#N/A"},{"$f":"TRANSPOSE(MMULT($AO$40:$AQ$42,TRANSPOSE(C503:E503)))","v":{"$error":"#N/A"}},{"$error":"#N/A"},{"$error":"#N/A"},{"$error":"#N/A"},{"$error":"#N/A"},{"$error":"#N/A"}]
[504,{"$error":"#N/A"},{"$error":"#N/A"},{"$error":"#N/A"},{"$error":"#N/A"},{"$error":"#N/A"},{"$error":"#N/A"},{"$error":"#N/A"},{"$error":"#N/A"},{"$error":"#N/A"},{"$error":"#N/A"},{"$f":"IF($AK$38=0,TRANSPOSE(MMULT($O$10:$Q$12,TRANSPOSE(C504:E504))),TRANSPOSE(MMULT($O$10:$Q$12,TRANSPOSE(Y504:AA504))))","v":{"$error":"#N/A"}},{"$error":"#N/A"},{"$error":"#N/A"},{"$error":"#N/A"},{"$error":"#N/A"},{"$f":"TRANSPOSE(MMULT($AE$10:$AG$12,TRANSPOSE(F504:H504)))","v":{"$error":"#N/A"}},{"$error":"#N/A"},{"$error":"#N/A"},{"$error":"#N/A"},{"$error":"#N/A"},{"$f":"TRANSPOSE(MMULT($AO$40:$AQ$42,TRANSPOSE(C504:E504)))","v":{"$error":"#N/A"}},{"$error":"#N/A"},{"$error":"#N/A"},{"$error":"#N/A"},{"$error":"#N/A"},{"$error":"#N/A"}]
[505,{"$error":"#N/A"},{"$error":"#N/A"},{"$error":"#N/A"},{"$error":"#N/A"},{"$error":"#N/A"},{"$error":"#N/A"},{"$error":"#N/A"},{"$error":"#N/A"},{"$error":"#N/A"},{"$error":"#N/A"},{"$f":"IF($AK$38=0,TRANSPOSE(MMULT($O$10:$Q$12,TRANSPOSE(C505:E505))),TRANSPOSE(MMULT($O$10:$Q$12,TRANSPOSE(Y505:AA505))))","v":{"$error":"#N/A"}},{"$error":"#N/A"},{"$error":"#N/A"},{"$error":"#N/A"},{"$error":"#N/A"},{"$f":"TRANSPOSE(MMULT($AE$10:$AG$12,TRANSPOSE(F505:H505)))","v":{"$error":"#N/A"}},{"$error":"#N/A"},{"$error":"#N/A"},{"$error":"#N/A"},{"$error":"#N/A"},{"$f":"TRANSPOSE(MMULT($AO$40:$AQ$42,TRANSPOSE(C505:E505)))","v":{"$error":"#N/A"}},{"$error":"#N/A"},{"$error":"#N/A"},{"$error":"#N/A"},{"$error":"#N/A"},{"$error":"#N/A"}]
[506,{"$error":"#N/A"},{"$error":"#N/A"},{"$error":"#N/A"},{"$error":"#N/A"},{"$error":"#N/A"},{"$error":"#N/A"},{"$error":"#N/A"},{"$error":"#N/A"},{"$error":"#N/A"},{"$error":"#N/A"},{"$f":"IF($AK$38=0,TRANSPOSE(MMULT($O$10:$Q$12,TRANSPOSE(C506:E506))),TRANSPOSE(MMULT($O$10:$Q$12,TRANSPOSE(Y506:AA506))))","v":{"$error":"#N/A"}},{"$error":"#N/A"},{"$error":"#N/A"},{"$error":"#N/A"},{"$error":"#N/A"},{"$f":"TRANSPOSE(MMULT($AE$10:$AG$12,TRANSPOSE(F506:H506)))","v":{"$error":"#N/A"}},{"$error":"#N/A"},{"$error":"#N/A"},{"$error":"#N/A"},{"$error":"#N/A"},{"$f":"TRANSPOSE(MMULT($AO$40:$AQ$42,TRANSPOSE(C506:E506)))","v":{"$error":"#N/A"}},{"$error":"#N/A"},{"$error":"#N/A"},{"$error":"#N/A"},{"$error":"#N/A"},{"$error":"#N/A"}]
[507,{"$error":"#N/A"},{"$error":"#N/A"},{"$error":"#N/A"},{"$error":"#N/A"},{"$error":"#N/A"},{"$error":"#N/A"},{"$error":"#N/A"},{"$error":"#N/A"},{"$error":"#N/A"},{"$error":"#N/A"},{"$f":"IF($AK$38=0,TRANSPOSE(MMULT($O$10:$Q$12,TRANSPOSE(C507:E507))),TRANSPOSE(MMULT($O$10:$Q$12,TRANSPOSE(Y507:AA507))))","v":{"$error":"#N/A"}},{"$error":"#N/A"},{"$error":"#N/A"},{"$error":"#N/A"},{"$error":"#N/A"},{"$f":"TRANSPOSE(MMULT($AE$10:$AG$12,TRANSPOSE(F507:H507)))","v":{"$error":"#N/A"}},{"$error":"#N/A"},{"$error":"#N/A"},{"$error":"#N/A"},{"$error":"#N/A"},{"$f":"TRANSPOSE(MMULT($AO$40:$AQ$42,TRANSPOSE(C507:E507)))","v":{"$error":"#N/A"}},{"$error":"#N/A"},{"$error":"#N/A"},{"$error":"#N/A"},{"$error":"#N/A"},{"$error":"#N/A"}]
[508,{"$error":"#N/A"},{"$error":"#N/A"},{"$error":"#N/A"},{"$error":"#N/A"},{"$error":"#N/A"},{"$error":"#N/A"},{"$error":"#N/A"},{"$error":"#N/A"},{"$error":"#N/A"},{"$error":"#N/A"},{"$f":"IF($AK$38=0,TRANSPOSE(MMULT($O$10:$Q$12,TRANSPOSE(C508:E508))),TRANSPOSE(MMULT($O$10:$Q$12,TRANSPOSE(Y508:AA508))))","v":{"$error":"#N/A"}},{"$error":"#N/A"},{"$error":"#N/A"},{"$error":"#N/A"},{"$error":"#N/A"},{"$f":"TRANSPOSE(MMULT($AE$10:$AG$12,TRANSPOSE(F508:H508)))","v":{"$error":"#N/A"}},{"$error":"#N/A"},{"$error":"#N/A"},{"$error":"#N/A"},{"$error":"#N/A"},{"$f":"TRANSPOSE(MMULT($AO$40:$AQ$42,TRANSPOSE(C508:E508)))","v":{"$error":"#N/A"}},{"$error":"#N/A"},{"$error":"#N/A"},{"$error":"#N/A"},{"$error":"#N/A"},{"$error":"#N/A"}]
[509,{"$error":"#N/A"},{"$error":"#N/A"},{"$error":"#N/A"},{"$error":"#N/A"},{"$error":"#N/A"},{"$error":"#N/A"},{"$error":"#N/A"},{"$error":"#N/A"},{"$error":"#N/A"},{"$error":"#N/A"},{"$f":"IF($AK$38=0,TRANSPOSE(MMULT($O$10:$Q$12,TRANSPOSE(C509:E509))),TRANSPOSE(MMULT($O$10:$Q$12,TRANSPOSE(Y509:AA509))))","v":{"$error":"#N/A"}},{"$error":"#N/A"},{"$error":"#N/A"},{"$error":"#N/A"},{"$error":"#N/A"},{"$f":"TRANSPOSE(MMULT($AE$10:$AG$12,TRANSPOSE(F509:H509)))","v":{"$error":"#N/A"}},{"$error":"#N/A"},{"$error":"#N/A"},{"$error":"#N/A"},{"$error":"#N/A"},{"$f":"TRANSPOSE(MMULT($AO$40:$AQ$42,TRANSPOSE(C509:E509)))","v":{"$error":"#N/A"}},{"$error":"#N/A"},{"$error":"#N/A"},{"$error":"#N/A"},{"$error":"#N/A"},{"$error":"#N/A"}]
[510,{"$error":"#N/A"},{"$error":"#N/A"},{"$error":"#N/A"},{"$error":"#N/A"},{"$error":"#N/A"},{"$error":"#N/A"},{"$error":"#N/A"},{"$error":"#N/A"},{"$error":"#N/A"},{"$error":"#N/A"},{"$f":"IF($AK$38=0,TRANSPOSE(MMULT($O$10:$Q$12,TRANSPOSE(C510:E510))),TRANSPOSE(MMULT($O$10:$Q$12,TRANSPOSE(Y510:AA510))))","v":{"$error":"#N/A"}},{"$error":"#N/A"},{"$error":"#N/A"},{"$error":"#N/A"},{"$error":"#N/A"},{"$f":"TRANSPOSE(MMULT($AE$10:$AG$12,TRANSPOSE(F510:H510)))","v":{"$error":"#N/A"}},{"$error":"#N/A"},{"$error":"#N/A"},{"$error":"#N/A"},{"$error":"#N/A"},{"$f":"TRANSPOSE(MMULT($AO$40:$AQ$42,TRANSPOSE(C510:E510)))","v":{"$error":"#N/A"}},{"$error":"#N/A"},{"$error":"#N/A"},{"$error":"#N/A"},{"$error":"#N/A"},{"$error":"#N/A"}]
[511,{"$error":"#N/A"},{"$error":"#N/A"},{"$error":"#N/A"},{"$error":"#N/A"},{"$error":"#N/A"},{"$error":"#N/A"},{"$error":"#N/A"},{"$error":"#N/A"},{"$error":"#N/A"},{"$error":"#N/A"},{"$f":"IF($AK$38=0,TRANSPOSE(MMULT($O$10:$Q$12,TRANSPOSE(C511:E511))),TRANSPOSE(MMULT($O$10:$Q$12,TRANSPOSE(Y511:AA511))))","v":{"$error":"#N/A"}},{"$error":"#N/A"},{"$error":"#N/A"},{"$error":"#N/A"},{"$error":"#N/A"},{"$f":"TRANSPOSE(MMULT($AE$10:$AG$12,TRANSPOSE(F511:H511)))","v":{"$error":"#N/A"}},{"$error":"#N/A"},{"$error":"#N/A"},{"$error":"#N/A"},{"$error":"#N/A"},{"$f":"TRANSPOSE(MMULT($AO$40:$AQ$42,TRANSPOSE(C511:E511)))","v":{"$error":"#N/A"}},{"$error":"#N/A"},{"$error":"#N/A"},{"$error":"#N/A"},{"$error":"#N/A"},{"$error":"#N/A"}]
[512,{"$error":"#N/A"},{"$error":"#N/A"},{"$error":"#N/A"},{"$error":"#N/A"},{"$error":"#N/A"},{"$error":"#N/A"},{"$error":"#N/A"},{"$error":"#N/A"},{"$error":"#N/A"},{"$error":"#N/A"},{"$f":"IF($AK$38=0,TRANSPOSE(MMULT($O$10:$Q$12,TRANSPOSE(C512:E512))),TRANSPOSE(MMULT($O$10:$Q$12,TRANSPOSE(Y512:AA512))))","v":{"$error":"#N/A"}},{"$error":"#N/A"},{"$error":"#N/A"},{"$error":"#N/A"},{"$error":"#N/A"},{"$f":"TRANSPOSE(MMULT($AE$10:$AG$12,TRANSPOSE(F512:H512)))","v":{"$error":"#N/A"}},{"$error":"#N/A"},{"$error":"#N/A"},{"$error":"#N/A"},{"$error":"#N/A"},{"$f":"TRANSPOSE(MMULT($AO$40:$AQ$42,TRANSPOSE(C512:E512)))","v":{"$error":"#N/A"}},{"$error":"#N/A"},{"$error":"#N/A"},{"$error":"#N/A"},{"$error":"#N/A"},{"$error":"#N/A"}]
[513,{"$error":"#N/A"},{"$error":"#N/A"},{"$error":"#N/A"},{"$error":"#N/A"},{"$error":"#N/A"},{"$error":"#N/A"},{"$error":"#N/A"},{"$error":"#N/A"},{"$error":"#N/A"},{"$error":"#N/A"},{"$f":"IF($AK$38=0,TRANSPOSE(MMULT($O$10:$Q$12,TRANSPOSE(C513:E513))),TRANSPOSE(MMULT($O$10:$Q$12,TRANSPOSE(Y513:AA513))))","v":{"$error":"#N/A"}},{"$error":"#N/A"},{"$error":"#N/A"},{"$error":"#N/A"},{"$error":"#N/A"},{"$f":"TRANSPOSE(MMULT($AE$10:$AG$12,TRANSPOSE(F513:H513)))","v":{"$error":"#N/A"}},{"$error":"#N/A"},{"$error":"#N/A"},{"$error":"#N/A"},{"$error":"#N/A"},{"$f":"TRANSPOSE(MMULT($AO$40:$AQ$42,TRANSPOSE(C513:E513)))","v":{"$error":"#N/A"}},{"$error":"#N/A"},{"$error":"#N/A"},{"$error":"#N/A"},{"$error":"#N/A"},{"$error":"#N/A"}]
[514,{"$error":"#N/A"},{"$error":"#N/A"},{"$error":"#N/A"},{"$error":"#N/A"},{"$error":"#N/A"},{"$error":"#N/A"},{"$error":"#N/A"},{"$error":"#N/A"},{"$error":"#N/A"},{"$error":"#N/A"},{"$f":"IF($AK$38=0,TRANSPOSE(MMULT($O$10:$Q$12,TRANSPOSE(C514:E514))),TRANSPOSE(MMULT($O$10:$Q$12,TRANSPOSE(Y514:AA514))))","v":{"$error":"#N/A"}},{"$error":"#N/A"},{"$error":"#N/A"},{"$error":"#N/A"},{"$error":"#N/A"},{"$f":"TRANSPOSE(MMULT($AE$10:$AG$12,TRANSPOSE(F514:H514)))","v":{"$error":"#N/A"}},{"$error":"#N/A"},{"$error":"#N/A"},{"$error":"#N/A"},{"$error":"#N/A"},{"$f":"TRANSPOSE(MMULT($AO$40:$AQ$42,TRANSPOSE(C514:E514)))","v":{"$error":"#N/A"}},{"$error":"#N/A"},{"$error":"#N/A"},{"$error":"#N/A"},{"$error":"#N/A"},{"$error":"#N/A"}]
[515,{"$error":"#N/A"},{"$error":"#N/A"},{"$error":"#N/A"},{"$error":"#N/A"},{"$error":"#N/A"},{"$error":"#N/A"},{"$error":"#N/A"},{"$error":"#N/A"},{"$error":"#N/A"},{"$error":"#N/A"},{"$f":"IF($AK$38=0,TRANSPOSE(MMULT($O$10:$Q$12,TRANSPOSE(C515:E515))),TRANSPOSE(MMULT($O$10:$Q$12,TRANSPOSE(Y515:AA515))))","v":{"$error":"#N/A"}},{"$error":"#N/A"},{"$error":"#N/A"},{"$error":"#N/A"},{"$error":"#N/A"},{"$f":"TRANSPOSE(MMULT($AE$10:$AG$12,TRANSPOSE(F515:H515)))","v":{"$error":"#N/A"}},{"$error":"#N/A"},{"$error":"#N/A"},{"$error":"#N/A"},{"$error":"#N/A"},{"$f":"TRANSPOSE(MMULT($AO$40:$AQ$42,TRANSPOSE(C515:E515)))","v":{"$error":"#N/A"}},{"$error":"#N/A"},{"$error":"#N/A"},{"$error":"#N/A"},{"$error":"#N/A"},{"$error":"#N/A"}]
[516,{"$error":"#N/A"},{"$error":"#N/A"},{"$error":"#N/A"},{"$error":"#N/A"},{"$error":"#N/A"},{"$error":"#N/A"},{"$error":"#N/A"},{"$error":"#N/A"},{"$error":"#N/A"},{"$error":"#N/A"},{"$f":"IF($AK$38=0,TRANSPOSE(MMULT($O$10:$Q$12,TRANSPOSE(C516:E516))),TRANSPOSE(MMULT($O$10:$Q$12,TRANSPOSE(Y516:AA516))))","v":{"$error":"#N/A"}},{"$error":"#N/A"},{"$error":"#N/A"},{"$error":"#N/A"},{"$error":"#N/A"},{"$f":"TRANSPOSE(MMULT($AE$10:$AG$12,TRANSPOSE(F516:H516)))","v":{"$error":"#N/A"}},{"$error":"#N/A"},{"$error":"#N/A"},{"$error":"#N/A"},{"$error":"#N/A"},{"$f":"TRANSPOSE(MMULT($AO$40:$AQ$42,TRANSPOSE(C516:E516)))","v":{"$error":"#N/A"}},{"$error":"#N/A"},{"$error":"#N/A"},{"$error":"#N/A"},{"$error":"#N/A"},{"$error":"#N/A"}]
[517,{"$error":"#N/A"},{"$error":"#N/A"},{"$error":"#N/A"},{"$error":"#N/A"},{"$error":"#N/A"},{"$error":"#N/A"},{"$error":"#N/A"},{"$error":"#N/A"},{"$error":"#N/A"},{"$error":"#N/A"},{"$f":"IF($AK$38=0,TRANSPOSE(MMULT($O$10:$Q$12,TRANSPOSE(C517:E517))),TRANSPOSE(MMULT($O$10:$Q$12,TRANSPOSE(Y517:AA517))))","v":{"$error":"#N/A"}},{"$error":"#N/A"},{"$error":"#N/A"},{"$error":"#N/A"},{"$error":"#N/A"},{"$f":"TRANSPOSE(MMULT($AE$10:$AG$12,TRANSPOSE(F517:H517)))","v":{"$error":"#N/A"}},{"$error":"#N/A"},{"$error":"#N/A"},{"$error":"#N/A"},{"$error":"#N/A"},{"$f":"TRANSPOSE(MMULT($AO$40:$AQ$42,TRANSPOSE(C517:E517)))","v":{"$error":"#N/A"}},{"$error":"#N/A"},{"$error":"#N/A"},{"$error":"#N/A"},{"$error":"#N/A"},{"$error":"#N/A"}]
[518,{"$error":"#N/A"},{"$error":"#N/A"},{"$error":"#N/A"},{"$error":"#N/A"},{"$error":"#N/A"},{"$error":"#N/A"},{"$error":"#N/A"},{"$error":"#N/A"},{"$error":"#N/A"},{"$error":"#N/A"},{"$f":"IF($AK$38=0,TRANSPOSE(MMULT($O$10:$Q$12,TRANSPOSE(C518:E518))),TRANSPOSE(MMULT($O$10:$Q$12,TRANSPOSE(Y518:AA518))))","v":{"$error":"#N/A"}},{"$error":"#N/A"},{"$error":"#N/A"},{"$error":"#N/A"},{"$error":"#N/A"},{"$f":"TRANSPOSE(MMULT($AE$10:$AG$12,TRANSPOSE(F518:H518)))","v":{"$error":"#N/A"}},{"$error":"#N/A"},{"$error":"#N/A"},{"$error":"#N/A"},{"$error":"#N/A"},{"$f":"TRANSPOSE(MMULT($AO$40:$AQ$42,TRANSPOSE(C518:E518)))","v":{"$error":"#N/A"}},{"$error":"#N/A"},{"$error":"#N/A"},{"$error":"#N/A"},{"$error":"#N/A"},{"$error":"#N/A"}]
[519,{"$error":"#N/A"},{"$error":"#N/A"},{"$error":"#N/A"},{"$error":"#N/A"},{"$error":"#N/A"},{"$error":"#N/A"},{"$error":"#N/A"},{"$error":"#N/A"},{"$error":"#N/A"},{"$error":"#N/A"},{"$f":"IF($AK$38=0,TRANSPOSE(MMULT($O$10:$Q$12,TRANSPOSE(C519:E519))),TRANSPOSE(MMULT($O$10:$Q$12,TRANSPOSE(Y519:AA519))))","v":{"$error":"#N/A"}},{"$error":"#N/A"},{"$error":"#N/A"},{"$error":"#N/A"},{"$error":"#N/A"},{"$f":"TRANSPOSE(MMULT($AE$10:$AG$12,TRANSPOSE(F519:H519)))","v":{"$error":"#N/A"}},{"$error":"#N/A"},{"$error":"#N/A"},{"$error":"#N/A"},{"$error":"#N/A"},{"$f":"TRANSPOSE(MMULT($AO$40:$AQ$42,TRANSPOSE(C519:E519)))","v":{"$error":"#N/A"}},{"$error":"#N/A"},{"$error":"#N/A"},{"$error":"#N/A"},{"$error":"#N/A"},{"$error":"#N/A"}]
[520,{"$error":"#N/A"},{"$error":"#N/A"},{"$error":"#N/A"},{"$error":"#N/A"},{"$error":"#N/A"},{"$error":"#N/A"},{"$error":"#N/A"},{"$error":"#N/A"},{"$error":"#N/A"},{"$error":"#N/A"},{"$f":"IF($AK$38=0,TRANSPOSE(MMULT($O$10:$Q$12,TRANSPOSE(C520:E520))),TRANSPOSE(MMULT($O$10:$Q$12,TRANSPOSE(Y520:AA520))))","v":{"$error":"#N/A"}},{"$error":"#N/A"},{"$error":"#N/A"},{"$error":"#N/A"},{"$error":"#N/A"},{"$f":"TRANSPOSE(MMULT($AE$10:$AG$12,TRANSPOSE(F520:H520)))","v":{"$error":"#N/A"}},{"$error":"#N/A"},{"$error":"#N/A"},{"$error":"#N/A"},{"$error":"#N/A"},{"$f":"TRANSPOSE(MMULT($AO$40:$AQ$42,TRANSPOSE(C520:E520)))","v":{"$error":"#N/A"}},{"$error":"#N/A"},{"$error":"#N/A"},{"$error":"#N/A"},{"$error":"#N/A"},{"$error":"#N/A"}]
[521,{"$error":"#N/A"},{"$error":"#N/A"},{"$error":"#N/A"},{"$error":"#N/A"},{"$error":"#N/A"},{"$error":"#N/A"},{"$error":"#N/A"},{"$error":"#N/A"},{"$error":"#N/A"},{"$error":"#N/A"},{"$f":"IF($AK$38=0,TRANSPOSE(MMULT($O$10:$Q$12,TRANSPOSE(C521:E521))),TRANSPOSE(MMULT($O$10:$Q$12,TRANSPOSE(Y521:AA521))))","v":{"$error":"#N/A"}},{"$error":"#N/A"},{"$error":"#N/A"},{"$error":"#N/A"},{"$error":"#N/A"},{"$f":"TRANSPOSE(MMULT($AE$10:$AG$12,TRANSPOSE(F521:H521)))","v":{"$error":"#N/A"}},{"$error":"#N/A"},{"$error":"#N/A"},{"$error":"#N/A"},{"$error":"#N/A"},{"$f":"TRANSPOSE(MMULT($AO$40:$AQ$42,TRANSPOSE(C521:E521)))","v":{"$error":"#N/A"}},{"$error":"#N/A"},{"$error":"#N/A"},{"$error":"#N/A"},{"$error":"#N/A"},{"$error":"#N/A"}]
[522,{"$error":"#N/A"},{"$error":"#N/A"},{"$error":"#N/A"},{"$error":"#N/A"},{"$error":"#N/A"},{"$error":"#N/A"},{"$error":"#N/A"},{"$error":"#N/A"},{"$error":"#N/A"},{"$error":"#N/A"},{"$f":"IF($AK$38=0,TRANSPOSE(MMULT($O$10:$Q$12,TRANSPOSE(C522:E522))),TRANSPOSE(MMULT($O$10:$Q$12,TRANSPOSE(Y522:AA522))))","v":{"$error":"#N/A"}},{"$error":"#N/A"},{"$error":"#N/A"},{"$error":"#N/A"},{"$error":"#N/A"},{"$f":"TRANSPOSE(MMULT($AE$10:$AG$12,TRANSPOSE(F522:H522)))","v":{"$error":"#N/A"}},{"$error":"#N/A"},{"$error":"#N/A"},{"$error":"#N/A"},{"$error":"#N/A"},{"$f":"TRANSPOSE(MMULT($AO$40:$AQ$42,TRANSPOSE(C522:E522)))","v":{"$error":"#N/A"}},{"$error":"#N/A"},{"$error":"#N/A"},{"$error":"#N/A"},{"$error":"#N/A"},{"$error":"#N/A"}]
[523,{"$error":"#N/A"},{"$error":"#N/A"},{"$error":"#N/A"},{"$error":"#N/A"},{"$error":"#N/A"},{"$error":"#N/A"},{"$error":"#N/A"},{"$error":"#N/A"},{"$error":"#N/A"},{"$error":"#N/A"},{"$f":"IF($AK$38=0,TRANSPOSE(MMULT($O$10:$Q$12,TRANSPOSE(C523:E523))),TRANSPOSE(MMULT($O$10:$Q$12,TRANSPOSE(Y523:AA523))))","v":{"$error":"#N/A"}},{"$error":"#N/A"},{"$error":"#N/A"},{"$error":"#N/A"},{"$error":"#N/A"},{"$f":"TRANSPOSE(MMULT($AE$10:$AG$12,TRANSPOSE(F523:H523)))","v":{"$error":"#N/A"}},{"$error":"#N/A"},{"$error":"#N/A"},{"$error":"#N/A"},{"$error":"#N/A"},{"$f":"TRANSPOSE(MMULT($AO$40:$AQ$42,TRANSPOSE(C523:E523)))","v":{"$error":"#N/A"}},{"$error":"#N/A"},{"$error":"#N/A"},{"$error":"#N/A"},{"$error":"#N/A"},{"$error":"#N/A"}]
[524,{"$error":"#N/A"},{"$error":"#N/A"},{"$error":"#N/A"},{"$error":"#N/A"},{"$error":"#N/A"},{"$error":"#N/A"},{"$error":"#N/A"},{"$error":"#N/A"},{"$error":"#N/A"},{"$error":"#N/A"},{"$f":"IF($AK$38=0,TRANSPOSE(MMULT($O$10:$Q$12,TRANSPOSE(C524:E524))),TRANSPOSE(MMULT($O$10:$Q$12,TRANSPOSE(Y524:AA524))))","v":{"$error":"#N/A"}},{"$error":"#N/A"},{"$error":"#N/A"},{"$error":"#N/A"},{"$error":"#N/A"},{"$f":"TRANSPOSE(MMULT($AE$10:$AG$12,TRANSPOSE(F524:H524)))","v":{"$error":"#N/A"}},{"$error":"#N/A"},{"$error":"#N/A"},{"$error":"#N/A"},{"$error":"#N/A"},{"$f":"TRANSPOSE(MMULT($AO$40:$AQ$42,TRANSPOSE(C524:E524)))","v":{"$error":"#N/A"}},{"$error":"#N/A"},{"$error":"#N/A"},{"$error":"#N/A"},{"$error":"#N/A"},{"$error":"#N/A"}]
[525,{"$error":"#N/A"},{"$error":"#N/A"},{"$error":"#N/A"},{"$error":"#N/A"},{"$error":"#N/A"},{"$error":"#N/A"},{"$error":"#N/A"},{"$error":"#N/A"},{"$error":"#N/A"},{"$error":"#N/A"},{"$f":"IF($AK$38=0,TRANSPOSE(MMULT($O$10:$Q$12,TRANSPOSE(C525:E525))),TRANSPOSE(MMULT($O$10:$Q$12,TRANSPOSE(Y525:AA525))))","v":{"$error":"#N/A"}},{"$error":"#N/A"},{"$error":"#N/A"},{"$error":"#N/A"},{"$error":"#N/A"},{"$f":"TRANSPOSE(MMULT($AE$10:$AG$12,TRANSPOSE(F525:H525)))","v":{"$error":"#N/A"}},{"$error":"#N/A"},{"$error":"#N/A"},{"$error":"#N/A"},{"$error":"#N/A"},{"$f":"TRANSPOSE(MMULT($AO$40:$AQ$42,TRANSPOSE(C525:E525)))","v":{"$error":"#N/A"}},{"$error":"#N/A"},{"$error":"#N/A"},{"$error":"#N/A"},{"$error":"#N/A"},{"$error":"#N/A"}]
[526,{"$error":"#N/A"},{"$error":"#N/A"},{"$error":"#N/A"},{"$error":"#N/A"},{"$error":"#N/A"},{"$error":"#N/A"},{"$error":"#N/A"},{"$error":"#N/A"},{"$error":"#N/A"},{"$error":"#N/A"},{"$f":"IF($AK$38=0,TRANSPOSE(MMULT($O$10:$Q$12,TRANSPOSE(C526:E526))),TRANSPOSE(MMULT($O$10:$Q$12,TRANSPOSE(Y526:AA526))))","v":{"$error":"#N/A"}},{"$error":"#N/A"},{"$error":"#N/A"},{"$error":"#N/A"},{"$error":"#N/A"},{"$f":"TRANSPOSE(MMULT($AE$10:$AG$12,TRANSPOSE(F526:H526)))","v":{"$error":"#N/A"}},{"$error":"#N/A"},{"$error":"#N/A"},{"$error":"#N/A"},{"$error":"#N/A"},{"$f":"TRANSPOSE(MMULT($AO$40:$AQ$42,TRANSPOSE(C526:E526)))","v":{"$error":"#N/A"}},{"$error":"#N/A"},{"$error":"#N/A"},{"$error":"#N/A"},{"$error":"#N/A"},{"$error":"#N/A"}]
[527,{"$error":"#N/A"},{"$error":"#N/A"},{"$error":"#N/A"},{"$error":"#N/A"},{"$error":"#N/A"},{"$error":"#N/A"},{"$error":"#N/A"},{"$error":"#N/A"},{"$error":"#N/A"},{"$error":"#N/A"},{"$f":"IF($AK$38=0,TRANSPOSE(MMULT($O$10:$Q$12,TRANSPOSE(C527:E527))),TRANSPOSE(MMULT($O$10:$Q$12,TRANSPOSE(Y527:AA527))))","v":{"$error":"#N/A"}},{"$error":"#N/A"},{"$error":"#N/A"},{"$error":"#N/A"},{"$error":"#N/A"},{"$f":"TRANSPOSE(MMULT($AE$10:$AG$12,TRANSPOSE(F527:H527)))","v":{"$error":"#N/A"}},{"$error":"#N/A"},{"$error":"#N/A"},{"$error":"#N/A"},{"$error":"#N/A"},{"$f":"TRANSPOSE(MMULT($AO$40:$AQ$42,TRANSPOSE(C527:E527)))","v":{"$error":"#N/A"}},{"$error":"#N/A"},{"$error":"#N/A"},{"$error":"#N/A"},{"$error":"#N/A"},{"$error":"#N/A"}]
[528,{"$error":"#N/A"},{"$error":"#N/A"},{"$error":"#N/A"},{"$error":"#N/A"},{"$f":"(F$7+2*I$7*$B528+3*L$7*$B528^2+4*O$7*$B528^3)*SIN(O$8*$B528^4+L$8*$B528^3+I$8*$B528^2+F$8*$B528+C$8)+(F$8+2*I$8*$B528+3*L$8*$B528^2+4*O$8*$B528^3)*(C$7+F$7*$B528+I$7*$B528^2+L$7*$B528^3+O$7*$B528^4)*COS(O$8*$B528^4+L$8*$B528^3+I$8*$B528^2+F$8*$B528+C$8)-(F$6+2*I$6*$B528+3*L$6*$B528^2+4*O$6*$B528^3)*(C$5+F$5*$B528+I$5*$B528^2+L$5*$B528^3+O$5*$B528^4)*SIN(O$6*$B528^4+L$6*$B528^3+I$6*$B528^2+F$6*$B528+C$6)+(F$5+2*I$5*$B528+3*L$5*$B528^2+4*O$5*$B528^3)*COS(O$6*$B528^4+L$6*$B528^3+I$6*$B528^2+F$6*$B528+C$6)+4*O$4*$B528^3+3*L$4*$B528^2+2*I$4*$B528+F$4","v":{"$error":"#N/A"}},{"$f":"(G$7+2*J$7*$B528+3*M$7*$B528^2+4*P$7*$B528^3)*SIN(P$8*$B528^4+M$8*$B528^3+J$8*$B528^2+G$8*$B528+D$8)+(G$8+2*J$8*$B528+3*M$8*$B528^2+4*P$8*$B528^3)*(D$7+G$7*$B528+J$7*$B528^2+M$7*$B528^3+P$7*$B528^4)*COS(P$8*$B528^4+M$8*$B528^3+J$8*$B528^2+G$8*$B528+D$8)-(G$6+2*J$6*$B528+3*M$6*$B528^2+4*P$6*$B528^3)*(D$5+G$5*$B528+J$5*$B528^2+M$5*$B528^3+P$5*$B528^4)*SIN(P$6*$B528^4+M$6*$B528^3+J$6*$B528^2+G$6*$B528+D$6)+(G$5+2*J$5*$B528+3*M$5*$B528^2+4*P$5*$B528^3)*COS(P$6*$B528^4+M$6*$B528^3+J$6*$B528^2+G$6*$B528+D$6)+4*P$4*$B528^3+3*M$4*$B528^2+2*J$4*$B528+G$4","v":{"$error":"#N/A"}},{"$f":"(H$7+2*K$7*$B528+3*N$7*$B528^2+4*Q$7*$B528^3)*SIN(Q$8*$B528^4+N$8*$B528^3+K$8*$B528^2+H$8*$B528+E$8)+(H$8+2*K$8*$B528+3*N$8*$B528^2+4*Q$8*$B528^3)*(E$7+H$7*$B528+K$7*$B528^2+N$7*$B528^3+Q$7*$B528^4)*COS(Q$8*$B528^4+N$8*$B528^3+K$8*$B528^2+H$8*$B528+E$8)-(H$6+2*K$6*$B528+3*N$6*$B528^2+4*Q$6*$B528^3)*(E$5+H$5*$B528+K$5*$B528^2+N$5*$B528^3+Q$5*$B528^4)*SIN(Q$6*$B528^4+N$6*$B528^3+K$6*$B528^2+H$6*$B528+E$6)+(H$5+2*K$5*$B528+3*N$5*$B528^2+4*Q$5*$B528^3)*COS(Q$6*$B528^4+N$6*$B528^3+K$6*$B528^2+H$6*$B528+E$6)+4*Q$4*$B528^3+3*N$4*$B528^2+2*K$4*$B528+H$4","v":{"$error":"#N/A"}},{"$f":"-1*(F$8+2*I$8*$B528+3*L$8*$B528^2+4*O$8*$B528^3)^2*(C$7+F$7*$B528+I$7*$B528^2+L$7*$B528^3+O$7*$B528^4)*SIN(O$8*$B528^4+L$8*$B528^3+I$8*$B528^2+F$8*$B528+C$8)+(2*I$7+6*L$7*$B528+12*O$7*$B528^2)*SIN(O$8*$B528^4+L$8*$B528^3+I$8*$B528^2+F$8*$B528+C$8)+(2*I$8+6*L$8*$B528+12*O$8*$B528^2)*(C$7+F$7*$B528+I$7*$B528^2+L$7*$B528^3+O$7*$B528^4)*COS(O$8*$B528^4+L$8*$B528^3+I$8*$B528^2+F$8*$B528+C$8)+2*(F$7+2*I$7*$B528+3*L$7*$B528^2+4*O$7*$B528^3)*(F$8+2*I$8*$B528+3*L$8*$B528^2+4*O$8*$B528^3)*COS(O$8*$B528^4+L$8*$B528^3+I$8*$B528^2+F$8*$B528+C$8)-(2*I$6+6*L$6*$B528+12*O$6*$B528^2)*(C$5+F$5*$B528+I$5*$B528^2+L$5*$B528^3+O$5*$B528^4)*SIN(O$6*$B528^4+L$6*$B528^3+I$6*$B528^2+F$6*$B528+C$6)-2*(F$5+2*I$5*$B528+3*L$5*$B528^2+4*O$5*$B528^3)*(F$6+2*I$6*$B528+3*L$6*$B528^2+4*O$6*$B528^3)*SIN(O$6*$B528^4+L$6*$B528^3+I$6*$B528^2+F$6*$B528+C$6)-(F$6+2*I$6*$B528+3*L$6*$B528^2+4*O$6*$B528^3)^2*(C$5+F$5*$B528+I$5*$B528^2+L$5*$B528^3+O$5*$B528^4)*COS(O$6*$B528^4+L$6*$B528^3+I$6*$B528^2+F$6*$B528+C$6)+(2*I$5+6*L$5*$B528+12*O$5*$B528^2)*COS(O$6*$B528^4+L$6*$B528^3+I$6*$B528^2+F$6*$B528+C$6)+12*O$4*$B528^2+6*L$4*$B528+2*I$4","v":{"$error":"#N/A"}},{"$f":"-1*(G$8+2*J$8*$B528+3*M$8*$B528^2+4*P$8*$B528^3)^2*(D$7+G$7*$B528+J$7*$B528^2+M$7*$B528^3+P$7*$B528^4)*SIN(P$8*$B528^4+M$8*$B528^3+J$8*$B528^2+G$8*$B528+D$8)+(2*J$7+6*M$7*$B528+12*P$7*$B528^2)*SIN(P$8*$B528^4+M$8*$B528^3+J$8*$B528^2+G$8*$B528+D$8)+(2*J$8+6*M$8*$B528+12*P$8*$B528^2)*(D$7+G$7*$B528+J$7*$B528^2+M$7*$B528^3+P$7*$B528^4)*COS(P$8*$B528^4+M$8*$B528^3+J$8*$B528^2+G$8*$B528+D$8)+2*(G$7+2*J$7*$B528+3*M$7*$B528^2+4*P$7*$B528^3)*(G$8+2*J$8*$B528+3*M$8*$B528^2+4*P$8*$B528^3)*COS(P$8*$B528^4+M$8*$B528^3+J$8*$B528^2+G$8*$B528+D$8)-(2*J$6+6*M$6*$B528+12*P$6*$B528^2)*(D$5+G$5*$B528+J$5*$B528^2+M$5*$B528^3+P$5*$B528^4)*SIN(P$6*$B528^4+M$6*$B528^3+J$6*$B528^2+G$6*$B528+D$6)-2*(G$5+2*J$5*$B528+3*M$5*$B528^2+4*P$5*$B528^3)*(G$6+2*J$6*$B528+3*M$6*$B528^2+4*P$6*$B528^3)*SIN(P$6*$B528^4+M$6*$B528^3+J$6*$B528^2+G$6*$B528+D$6)-(G$6+2*J$6*$B528+3*M$6*$B528^2+4*P$6*$B528^3)^2*(D$5+G$5*$B528+J$5*$B528^2+M$5*$B528^3+P$5*$B528^4)*COS(P$6*$B528^4+M$6*$B528^3+J$6*$B528^2+G$6*$B528+D$6)+(2*J$5+6*M$5*$B528+12*P$5*$B528^2)*COS(P$6*$B528^4+M$6*$B528^3+J$6*$B528^2+G$6*$B528+D$6)+12*P$4*$B528^2+6*M$4*$B528+2*J$4","v":{"$error":"#N/A"}},{"$f":"-1*(H$8+2*K$8*$B528+3*N$8*$B528^2+4*Q$8*$B528^3)^2*(E$7+H$7*$B528+K$7*$B528^2+N$7*$B528^3+Q$7*$B528^4)*SIN(Q$8*$B528^4+N$8*$B528^3+K$8*$B528^2+H$8*$B528+E$8)+(2*K$7+6*N$7*$B528+12*Q$7*$B528^2)*SIN(Q$8*$B528^4+N$8*$B528^3+K$8*$B528^2+H$8*$B528+E$8)+(2*K$8+6*N$8*$B528+12*Q$8*$B528^2)*(E$7+H$7*$B528+K$7*$B528^2+N$7*$B528^3+Q$7*$B528^4)*COS(Q$8*$B528^4+N$8*$B528^3+K$8*$B528^2+H$8*$B528+E$8)+2*(H$7+2*K$7*$B528+3*N$7*$B528^2+4*Q$7*$B528^3)*(H$8+2*K$8*$B528+3*N$8*$B528^2+4*Q$8*$B528^3)*COS(Q$8*$B528^4+N$8*$B528^3+K$8*$B528^2+H$8*$B528+E$8)-(2*K$6+6*N$6*$B528+12*Q$6*$B528^2)*(E$5+H$5*$B528+K$5*$B528^2+N$5*$B528^3+Q$5*$B528^4)*SIN(Q$6*$B528^4+N$6*$B528^3+K$6*$B528^2+H$6*$B528+E$6)-2*(H$5+2*K$5*$B528+3*N$5*$B528^2+4*Q$5*$B528^3)*(H$6+2*K$6*$B528+3*N$6*$B528^2+4*Q$6*$B528^3)*SIN(Q$6*$B528^4+N$6*$B528^3+K$6*$B528^2+H$6*$B528+E$6)-(H$6+2*K$6*$B528+3*N$6*$B528^2+4*Q$6*$B528^3)^2*(E$5+H$5*$B528+K$5*$B528^2+N$5*$B528^3+Q$5*$B528^4)*COS(Q$6*$B528^4+N$6*$B528^3+K$6*$B528^2+H$6*$B528+E$6)+(2*K$5+6*N$5*$B528+12*Q$5*$B528^2)*COS(Q$6*$B528^4+N$6*$B528^3+K$6*$B528^2+H$6*$B528+E$6)+12*Q$4*$B528^2+6*N$4*$B528+2*K$4","v":{"$error":"#N/A"}},{"$f":"IF($AK$38=0,TRANSPOSE(MMULT($O$10:$Q$12,TRANSPOSE(C528:E528))),TRANSPOSE(MMULT($O$10:$Q$12,TRANSPOSE(Y528:AA528))))","v":{"$error":"#N/A"}},{"$error":"#N/A"},{"$error":"#N/A"},{"$error":"#N/A"},{"$error":"#N/A"},{"$f":"TRANSPOSE(MMULT($AE$10:$AG$12,TRANSPOSE(F528:H528)))","v":{"$error":"#N/A"}},{"$error":"#N/A"},{"$error":"#N/A"},{"$f":"$Y$5+$Y$4*IF($U$8=1,Q528,(Q528*$U$6)/($U$6+$U$7+R528))","v":{"$error":"#N/A"}},{"$f":"$Y$6+$Y$4*IF($U$8=1,R528,(S528*$U$6)/($U$6+$U$7+R528))","v":{"$error":"#N/A"}},{"$f":"TRANSPOSE(MMULT($AO$40:$AQ$42,TRANSPOSE(C528:E528)))","v":{"$error":"#N/A"}},{"$error":"#N/A"},{"$error":"#N/A"},{"$f":"V528+$AL$46","v":{"$error":"#N/A"}},{"$f":"W528+$AL$47","v":{"$error":"#N/A"}},{"$f":"X528+$AL$48","v":{"$error":"#N/A"}}]
[529,{"$error":"#N/A"},{"$error":"#N/A"},{"$error":"#N/A"},{"$error":"#N/A"},{"$error":"#N/A"},{"$error":"#N/A"},{"$error":"#N/A"},{"$error":"#N/A"},{"$error":"#N/A"},{"$error":"#N/A"},{"$f":"IF($AK$38=0,TRANSPOSE(MMULT($O$10:$Q$12,TRANSPOSE(C529:E529))),TRANSPOSE(MMULT($O$10:$Q$12,TRANSPOSE(Y529:AA529))))","v":{"$error":"#N/A"}},{"$error":"#N/A"},{"$error":"#N/A"},{"$f":"IF($AD$4=0,NA(),$X$5+$X$4*IF($U$8=1,L529,(L529*$U$6)/($U$6+$U$7+M529)))","v":{"$error":"#N/A"}},{"$f":"IF($AD$4=0,NA(),$X$6+$X$4*IF($U$8=1,M529,(N529*$U$6)/($U$6+$U$7+M529)))","v":{"$error":"#N/A"}},{"$f":"TRANSPOSE(MMULT($AE$10:$AG$12,TRANSPOSE(F529:H529)))","v":{"$error":"#N/A"}},{"$error":"#N/A"},{"$error":"#N/A"},{"$error":"#N/A"},{"$error":"#N/A"},{"$f":"TRANSPOSE(MMULT($AO$40:$AQ$42,TRANSPOSE(C529:E529)))","v":{"$error":"#N/A"}},{"$error":"#N/A"},{"$error":"#N/A"},{"$error":"#N/A"},{"$error":"#N/A"},{"$error":"#N/A"}]
[530,{"$f":"IF(B529<$B$3,B529+$S$3,NA())","v":{"$error":"#N/A"}},{"$error":"#N/A"},{"$error":"#N/A"},{"$error":"#N/A"},{"$error":"#N/A"},{"$error":"#N/A"},{"$error":"#N/A"},{"$error":"#N/A"},{"$error":"#N/A"},{"$error":"#N/A"},{"$f":"IF($AK$38=0,TRANSPOSE(MMULT($O$10:$Q$12,TRANSPOSE(C530:E530))),TRANSPOSE(MMULT($O$10:$Q$12,TRANSPOSE(Y530:AA530))))","v":{"$error":"#N/A"}},{"$error":"#N/A"},{"$error":"#N/A"},{"$error":"#N/A"},{"$error":"#N/A"},{"$f":"TRANSPOSE(MMULT($AE$10:$AG$12,TRANSPOSE(F530:H530)))","v":{"$error":"#N/A"}},{"$error":"#N/A"},{"$error":"#N/A"},{"$error":"#N/A"},{"$error":"#N/A"},{"$f":"TRANSPOSE(MMULT($AO$40:$AQ$42,TRANSPOSE(C530:E530)))","v":{"$error":"#N/A"}},{"$error":"#N/A"},{"$error":"#N/A"},{"$error":"#N/A"},{"$error":"#N/A"},{"$error":"#N/A"}]
[531,{"$error":"#N/A"},{"$error":"#N/A"},{"$error":"#N/A"},{"$error":"#N/A"},{"$error":"#N/A"},{"$error":"#N/A"},{"$error":"#N/A"},{"$error":"#N/A"},{"$error":"#N/A"},{"$error":"#N/A"},{"$f":"IF($AK$38=0,TRANSPOSE(MMULT($O$10:$Q$12,TRANSPOSE(C531:E531))),TRANSPOSE(MMULT($O$10:$Q$12,TRANSPOSE(Y531:AA531))))","v":{"$error":"#N/A"}},{"$error":"#N/A"},{"$error":"#N/A"},{"$error":"#N/A"},{"$error":"#N/A"},{"$f":"TRANSPOSE(MMULT($AE$10:$AG$12,TRANSPOSE(F531:H531)))","v":{"$error":"#N/A"}},{"$error":"#N/A"},{"$error":"#N/A"},{"$error":"#N/A"},{"$error":"#N/A"},{"$f":"TRANSPOSE(MMULT($AO$40:$AQ$42,TRANSPOSE(C531:E531)))","v":{"$error":"#N/A"}},{"$error":"#N/A"},{"$error":"#N/A"},{"$error":"#N/A"},{"$error":"#N/A"},{"$error":"#N/A"}]
[532,{"$error":"#N/A"},{"$error":"#N/A"},{"$error":"#N/A"},{"$error":"#N/A"},{"$error":"#N/A"},{"$error":"#N/A"},{"$error":"#N/A"},{"$error":"#N/A"},{"$error":"#N/A"},{"$error":"#N/A"},{"$f":"IF($AK$38=0,TRANSPOSE(MMULT($O$10:$Q$12,TRANSPOSE(C532:E532))),TRANSPOSE(MMULT($O$10:$Q$12,TRANSPOSE(Y532:AA532))))","v":{"$error":"#N/A"}},{"$error":"#N/A"},{"$error":"#N/A"},{"$error":"#N/A"},{"$error":"#N/A"},{"$f":"TRANSPOSE(MMULT($AE$10:$AG$12,TRANSPOSE(F532:H532)))","v":{"$error":"#N/A"}},{"$error":"#N/A"},{"$error":"#N/A"},{"$error":"#N/A"},{"$error":"#N/A"},{"$f":"TRANSPOSE(MMULT($AO$40:$AQ$42,TRANSPOSE(C532:E532)))","v":{"$error":"#N/A"}},{"$error":"#N/A"},{"$error":"#N/A"},{"$error":"#N/A"},{"$error":"#N/A"},{"$error":"#N/A"}]
[533,{"$error":"#N/A"},{"$error":"#N/A"},{"$error":"#N/A"},{"$error":"#N/A"},{"$error":"#N/A"},{"$error":"#N/A"},{"$error":"#N/A"},{"$error":"#N/A"},{"$error":"#N/A"},{"$error":"#N/A"},{"$f":"IF($AK$38=0,TRANSPOSE(MMULT($O$10:$Q$12,TRANSPOSE(C533:E533))),TRANSPOSE(MMULT($O$10:$Q$12,TRANSPOSE(Y533:AA533))))","v":{"$error":"#N/A"}},{"$error":"#N/A"},{"$error":"#N/A"},{"$error":"#N/A"},{"$error":"#N/A"},{"$f":"TRANSPOSE(MMULT($AE$10:$AG$12,TRANSPOSE(F533:H533)))","v":{"$error":"#N/A"}},{"$error":"#N/A"},{"$error":"#N/A"},{"$error":"#N/A"},{"$error":"#N/A"},{"$f":"TRANSPOSE(MMULT($AO$40:$AQ$42,TRANSPOSE(C533:E533)))","v":{"$error":"#N/A"}},{"$error":"#N/A"},{"$error":"#N/A"},{"$error":"#N/A"},{"$error":"#N/A"},{"$error":"#N/A"}]
[534,{"$error":"#N/A"},{"$error":"#N/A"},{"$error":"#N/A"},{"$error":"#N/A"},{"$error":"#N/A"},{"$error":"#N/A"},{"$error":"#N/A"},{"$error":"#N/A"},{"$error":"#N/A"},{"$error":"#N/A"},{"$f":"IF($AK$38=0,TRANSPOSE(MMULT($O$10:$Q$12,TRANSPOSE(C534:E534))),TRANSPOSE(MMULT($O$10:$Q$12,TRANSPOSE(Y534:AA534))))","v":{"$error":"#N/A"}},{"$error":"#N/A"},{"$error":"#N/A"},{"$error":"#N/A"},{"$error":"#N/A"},{"$f":"TRANSPOSE(MMULT($AE$10:$AG$12,TRANSPOSE(F534:H534)))","v":{"$error":"#N/A"}},{"$error":"#N/A"},{"$error":"#N/A"},{"$error":"#N/A"},{"$error":"#N/A"},{"$f":"TRANSPOSE(MMULT($AO$40:$AQ$42,TRANSPOSE(C534:E534)))","v":{"$error":"#N/A"}},{"$error":"#N/A"},{"$error":"#N/A"},{"$error":"#N/A"},{"$error":"#N/A"},{"$error":"#N/A"}]
[535,{"$error":"#N/A"},{"$error":"#N/A"},{"$error":"#N/A"},{"$error":"#N/A"},{"$error":"#N/A"},{"$error":"#N/A"},{"$error":"#N/A"},{"$error":"#N/A"},{"$error":"#N/A"},{"$error":"#N/A"},{"$f":"IF($AK$38=0,TRANSPOSE(MMULT($O$10:$Q$12,TRANSPOSE(C535:E535))),TRANSPOSE(MMULT($O$10:$Q$12,TRANSPOSE(Y535:AA535))))","v":{"$error":"#N/A"}},{"$error":"#N/A"},{"$error":"#N/A"},{"$error":"#N/A"},{"$error":"#N/A"},{"$f":"TRANSPOSE(MMULT($AE$10:$AG$12,TRANSPOSE(F535:H535)))","v":{"$error":"#N/A"}},{"$error":"#N/A"},{"$error":"#N/A"},{"$error":"#N/A"},{"$error":"#N/A"},{"$f":"TRANSPOSE(MMULT($AO$40:$AQ$42,TRANSPOSE(C535:E535)))","v":{"$error":"#N/A"}},{"$error":"#N/A"},{"$error":"#N/A"},{"$error":"#N/A"},{"$error":"#N/A"},{"$error":"#N/A"}]
[536,{"$error":"#N/A"},{"$error":"#N/A"},{"$error":"#N/A"},{"$error":"#N/A"},{"$error":"#N/A"},{"$error":"#N/A"},{"$error":"#N/A"},{"$error":"#N/A"},{"$error":"#N/A"},{"$error":"#N/A"},{"$f":"IF($AK$38=0,TRANSPOSE(MMULT($O$10:$Q$12,TRANSPOSE(C536:E536))),TRANSPOSE(MMULT($O$10:$Q$12,TRANSPOSE(Y536:AA536))))","v":{"$error":"#N/A"}},{"$error":"#N/A"},{"$error":"#N/A"},{"$error":"#N/A"},{"$error":"#N/A"},{"$f":"TRANSPOSE(MMULT($AE$10:$AG$12,TRANSPOSE(F536:H536)))","v":{"$error":"#N/A"}},{"$error":"#N/A"},{"$error":"#N/A"},{"$error":"#N/A"},{"$error":"#N/A"},{"$f":"TRANSPOSE(MMULT($AO$40:$AQ$42,TRANSPOSE(C536:E536)))","v":{"$error":"#N/A"}},{"$error":"#N/A"},{"$error":"#N/A"},{"$error":"#N/A"},{"$error":"#N/A"},{"$error":"#N/A"}]
[537,{"$error":"#N/A"},{"$error":"#N/A"},{"$error":"#N/A"},{"$error":"#N/A"},{"$error":"#N/A"},{"$error":"#N/A"},{"$error":"#N/A"},{"$error":"#N/A"},{"$error":"#N/A"},{"$error":"#N/A"},{"$f":"IF($AK$38=0,TRANSPOSE(MMULT($O$10:$Q$12,TRANSPOSE(C537:E537))),TRANSPOSE(MMULT($O$10:$Q$12,TRANSPOSE(Y537:AA537))))","v":{"$error":"#N/A"}},{"$error":"#N/A"},{"$error":"#N/A"},{"$error":"#N/A"},{"$error":"#N/A"},{"$f":"TRANSPOSE(MMULT($AE$10:$AG$12,TRANSPOSE(F537:H537)))","v":{"$error":"#N/A"}},{"$error":"#N/A"},{"$error":"#N/A"},{"$error":"#N/A"},{"$error":"#N/A"},{"$f":"TRANSPOSE(MMULT($AO$40:$AQ$42,TRANSPOSE(C537:E537)))","v":{"$error":"#N/A"}},{"$error":"#N/A"},{"$error":"#N/A"},{"$error":"#N/A"},{"$error":"#N/A"},{"$error":"#N/A"}]
[538,{"$error":"#N/A"},{"$error":"#N/A"},{"$error":"#N/A"},{"$error":"#N/A"},{"$error":"#N/A"},{"$error":"#N/A"},{"$error":"#N/A"},{"$error":"#N/A"},{"$error":"#N/A"},{"$error":"#N/A"},{"$f":"IF($AK$38=0,TRANSPOSE(MMULT($O$10:$Q$12,TRANSPOSE(C538:E538))),TRANSPOSE(MMULT($O$10:$Q$12,TRANSPOSE(Y538:AA538))))","v":{"$error":"#N/A"}},{"$error":"#N/A"},{"$error":"#N/A"},{"$error":"#N/A"},{"$error":"#N/A"},{"$f":"TRANSPOSE(MMULT($AE$10:$AG$12,TRANSPOSE(F538:H538)))","v":{"$error":"#N/A"}},{"$error":"#N/A"},{"$error":"#N/A"},{"$error":"#N/A"},{"$error":"#N/A"},{"$f":"TRANSPOSE(MMULT($AO$40:$AQ$42,TRANSPOSE(C538:E538)))","v":{"$error":"#N/A"}},{"$error":"#N/A"},{"$error":"#N/A"},{"$error":"#N/A"},{"$error":"#N/A"},{"$error":"#N/A"}]
[539,{"$error":"#N/A"},{"$error":"#N/A"},{"$error":"#N/A"},{"$error":"#N/A"},{"$error":"#N/A"},{"$error":"#N/A"},{"$error":"#N/A"},{"$error":"#N/A"},{"$error":"#N/A"},{"$error":"#N/A"},{"$f":"IF($AK$38=0,TRANSPOSE(MMULT($O$10:$Q$12,TRANSPOSE(C539:E539))),TRANSPOSE(MMULT($O$10:$Q$12,TRANSPOSE(Y539:AA539))))","v":{"$error":"#N/A"}},{"$error":"#N/A"},{"$error":"#N/A"},{"$error":"#N/A"},{"$error":"#N/A"},{"$f":"TRANSPOSE(MMULT($AE$10:$AG$12,TRANSPOSE(F539:H539)))","v":{"$error":"#N/A"}},{"$error":"#N/A"},{"$error":"#N/A"},{"$error":"#N/A"},{"$error":"#N/A"},{"$f":"TRANSPOSE(MMULT($AO$40:$AQ$42,TRANSPOSE(C539:E539)))","v":{"$error":"#N/A"}},{"$error":"#N/A"},{"$error":"#N/A"},{"$error":"#N/A"},{"$error":"#N/A"},{"$error":"#N/A"}]
[540,{"$error":"#N/A"},{"$error":"#N/A"},{"$error":"#N/A"},{"$error":"#N/A"},{"$error":"#N/A"},{"$error":"#N/A"},{"$error":"#N/A"},{"$error":"#N/A"},{"$error":"#N/A"},{"$error":"#N/A"},{"$f":"IF($AK$38=0,TRANSPOSE(MMULT($O$10:$Q$12,TRANSPOSE(C540:E540))),TRANSPOSE(MMULT($O$10:$Q$12,TRANSPOSE(Y540:AA540))))","v":{"$error":"#N/A"}},{"$error":"#N/A"},{"$error":"#N/A"},{"$error":"#N/A"},{"$error":"#N/A"},{"$f":"TRANSPOSE(MMULT($AE$10:$AG$12,TRANSPOSE(F540:H540)))","v":{"$error":"#N/A"}},{"$error":"#N/A"},{"$error":"#N/A"},{"$error":"#N/A"},{"$error":"#N/A"},{"$f":"TRANSPOSE(MMULT($AO$40:$AQ$42,TRANSPOSE(C540:E540)))","v":{"$error":"#N/A"}},{"$error":"#N/A"},{"$error":"#N/A"},{"$error":"#N/A"},{"$error":"#N/A"},{"$error":"#N/A"}]
[541,{"$error":"#N/A"},{"$error":"#N/A"},{"$error":"#N/A"},{"$error":"#N/A"},{"$error":"#N/A"},{"$error":"#N/A"},{"$error":"#N/A"},{"$error":"#N/A"},{"$error":"#N/A"},{"$error":"#N/A"},{"$f":"IF($AK$38=0,TRANSPOSE(MMULT($O$10:$Q$12,TRANSPOSE(C541:E541))),TRANSPOSE(MMULT($O$10:$Q$12,TRANSPOSE(Y541:AA541))))","v":{"$error":"#N/A"}},{"$error":"#N/A"},{"$error":"#N/A"},{"$error":"#N/A"},{"$error":"#N/A"},{"$f":"TRANSPOSE(MMULT($AE$10:$AG$12,TRANSPOSE(F541:H541)))","v":{"$error":"#N/A"}},{"$error":"#N/A"},{"$error":"#N/A"},{"$error":"#N/A"},{"$error":"#N/A"},{"$f":"TRANSPOSE(MMULT($AO$40:$AQ$42,TRANSPOSE(C541:E541)))","v":{"$error":"#N/A"}},{"$error":"#N/A"},{"$error":"#N/A"},{"$error":"#N/A"},{"$error":"#N/A"},{"$error":"#N/A"}]
[542,{"$error":"#N/A"},{"$error":"#N/A"},{"$error":"#N/A"},{"$error":"#N/A"},{"$error":"#N/A"},{"$error":"#N/A"},{"$error":"#N/A"},{"$error":"#N/A"},{"$error":"#N/A"},{"$error":"#N/A"},{"$f":"IF($AK$38=0,TRANSPOSE(MMULT($O$10:$Q$12,TRANSPOSE(C542:E542))),TRANSPOSE(MMULT($O$10:$Q$12,TRANSPOSE(Y542:AA542))))","v":{"$error":"#N/A"}},{"$error":"#N/A"},{"$error":"#N/A"},{"$error":"#N/A"},{"$error":"#N/A"},{"$f":"TRANSPOSE(MMULT($AE$10:$AG$12,TRANSPOSE(F542:H542)))","v":{"$error":"#N/A"}},{"$error":"#N/A"},{"$error":"#N/A"},{"$error":"#N/A"},{"$error":"#N/A"},{"$f":"TRANSPOSE(MMULT($AO$40:$AQ$42,TRANSPOSE(C542:E542)))","v":{"$error":"#N/A"}},{"$error":"#N/A"},{"$error":"#N/A"},{"$error":"#N/A"},{"$error":"#N/A"},{"$error":"#N/A"}]
[543,{"$error":"#N/A"},{"$error":"#N/A"},{"$error":"#N/A"},{"$error":"#N/A"},{"$error":"#N/A"},{"$error":"#N/A"},{"$error":"#N/A"},{"$error":"#N/A"},{"$error":"#N/A"},{"$error":"#N/A"},{"$f":"IF($AK$38=0,TRANSPOSE(MMULT($O$10:$Q$12,TRANSPOSE(C543:E543))),TRANSPOSE(MMULT($O$10:$Q$12,TRANSPOSE(Y543:AA543))))","v":{"$error":"#N/A"}},{"$error":"#N/A"},{"$error":"#N/A"},{"$error":"#N/A"},{"$error":"#N/A"},{"$f":"TRANSPOSE(MMULT($AE$10:$AG$12,TRANSPOSE(F543:H543)))","v":{"$error":"#N/A"}},{"$error":"#N/A"},{"$error":"#N/A"},{"$error":"#N/A"},{"$error":"#N/A"},{"$f":"TRANSPOSE(MMULT($AO$40:$AQ$42,TRANSPOSE(C543:E543)))","v":{"$error":"#N/A"}},{"$error":"#N/A"},{"$error":"#N/A"},{"$error":"#N/A"},{"$error":"#N/A"},{"$error":"#N/A"}]
[544,{"$error":"#N/A"},{"$error":"#N/A"},{"$error":"#N/A"},{"$error":"#N/A"},{"$error":"#N/A"},{"$error":"#N/A"},{"$error":"#N/A"},{"$error":"#N/A"},{"$error":"#N/A"},{"$error":"#N/A"},{"$f":"IF($AK$38=0,TRANSPOSE(MMULT($O$10:$Q$12,TRANSPOSE(C544:E544))),TRANSPOSE(MMULT($O$10:$Q$12,TRANSPOSE(Y544:AA544))))","v":{"$error":"#N/A"}},{"$error":"#N/A"},{"$error":"#N/A"},{"$error":"#N/A"},{"$error":"#N/A"},{"$f":"TRANSPOSE(MMULT($AE$10:$AG$12,TRANSPOSE(F544:H544)))","v":{"$error":"#N/A"}},{"$error":"#N/A"},{"$error":"#N/A"},{"$error":"#N/A"},{"$error":"#N/A"},{"$f":"TRANSPOSE(MMULT($AO$40:$AQ$42,TRANSPOSE(C544:E544)))","v":{"$error":"#N/A"}},{"$error":"#N/A"},{"$error":"#N/A"},{"$error":"#N/A"},{"$error":"#N/A"},{"$error":"#N/A"}]
[545,{"$error":"#N/A"},{"$error":"#N/A"},{"$error":"#N/A"},{"$error":"#N/A"},{"$error":"#N/A"},{"$error":"#N/A"},{"$error":"#N/A"},{"$error":"#N/A"},{"$error":"#N/A"},{"$error":"#N/A"},{"$f":"IF($AK$38=0,TRANSPOSE(MMULT($O$10:$Q$12,TRANSPOSE(C545:E545))),TRANSPOSE(MMULT($O$10:$Q$12,TRANSPOSE(Y545:AA545))))","v":{"$error":"#N/A"}},{"$error":"#N/A"},{"$error":"#N/A"},{"$error":"#N/A"},{"$error":"#N/A"},{"$f":"TRANSPOSE(MMULT($AE$10:$AG$12,TRANSPOSE(F545:H545)))","v":{"$error":"#N/A"}},{"$error":"#N/A"},{"$error":"#N/A"},{"$error":"#N/A"},{"$error":"#N/A"},{"$f":"TRANSPOSE(MMULT($AO$40:$AQ$42,TRANSPOSE(C545:E545)))","v":{"$error":"#N/A"}},{"$error":"#N/A"},{"$error":"#N/A"},{"$error":"#N/A"},{"$error":"#N/A"},{"$error":"#N/A"}]
[546,{"$error":"#N/A"},{"$error":"#N/A"},{"$error":"#N/A"},{"$error":"#N/A"},{"$error":"#N/A"},{"$error":"#N/A"},{"$error":"#N/A"},{"$error":"#N/A"},{"$error":"#N/A"},{"$error":"#N/A"},{"$f":"IF($AK$38=0,TRANSPOSE(MMULT($O$10:$Q$12,TRANSPOSE(C546:E546))),TRANSPOSE(MMULT($O$10:$Q$12,TRANSPOSE(Y546:AA546))))","v":{"$error":"#N/A"}},{"$error":"#N/A"},{"$error":"#N/A"},{"$error":"#N/A"},{"$error":"#N/A"},{"$f":"TRANSPOSE(MMULT($AE$10:$AG$12,TRANSPOSE(F546:H546)))","v":{"$error":"#N/A"}},{"$error":"#N/A"},{"$error":"#N/A"},{"$error":"#N/A"},{"$error":"#N/A"},{"$f":"TRANSPOSE(MMULT($AO$40:$AQ$42,TRANSPOSE(C546:E546)))","v":{"$error":"#N/A"}},{"$error":"#N/A"},{"$error":"#N/A"},{"$error":"#N/A"},{"$error":"#N/A"},{"$error":"#N/A"}]
[547,{"$error":"#N/A"},{"$error":"#N/A"},{"$error":"#N/A"},{"$error":"#N/A"},{"$error":"#N/A"},{"$error":"#N/A"},{"$error":"#N/A"},{"$error":"#N/A"},{"$error":"#N/A"},{"$error":"#N/A"},{"$f":"IF($AK$38=0,TRANSPOSE(MMULT($O$10:$Q$12,TRANSPOSE(C547:E547))),TRANSPOSE(MMULT($O$10:$Q$12,TRANSPOSE(Y547:AA547))))","v":{"$error":"#N/A"}},{"$error":"#N/A"},{"$error":"#N/A"},{"$error":"#N/A"},{"$error":"#N/A"},{"$f":"TRANSPOSE(MMULT($AE$10:$AG$12,TRANSPOSE(F547:H547)))","v":{"$error":"#N/A"}},{"$error":"#N/A"},{"$error":"#N/A"},{"$error":"#N/A"},{"$error":"#N/A"},{"$f":"TRANSPOSE(MMULT($AO$40:$AQ$42,TRANSPOSE(C547:E547)))","v":{"$error":"#N/A"}},{"$error":"#N/A"},{"$error":"#N/A"},{"$error":"#N/A"},{"$error":"#N/A"},{"$error":"#N/A"}]
[548,{"$error":"#N/A"},{"$error":"#N/A"},{"$error":"#N/A"},{"$error":"#N/A"},{"$error":"#N/A"},{"$error":"#N/A"},{"$error":"#N/A"},{"$error":"#N/A"},{"$error":"#N/A"},{"$error":"#N/A"},{"$f":"IF($AK$38=0,TRANSPOSE(MMULT($O$10:$Q$12,TRANSPOSE(C548:E548))),TRANSPOSE(MMULT($O$10:$Q$12,TRANSPOSE(Y548:AA548))))","v":{"$error":"#N/A"}},{"$error":"#N/A"},{"$error":"#N/A"},{"$error":"#N/A"},{"$error":"#N/A"},{"$f":"TRANSPOSE(MMULT($AE$10:$AG$12,TRANSPOSE(F548:H548)))","v":{"$error":"#N/A"}},{"$error":"#N/A"},{"$error":"#N/A"},{"$error":"#N/A"},{"$error":"#N/A"},{"$f":"TRANSPOSE(MMULT($AO$40:$AQ$42,TRANSPOSE(C548:E548)))","v":{"$error":"#N/A"}},{"$error":"#N/A"},{"$error":"#N/A"},{"$error":"#N/A"},{"$error":"#N/A"},{"$error":"#N/A"}]
[549,{"$error":"#N/A"},{"$error":"#N/A"},{"$error":"#N/A"},{"$error":"#N/A"},{"$error":"#N/A"},{"$error":"#N/A"},{"$error":"#N/A"},{"$error":"#N/A"},{"$error":"#N/A"},{"$error":"#N/A"},{"$f":"IF($AK$38=0,TRANSPOSE(MMULT($O$10:$Q$12,TRANSPOSE(C549:E549))),TRANSPOSE(MMULT($O$10:$Q$12,TRANSPOSE(Y549:AA549))))","v":{"$error":"#N/A"}},{"$error":"#N/A"},{"$error":"#N/A"},{"$error":"#N/A"},{"$error":"#N/A"},{"$f":"TRANSPOSE(MMULT($AE$10:$AG$12,TRANSPOSE(F549:H549)))","v":{"$error":"#N/A"}},{"$error":"#N/A"},{"$error":"#N/A"},{"$error":"#N/A"},{"$error":"#N/A"},{"$f":"TRANSPOSE(MMULT($AO$40:$AQ$42,TRANSPOSE(C549:E549)))","v":{"$error":"#N/A"}},{"$error":"#N/A"},{"$error":"#N/A"},{"$error":"#N/A"},{"$error":"#N/A"},{"$error":"#N/A"}]
[550,{"$error":"#N/A"},{"$error":"#N/A"},{"$error":"#N/A"},{"$error":"#N/A"},{"$error":"#N/A"},{"$error":"#N/A"},{"$error":"#N/A"},{"$error":"#N/A"},{"$error":"#N/A"},{"$error":"#N/A"},{"$f":"IF($AK$38=0,TRANSPOSE(MMULT($O$10:$Q$12,TRANSPOSE(C550:E550))),TRANSPOSE(MMULT($O$10:$Q$12,TRANSPOSE(Y550:AA550))))","v":{"$error":"#N/A"}},{"$error":"#N/A"},{"$error":"#N/A"},{"$error":"#N/A"},{"$error":"#N/A"},{"$f":"TRANSPOSE(MMULT($AE$10:$AG$12,TRANSPOSE(F550:H550)))","v":{"$error":"#N/A"}},{"$error":"#N/A"},{"$error":"#N/A"},{"$error":"#N/A"},{"$error":"#N/A"},{"$f":"TRANSPOSE(MMULT($AO$40:$AQ$42,TRANSPOSE(C550:E550)))","v":{"$error":"#N/A"}},{"$error":"#N/A"},{"$error":"#N/A"},{"$error":"#N/A"},{"$error":"#N/A"},{"$error":"#N/A"}]
[551,{"$error":"#N/A"},{"$error":"#N/A"},{"$error":"#N/A"},{"$error":"#N/A"},{"$error":"#N/A"},{"$error":"#N/A"},{"$error":"#N/A"},{"$error":"#N/A"},{"$error":"#N/A"},{"$error":"#N/A"},{"$f":"IF($AK$38=0,TRANSPOSE(MMULT($O$10:$Q$12,TRANSPOSE(C551:E551))),TRANSPOSE(MMULT($O$10:$Q$12,TRANSPOSE(Y551:AA551))))","v":{"$error":"#N/A"}},{"$error":"#N/A"},{"$error":"#N/A"},{"$error":"#N/A"},{"$error":"#N/A"},{"$f":"TRANSPOSE(MMULT($AE$10:$AG$12,TRANSPOSE(F551:H551)))","v":{"$error":"#N/A"}},{"$error":"#N/A"},{"$error":"#N/A"},{"$error":"#N/A"},{"$error":"#N/A"},{"$f":"TRANSPOSE(MMULT($AO$40:$AQ$42,TRANSPOSE(C551:E551)))","v":{"$error":"#N/A"}},{"$error":"#N/A"},{"$error":"#N/A"},{"$error":"#N/A"},{"$error":"#N/A"},{"$error":"#N/A"}]
[552,{"$error":"#N/A"},{"$error":"#N/A"},{"$error":"#N/A"},{"$error":"#N/A"},{"$error":"#N/A"},{"$error":"#N/A"},{"$error":"#N/A"},{"$error":"#N/A"},{"$error":"#N/A"},{"$error":"#N/A"},{"$f":"IF($AK$38=0,TRANSPOSE(MMULT($O$10:$Q$12,TRANSPOSE(C552:E552))),TRANSPOSE(MMULT($O$10:$Q$12,TRANSPOSE(Y552:AA552))))","v":{"$error":"#N/A"}},{"$error":"#N/A"},{"$error":"#N/A"},{"$error":"#N/A"},{"$error":"#N/A"},{"$f":"TRANSPOSE(MMULT($AE$10:$AG$12,TRANSPOSE(F552:H552)))","v":{"$error":"#N/A"}},{"$error":"#N/A"},{"$error":"#N/A"},{"$error":"#N/A"},{"$error":"#N/A"},{"$f":"TRANSPOSE(MMULT($AO$40:$AQ$42,TRANSPOSE(C552:E552)))","v":{"$error":"#N/A"}},{"$error":"#N/A"},{"$error":"#N/A"},{"$error":"#N/A"},{"$error":"#N/A"},{"$error":"#N/A"}]
[553,{"$error":"#N/A"},{"$error":"#N/A"},{"$error":"#N/A"},{"$error":"#N/A"},{"$error":"#N/A"},{"$error":"#N/A"},{"$error":"#N/A"},{"$error":"#N/A"},{"$error":"#N/A"},{"$error":"#N/A"},{"$f":"IF($AK$38=0,TRANSPOSE(MMULT($O$10:$Q$12,TRANSPOSE(C553:E553))),TRANSPOSE(MMULT($O$10:$Q$12,TRANSPOSE(Y553:AA553))))","v":{"$error":"#N/A"}},{"$error":"#N/A"},{"$error":"#N/A"},{"$error":"#N/A"},{"$error":"#N/A"},{"$f":"TRANSPOSE(MMULT($AE$10:$AG$12,TRANSPOSE(F553:H553)))","v":{"$error":"#N/A"}},{"$error":"#N/A"},{"$error":"#N/A"},{"$error":"#N/A"},{"$error":"#N/A"},{"$f":"TRANSPOSE(MMULT($AO$40:$AQ$42,TRANSPOSE(C553:E553)))","v":{"$error":"#N/A"}},{"$error":"#N/A"},{"$error":"#N/A"},{"$error":"#N/A"},{"$error":"#N/A"},{"$error":"#N/A"}]
[554,{"$error":"#N/A"},{"$error":"#N/A"},{"$error":"#N/A"},{"$error":"#N/A"},{"$error":"#N/A"},{"$error":"#N/A"},{"$error":"#N/A"},{"$error":"#N/A"},{"$error":"#N/A"},{"$error":"#N/A"},{"$f":"IF($AK$38=0,TRANSPOSE(MMULT($O$10:$Q$12,TRANSPOSE(C554:E554))),TRANSPOSE(MMULT($O$10:$Q$12,TRANSPOSE(Y554:AA554))))","v":{"$error":"#N/A"}},{"$error":"#N/A"},{"$error":"#N/A"},{"$error":"#N/A"},{"$error":"#N/A"},{"$f":"TRANSPOSE(MMULT($AE$10:$AG$12,TRANSPOSE(F554:H554)))","v":{"$error":"#N/A"}},{"$error":"#N/A"},{"$error":"#N/A"},{"$error":"#N/A"},{"$error":"#N/A"},{"$f":"TRANSPOSE(MMULT($AO$40:$AQ$42,TRANSPOSE(C554:E554)))","v":{"$error":"#N/A"}},{"$error":"#N/A"},{"$error":"#N/A"},{"$error":"#N/A"},{"$error":"#N/A"},{"$error":"#N/A"}]
[555,{"$error":"#N/A"},{"$error":"#N/A"},{"$error":"#N/A"},{"$error":"#N/A"},{"$error":"#N/A"},{"$error":"#N/A"},{"$error":"#N/A"},{"$error":"#N/A"},{"$error":"#N/A"},{"$error":"#N/A"},{"$f":"IF($AK$38=0,TRANSPOSE(MMULT($O$10:$Q$12,TRANSPOSE(C555:E555))),TRANSPOSE(MMULT($O$10:$Q$12,TRANSPOSE(Y555:AA555))))","v":{"$error":"#N/A"}},{"$error":"#N/A"},{"$error":"#N/A"},{"$error":"#N/A"},{"$error":"#N/A"},{"$f":"TRANSPOSE(MMULT($AE$10:$AG$12,TRANSPOSE(F555:H555)))","v":{"$error":"#N/A"}},{"$error":"#N/A"},{"$error":"#N/A"},{"$error":"#N/A"},{"$error":"#N/A"},{"$f":"TRANSPOSE(MMULT($AO$40:$AQ$42,TRANSPOSE(C555:E555)))","v":{"$error":"#N/A"}},{"$error":"#N/A"},{"$error":"#N/A"},{"$error":"#N/A"},{"$error":"#N/A"},{"$error":"#N/A"}]
[556,{"$error":"#N/A"},{"$error":"#N/A"},{"$error":"#N/A"},{"$error":"#N/A"},{"$error":"#N/A"},{"$error":"#N/A"},{"$error":"#N/A"},{"$error":"#N/A"},{"$error":"#N/A"},{"$error":"#N/A"},{"$f":"IF($AK$38=0,TRANSPOSE(MMULT($O$10:$Q$12,TRANSPOSE(C556:E556))),TRANSPOSE(MMULT($O$10:$Q$12,TRANSPOSE(Y556:AA556))))","v":{"$error":"#N/A"}},{"$error":"#N/A"},{"$error":"#N/A"},{"$error":"#N/A"},{"$error":"#N/A"},{"$f":"TRANSPOSE(MMULT($AE$10:$AG$12,TRANSPOSE(F556:H556)))","v":{"$error":"#N/A"}},{"$error":"#N/A"},{"$error":"#N/A"},{"$error":"#N/A"},{"$error":"#N/A"},{"$f":"TRANSPOSE(MMULT($AO$40:$AQ$42,TRANSPOSE(C556:E556)))","v":{"$error":"#N/A"}},{"$error":"#N/A"},{"$error":"#N/A"},{"$error":"#N/A"},{"$error":"#N/A"},{"$error":"#N/A"}]
[557,{"$error":"#N/A"},{"$error":"#N/A"},{"$error":"#N/A"},{"$error":"#N/A"},{"$error":"#N/A"},{"$error":"#N/A"},{"$error":"#N/A"},{"$error":"#N/A"},{"$error":"#N/A"},{"$error":"#N/A"},{"$f":"IF($AK$38=0,TRANSPOSE(MMULT($O$10:$Q$12,TRANSPOSE(C557:E557))),TRANSPOSE(MMULT($O$10:$Q$12,TRANSPOSE(Y557:AA557))))","v":{"$error":"#N/A"}},{"$error":"#N/A"},{"$error":"#N/A"},{"$error":"#N/A"},{"$error":"#N/A"},{"$f":"TRANSPOSE(MMULT($AE$10:$AG$12,TRANSPOSE(F557:H557)))","v":{"$error":"#N/A"}},{"$error":"#N/A"},{"$error":"#N/A"},{"$error":"#N/A"},{"$error":"#N/A"},{"$f":"TRANSPOSE(MMULT($AO$40:$AQ$42,TRANSPOSE(C557:E557)))","v":{"$error":"#N/A"}},{"$error":"#N/A"},{"$error":"#N/A"},{"$error":"#N/A"},{"$error":"#N/A"},{"$error":"#N/A"}]
[558,{"$error":"#N/A"},{"$error":"#N/A"},{"$error":"#N/A"},{"$error":"#N/A"},{"$error":"#N/A"},{"$error":"#N/A"},{"$error":"#N/A"},{"$error":"#N/A"},{"$error":"#N/A"},{"$error":"#N/A"},{"$f":"IF($AK$38=0,TRANSPOSE(MMULT($O$10:$Q$12,TRANSPOSE(C558:E558))),TRANSPOSE(MMULT($O$10:$Q$12,TRANSPOSE(Y558:AA558))))","v":{"$error":"#N/A"}},{"$error":"#N/A"},{"$error":"#N/A"},{"$error":"#N/A"},{"$error":"#N/A"},{"$f":"TRANSPOSE(MMULT($AE$10:$AG$12,TRANSPOSE(F558:H558)))","v":{"$error":"#N/A"}},{"$error":"#N/A"},{"$error":"#N/A"},{"$error":"#N/A"},{"$error":"#N/A"},{"$f":"TRANSPOSE(MMULT($AO$40:$AQ$42,TRANSPOSE(C558:E558)))","v":{"$error":"#N/A"}},{"$error":"#N/A"},{"$error":"#N/A"},{"$error":"#N/A"},{"$error":"#N/A"},{"$error":"#N/A"}]
[559,{"$error":"#N/A"},{"$error":"#N/A"},{"$error":"#N/A"},{"$error":"#N/A"},{"$error":"#N/A"},{"$error":"#N/A"},{"$error":"#N/A"},{"$error":"#N/A"},{"$error":"#N/A"},{"$error":"#N/A"},{"$f":"IF($AK$38=0,TRANSPOSE(MMULT($O$10:$Q$12,TRANSPOSE(C559:E559))),TRANSPOSE(MMULT($O$10:$Q$12,TRANSPOSE(Y559:AA559))))","v":{"$error":"#N/A"}},{"$error":"#N/A"},{"$error":"#N/A"},{"$error":"#N/A"},{"$error":"#N/A"},{"$f":"TRANSPOSE(MMULT($AE$10:$AG$12,TRANSPOSE(F559:H559)))","v":{"$error":"#N/A"}},{"$error":"#N/A"},{"$error":"#N/A"},{"$error":"#N/A"},{"$error":"#N/A"},{"$f":"TRANSPOSE(MMULT($AO$40:$AQ$42,TRANSPOSE(C559:E559)))","v":{"$error":"#N/A"}},{"$error":"#N/A"},{"$error":"#N/A"},{"$error":"#N/A"},{"$error":"#N/A"},{"$error":"#N/A"}]
[560,{"$error":"#N/A"},{"$error":"#N/A"},{"$error":"#N/A"},{"$error":"#N/A"},{"$error":"#N/A"},{"$error":"#N/A"},{"$error":"#N/A"},{"$error":"#N/A"},{"$error":"#N/A"},{"$error":"#N/A"},{"$f":"IF($AK$38=0,TRANSPOSE(MMULT($O$10:$Q$12,TRANSPOSE(C560:E560))),TRANSPOSE(MMULT($O$10:$Q$12,TRANSPOSE(Y560:AA560))))","v":{"$error":"#N/A"}},{"$error":"#N/A"},{"$error":"#N/A"},{"$error":"#N/A"},{"$error":"#N/A"},{"$f":"TRANSPOSE(MMULT($AE$10:$AG$12,TRANSPOSE(F560:H560)))","v":{"$error":"#N/A"}},{"$error":"#N/A"},{"$error":"#N/A"},{"$error":"#N/A"},{"$error":"#N/A"},{"$f":"TRANSPOSE(MMULT($AO$40:$AQ$42,TRANSPOSE(C560:E560)))","v":{"$error":"#N/A"}},{"$error":"#N/A"},{"$error":"#N/A"},{"$error":"#N/A"},{"$error":"#N/A"},{"$error":"#N/A"}]
[561,{"$error":"#N/A"},{"$error":"#N/A"},{"$error":"#N/A"},{"$error":"#N/A"},{"$error":"#N/A"},{"$error":"#N/A"},{"$error":"#N/A"},{"$error":"#N/A"},{"$error":"#N/A"},{"$error":"#N/A"},{"$f":"IF($AK$38=0,TRANSPOSE(MMULT($O$10:$Q$12,TRANSPOSE(C561:E561))),TRANSPOSE(MMULT($O$10:$Q$12,TRANSPOSE(Y561:AA561))))","v":{"$error":"#N/A"}},{"$error":"#N/A"},{"$error":"#N/A"},{"$error":"#N/A"},{"$error":"#N/A"},{"$f":"TRANSPOSE(MMULT($AE$10:$AG$12,TRANSPOSE(F561:H561)))","v":{"$error":"#N/A"}},{"$error":"#N/A"},{"$error":"#N/A"},{"$error":"#N/A"},{"$error":"#N/A"},{"$f":"TRANSPOSE(MMULT($AO$40:$AQ$42,TRANSPOSE(C561:E561)))","v":{"$error":"#N/A"}},{"$error":"#N/A"},{"$error":"#N/A"},{"$error":"#N/A"},{"$error":"#N/A"},{"$error":"#N/A"}]
[562,{"$error":"#N/A"},{"$error":"#N/A"},{"$error":"#N/A"},{"$error":"#N/A"},{"$error":"#N/A"},{"$error":"#N/A"},{"$error":"#N/A"},{"$error":"#N/A"},{"$error":"#N/A"},{"$error":"#N/A"},{"$f":"IF($AK$38=0,TRANSPOSE(MMULT($O$10:$Q$12,TRANSPOSE(C562:E562))),TRANSPOSE(MMULT($O$10:$Q$12,TRANSPOSE(Y562:AA562))))","v":{"$error":"#N/A"}},{"$error":"#N/A"},{"$error":"#N/A"},{"$error":"#N/A"},{"$error":"#N/A"},{"$f":"TRANSPOSE(MMULT($AE$10:$AG$12,TRANSPOSE(F562:H562)))","v":{"$error":"#N/A"}},{"$error":"#N/A"},{"$error":"#N/A"},{"$error":"#N/A"},{"$error":"#N/A"},{"$f":"TRANSPOSE(MMULT($AO$40:$AQ$42,TRANSPOSE(C562:E562)))","v":{"$error":"#N/A"}},{"$error":"#N/A"},{"$error":"#N/A"},{"$error":"#N/A"},{"$error":"#N/A"},{"$error":"#N/A"}]
[563,{"$error":"#N/A"},{"$error":"#N/A"},{"$error":"#N/A"},{"$error":"#N/A"},{"$error":"#N/A"},{"$error":"#N/A"},{"$error":"#N/A"},{"$error":"#N/A"},{"$error":"#N/A"},{"$error":"#N/A"},{"$f":"IF($AK$38=0,TRANSPOSE(MMULT($O$10:$Q$12,TRANSPOSE(C563:E563))),TRANSPOSE(MMULT($O$10:$Q$12,TRANSPOSE(Y563:AA563))))","v":{"$error":"#N/A"}},{"$error":"#N/A"},{"$error":"#N/A"},{"$error":"#N/A"},{"$error":"#N/A"},{"$f":"TRANSPOSE(MMULT($AE$10:$AG$12,TRANSPOSE(F563:H563)))","v":{"$error":"#N/A"}},{"$error":"#N/A"},{"$error":"#N/A"},{"$error":"#N/A"},{"$error":"#N/A"},{"$f":"TRANSPOSE(MMULT($AO$40:$AQ$42,TRANSPOSE(C563:E563)))","v":{"$error":"#N/A"}},{"$error":"#N/A"},{"$error":"#N/A"},{"$error":"#N/A"},{"$error":"#N/A"},{"$error":"#N/A"}]
[564,{"$error":"#N/A"},{"$f":"(C$4+F$4*$B564+I$4*$B564^2+L$4*$B564^3+O$4*$B564^4)+(C$5+F$5*$B564+I$5*$B564^2+L$5*$B564^3+O$5*$B564^5)*(COS(C$6+F$6*$B564+I$6*$B564^2+L$6*$B564^3+O$6*$B564^4))+(C$7+F$7*$B564+I$7*$B564^2+L$7*$B564^3+O$7*$B564^4)*(SIN(C$8+F$8*$B564+I$8*$B564^2+L$8*$B564^3+O$8*$B564^4))","v":{"$error":"#N/A"}},{"$f":"(D$4+G$4*$B564+J$4*$B564^2+M$4*$B564^3+P$4*$B564^4)+(D$5+G$5*$B564+J$5*$B564^2+M$5*$B564^3+P$5*$B564^5)*(COS(D$6+G$6*$B564+J$6*$B564^2+M$6*$B564^3+P$6*$B564^4))+(D$7+G$7*$B564+J$7*$B564^2+M$7*$B564^3+P$7*$B564^4)*(SIN(D$8+G$8*$B564+J$8*$B564^2+M$8*$B564^3+P$8*$B564^4))","v":{"$error":"#N/A"}},{"$f":"(E$4+H$4*$B564+K$4*$B564^2+N$4*$B564^3+Q$4*$B564^4)+(E$5+H$5*$B564+K$5*$B564^2+N$5*$B564^3+Q$5*$B564^5)*(COS(E$6+H$6*$B564+K$6*$B564^2+N$6*$B564^3+Q$6*$B564^4))+(E$7+H$7*$B564+K$7*$B564^2+N$7*$B564^3+Q$7*$B564^4)*(SIN(E$8+H$8*$B564+K$8*$B564^2+N$8*$B564^3+Q$8*$B564^4))","v":{"$error":"#N/A"}},{"$error":"#N/A"},{"$error":"#N/A"},{"$error":"#N/A"},{"$error":"#N/A"},{"$error":"#N/A"},{"$error":"#N/A"},{"$f":"IF($AK$38=0,TRANSPOSE(MMULT($O$10:$Q$12,TRANSPOSE(C564:E564))),TRANSPOSE(MMULT($O$10:$Q$12,TRANSPOSE(Y564:AA564))))","v":{"$error":"#N/A"}},{"$error":"#N/A"},{"$error":"#N/A"},{"$error":"#N/A"},{"$error":"#N/A"},{"$f":"TRANSPOSE(MMULT($AE$10:$AG$12,TRANSPOSE(F564:H564)))","v":{"$error":"#N/A"}},{"$error":"#N/A"},{"$error":"#N/A"},{"$error":"#N/A"},{"$error":"#N/A"},{"$f":"TRANSPOSE(MMULT($AO$40:$AQ$42,TRANSPOSE(C564:E564)))","v":{"$error":"#N/A"}},{"$error":"#N/A"},{"$error":"#N/A"},{"$error":"#N/A"},{"$error":"#N/A"},{"$error":"#N/A"}]
[565,{"$error":"#N/A"},{"$error":"#N/A"},{"$error":"#N/A"},{"$error":"#N/A"},{"$error":"#N/A"},{"$error":"#N/A"},{"$error":"#N/A"},{"$error":"#N/A"},{"$error":"#N/A"},{"$error":"#N/A"},{"$f":"IF($AK$38=0,TRANSPOSE(MMULT($O$10:$Q$12,TRANSPOSE(C565:E565))),TRANSPOSE(MMULT($O$10:$Q$12,TRANSPOSE(Y565:AA565))))","v":{"$error":"#N/A"}},{"$error":"#N/A"},{"$error":"#N/A"},{"$error":"#N/A"},{"$error":"#N/A"},{"$f":"TRANSPOSE(MMULT($AE$10:$AG$12,TRANSPOSE(F565:H565)))","v":{"$error":"#N/A"}},{"$error":"#N/A"},{"$error":"#N/A"},{"$error":"#N/A"},{"$error":"#N/A"},{"$f":"TRANSPOSE(MMULT($AO$40:$AQ$42,TRANSPOSE(C565:E565)))","v":{"$error":"#N/A"}},{"$error":"#N/A"},{"$error":"#N/A"},{"$error":"#N/A"},{"$error":"#N/A"},{"$error":"#N/A"}]
[566,{"$error":"#N/A"},{"$error":"#N/A"},{"$error":"#N/A"},{"$error":"#N/A"},{"$error":"#N/A"},{"$error":"#N/A"},{"$error":"#N/A"},{"$error":"#N/A"},{"$error":"#N/A"},{"$error":"#N/A"},{"$f":"IF($AK$38=0,TRANSPOSE(MMULT($O$10:$Q$12,TRANSPOSE(C566:E566))),TRANSPOSE(MMULT($O$10:$Q$12,TRANSPOSE(Y566:AA566))))","v":{"$error":"#N/A"}},{"$error":"#N/A"},{"$error":"#N/A"},{"$error":"#N/A"},{"$error":"#N/A"},{"$f":"TRANSPOSE(MMULT($AE$10:$AG$12,TRANSPOSE(F566:H566)))","v":{"$error":"#N/A"}},{"$error":"#N/A"},{"$error":"#N/A"},{"$error":"#N/A"},{"$error":"#N/A"},{"$f":"TRANSPOSE(MMULT($AO$40:$AQ$42,TRANSPOSE(C566:E566)))","v":{"$error":"#N/A"}},{"$error":"#N/A"},{"$error":"#N/A"},{"$error":"#N/A"},{"$error":"#N/A"},{"$error":"#N/A"}]
[567,{"$error":"#N/A"},{"$error":"#N/A"},{"$error":"#N/A"},{"$error":"#N/A"},{"$error":"#N/A"},{"$error":"#N/A"},{"$error":"#N/A"},{"$error":"#N/A"},{"$error":"#N/A"},{"$error":"#N/A"},{"$f":"IF($AK$38=0,TRANSPOSE(MMULT($O$10:$Q$12,TRANSPOSE(C567:E567))),TRANSPOSE(MMULT($O$10:$Q$12,TRANSPOSE(Y567:AA567))))","v":{"$error":"#N/A"}},{"$error":"#N/A"},{"$error":"#N/A"},{"$error":"#N/A"},{"$error":"#N/A"},{"$f":"TRANSPOSE(MMULT($AE$10:$AG$12,TRANSPOSE(F567:H567)))","v":{"$error":"#N/A"}},{"$error":"#N/A"},{"$error":"#N/A"},{"$error":"#N/A"},{"$error":"#N/A"},{"$f":"TRANSPOSE(MMULT($AO$40:$AQ$42,TRANSPOSE(C567:E567)))","v":{"$error":"#N/A"}},{"$error":"#N/A"},{"$error":"#N/A"},{"$error":"#N/A"},{"$error":"#N/A"},{"$error":"#N/A"}]
[568,{"$error":"#N/A"},{"$error":"#N/A"},{"$error":"#N/A"},{"$error":"#N/A"},{"$error":"#N/A"},{"$error":"#N/A"},{"$error":"#N/A"},{"$error":"#N/A"},{"$error":"#N/A"},{"$error":"#N/A"},{"$f":"IF($AK$38=0,TRANSPOSE(MMULT($O$10:$Q$12,TRANSPOSE(C568:E568))),TRANSPOSE(MMULT($O$10:$Q$12,TRANSPOSE(Y568:AA568))))","v":{"$error":"#N/A"}},{"$error":"#N/A"},{"$error":"#N/A"},{"$error":"#N/A"},{"$error":"#N/A"},{"$f":"TRANSPOSE(MMULT($AE$10:$AG$12,TRANSPOSE(F568:H568)))","v":{"$error":"#N/A"}},{"$error":"#N/A"},{"$error":"#N/A"},{"$error":"#N/A"},{"$error":"#N/A"},{"$f":"TRANSPOSE(MMULT($AO$40:$AQ$42,TRANSPOSE(C568:E568)))","v":{"$error":"#N/A"}},{"$error":"#N/A"},{"$error":"#N/A"},{"$error":"#N/A"},{"$error":"#N/A"},{"$error":"#N/A"}]
[569,{"$error":"#N/A"},{"$error":"#N/A"},{"$error":"#N/A"},{"$error":"#N/A"},{"$error":"#N/A"},{"$error":"#N/A"},{"$error":"#N/A"},{"$error":"#N/A"},{"$error":"#N/A"},{"$error":"#N/A"},{"$f":"IF($AK$38=0,TRANSPOSE(MMULT($O$10:$Q$12,TRANSPOSE(C569:E569))),TRANSPOSE(MMULT($O$10:$Q$12,TRANSPOSE(Y569:AA569))))","v":{"$error":"#N/A"}},{"$error":"#N/A"},{"$error":"#N/A"},{"$error":"#N/A"},{"$error":"#N/A"},{"$f":"TRANSPOSE(MMULT($AE$10:$AG$12,TRANSPOSE(F569:H569)))","v":{"$error":"#N/A"}},{"$error":"#N/A"},{"$error":"#N/A"},{"$error":"#N/A"},{"$error":"#N/A"},{"$f":"TRANSPOSE(MMULT($AO$40:$AQ$42,TRANSPOSE(C569:E569)))","v":{"$error":"#N/A"}},{"$error":"#N/A"},{"$error":"#N/A"},{"$error":"#N/A"},{"$error":"#N/A"},{"$error":"#N/A"}]
[570,{"$error":"#N/A"},{"$error":"#N/A"},{"$error":"#N/A"},{"$error":"#N/A"},{"$error":"#N/A"},{"$error":"#N/A"},{"$error":"#N/A"},{"$error":"#N/A"},{"$error":"#N/A"},{"$error":"#N/A"},{"$f":"IF($AK$38=0,TRANSPOSE(MMULT($O$10:$Q$12,TRANSPOSE(C570:E570))),TRANSPOSE(MMULT($O$10:$Q$12,TRANSPOSE(Y570:AA570))))","v":{"$error":"#N/A"}},{"$error":"#N/A"},{"$error":"#N/A"},{"$error":"#N/A"},{"$error":"#N/A"},{"$f":"TRANSPOSE(MMULT($AE$10:$AG$12,TRANSPOSE(F570:H570)))","v":{"$error":"#N/A"}},{"$error":"#N/A"},{"$error":"#N/A"},{"$error":"#N/A"},{"$error":"#N/A"},{"$f":"TRANSPOSE(MMULT($AO$40:$AQ$42,TRANSPOSE(C570:E570)))","v":{"$error":"#N/A"}},{"$error":"#N/A"},{"$error":"#N/A"},{"$error":"#N/A"},{"$error":"#N/A"},{"$error":"#N/A"}]
[571,{"$error":"#N/A"},{"$error":"#N/A"},{"$error":"#N/A"},{"$error":"#N/A"},{"$error":"#N/A"},{"$error":"#N/A"},{"$error":"#N/A"},{"$error":"#N/A"},{"$error":"#N/A"},{"$error":"#N/A"},{"$f":"IF($AK$38=0,TRANSPOSE(MMULT($O$10:$Q$12,TRANSPOSE(C571:E571))),TRANSPOSE(MMULT($O$10:$Q$12,TRANSPOSE(Y571:AA571))))","v":{"$error":"#N/A"}},{"$error":"#N/A"},{"$error":"#N/A"},{"$error":"#N/A"},{"$error":"#N/A"},{"$f":"TRANSPOSE(MMULT($AE$10:$AG$12,TRANSPOSE(F571:H571)))","v":{"$error":"#N/A"}},{"$error":"#N/A"},{"$error":"#N/A"},{"$error":"#N/A"},{"$error":"#N/A"},{"$f":"TRANSPOSE(MMULT($AO$40:$AQ$42,TRANSPOSE(C571:E571)))","v":{"$error":"#N/A"}},{"$error":"#N/A"},{"$error":"#N/A"},{"$error":"#N/A"},{"$error":"#N/A"},{"$error":"#N/A"}]
[572,{"$error":"#N/A"},{"$error":"#N/A"},{"$error":"#N/A"},{"$error":"#N/A"},{"$error":"#N/A"},{"$error":"#N/A"},{"$error":"#N/A"},{"$error":"#N/A"},{"$error":"#N/A"},{"$error":"#N/A"},{"$f":"IF($AK$38=0,TRANSPOSE(MMULT($O$10:$Q$12,TRANSPOSE(C572:E572))),TRANSPOSE(MMULT($O$10:$Q$12,TRANSPOSE(Y572:AA572))))","v":{"$error":"#N/A"}},{"$error":"#N/A"},{"$error":"#N/A"},{"$error":"#N/A"},{"$error":"#N/A"},{"$f":"TRANSPOSE(MMULT($AE$10:$AG$12,TRANSPOSE(F572:H572)))","v":{"$error":"#N/A"}},{"$error":"#N/A"},{"$error":"#N/A"},{"$error":"#N/A"},{"$error":"#N/A"},{"$f":"TRANSPOSE(MMULT($AO$40:$AQ$42,TRANSPOSE(C572:E572)))","v":{"$error":"#N/A"}},{"$error":"#N/A"},{"$error":"#N/A"},{"$error":"#N/A"},{"$error":"#N/A"},{"$error":"#N/A"}]
[573,{"$error":"#N/A"},{"$error":"#N/A"},{"$error":"#N/A"},{"$error":"#N/A"},{"$error":"#N/A"},{"$error":"#N/A"},{"$error":"#N/A"},{"$error":"#N/A"},{"$error":"#N/A"},{"$error":"#N/A"},{"$f":"IF($AK$38=0,TRANSPOSE(MMULT($O$10:$Q$12,TRANSPOSE(C573:E573))),TRANSPOSE(MMULT($O$10:$Q$12,TRANSPOSE(Y573:AA573))))","v":{"$error":"#N/A"}},{"$error":"#N/A"},{"$error":"#N/A"},{"$error":"#N/A"},{"$error":"#N/A"},{"$f":"TRANSPOSE(MMULT($AE$10:$AG$12,TRANSPOSE(F573:H573)))","v":{"$error":"#N/A"}},{"$error":"#N/A"},{"$error":"#N/A"},{"$error":"#N/A"},{"$error":"#N/A"},{"$f":"TRANSPOSE(MMULT($AO$40:$AQ$42,TRANSPOSE(C573:E573)))","v":{"$error":"#N/A"}},{"$error":"#N/A"},{"$error":"#N/A"},{"$error":"#N/A"},{"$error":"#N/A"},{"$error":"#N/A"}]
[574,{"$error":"#N/A"},{"$error":"#N/A"},{"$error":"#N/A"},{"$error":"#N/A"},{"$error":"#N/A"},{"$error":"#N/A"},{"$error":"#N/A"},{"$error":"#N/A"},{"$error":"#N/A"},{"$error":"#N/A"},{"$f":"IF($AK$38=0,TRANSPOSE(MMULT($O$10:$Q$12,TRANSPOSE(C574:E574))),TRANSPOSE(MMULT($O$10:$Q$12,TRANSPOSE(Y574:AA574))))","v":{"$error":"#N/A"}},{"$error":"#N/A"},{"$error":"#N/A"},{"$error":"#N/A"},{"$error":"#N/A"},{"$f":"TRANSPOSE(MMULT($AE$10:$AG$12,TRANSPOSE(F574:H574)))","v":{"$error":"#N/A"}},{"$error":"#N/A"},{"$error":"#N/A"},{"$error":"#N/A"},{"$error":"#N/A"},{"$f":"TRANSPOSE(MMULT($AO$40:$AQ$42,TRANSPOSE(C574:E574)))","v":{"$error":"#N/A"}},{"$error":"#N/A"},{"$error":"#N/A"},{"$error":"#N/A"},{"$error":"#N/A"},{"$error":"#N/A"}]
[575,{"$error":"#N/A"},{"$error":"#N/A"},{"$error":"#N/A"},{"$error":"#N/A"},{"$error":"#N/A"},{"$error":"#N/A"},{"$error":"#N/A"},{"$error":"#N/A"},{"$error":"#N/A"},{"$error":"#N/A"},{"$f":"IF($AK$38=0,TRANSPOSE(MMULT($O$10:$Q$12,TRANSPOSE(C575:E575))),TRANSPOSE(MMULT($O$10:$Q$12,TRANSPOSE(Y575:AA575))))","v":{"$error":"#N/A"}},{"$error":"#N/A"},{"$error":"#N/A"},{"$error":"#N/A"},{"$error":"#N/A"},{"$f":"TRANSPOSE(MMULT($AE$10:$AG$12,TRANSPOSE(F575:H575)))","v":{"$error":"#N/A"}},{"$error":"#N/A"},{"$error":"#N/A"},{"$error":"#N/A"},{"$error":"#N/A"},{"$f":"TRANSPOSE(MMULT($AO$40:$AQ$42,TRANSPOSE(C575:E575)))","v":{"$error":"#N/A"}},{"$error":"#N/A"},{"$error":"#N/A"},{"$error":"#N/A"},{"$error":"#N/A"},{"$error":"#N/A"}]
[576,{"$error":"#N/A"},{"$error":"#N/A"},{"$error":"#N/A"},{"$error":"#N/A"},{"$error":"#N/A"},{"$error":"#N/A"},{"$error":"#N/A"},{"$error":"#N/A"},{"$error":"#N/A"},{"$error":"#N/A"},{"$f":"IF($AK$38=0,TRANSPOSE(MMULT($O$10:$Q$12,TRANSPOSE(C576:E576))),TRANSPOSE(MMULT($O$10:$Q$12,TRANSPOSE(Y576:AA576))))","v":{"$error":"#N/A"}},{"$error":"#N/A"},{"$error":"#N/A"},{"$error":"#N/A"},{"$error":"#N/A"},{"$f":"TRANSPOSE(MMULT($AE$10:$AG$12,TRANSPOSE(F576:H576)))","v":{"$error":"#N/A"}},{"$error":"#N/A"},{"$error":"#N/A"},{"$error":"#N/A"},{"$error":"#N/A"},{"$f":"TRANSPOSE(MMULT($AO$40:$AQ$42,TRANSPOSE(C576:E576)))","v":{"$error":"#N/A"}},{"$error":"#N/A"},{"$error":"#N/A"},{"$error":"#N/A"},{"$error":"#N/A"},{"$error":"#N/A"}]
[577,{"$error":"#N/A"},{"$error":"#N/A"},{"$error":"#N/A"},{"$error":"#N/A"},{"$error":"#N/A"},{"$error":"#N/A"},{"$error":"#N/A"},{"$error":"#N/A"},{"$error":"#N/A"},{"$error":"#N/A"},{"$f":"IF($AK$38=0,TRANSPOSE(MMULT($O$10:$Q$12,TRANSPOSE(C577:E577))),TRANSPOSE(MMULT($O$10:$Q$12,TRANSPOSE(Y577:AA577))))","v":{"$error":"#N/A"}},{"$error":"#N/A"},{"$error":"#N/A"},{"$error":"#N/A"},{"$error":"#N/A"},{"$f":"TRANSPOSE(MMULT($AE$10:$AG$12,TRANSPOSE(F577:H577)))","v":{"$error":"#N/A"}},{"$error":"#N/A"},{"$error":"#N/A"},{"$error":"#N/A"},{"$error":"#N/A"},{"$f":"TRANSPOSE(MMULT($AO$40:$AQ$42,TRANSPOSE(C577:E577)))","v":{"$error":"#N/A"}},{"$error":"#N/A"},{"$error":"#N/A"},{"$error":"#N/A"},{"$error":"#N/A"},{"$error":"#N/A"}]
[578,{"$error":"#N/A"},{"$error":"#N/A"},{"$error":"#N/A"},{"$error":"#N/A"},{"$error":"#N/A"},{"$error":"#N/A"},{"$error":"#N/A"},{"$error":"#N/A"},{"$error":"#N/A"},{"$error":"#N/A"},{"$f":"IF($AK$38=0,TRANSPOSE(MMULT($O$10:$Q$12,TRANSPOSE(C578:E578))),TRANSPOSE(MMULT($O$10:$Q$12,TRANSPOSE(Y578:AA578))))","v":{"$error":"#N/A"}},{"$error":"#N/A"},{"$error":"#N/A"},{"$error":"#N/A"},{"$error":"#N/A"},{"$f":"TRANSPOSE(MMULT($AE$10:$AG$12,TRANSPOSE(F578:H578)))","v":{"$error":"#N/A"}},{"$error":"#N/A"},{"$error":"#N/A"},{"$error":"#N/A"},{"$error":"#N/A"},{"$f":"TRANSPOSE(MMULT($AO$40:$AQ$42,TRANSPOSE(C578:E578)))","v":{"$error":"#N/A"}},{"$error":"#N/A"},{"$error":"#N/A"},{"$error":"#N/A"},{"$error":"#N/A"},{"$error":"#N/A"}]
[579,{"$error":"#N/A"},{"$error":"#N/A"},{"$error":"#N/A"},{"$error":"#N/A"},{"$error":"#N/A"},{"$error":"#N/A"},{"$error":"#N/A"},{"$error":"#N/A"},{"$error":"#N/A"},{"$error":"#N/A"},{"$f":"IF($AK$38=0,TRANSPOSE(MMULT($O$10:$Q$12,TRANSPOSE(C579:E579))),TRANSPOSE(MMULT($O$10:$Q$12,TRANSPOSE(Y579:AA579))))","v":{"$error":"#N/A"}},{"$error":"#N/A"},{"$error":"#N/A"},{"$error":"#N/A"},{"$error":"#N/A"},{"$f":"TRANSPOSE(MMULT($AE$10:$AG$12,TRANSPOSE(F579:H579)))","v":{"$error":"#N/A"}},{"$error":"#N/A"},{"$error":"#N/A"},{"$error":"#N/A"},{"$error":"#N/A"},{"$f":"TRANSPOSE(MMULT($AO$40:$AQ$42,TRANSPOSE(C579:E579)))","v":{"$error":"#N/A"}},{"$error":"#N/A"},{"$error":"#N/A"},{"$error":"#N/A"},{"$error":"#N/A"},{"$error":"#N/A"}]
[580,{"$error":"#N/A"},{"$error":"#N/A"},{"$error":"#N/A"},{"$error":"#N/A"},{"$error":"#N/A"},{"$error":"#N/A"},{"$error":"#N/A"},{"$error":"#N/A"},{"$error":"#N/A"},{"$error":"#N/A"},{"$f":"IF($AK$38=0,TRANSPOSE(MMULT($O$10:$Q$12,TRANSPOSE(C580:E580))),TRANSPOSE(MMULT($O$10:$Q$12,TRANSPOSE(Y580:AA580))))","v":{"$error":"#N/A"}},{"$error":"#N/A"},{"$error":"#N/A"},{"$error":"#N/A"},{"$error":"#N/A"},{"$f":"TRANSPOSE(MMULT($AE$10:$AG$12,TRANSPOSE(F580:H580)))","v":{"$error":"#N/A"}},{"$error":"#N/A"},{"$error":"#N/A"},{"$error":"#N/A"},{"$error":"#N/A"},{"$f":"TRANSPOSE(MMULT($AO$40:$AQ$42,TRANSPOSE(C580:E580)))","v":{"$error":"#N/A"}},{"$error":"#N/A"},{"$error":"#N/A"},{"$error":"#N/A"},{"$error":"#N/A"},{"$error":"#N/A"}]
[581,{"$error":"#N/A"},{"$error":"#N/A"},{"$error":"#N/A"},{"$error":"#N/A"},{"$error":"#N/A"},{"$error":"#N/A"},{"$error":"#N/A"},{"$error":"#N/A"},{"$error":"#N/A"},{"$error":"#N/A"},{"$f":"IF($AK$38=0,TRANSPOSE(MMULT($O$10:$Q$12,TRANSPOSE(C581:E581))),TRANSPOSE(MMULT($O$10:$Q$12,TRANSPOSE(Y581:AA581))))","v":{"$error":"#N/A"}},{"$error":"#N/A"},{"$error":"#N/A"},{"$error":"#N/A"},{"$error":"#N/A"},{"$f":"TRANSPOSE(MMULT($AE$10:$AG$12,TRANSPOSE(F581:H581)))","v":{"$error":"#N/A"}},{"$error":"#N/A"},{"$error":"#N/A"},{"$error":"#N/A"},{"$error":"#N/A"},{"$f":"TRANSPOSE(MMULT($AO$40:$AQ$42,TRANSPOSE(C581:E581)))","v":{"$error":"#N/A"}},{"$error":"#N/A"},{"$error":"#N/A"},{"$error":"#N/A"},{"$error":"#N/A"},{"$error":"#N/A"}]
[582,{"$error":"#N/A"},{"$error":"#N/A"},{"$error":"#N/A"},{"$error":"#N/A"},{"$error":"#N/A"},{"$error":"#N/A"},{"$error":"#N/A"},{"$error":"#N/A"},{"$error":"#N/A"},{"$error":"#N/A"},{"$f":"IF($AK$38=0,TRANSPOSE(MMULT($O$10:$Q$12,TRANSPOSE(C582:E582))),TRANSPOSE(MMULT($O$10:$Q$12,TRANSPOSE(Y582:AA582))))","v":{"$error":"#N/A"}},{"$error":"#N/A"},{"$error":"#N/A"},{"$error":"#N/A"},{"$error":"#N/A"},{"$f":"TRANSPOSE(MMULT($AE$10:$AG$12,TRANSPOSE(F582:H582)))","v":{"$error":"#N/A"}},{"$error":"#N/A"},{"$error":"#N/A"},{"$error":"#N/A"},{"$error":"#N/A"},{"$f":"TRANSPOSE(MMULT($AO$40:$AQ$42,TRANSPOSE(C582:E582)))","v":{"$error":"#N/A"}},{"$error":"#N/A"},{"$error":"#N/A"},{"$error":"#N/A"},{"$error":"#N/A"},{"$error":"#N/A"}]
[583,{"$error":"#N/A"},{"$error":"#N/A"},{"$error":"#N/A"},{"$error":"#N/A"},{"$error":"#N/A"},{"$error":"#N/A"},{"$error":"#N/A"},{"$error":"#N/A"},{"$error":"#N/A"},{"$error":"#N/A"},{"$f":"IF($AK$38=0,TRANSPOSE(MMULT($O$10:$Q$12,TRANSPOSE(C583:E583))),TRANSPOSE(MMULT($O$10:$Q$12,TRANSPOSE(Y583:AA583))))","v":{"$error":"#N/A"}},{"$error":"#N/A"},{"$error":"#N/A"},{"$error":"#N/A"},{"$error":"#N/A"},{"$f":"TRANSPOSE(MMULT($AE$10:$AG$12,TRANSPOSE(F583:H583)))","v":{"$error":"#N/A"}},{"$error":"#N/A"},{"$error":"#N/A"},{"$error":"#N/A"},{"$error":"#N/A"},{"$f":"TRANSPOSE(MMULT($AO$40:$AQ$42,TRANSPOSE(C583:E583)))","v":{"$error":"#N/A"}},{"$error":"#N/A"},{"$error":"#N/A"},{"$error":"#N/A"},{"$error":"#N/A"},{"$error":"#N/A"}]
[584,{"$error":"#N/A"},{"$error":"#N/A"},{"$error":"#N/A"},{"$error":"#N/A"},{"$error":"#N/A"},{"$error":"#N/A"},{"$error":"#N/A"},{"$error":"#N/A"},{"$error":"#N/A"},{"$error":"#N/A"},{"$f":"IF($AK$38=0,TRANSPOSE(MMULT($O$10:$Q$12,TRANSPOSE(C584:E584))),TRANSPOSE(MMULT($O$10:$Q$12,TRANSPOSE(Y584:AA584))))","v":{"$error":"#N/A"}},{"$error":"#N/A"},{"$error":"#N/A"},{"$error":"#N/A"},{"$error":"#N/A"},{"$f":"TRANSPOSE(MMULT($AE$10:$AG$12,TRANSPOSE(F584:H584)))","v":{"$error":"#N/A"}},{"$error":"#N/A"},{"$error":"#N/A"},{"$error":"#N/A"},{"$error":"#N/A"},{"$f":"TRANSPOSE(MMULT($AO$40:$AQ$42,TRANSPOSE(C584:E584)))","v":{"$error":"#N/A"}},{"$error":"#N/A"},{"$error":"#N/A"},{"$error":"#N/A"},{"$error":"#N/A"},{"$error":"#N/A"}]
[585,{"$error":"#N/A"},{"$error":"#N/A"},{"$error":"#N/A"},{"$error":"#N/A"},{"$error":"#N/A"},{"$error":"#N/A"},{"$error":"#N/A"},{"$error":"#N/A"},{"$error":"#N/A"},{"$error":"#N/A"},{"$f":"IF($AK$38=0,TRANSPOSE(MMULT($O$10:$Q$12,TRANSPOSE(C585:E585))),TRANSPOSE(MMULT($O$10:$Q$12,TRANSPOSE(Y585:AA585))))","v":{"$error":"#N/A"}},{"$error":"#N/A"},{"$error":"#N/A"},{"$error":"#N/A"},{"$error":"#N/A"},{"$f":"TRANSPOSE(MMULT($AE$10:$AG$12,TRANSPOSE(F585:H585)))","v":{"$error":"#N/A"}},{"$error":"#N/A"},{"$error":"#N/A"},{"$error":"#N/A"},{"$error":"#N/A"},{"$f":"TRANSPOSE(MMULT($AO$40:$AQ$42,TRANSPOSE(C585:E585)))","v":{"$error":"#N/A"}},{"$error":"#N/A"},{"$error":"#N/A"},{"$error":"#N/A"},{"$error":"#N/A"},{"$error":"#N/A"}]
[586,{"$error":"#N/A"},{"$error":"#N/A"},{"$error":"#N/A"},{"$error":"#N/A"},{"$error":"#N/A"},{"$error":"#N/A"},{"$error":"#N/A"},{"$error":"#N/A"},{"$error":"#N/A"},{"$error":"#N/A"},{"$f":"IF($AK$38=0,TRANSPOSE(MMULT($O$10:$Q$12,TRANSPOSE(C586:E586))),TRANSPOSE(MMULT($O$10:$Q$12,TRANSPOSE(Y586:AA586))))","v":{"$error":"#N/A"}},{"$error":"#N/A"},{"$error":"#N/A"},{"$error":"#N/A"},{"$error":"#N/A"},{"$f":"TRANSPOSE(MMULT($AE$10:$AG$12,TRANSPOSE(F586:H586)))","v":{"$error":"#N/A"}},{"$error":"#N/A"},{"$error":"#N/A"},{"$error":"#N/A"},{"$error":"#N/A"},{"$f":"TRANSPOSE(MMULT($AO$40:$AQ$42,TRANSPOSE(C586:E586)))","v":{"$error":"#N/A"}},{"$error":"#N/A"},{"$error":"#N/A"},{"$error":"#N/A"},{"$error":"#N/A"},{"$error":"#N/A"}]
[587,{"$error":"#N/A"},{"$error":"#N/A"},{"$error":"#N/A"},{"$error":"#N/A"},{"$error":"#N/A"},{"$error":"#N/A"},{"$error":"#N/A"},{"$error":"#N/A"},{"$error":"#N/A"},{"$error":"#N/A"},{"$f":"IF($AK$38=0,TRANSPOSE(MMULT($O$10:$Q$12,TRANSPOSE(C587:E587))),TRANSPOSE(MMULT($O$10:$Q$12,TRANSPOSE(Y587:AA587))))","v":{"$error":"#N/A"}},{"$error":"#N/A"},{"$error":"#N/A"},{"$error":"#N/A"},{"$error":"#N/A"},{"$f":"TRANSPOSE(MMULT($AE$10:$AG$12,TRANSPOSE(F587:H587)))","v":{"$error":"#N/A"}},{"$error":"#N/A"},{"$error":"#N/A"},{"$error":"#N/A"},{"$error":"#N/A"},{"$f":"TRANSPOSE(MMULT($AO$40:$AQ$42,TRANSPOSE(C587:E587)))","v":{"$error":"#N/A"}},{"$error":"#N/A"},{"$error":"#N/A"},{"$error":"#N/A"},{"$error":"#N/A"},{"$error":"#N/A"}]
[588,{"$error":"#N/A"},{"$error":"#N/A"},{"$error":"#N/A"},{"$error":"#N/A"},{"$error":"#N/A"},{"$error":"#N/A"},{"$error":"#N/A"},{"$error":"#N/A"},{"$error":"#N/A"},{"$error":"#N/A"},{"$f":"IF($AK$38=0,TRANSPOSE(MMULT($O$10:$Q$12,TRANSPOSE(C588:E588))),TRANSPOSE(MMULT($O$10:$Q$12,TRANSPOSE(Y588:AA588))))","v":{"$error":"#N/A"}},{"$error":"#N/A"},{"$error":"#N/A"},{"$error":"#N/A"},{"$error":"#N/A"},{"$f":"TRANSPOSE(MMULT($AE$10:$AG$12,TRANSPOSE(F588:H588)))","v":{"$error":"#N/A"}},{"$error":"#N/A"},{"$error":"#N/A"},{"$error":"#N/A"},{"$error":"#N/A"},{"$f":"TRANSPOSE(MMULT($AO$40:$AQ$42,TRANSPOSE(C588:E588)))","v":{"$error":"#N/A"}},{"$error":"#N/A"},{"$error":"#N/A"},{"$error":"#N/A"},{"$error":"#N/A"},{"$error":"#N/A"}]
[589,{"$error":"#N/A"},{"$error":"#N/A"},{"$error":"#N/A"},{"$error":"#N/A"},{"$error":"#N/A"},{"$error":"#N/A"},{"$error":"#N/A"},{"$error":"#N/A"},{"$error":"#N/A"},{"$error":"#N/A"},{"$f":"IF($AK$38=0,TRANSPOSE(MMULT($O$10:$Q$12,TRANSPOSE(C589:E589))),TRANSPOSE(MMULT($O$10:$Q$12,TRANSPOSE(Y589:AA589))))","v":{"$error":"#N/A"}},{"$error":"#N/A"},{"$error":"#N/A"},{"$error":"#N/A"},{"$error":"#N/A"},{"$f":"TRANSPOSE(MMULT($AE$10:$AG$12,TRANSPOSE(F589:H589)))","v":{"$error":"#N/A"}},{"$error":"#N/A"},{"$error":"#N/A"},{"$error":"#N/A"},{"$error":"#N/A"},{"$f":"TRANSPOSE(MMULT($AO$40:$AQ$42,TRANSPOSE(C589:E589)))","v":{"$error":"#N/A"}},{"$error":"#N/A"},{"$error":"#N/A"},{"$error":"#N/A"},{"$error":"#N/A"},{"$error":"#N/A"}]
[590,{"$error":"#N/A"},{"$error":"#N/A"},{"$error":"#N/A"},{"$error":"#N/A"},{"$error":"#N/A"},{"$error":"#N/A"},{"$error":"#N/A"},{"$error":"#N/A"},{"$error":"#N/A"},{"$error":"#N/A"},{"$f":"IF($AK$38=0,TRANSPOSE(MMULT($O$10:$Q$12,TRANSPOSE(C590:E590))),TRANSPOSE(MMULT($O$10:$Q$12,TRANSPOSE(Y590:AA590))))","v":{"$error":"#N/A"}},{"$error":"#N/A"},{"$error":"#N/A"},{"$error":"#N/A"},{"$error":"#N/A"},{"$f":"TRANSPOSE(MMULT($AE$10:$AG$12,TRANSPOSE(F590:H590)))","v":{"$error":"#N/A"}},{"$error":"#N/A"},{"$error":"#N/A"},{"$error":"#N/A"},{"$error":"#N/A"},{"$f":"TRANSPOSE(MMULT($AO$40:$AQ$42,TRANSPOSE(C590:E590)))","v":{"$error":"#N/A"}},{"$error":"#N/A"},{"$error":"#N/A"},{"$error":"#N/A"},{"$error":"#N/A"},{"$error":"#N/A"}]
[591,{"$error":"#N/A"},{"$error":"#N/A"},{"$error":"#N/A"},{"$error":"#N/A"},{"$error":"#N/A"},{"$error":"#N/A"},{"$error":"#N/A"},{"$error":"#N/A"},{"$error":"#N/A"},{"$error":"#N/A"},{"$f":"IF($AK$38=0,TRANSPOSE(MMULT($O$10:$Q$12,TRANSPOSE(C591:E591))),TRANSPOSE(MMULT($O$10:$Q$12,TRANSPOSE(Y591:AA591))))","v":{"$error":"#N/A"}},{"$error":"#N/A"},{"$error":"#N/A"},{"$error":"#N/A"},{"$error":"#N/A"},{"$f":"TRANSPOSE(MMULT($AE$10:$AG$12,TRANSPOSE(F591:H591)))","v":{"$error":"#N/A"}},{"$error":"#N/A"},{"$error":"#N/A"},{"$error":"#N/A"},{"$error":"#N/A"},{"$f":"TRANSPOSE(MMULT($AO$40:$AQ$42,TRANSPOSE(C591:E591)))","v":{"$error":"#N/A"}},{"$error":"#N/A"},{"$error":"#N/A"},{"$error":"#N/A"},{"$error":"#N/A"},{"$error":"#N/A"}]
[592,{"$error":"#N/A"},{"$error":"#N/A"},{"$error":"#N/A"},{"$error":"#N/A"},{"$f":"(F$7+2*I$7*$B592+3*L$7*$B592^2+4*O$7*$B592^3)*SIN(O$8*$B592^4+L$8*$B592^3+I$8*$B592^2+F$8*$B592+C$8)+(F$8+2*I$8*$B592+3*L$8*$B592^2+4*O$8*$B592^3)*(C$7+F$7*$B592+I$7*$B592^2+L$7*$B592^3+O$7*$B592^4)*COS(O$8*$B592^4+L$8*$B592^3+I$8*$B592^2+F$8*$B592+C$8)-(F$6+2*I$6*$B592+3*L$6*$B592^2+4*O$6*$B592^3)*(C$5+F$5*$B592+I$5*$B592^2+L$5*$B592^3+O$5*$B592^4)*SIN(O$6*$B592^4+L$6*$B592^3+I$6*$B592^2+F$6*$B592+C$6)+(F$5+2*I$5*$B592+3*L$5*$B592^2+4*O$5*$B592^3)*COS(O$6*$B592^4+L$6*$B592^3+I$6*$B592^2+F$6*$B592+C$6)+4*O$4*$B592^3+3*L$4*$B592^2+2*I$4*$B592+F$4","v":{"$error":"#N/A"}},{"$f":"(G$7+2*J$7*$B592+3*M$7*$B592^2+4*P$7*$B592^3)*SIN(P$8*$B592^4+M$8*$B592^3+J$8*$B592^2+G$8*$B592+D$8)+(G$8+2*J$8*$B592+3*M$8*$B592^2+4*P$8*$B592^3)*(D$7+G$7*$B592+J$7*$B592^2+M$7*$B592^3+P$7*$B592^4)*COS(P$8*$B592^4+M$8*$B592^3+J$8*$B592^2+G$8*$B592+D$8)-(G$6+2*J$6*$B592+3*M$6*$B592^2+4*P$6*$B592^3)*(D$5+G$5*$B592+J$5*$B592^2+M$5*$B592^3+P$5*$B592^4)*SIN(P$6*$B592^4+M$6*$B592^3+J$6*$B592^2+G$6*$B592+D$6)+(G$5+2*J$5*$B592+3*M$5*$B592^2+4*P$5*$B592^3)*COS(P$6*$B592^4+M$6*$B592^3+J$6*$B592^2+G$6*$B592+D$6)+4*P$4*$B592^3+3*M$4*$B592^2+2*J$4*$B592+G$4","v":{"$error":"#N/A"}},{"$f":"(H$7+2*K$7*$B592+3*N$7*$B592^2+4*Q$7*$B592^3)*SIN(Q$8*$B592^4+N$8*$B592^3+K$8*$B592^2+H$8*$B592+E$8)+(H$8+2*K$8*$B592+3*N$8*$B592^2+4*Q$8*$B592^3)*(E$7+H$7*$B592+K$7*$B592^2+N$7*$B592^3+Q$7*$B592^4)*COS(Q$8*$B592^4+N$8*$B592^3+K$8*$B592^2+H$8*$B592+E$8)-(H$6+2*K$6*$B592+3*N$6*$B592^2+4*Q$6*$B592^3)*(E$5+H$5*$B592+K$5*$B592^2+N$5*$B592^3+Q$5*$B592^4)*SIN(Q$6*$B592^4+N$6*$B592^3+K$6*$B592^2+H$6*$B592+E$6)+(H$5+2*K$5*$B592+3*N$5*$B592^2+4*Q$5*$B592^3)*COS(Q$6*$B592^4+N$6*$B592^3+K$6*$B592^2+H$6*$B592+E$6)+4*Q$4*$B592^3+3*N$4*$B592^2+2*K$4*$B592+H$4","v":{"$error":"#N/A"}},{"$f":"-1*(F$8+2*I$8*$B592+3*L$8*$B592^2+4*O$8*$B592^3)^2*(C$7+F$7*$B592+I$7*$B592^2+L$7*$B592^3+O$7*$B592^4)*SIN(O$8*$B592^4+L$8*$B592^3+I$8*$B592^2+F$8*$B592+C$8)+(2*I$7+6*L$7*$B592+12*O$7*$B592^2)*SIN(O$8*$B592^4+L$8*$B592^3+I$8*$B592^2+F$8*$B592+C$8)+(2*I$8+6*L$8*$B592+12*O$8*$B592^2)*(C$7+F$7*$B592+I$7*$B592^2+L$7*$B592^3+O$7*$B592^4)*COS(O$8*$B592^4+L$8*$B592^3+I$8*$B592^2+F$8*$B592+C$8)+2*(F$7+2*I$7*$B592+3*L$7*$B592^2+4*O$7*$B592^3)*(F$8+2*I$8*$B592+3*L$8*$B592^2+4*O$8*$B592^3)*COS(O$8*$B592^4+L$8*$B592^3+I$8*$B592^2+F$8*$B592+C$8)-(2*I$6+6*L$6*$B592+12*O$6*$B592^2)*(C$5+F$5*$B592+I$5*$B592^2+L$5*$B592^3+O$5*$B592^4)*SIN(O$6*$B592^4+L$6*$B592^3+I$6*$B592^2+F$6*$B592+C$6)-2*(F$5+2*I$5*$B592+3*L$5*$B592^2+4*O$5*$B592^3)*(F$6+2*I$6*$B592+3*L$6*$B592^2+4*O$6*$B592^3)*SIN(O$6*$B592^4+L$6*$B592^3+I$6*$B592^2+F$6*$B592+C$6)-(F$6+2*I$6*$B592+3*L$6*$B592^2+4*O$6*$B592^3)^2*(C$5+F$5*$B592+I$5*$B592^2+L$5*$B592^3+O$5*$B592^4)*COS(O$6*$B592^4+L$6*$B592^3+I$6*$B592^2+F$6*$B592+C$6)+(2*I$5+6*L$5*$B592+12*O$5*$B592^2)*COS(O$6*$B592^4+L$6*$B592^3+I$6*$B592^2+F$6*$B592+C$6)+12*O$4*$B592^2+6*L$4*$B592+2*I$4","v":{"$error":"#N/A"}},{"$f":"-1*(G$8+2*J$8*$B592+3*M$8*$B592^2+4*P$8*$B592^3)^2*(D$7+G$7*$B592+J$7*$B592^2+M$7*$B592^3+P$7*$B592^4)*SIN(P$8*$B592^4+M$8*$B592^3+J$8*$B592^2+G$8*$B592+D$8)+(2*J$7+6*M$7*$B592+12*P$7*$B592^2)*SIN(P$8*$B592^4+M$8*$B592^3+J$8*$B592^2+G$8*$B592+D$8)+(2*J$8+6*M$8*$B592+12*P$8*$B592^2)*(D$7+G$7*$B592+J$7*$B592^2+M$7*$B592^3+P$7*$B592^4)*COS(P$8*$B592^4+M$8*$B592^3+J$8*$B592^2+G$8*$B592+D$8)+2*(G$7+2*J$7*$B592+3*M$7*$B592^2+4*P$7*$B592^3)*(G$8+2*J$8*$B592+3*M$8*$B592^2+4*P$8*$B592^3)*COS(P$8*$B592^4+M$8*$B592^3+J$8*$B592^2+G$8*$B592+D$8)-(2*J$6+6*M$6*$B592+12*P$6*$B592^2)*(D$5+G$5*$B592+J$5*$B592^2+M$5*$B592^3+P$5*$B592^4)*SIN(P$6*$B592^4+M$6*$B592^3+J$6*$B592^2+G$6*$B592+D$6)-2*(G$5+2*J$5*$B592+3*M$5*$B592^2+4*P$5*$B592^3)*(G$6+2*J$6*$B592+3*M$6*$B592^2+4*P$6*$B592^3)*SIN(P$6*$B592^4+M$6*$B592^3+J$6*$B592^2+G$6*$B592+D$6)-(G$6+2*J$6*$B592+3*M$6*$B592^2+4*P$6*$B592^3)^2*(D$5+G$5*$B592+J$5*$B592^2+M$5*$B592^3+P$5*$B592^4)*COS(P$6*$B592^4+M$6*$B592^3+J$6*$B592^2+G$6*$B592+D$6)+(2*J$5+6*M$5*$B592+12*P$5*$B592^2)*COS(P$6*$B592^4+M$6*$B592^3+J$6*$B592^2+G$6*$B592+D$6)+12*P$4*$B592^2+6*M$4*$B592+2*J$4","v":{"$error":"#N/A"}},{"$f":"-1*(H$8+2*K$8*$B592+3*N$8*$B592^2+4*Q$8*$B592^3)^2*(E$7+H$7*$B592+K$7*$B592^2+N$7*$B592^3+Q$7*$B592^4)*SIN(Q$8*$B592^4+N$8*$B592^3+K$8*$B592^2+H$8*$B592+E$8)+(2*K$7+6*N$7*$B592+12*Q$7*$B592^2)*SIN(Q$8*$B592^4+N$8*$B592^3+K$8*$B592^2+H$8*$B592+E$8)+(2*K$8+6*N$8*$B592+12*Q$8*$B592^2)*(E$7+H$7*$B592+K$7*$B592^2+N$7*$B592^3+Q$7*$B592^4)*COS(Q$8*$B592^4+N$8*$B592^3+K$8*$B592^2+H$8*$B592+E$8)+2*(H$7+2*K$7*$B592+3*N$7*$B592^2+4*Q$7*$B592^3)*(H$8+2*K$8*$B592+3*N$8*$B592^2+4*Q$8*$B592^3)*COS(Q$8*$B592^4+N$8*$B592^3+K$8*$B592^2+H$8*$B592+E$8)-(2*K$6+6*N$6*$B592+12*Q$6*$B592^2)*(E$5+H$5*$B592+K$5*$B592^2+N$5*$B592^3+Q$5*$B592^4)*SIN(Q$6*$B592^4+N$6*$B592^3+K$6*$B592^2+H$6*$B592+E$6)-2*(H$5+2*K$5*$B592+3*N$5*$B592^2+4*Q$5*$B592^3)*(H$6+2*K$6*$B592+3*N$6*$B592^2+4*Q$6*$B592^3)*SIN(Q$6*$B592^4+N$6*$B592^3+K$6*$B592^2+H$6*$B592+E$6)-(H$6+2*K$6*$B592+3*N$6*$B592^2+4*Q$6*$B592^3)^2*(E$5+H$5*$B592+K$5*$B592^2+N$5*$B592^3+Q$5*$B592^4)*COS(Q$6*$B592^4+N$6*$B592^3+K$6*$B592^2+H$6*$B592+E$6)+(2*K$5+6*N$5*$B592+12*Q$5*$B592^2)*COS(Q$6*$B592^4+N$6*$B592^3+K$6*$B592^2+H$6*$B592+E$6)+12*Q$4*$B592^2+6*N$4*$B592+2*K$4","v":{"$error":"#N/A"}},{"$f":"IF($AK$38=0,TRANSPOSE(MMULT($O$10:$Q$12,TRANSPOSE(C592:E592))),TRANSPOSE(MMULT($O$10:$Q$12,TRANSPOSE(Y592:AA592))))","v":{"$error":"#N/A"}},{"$error":"#N/A"},{"$error":"#N/A"},{"$error":"#N/A"},{"$error":"#N/A"},{"$f":"TRANSPOSE(MMULT($AE$10:$AG$12,TRANSPOSE(F592:H592)))","v":{"$error":"#N/A"}},{"$error":"#N/A"},{"$error":"#N/A"},{"$f":"$Y$5+$Y$4*IF($U$8=1,Q592,(Q592*$U$6)/($U$6+$U$7+R592))","v":{"$error":"#N/A"}},{"$f":"$Y$6+$Y$4*IF($U$8=1,R592,(S592*$U$6)/($U$6+$U$7+R592))","v":{"$error":"#N/A"}},{"$f":"TRANSPOSE(MMULT($AO$40:$AQ$42,TRANSPOSE(C592:E592)))","v":{"$error":"#N/A"}},{"$error":"#N/A"},{"$error":"#N/A"},{"$f":"V592+$AL$46","v":{"$error":"#N/A"}},{"$f":"W592+$AL$47","v":{"$error":"#N/A"}},{"$f":"X592+$AL$48","v":{"$error":"#N/A"}}]
[593,{"$error":"#N/A"},{"$error":"#N/A"},{"$error":"#N/A"},{"$error":"#N/A"},{"$error":"#N/A"},{"$error":"#N/A"},{"$error":"#N/A"},{"$error":"#N/A"},{"$error":"#N/A"},{"$error":"#N/A"},{"$f":"IF($AK$38=0,TRANSPOSE(MMULT($O$10:$Q$12,TRANSPOSE(C593:E593))),TRANSPOSE(MMULT($O$10:$Q$12,TRANSPOSE(Y593:AA593))))","v":{"$error":"#N/A"}},{"$error":"#N/A"},{"$error":"#N/A"},{"$f":"IF($AD$4=0,NA(),$X$5+$X$4*IF($U$8=1,L593,(L593*$U$6)/($U$6+$U$7+M593)))","v":{"$error":"#N/A"}},{"$f":"IF($AD$4=0,NA(),$X$6+$X$4*IF($U$8=1,M593,(N593*$U$6)/($U$6+$U$7+M593)))","v":{"$error":"#N/A"}},{"$f":"TRANSPOSE(MMULT($AE$10:$AG$12,TRANSPOSE(F593:H593)))","v":{"$error":"#N/A"}},{"$error":"#N/A"},{"$error":"#N/A"},{"$error":"#N/A"},{"$error":"#N/A"},{"$f":"TRANSPOSE(MMULT($AO$40:$AQ$42,TRANSPOSE(C593:E593)))","v":{"$error":"#N/A"}},{"$error":"#N/A"},{"$error":"#N/A"},{"$error":"#N/A"},{"$error":"#N/A"},{"$error":"#N/A"}]
[594,{"$f":"IF(B593<$B$3,B593+$S$3,NA())","v":{"$error":"#N/A"}},{"$error":"#N/A"},{"$error":"#N/A"},{"$error":"#N/A"},{"$error":"#N/A"},{"$error":"#N/A"},{"$error":"#N/A"},{"$error":"#N/A"},{"$error":"#N/A"},{"$error":"#N/A"},{"$f":"IF($AK$38=0,TRANSPOSE(MMULT($O$10:$Q$12,TRANSPOSE(C594:E594))),TRANSPOSE(MMULT($O$10:$Q$12,TRANSPOSE(Y594:AA594))))","v":{"$error":"#N/A"}},{"$error":"#N/A"},{"$error":"#N/A"},{"$error":"#N/A"},{"$error":"#N/A"},{"$f":"TRANSPOSE(MMULT($AE$10:$AG$12,TRANSPOSE(F594:H594)))","v":{"$error":"#N/A"}},{"$error":"#N/A"},{"$error":"#N/A"},{"$error":"#N/A"},{"$error":"#N/A"},{"$f":"TRANSPOSE(MMULT($AO$40:$AQ$42,TRANSPOSE(C594:E594)))","v":{"$error":"#N/A"}},{"$error":"#N/A"},{"$error":"#N/A"},{"$error":"#N/A"},{"$error":"#N/A"},{"$error":"#N/A"}]
[595,{"$error":"#N/A"},{"$error":"#N/A"},{"$error":"#N/A"},{"$error":"#N/A"},{"$error":"#N/A"},{"$error":"#N/A"},{"$error":"#N/A"},{"$error":"#N/A"},{"$error":"#N/A"},{"$error":"#N/A"},{"$f":"IF($AK$38=0,TRANSPOSE(MMULT($O$10:$Q$12,TRANSPOSE(C595:E595))),TRANSPOSE(MMULT($O$10:$Q$12,TRANSPOSE(Y595:AA595))))","v":{"$error":"#N/A"}},{"$error":"#N/A"},{"$error":"#N/A"},{"$error":"#N/A"},{"$error":"#N/A"},{"$f":"TRANSPOSE(MMULT($AE$10:$AG$12,TRANSPOSE(F595:H595)))","v":{"$error":"#N/A"}},{"$error":"#N/A"},{"$error":"#N/A"},{"$error":"#N/A"},{"$error":"#N/A"},{"$f":"TRANSPOSE(MMULT($AO$40:$AQ$42,TRANSPOSE(C595:E595)))","v":{"$error":"#N/A"}},{"$error":"#N/A"},{"$error":"#N/A"},{"$error":"#N/A"},{"$error":"#N/A"},{"$error":"#N/A"}]
[596,{"$error":"#N/A"},{"$error":"#N/A"},{"$error":"#N/A"},{"$error":"#N/A"},{"$error":"#N/A"},{"$error":"#N/A"},{"$error":"#N/A"},{"$error":"#N/A"},{"$error":"#N/A"},{"$error":"#N/A"},{"$f":"IF($AK$38=0,TRANSPOSE(MMULT($O$10:$Q$12,TRANSPOSE(C596:E596))),TRANSPOSE(MMULT($O$10:$Q$12,TRANSPOSE(Y596:AA596))))","v":{"$error":"#N/A"}},{"$error":"#N/A"},{"$error":"#N/A"},{"$error":"#N/A"},{"$error":"#N/A"},{"$f":"TRANSPOSE(MMULT($AE$10:$AG$12,TRANSPOSE(F596:H596)))","v":{"$error":"#N/A"}},{"$error":"#N/A"},{"$error":"#N/A"},{"$error":"#N/A"},{"$error":"#N/A"},{"$f":"TRANSPOSE(MMULT($AO$40:$AQ$42,TRANSPOSE(C596:E596)))","v":{"$error":"#N/A"}},{"$error":"#N/A"},{"$error":"#N/A"},{"$error":"#N/A"},{"$error":"#N/A"},{"$error":"#N/A"}]
[597,{"$error":"#N/A"},{"$error":"#N/A"},{"$error":"#N/A"},{"$error":"#N/A"},{"$error":"#N/A"},{"$error":"#N/A"},{"$error":"#N/A"},{"$error":"#N/A"},{"$error":"#N/A"},{"$error":"#N/A"},{"$f":"IF($AK$38=0,TRANSPOSE(MMULT($O$10:$Q$12,TRANSPOSE(C597:E597))),TRANSPOSE(MMULT($O$10:$Q$12,TRANSPOSE(Y597:AA597))))","v":{"$error":"#N/A"}},{"$error":"#N/A"},{"$error":"#N/A"},{"$error":"#N/A"},{"$error":"#N/A"},{"$f":"TRANSPOSE(MMULT($AE$10:$AG$12,TRANSPOSE(F597:H597)))","v":{"$error":"#N/A"}},{"$error":"#N/A"},{"$error":"#N/A"},{"$error":"#N/A"},{"$error":"#N/A"},{"$f":"TRANSPOSE(MMULT($AO$40:$AQ$42,TRANSPOSE(C597:E597)))","v":{"$error":"#N/A"}},{"$error":"#N/A"},{"$error":"#N/A"},{"$error":"#N/A"},{"$error":"#N/A"},{"$error":"#N/A"}]
[598,{"$error":"#N/A"},{"$error":"#N/A"},{"$error":"#N/A"},{"$error":"#N/A"},{"$error":"#N/A"},{"$error":"#N/A"},{"$error":"#N/A"},{"$error":"#N/A"},{"$error":"#N/A"},{"$error":"#N/A"},{"$f":"IF($AK$38=0,TRANSPOSE(MMULT($O$10:$Q$12,TRANSPOSE(C598:E598))),TRANSPOSE(MMULT($O$10:$Q$12,TRANSPOSE(Y598:AA598))))","v":{"$error":"#N/A"}},{"$error":"#N/A"},{"$error":"#N/A"},{"$error":"#N/A"},{"$error":"#N/A"},{"$f":"TRANSPOSE(MMULT($AE$10:$AG$12,TRANSPOSE(F598:H598)))","v":{"$error":"#N/A"}},{"$error":"#N/A"},{"$error":"#N/A"},{"$error":"#N/A"},{"$error":"#N/A"},{"$f":"TRANSPOSE(MMULT($AO$40:$AQ$42,TRANSPOSE(C598:E598)))","v":{"$error":"#N/A"}},{"$error":"#N/A"},{"$error":"#N/A"},{"$error":"#N/A"},{"$error":"#N/A"},{"$error":"#N/A"}]
[599,{"$error":"#N/A"},{"$error":"#N/A"},{"$error":"#N/A"},{"$error":"#N/A"},{"$error":"#N/A"},{"$error":"#N/A"},{"$error":"#N/A"},{"$error":"#N/A"},{"$error":"#N/A"},{"$error":"#N/A"},{"$f":"IF($AK$38=0,TRANSPOSE(MMULT($O$10:$Q$12,TRANSPOSE(C599:E599))),TRANSPOSE(MMULT($O$10:$Q$12,TRANSPOSE(Y599:AA599))))","v":{"$error":"#N/A"}},{"$error":"#N/A"},{"$error":"#N/A"},{"$error":"#N/A"},{"$error":"#N/A"},{"$f":"TRANSPOSE(MMULT($AE$10:$AG$12,TRANSPOSE(F599:H599)))","v":{"$error":"#N/A"}},{"$error":"#N/A"},{"$error":"#N/A"},{"$error":"#N/A"},{"$error":"#N/A"},{"$f":"TRANSPOSE(MMULT($AO$40:$AQ$42,TRANSPOSE(C599:E599)))","v":{"$error":"#N/A"}},{"$error":"#N/A"},{"$error":"#N/A"},{"$error":"#N/A"},{"$error":"#N/A"},{"$error":"#N/A"}]
[600,{"$error":"#N/A"},{"$error":"#N/A"},{"$error":"#N/A"},{"$error":"#N/A"},{"$error":"#N/A"},{"$error":"#N/A"},{"$error":"#N/A"},{"$error":"#N/A"},{"$error":"#N/A"},{"$error":"#N/A"},{"$f":"IF($AK$38=0,TRANSPOSE(MMULT($O$10:$Q$12,TRANSPOSE(C600:E600))),TRANSPOSE(MMULT($O$10:$Q$12,TRANSPOSE(Y600:AA600))))","v":{"$error":"#N/A"}},{"$error":"#N/A"},{"$error":"#N/A"},{"$error":"#N/A"},{"$error":"#N/A"},{"$f":"TRANSPOSE(MMULT($AE$10:$AG$12,TRANSPOSE(F600:H600)))","v":{"$error":"#N/A"}},{"$error":"#N/A"},{"$error":"#N/A"},{"$error":"#N/A"},{"$error":"#N/A"},{"$f":"TRANSPOSE(MMULT($AO$40:$AQ$42,TRANSPOSE(C600:E600)))","v":{"$error":"#N/A"}},{"$error":"#N/A"},{"$error":"#N/A"},{"$error":"#N/A"},{"$error":"#N/A"},{"$error":"#N/A"}]
[601,{"$error":"#N/A"},{"$error":"#N/A"},{"$error":"#N/A"},{"$error":"#N/A"},{"$error":"#N/A"},{"$error":"#N/A"},{"$error":"#N/A"},{"$error":"#N/A"},{"$error":"#N/A"},{"$error":"#N/A"},{"$f":"IF($AK$38=0,TRANSPOSE(MMULT($O$10:$Q$12,TRANSPOSE(C601:E601))),TRANSPOSE(MMULT($O$10:$Q$12,TRANSPOSE(Y601:AA601))))","v":{"$error":"#N/A"}},{"$error":"#N/A"},{"$error":"#N/A"},{"$error":"#N/A"},{"$error":"#N/A"},{"$f":"TRANSPOSE(MMULT($AE$10:$AG$12,TRANSPOSE(F601:H601)))","v":{"$error":"#N/A"}},{"$error":"#N/A"},{"$error":"#N/A"},{"$error":"#N/A"},{"$error":"#N/A"},{"$f":"TRANSPOSE(MMULT($AO$40:$AQ$42,TRANSPOSE(C601:E601)))","v":{"$error":"#N/A"}},{"$error":"#N/A"},{"$error":"#N/A"},{"$error":"#N/A"},{"$error":"#N/A"},{"$error":"#N/A"}]
[602,{"$error":"#N/A"},{"$error":"#N/A"},{"$error":"#N/A"},{"$error":"#N/A"},{"$error":"#N/A"},{"$error":"#N/A"},{"$error":"#N/A"},{"$error":"#N/A"},{"$error":"#N/A"},{"$error":"#N/A"},{"$f":"IF($AK$38=0,TRANSPOSE(MMULT($O$10:$Q$12,TRANSPOSE(C602:E602))),TRANSPOSE(MMULT($O$10:$Q$12,TRANSPOSE(Y602:AA602))))","v":{"$error":"#N/A"}},{"$error":"#N/A"},{"$error":"#N/A"},{"$error":"#N/A"},{"$error":"#N/A"},{"$f":"TRANSPOSE(MMULT($AE$10:$AG$12,TRANSPOSE(F602:H602)))","v":{"$error":"#N/A"}},{"$error":"#N/A"},{"$error":"#N/A"},{"$error":"#N/A"},{"$error":"#N/A"},{"$f":"TRANSPOSE(MMULT($AO$40:$AQ$42,TRANSPOSE(C602:E602)))","v":{"$error":"#N/A"}},{"$error":"#N/A"},{"$error":"#N/A"},{"$error":"#N/A"},{"$error":"#N/A"},{"$error":"#N/A"}]
[603,{"$error":"#N/A"},{"$error":"#N/A"},{"$error":"#N/A"},{"$error":"#N/A"},{"$error":"#N/A"},{"$error":"#N/A"},{"$error":"#N/A"},{"$error":"#N/A"},{"$error":"#N/A"},{"$error":"#N/A"},{"$f":"IF($AK$38=0,TRANSPOSE(MMULT($O$10:$Q$12,TRANSPOSE(C603:E603))),TRANSPOSE(MMULT($O$10:$Q$12,TRANSPOSE(Y603:AA603))))","v":{"$error":"#N/A"}},{"$error":"#N/A"},{"$error":"#N/A"},{"$error":"#N/A"},{"$error":"#N/A"},{"$f":"TRANSPOSE(MMULT($AE$10:$AG$12,TRANSPOSE(F603:H603)))","v":{"$error":"#N/A"}},{"$error":"#N/A"},{"$error":"#N/A"},{"$error":"#N/A"},{"$error":"#N/A"},{"$f":"TRANSPOSE(MMULT($AO$40:$AQ$42,TRANSPOSE(C603:E603)))","v":{"$error":"#N/A"}},{"$error":"#N/A"},{"$error":"#N/A"},{"$error":"#N/A"},{"$error":"#N/A"},{"$error":"#N/A"}]
[604,{"$error":"#N/A"},{"$error":"#N/A"},{"$error":"#N/A"},{"$error":"#N/A"},{"$error":"#N/A"},{"$error":"#N/A"},{"$error":"#N/A"},{"$error":"#N/A"},{"$error":"#N/A"},{"$error":"#N/A"},{"$f":"IF($AK$38=0,TRANSPOSE(MMULT($O$10:$Q$12,TRANSPOSE(C604:E604))),TRANSPOSE(MMULT($O$10:$Q$12,TRANSPOSE(Y604:AA604))))","v":{"$error":"#N/A"}},{"$error":"#N/A"},{"$error":"#N/A"},{"$error":"#N/A"},{"$error":"#N/A"},{"$f":"TRANSPOSE(MMULT($AE$10:$AG$12,TRANSPOSE(F604:H604)))","v":{"$error":"#N/A"}},{"$error":"#N/A"},{"$error":"#N/A"},{"$error":"#N/A"},{"$error":"#N/A"},{"$f":"TRANSPOSE(MMULT($AO$40:$AQ$42,TRANSPOSE(C604:E604)))","v":{"$error":"#N/A"}},{"$error":"#N/A"},{"$error":"#N/A"},{"$error":"#N/A"},{"$error":"#N/A"},{"$error":"#N/A"}]
[605,{"$error":"#N/A"},{"$error":"#N/A"},{"$error":"#N/A"},{"$error":"#N/A"},{"$error":"#N/A"},{"$error":"#N/A"},{"$error":"#N/A"},{"$error":"#N/A"},{"$error":"#N/A"},{"$error":"#N/A"},{"$f":"IF($AK$38=0,TRANSPOSE(MMULT($O$10:$Q$12,TRANSPOSE(C605:E605))),TRANSPOSE(MMULT($O$10:$Q$12,TRANSPOSE(Y605:AA605))))","v":{"$error":"#N/A"}},{"$error":"#N/A"},{"$error":"#N/A"},{"$error":"#N/A"},{"$error":"#N/A"},{"$f":"TRANSPOSE(MMULT($AE$10:$AG$12,TRANSPOSE(F605:H605)))","v":{"$error":"#N/A"}},{"$error":"#N/A"},{"$error":"#N/A"},{"$error":"#N/A"},{"$error":"#N/A"},{"$f":"TRANSPOSE(MMULT($AO$40:$AQ$42,TRANSPOSE(C605:E605)))","v":{"$error":"#N/A"}},{"$error":"#N/A"},{"$error":"#N/A"},{"$error":"#N/A"},{"$error":"#N/A"},{"$error":"#N/A"}]
[606,{"$error":"#N/A"},{"$error":"#N/A"},{"$error":"#N/A"},{"$error":"#N/A"},{"$error":"#N/A"},{"$error":"#N/A"},{"$error":"#N/A"},{"$error":"#N/A"},{"$error":"#N/A"},{"$error":"#N/A"},{"$f":"IF($AK$38=0,TRANSPOSE(MMULT($O$10:$Q$12,TRANSPOSE(C606:E606))),TRANSPOSE(MMULT($O$10:$Q$12,TRANSPOSE(Y606:AA606))))","v":{"$error":"#N/A"}},{"$error":"#N/A"},{"$error":"#N/A"},{"$error":"#N/A"},{"$error":"#N/A"},{"$f":"TRANSPOSE(MMULT($AE$10:$AG$12,TRANSPOSE(F606:H606)))","v":{"$error":"#N/A"}},{"$error":"#N/A"},{"$error":"#N/A"},{"$error":"#N/A"},{"$error":"#N/A"},{"$f":"TRANSPOSE(MMULT($AO$40:$AQ$42,TRANSPOSE(C606:E606)))","v":{"$error":"#N/A"}},{"$error":"#N/A"},{"$error":"#N/A"},{"$error":"#N/A"},{"$error":"#N/A"},{"$error":"#N/A"}]
[607,{"$error":"#N/A"},{"$error":"#N/A"},{"$error":"#N/A"},{"$error":"#N/A"},{"$error":"#N/A"},{"$error":"#N/A"},{"$error":"#N/A"},{"$error":"#N/A"},{"$error":"#N/A"},{"$error":"#N/A"},{"$f":"IF($AK$38=0,TRANSPOSE(MMULT($O$10:$Q$12,TRANSPOSE(C607:E607))),TRANSPOSE(MMULT($O$10:$Q$12,TRANSPOSE(Y607:AA607))))","v":{"$error":"#N/A"}},{"$error":"#N/A"},{"$error":"#N/A"},{"$error":"#N/A"},{"$error":"#N/A"},{"$f":"TRANSPOSE(MMULT($AE$10:$AG$12,TRANSPOSE(F607:H607)))","v":{"$error":"#N/A"}},{"$error":"#N/A"},{"$error":"#N/A"},{"$error":"#N/A"},{"$error":"#N/A"},{"$f":"TRANSPOSE(MMULT($AO$40:$AQ$42,TRANSPOSE(C607:E607)))","v":{"$error":"#N/A"}},{"$error":"#N/A"},{"$error":"#N/A"},{"$error":"#N/A"},{"$error":"#N/A"},{"$error":"#N/A"}]
[608,{"$error":"#N/A"},{"$error":"#N/A"},{"$error":"#N/A"},{"$error":"#N/A"},{"$error":"#N/A"},{"$error":"#N/A"},{"$error":"#N/A"},{"$error":"#N/A"},{"$error":"#N/A"},{"$error":"#N/A"},{"$f":"IF($AK$38=0,TRANSPOSE(MMULT($O$10:$Q$12,TRANSPOSE(C608:E608))),TRANSPOSE(MMULT($O$10:$Q$12,TRANSPOSE(Y608:AA608))))","v":{"$error":"#N/A"}},{"$error":"#N/A"},{"$error":"#N/A"},{"$error":"#N/A"},{"$error":"#N/A"},{"$f":"TRANSPOSE(MMULT($AE$10:$AG$12,TRANSPOSE(F608:H608)))","v":{"$error":"#N/A"}},{"$error":"#N/A"},{"$error":"#N/A"},{"$error":"#N/A"},{"$error":"#N/A"},{"$f":"TRANSPOSE(MMULT($AO$40:$AQ$42,TRANSPOSE(C608:E608)))","v":{"$error":"#N/A"}},{"$error":"#N/A"},{"$error":"#N/A"},{"$error":"#N/A"},{"$error":"#N/A"},{"$error":"#N/A"}]
[609,{"$error":"#N/A"},{"$error":"#N/A"},{"$error":"#N/A"},{"$error":"#N/A"},{"$error":"#N/A"},{"$error":"#N/A"},{"$error":"#N/A"},{"$error":"#N/A"},{"$error":"#N/A"},{"$error":"#N/A"},{"$f":"IF($AK$38=0,TRANSPOSE(MMULT($O$10:$Q$12,TRANSPOSE(C609:E609))),TRANSPOSE(MMULT($O$10:$Q$12,TRANSPOSE(Y609:AA609))))","v":{"$error":"#N/A"}},{"$error":"#N/A"},{"$error":"#N/A"},{"$error":"#N/A"},{"$error":"#N/A"},{"$f":"TRANSPOSE(MMULT($AE$10:$AG$12,TRANSPOSE(F609:H609)))","v":{"$error":"#N/A"}},{"$error":"#N/A"},{"$error":"#N/A"},{"$error":"#N/A"},{"$error":"#N/A"},{"$f":"TRANSPOSE(MMULT($AO$40:$AQ$42,TRANSPOSE(C609:E609)))","v":{"$error":"#N/A"}},{"$error":"#N/A"},{"$error":"#N/A"},{"$error":"#N/A"},{"$error":"#N/A"},{"$error":"#N/A"}]
[610,{"$error":"#N/A"},{"$error":"#N/A"},{"$error":"#N/A"},{"$error":"#N/A"},{"$error":"#N/A"},{"$error":"#N/A"},{"$error":"#N/A"},{"$error":"#N/A"},{"$error":"#N/A"},{"$error":"#N/A"},{"$f":"IF($AK$38=0,TRANSPOSE(MMULT($O$10:$Q$12,TRANSPOSE(C610:E610))),TRANSPOSE(MMULT($O$10:$Q$12,TRANSPOSE(Y610:AA610))))","v":{"$error":"#N/A"}},{"$error":"#N/A"},{"$error":"#N/A"},{"$error":"#N/A"},{"$error":"#N/A"},{"$f":"TRANSPOSE(MMULT($AE$10:$AG$12,TRANSPOSE(F610:H610)))","v":{"$error":"#N/A"}},{"$error":"#N/A"},{"$error":"#N/A"},{"$error":"#N/A"},{"$error":"#N/A"},{"$f":"TRANSPOSE(MMULT($AO$40:$AQ$42,TRANSPOSE(C610:E610)))","v":{"$error":"#N/A"}},{"$error":"#N/A"},{"$error":"#N/A"},{"$error":"#N/A"},{"$error":"#N/A"},{"$error":"#N/A"}]
[611,{"$error":"#N/A"},{"$error":"#N/A"},{"$error":"#N/A"},{"$error":"#N/A"},{"$error":"#N/A"},{"$error":"#N/A"},{"$error":"#N/A"},{"$error":"#N/A"},{"$error":"#N/A"},{"$error":"#N/A"},{"$f":"IF($AK$38=0,TRANSPOSE(MMULT($O$10:$Q$12,TRANSPOSE(C611:E611))),TRANSPOSE(MMULT($O$10:$Q$12,TRANSPOSE(Y611:AA611))))","v":{"$error":"#N/A"}},{"$error":"#N/A"},{"$error":"#N/A"},{"$error":"#N/A"},{"$error":"#N/A"},{"$f":"TRANSPOSE(MMULT($AE$10:$AG$12,TRANSPOSE(F611:H611)))","v":{"$error":"#N/A"}},{"$error":"#N/A"},{"$error":"#N/A"},{"$error":"#N/A"},{"$error":"#N/A"},{"$f":"TRANSPOSE(MMULT($AO$40:$AQ$42,TRANSPOSE(C611:E611)))","v":{"$error":"#N/A"}},{"$error":"#N/A"},{"$error":"#N/A"},{"$error":"#N/A"},{"$error":"#N/A"},{"$error":"#N/A"}]
[612,{"$error":"#N/A"},{"$error":"#N/A"},{"$error":"#N/A"},{"$error":"#N/A"},{"$error":"#N/A"},{"$error":"#N/A"},{"$error":"#N/A"},{"$error":"#N/A"},{"$error":"#N/A"},{"$error":"#N/A"},{"$f":"IF($AK$38=0,TRANSPOSE(MMULT($O$10:$Q$12,TRANSPOSE(C612:E612))),TRANSPOSE(MMULT($O$10:$Q$12,TRANSPOSE(Y612:AA612))))","v":{"$error":"#N/A"}},{"$error":"#N/A"},{"$error":"#N/A"},{"$error":"#N/A"},{"$error":"#N/A"},{"$f":"TRANSPOSE(MMULT($AE$10:$AG$12,TRANSPOSE(F612:H612)))","v":{"$error":"#N/A"}},{"$error":"#N/A"},{"$error":"#N/A"},{"$error":"#N/A"},{"$error":"#N/A"},{"$f":"TRANSPOSE(MMULT($AO$40:$AQ$42,TRANSPOSE(C612:E612)))","v":{"$error":"#N/A"}},{"$error":"#N/A"},{"$error":"#N/A"},{"$error":"#N/A"},{"$error":"#N/A"},{"$error":"#N/A"}]
[613,{"$error":"#N/A"},{"$error":"#N/A"},{"$error":"#N/A"},{"$error":"#N/A"},{"$error":"#N/A"},{"$error":"#N/A"},{"$error":"#N/A"},{"$error":"#N/A"},{"$error":"#N/A"},{"$error":"#N/A"},{"$f":"IF($AK$38=0,TRANSPOSE(MMULT($O$10:$Q$12,TRANSPOSE(C613:E613))),TRANSPOSE(MMULT($O$10:$Q$12,TRANSPOSE(Y613:AA613))))","v":{"$error":"#N/A"}},{"$error":"#N/A"},{"$error":"#N/A"},{"$error":"#N/A"},{"$error":"#N/A"},{"$f":"TRANSPOSE(MMULT($AE$10:$AG$12,TRANSPOSE(F613:H613)))","v":{"$error":"#N/A"}},{"$error":"#N/A"},{"$error":"#N/A"},{"$error":"#N/A"},{"$error":"#N/A"},{"$f":"TRANSPOSE(MMULT($AO$40:$AQ$42,TRANSPOSE(C613:E613)))","v":{"$error":"#N/A"}},{"$error":"#N/A"},{"$error":"#N/A"},{"$error":"#N/A"},{"$error":"#N/A"},{"$error":"#N/A"}]
[614,{"$error":"#N/A"},{"$error":"#N/A"},{"$error":"#N/A"},{"$error":"#N/A"},{"$error":"#N/A"},{"$error":"#N/A"},{"$error":"#N/A"},{"$error":"#N/A"},{"$error":"#N/A"},{"$error":"#N/A"},{"$f":"IF($AK$38=0,TRANSPOSE(MMULT($O$10:$Q$12,TRANSPOSE(C614:E614))),TRANSPOSE(MMULT($O$10:$Q$12,TRANSPOSE(Y614:AA614))))","v":{"$error":"#N/A"}},{"$error":"#N/A"},{"$error":"#N/A"},{"$error":"#N/A"},{"$error":"#N/A"},{"$f":"TRANSPOSE(MMULT($AE$10:$AG$12,TRANSPOSE(F614:H614)))","v":{"$error":"#N/A"}},{"$error":"#N/A"},{"$error":"#N/A"},{"$error":"#N/A"},{"$error":"#N/A"},{"$f":"TRANSPOSE(MMULT($AO$40:$AQ$42,TRANSPOSE(C614:E614)))","v":{"$error":"#N/A"}},{"$error":"#N/A"},{"$error":"#N/A"},{"$error":"#N/A"},{"$error":"#N/A"},{"$error":"#N/A"}]
[615,{"$error":"#N/A"},{"$error":"#N/A"},{"$error":"#N/A"},{"$error":"#N/A"},{"$error":"#N/A"},{"$error":"#N/A"},{"$error":"#N/A"},{"$error":"#N/A"},{"$error":"#N/A"},{"$error":"#N/A"},{"$f":"IF($AK$38=0,TRANSPOSE(MMULT($O$10:$Q$12,TRANSPOSE(C615:E615))),TRANSPOSE(MMULT($O$10:$Q$12,TRANSPOSE(Y615:AA615))))","v":{"$error":"#N/A"}},{"$error":"#N/A"},{"$error":"#N/A"},{"$error":"#N/A"},{"$error":"#N/A"},{"$f":"TRANSPOSE(MMULT($AE$10:$AG$12,TRANSPOSE(F615:H615)))","v":{"$error":"#N/A"}},{"$error":"#N/A"},{"$error":"#N/A"},{"$error":"#N/A"},{"$error":"#N/A"},{"$f":"TRANSPOSE(MMULT($AO$40:$AQ$42,TRANSPOSE(C615:E615)))","v":{"$error":"#N/A"}},{"$error":"#N/A"},{"$error":"#N/A"},{"$error":"#N/A"},{"$error":"#N/A"},{"$error":"#N/A"}]
[616,{"$error":"#N/A"},{"$error":"#N/A"},{"$error":"#N/A"},{"$error":"#N/A"},{"$error":"#N/A"},{"$error":"#N/A"},{"$error":"#N/A"},{"$error":"#N/A"},{"$error":"#N/A"},{"$error":"#N/A"},{"$f":"IF($AK$38=0,TRANSPOSE(MMULT($O$10:$Q$12,TRANSPOSE(C616:E616))),TRANSPOSE(MMULT($O$10:$Q$12,TRANSPOSE(Y616:AA616))))","v":{"$error":"#N/A"}},{"$error":"#N/A"},{"$error":"#N/A"},{"$error":"#N/A"},{"$error":"#N/A"},{"$f":"TRANSPOSE(MMULT($AE$10:$AG$12,TRANSPOSE(F616:H616)))","v":{"$error":"#N/A"}},{"$error":"#N/A"},{"$error":"#N/A"},{"$error":"#N/A"},{"$error":"#N/A"},{"$f":"TRANSPOSE(MMULT($AO$40:$AQ$42,TRANSPOSE(C616:E616)))","v":{"$error":"#N/A"}},{"$error":"#N/A"},{"$error":"#N/A"},{"$error":"#N/A"},{"$error":"#N/A"},{"$error":"#N/A"}]
[617,{"$error":"#N/A"},{"$error":"#N/A"},{"$error":"#N/A"},{"$error":"#N/A"},{"$error":"#N/A"},{"$error":"#N/A"},{"$error":"#N/A"},{"$error":"#N/A"},{"$error":"#N/A"},{"$error":"#N/A"},{"$f":"IF($AK$38=0,TRANSPOSE(MMULT($O$10:$Q$12,TRANSPOSE(C617:E617))),TRANSPOSE(MMULT($O$10:$Q$12,TRANSPOSE(Y617:AA617))))","v":{"$error":"#N/A"}},{"$error":"#N/A"},{"$error":"#N/A"},{"$error":"#N/A"},{"$error":"#N/A"},{"$f":"TRANSPOSE(MMULT($AE$10:$AG$12,TRANSPOSE(F617:H617)))","v":{"$error":"#N/A"}},{"$error":"#N/A"},{"$error":"#N/A"},{"$error":"#N/A"},{"$error":"#N/A"},{"$f":"TRANSPOSE(MMULT($AO$40:$AQ$42,TRANSPOSE(C617:E617)))","v":{"$error":"#N/A"}},{"$error":"#N/A"},{"$error":"#N/A"},{"$error":"#N/A"},{"$error":"#N/A"},{"$error":"#N/A"}]
[618,{"$error":"#N/A"},{"$error":"#N/A"},{"$error":"#N/A"},{"$error":"#N/A"},{"$error":"#N/A"},{"$error":"#N/A"},{"$error":"#N/A"},{"$error":"#N/A"},{"$error":"#N/A"},{"$error":"#N/A"},{"$f":"IF($AK$38=0,TRANSPOSE(MMULT($O$10:$Q$12,TRANSPOSE(C618:E618))),TRANSPOSE(MMULT($O$10:$Q$12,TRANSPOSE(Y618:AA618))))","v":{"$error":"#N/A"}},{"$error":"#N/A"},{"$error":"#N/A"},{"$error":"#N/A"},{"$error":"#N/A"},{"$f":"TRANSPOSE(MMULT($AE$10:$AG$12,TRANSPOSE(F618:H618)))","v":{"$error":"#N/A"}},{"$error":"#N/A"},{"$error":"#N/A"},{"$error":"#N/A"},{"$error":"#N/A"},{"$f":"TRANSPOSE(MMULT($AO$40:$AQ$42,TRANSPOSE(C618:E618)))","v":{"$error":"#N/A"}},{"$error":"#N/A"},{"$error":"#N/A"},{"$error":"#N/A"},{"$error":"#N/A"},{"$error":"#N/A"}]
[619,{"$error":"#N/A"},{"$error":"#N/A"},{"$error":"#N/A"},{"$error":"#N/A"},{"$error":"#N/A"},{"$error":"#N/A"},{"$error":"#N/A"},{"$error":"#N/A"},{"$error":"#N/A"},{"$error":"#N/A"},{"$f":"IF($AK$38=0,TRANSPOSE(MMULT($O$10:$Q$12,TRANSPOSE(C619:E619))),TRANSPOSE(MMULT($O$10:$Q$12,TRANSPOSE(Y619:AA619))))","v":{"$error":"#N/A"}},{"$error":"#N/A"},{"$error":"#N/A"},{"$error":"#N/A"},{"$error":"#N/A"},{"$f":"TRANSPOSE(MMULT($AE$10:$AG$12,TRANSPOSE(F619:H619)))","v":{"$error":"#N/A"}},{"$error":"#N/A"},{"$error":"#N/A"},{"$error":"#N/A"},{"$error":"#N/A"},{"$f":"TRANSPOSE(MMULT($AO$40:$AQ$42,TRANSPOSE(C619:E619)))","v":{"$error":"#N/A"}},{"$error":"#N/A"},{"$error":"#N/A"},{"$error":"#N/A"},{"$error":"#N/A"},{"$error":"#N/A"}]
[620,{"$error":"#N/A"},{"$error":"#N/A"},{"$error":"#N/A"},{"$error":"#N/A"},{"$error":"#N/A"},{"$error":"#N/A"},{"$error":"#N/A"},{"$error":"#N/A"},{"$error":"#N/A"},{"$error":"#N/A"},{"$f":"IF($AK$38=0,TRANSPOSE(MMULT($O$10:$Q$12,TRANSPOSE(C620:E620))),TRANSPOSE(MMULT($O$10:$Q$12,TRANSPOSE(Y620:AA620))))","v":{"$error":"#N/A"}},{"$error":"#N/A"},{"$error":"#N/A"},{"$error":"#N/A"},{"$error":"#N/A"},{"$f":"TRANSPOSE(MMULT($AE$10:$AG$12,TRANSPOSE(F620:H620)))","v":{"$error":"#N/A"}},{"$error":"#N/A"},{"$error":"#N/A"},{"$error":"#N/A"},{"$error":"#N/A"},{"$f":"TRANSPOSE(MMULT($AO$40:$AQ$42,TRANSPOSE(C620:E620)))","v":{"$error":"#N/A"}},{"$error":"#N/A"},{"$error":"#N/A"},{"$error":"#N/A"},{"$error":"#N/A"},{"$error":"#N/A"}]
[621,{"$error":"#N/A"},{"$error":"#N/A"},{"$error":"#N/A"},{"$error":"#N/A"},{"$error":"#N/A"},{"$error":"#N/A"},{"$error":"#N/A"},{"$error":"#N/A"},{"$error":"#N/A"},{"$error":"#N/A"},{"$f":"IF($AK$38=0,TRANSPOSE(MMULT($O$10:$Q$12,TRANSPOSE(C621:E621))),TRANSPOSE(MMULT($O$10:$Q$12,TRANSPOSE(Y621:AA621))))","v":{"$error":"#N/A"}},{"$error":"#N/A"},{"$error":"#N/A"},{"$error":"#N/A"},{"$error":"#N/A"},{"$f":"TRANSPOSE(MMULT($AE$10:$AG$12,TRANSPOSE(F621:H621)))","v":{"$error":"#N/A"}},{"$error":"#N/A"},{"$error":"#N/A"},{"$error":"#N/A"},{"$error":"#N/A"},{"$f":"TRANSPOSE(MMULT($AO$40:$AQ$42,TRANSPOSE(C621:E621)))","v":{"$error":"#N/A"}},{"$error":"#N/A"},{"$error":"#N/A"},{"$error":"#N/A"},{"$error":"#N/A"},{"$error":"#N/A"}]
[622,{"$error":"#N/A"},{"$error":"#N/A"},{"$error":"#N/A"},{"$error":"#N/A"},{"$error":"#N/A"},{"$error":"#N/A"},{"$error":"#N/A"},{"$error":"#N/A"},{"$error":"#N/A"},{"$error":"#N/A"},{"$f":"IF($AK$38=0,TRANSPOSE(MMULT($O$10:$Q$12,TRANSPOSE(C622:E622))),TRANSPOSE(MMULT($O$10:$Q$12,TRANSPOSE(Y622:AA622))))","v":{"$error":"#N/A"}},{"$error":"#N/A"},{"$error":"#N/A"},{"$error":"#N/A"},{"$error":"#N/A"},{"$f":"TRANSPOSE(MMULT($AE$10:$AG$12,TRANSPOSE(F622:H622)))","v":{"$error":"#N/A"}},{"$error":"#N/A"},{"$error":"#N/A"},{"$error":"#N/A"},{"$error":"#N/A"},{"$f":"TRANSPOSE(MMULT($AO$40:$AQ$42,TRANSPOSE(C622:E622)))","v":{"$error":"#N/A"}},{"$error":"#N/A"},{"$error":"#N/A"},{"$error":"#N/A"},{"$error":"#N/A"},{"$error":"#N/A"}]
[623,{"$error":"#N/A"},{"$error":"#N/A"},{"$error":"#N/A"},{"$error":"#N/A"},{"$error":"#N/A"},{"$error":"#N/A"},{"$error":"#N/A"},{"$error":"#N/A"},{"$error":"#N/A"},{"$error":"#N/A"},{"$f":"IF($AK$38=0,TRANSPOSE(MMULT($O$10:$Q$12,TRANSPOSE(C623:E623))),TRANSPOSE(MMULT($O$10:$Q$12,TRANSPOSE(Y623:AA623))))","v":{"$error":"#N/A"}},{"$error":"#N/A"},{"$error":"#N/A"},{"$error":"#N/A"},{"$error":"#N/A"},{"$f":"TRANSPOSE(MMULT($AE$10:$AG$12,TRANSPOSE(F623:H623)))","v":{"$error":"#N/A"}},{"$error":"#N/A"},{"$error":"#N/A"},{"$error":"#N/A"},{"$error":"#N/A"},{"$f":"TRANSPOSE(MMULT($AO$40:$AQ$42,TRANSPOSE(C623:E623)))","v":{"$error":"#N/A"}},{"$error":"#N/A"},{"$error":"#N/A"},{"$error":"#N/A"},{"$error":"#N/A"},{"$error":"#N/A"}]
[624,{"$error":"#N/A"},{"$error":"#N/A"},{"$error":"#N/A"},{"$error":"#N/A"},{"$error":"#N/A"},{"$error":"#N/A"},{"$error":"#N/A"},{"$error":"#N/A"},{"$error":"#N/A"},{"$error":"#N/A"},{"$f":"IF($AK$38=0,TRANSPOSE(MMULT($O$10:$Q$12,TRANSPOSE(C624:E624))),TRANSPOSE(MMULT($O$10:$Q$12,TRANSPOSE(Y624:AA624))))","v":{"$error":"#N/A"}},{"$error":"#N/A"},{"$error":"#N/A"},{"$error":"#N/A"},{"$error":"#N/A"},{"$f":"TRANSPOSE(MMULT($AE$10:$AG$12,TRANSPOSE(F624:H624)))","v":{"$error":"#N/A"}},{"$error":"#N/A"},{"$error":"#N/A"},{"$error":"#N/A"},{"$error":"#N/A"},{"$f":"TRANSPOSE(MMULT($AO$40:$AQ$42,TRANSPOSE(C624:E624)))","v":{"$error":"#N/A"}},{"$error":"#N/A"},{"$error":"#N/A"},{"$error":"#N/A"},{"$error":"#N/A"},{"$error":"#N/A"}]
[625,{"$error":"#N/A"},{"$error":"#N/A"},{"$error":"#N/A"},{"$error":"#N/A"},{"$error":"#N/A"},{"$error":"#N/A"},{"$error":"#N/A"},{"$error":"#N/A"},{"$error":"#N/A"},{"$error":"#N/A"},{"$f":"IF($AK$38=0,TRANSPOSE(MMULT($O$10:$Q$12,TRANSPOSE(C625:E625))),TRANSPOSE(MMULT($O$10:$Q$12,TRANSPOSE(Y625:AA625))))","v":{"$error":"#N/A"}},{"$error":"#N/A"},{"$error":"#N/A"},{"$error":"#N/A"},{"$error":"#N/A"},{"$f":"TRANSPOSE(MMULT($AE$10:$AG$12,TRANSPOSE(F625:H625)))","v":{"$error":"#N/A"}},{"$error":"#N/A"},{"$error":"#N/A"},{"$error":"#N/A"},{"$error":"#N/A"},{"$f":"TRANSPOSE(MMULT($AO$40:$AQ$42,TRANSPOSE(C625:E625)))","v":{"$error":"#N/A"}},{"$error":"#N/A"},{"$error":"#N/A"},{"$error":"#N/A"},{"$error":"#N/A"},{"$error":"#N/A"}]
[626,{"$error":"#N/A"},{"$error":"#N/A"},{"$error":"#N/A"},{"$error":"#N/A"},{"$error":"#N/A"},{"$error":"#N/A"},{"$error":"#N/A"},{"$error":"#N/A"},{"$error":"#N/A"},{"$error":"#N/A"},{"$f":"IF($AK$38=0,TRANSPOSE(MMULT($O$10:$Q$12,TRANSPOSE(C626:E626))),TRANSPOSE(MMULT($O$10:$Q$12,TRANSPOSE(Y626:AA626))))","v":{"$error":"#N/A"}},{"$error":"#N/A"},{"$error":"#N/A"},{"$error":"#N/A"},{"$error":"#N/A"},{"$f":"TRANSPOSE(MMULT($AE$10:$AG$12,TRANSPOSE(F626:H626)))","v":{"$error":"#N/A"}},{"$error":"#N/A"},{"$error":"#N/A"},{"$error":"#N/A"},{"$error":"#N/A"},{"$f":"TRANSPOSE(MMULT($AO$40:$AQ$42,TRANSPOSE(C626:E626)))","v":{"$error":"#N/A"}},{"$error":"#N/A"},{"$error":"#N/A"},{"$error":"#N/A"},{"$error":"#N/A"},{"$error":"#N/A"}]
[627,{"$error":"#N/A"},{"$error":"#N/A"},{"$error":"#N/A"},{"$error":"#N/A"},{"$error":"#N/A"},{"$error":"#N/A"},{"$error":"#N/A"},{"$error":"#N/A"},{"$error":"#N/A"},{"$error":"#N/A"},{"$f":"IF($AK$38=0,TRANSPOSE(MMULT($O$10:$Q$12,TRANSPOSE(C627:E627))),TRANSPOSE(MMULT($O$10:$Q$12,TRANSPOSE(Y627:AA627))))","v":{"$error":"#N/A"}},{"$error":"#N/A"},{"$error":"#N/A"},{"$error":"#N/A"},{"$error":"#N/A"},{"$f":"TRANSPOSE(MMULT($AE$10:$AG$12,TRANSPOSE(F627:H627)))","v":{"$error":"#N/A"}},{"$error":"#N/A"},{"$error":"#N/A"},{"$error":"#N/A"},{"$error":"#N/A"},{"$f":"TRANSPOSE(MMULT($AO$40:$AQ$42,TRANSPOSE(C627:E627)))","v":{"$error":"#N/A"}},{"$error":"#N/A"},{"$error":"#N/A"},{"$error":"#N/A"},{"$error":"#N/A"},{"$error":"#N/A"}]
[628,{"$error":"#N/A"},{"$f":"(C$4+F$4*$B628+I$4*$B628^2+L$4*$B628^3+O$4*$B628^4)+(C$5+F$5*$B628+I$5*$B628^2+L$5*$B628^3+O$5*$B628^5)*(COS(C$6+F$6*$B628+I$6*$B628^2+L$6*$B628^3+O$6*$B628^4))+(C$7+F$7*$B628+I$7*$B628^2+L$7*$B628^3+O$7*$B628^4)*(SIN(C$8+F$8*$B628+I$8*$B628^2+L$8*$B628^3+O$8*$B628^4))","v":{"$error":"#N/A"}},{"$f":"(D$4+G$4*$B628+J$4*$B628^2+M$4*$B628^3+P$4*$B628^4)+(D$5+G$5*$B628+J$5*$B628^2+M$5*$B628^3+P$5*$B628^5)*(COS(D$6+G$6*$B628+J$6*$B628^2+M$6*$B628^3+P$6*$B628^4))+(D$7+G$7*$B628+J$7*$B628^2+M$7*$B628^3+P$7*$B628^4)*(SIN(D$8+G$8*$B628+J$8*$B628^2+M$8*$B628^3+P$8*$B628^4))","v":{"$error":"#N/A"}},{"$f":"(E$4+H$4*$B628+K$4*$B628^2+N$4*$B628^3+Q$4*$B628^4)+(E$5+H$5*$B628+K$5*$B628^2+N$5*$B628^3+Q$5*$B628^5)*(COS(E$6+H$6*$B628+K$6*$B628^2+N$6*$B628^3+Q$6*$B628^4))+(E$7+H$7*$B628+K$7*$B628^2+N$7*$B628^3+Q$7*$B628^4)*(SIN(E$8+H$8*$B628+K$8*$B628^2+N$8*$B628^3+Q$8*$B628^4))","v":{"$error":"#N/A"}},{"$error":"#N/A"},{"$error":"#N/A"},{"$error":"#N/A"},{"$error":"#N/A"},{"$error":"#N/A"},{"$error":"#N/A"},{"$f":"IF($AK$38=0,TRANSPOSE(MMULT($O$10:$Q$12,TRANSPOSE(C628:E628))),TRANSPOSE(MMULT($O$10:$Q$12,TRANSPOSE(Y628:AA628))))","v":{"$error":"#N/A"}},{"$error":"#N/A"},{"$error":"#N/A"},{"$error":"#N/A"},{"$error":"#N/A"},{"$f":"TRANSPOSE(MMULT($AE$10:$AG$12,TRANSPOSE(F628:H628)))","v":{"$error":"#N/A"}},{"$error":"#N/A"},{"$error":"#N/A"},{"$error":"#N/A"},{"$error":"#N/A"},{"$f":"TRANSPOSE(MMULT($AO$40:$AQ$42,TRANSPOSE(C628:E628)))","v":{"$error":"#N/A"}},{"$error":"#N/A"},{"$error":"#N/A"},{"$error":"#N/A"},{"$error":"#N/A"},{"$error":"#N/A"}]
[629,{"$error":"#N/A"},{"$error":"#N/A"},{"$error":"#N/A"},{"$error":"#N/A"},{"$error":"#N/A"},{"$error":"#N/A"},{"$error":"#N/A"},{"$error":"#N/A"},{"$error":"#N/A"},{"$error":"#N/A"},{"$f":"IF($AK$38=0,TRANSPOSE(MMULT($O$10:$Q$12,TRANSPOSE(C629:E629))),TRANSPOSE(MMULT($O$10:$Q$12,TRANSPOSE(Y629:AA629))))","v":{"$error":"#N/A"}},{"$error":"#N/A"},{"$error":"#N/A"},{"$error":"#N/A"},{"$error":"#N/A"},{"$f":"TRANSPOSE(MMULT($AE$10:$AG$12,TRANSPOSE(F629:H629)))","v":{"$error":"#N/A"}},{"$error":"#N/A"},{"$error":"#N/A"},{"$error":"#N/A"},{"$error":"#N/A"},{"$f":"TRANSPOSE(MMULT($AO$40:$AQ$42,TRANSPOSE(C629:E629)))","v":{"$error":"#N/A"}},{"$error":"#N/A"},{"$error":"#N/A"},{"$error":"#N/A"},{"$error":"#N/A"},{"$error":"#N/A"}]
[630,{"$error":"#N/A"},{"$error":"#N/A"},{"$error":"#N/A"},{"$error":"#N/A"},{"$error":"#N/A"},{"$error":"#N/A"},{"$error":"#N/A"},{"$error":"#N/A"},{"$error":"#N/A"},{"$error":"#N/A"},{"$f":"IF($AK$38=0,TRANSPOSE(MMULT($O$10:$Q$12,TRANSPOSE(C630:E630))),TRANSPOSE(MMULT($O$10:$Q$12,TRANSPOSE(Y630:AA630))))","v":{"$error":"#N/A"}},{"$error":"#N/A"},{"$error":"#N/A"},{"$error":"#N/A"},{"$error":"#N/A"},{"$f":"TRANSPOSE(MMULT($AE$10:$AG$12,TRANSPOSE(F630:H630)))","v":{"$error":"#N/A"}},{"$error":"#N/A"},{"$error":"#N/A"},{"$error":"#N/A"},{"$error":"#N/A"},{"$f":"TRANSPOSE(MMULT($AO$40:$AQ$42,TRANSPOSE(C630:E630)))","v":{"$error":"#N/A"}},{"$error":"#N/A"},{"$error":"#N/A"},{"$error":"#N/A"},{"$error":"#N/A"},{"$error":"#N/A"}]
[631,{"$error":"#N/A"},{"$error":"#N/A"},{"$error":"#N/A"},{"$error":"#N/A"},{"$error":"#N/A"},{"$error":"#N/A"},{"$error":"#N/A"},{"$error":"#N/A"},{"$error":"#N/A"},{"$error":"#N/A"},{"$f":"IF($AK$38=0,TRANSPOSE(MMULT($O$10:$Q$12,TRANSPOSE(C631:E631))),TRANSPOSE(MMULT($O$10:$Q$12,TRANSPOSE(Y631:AA631))))","v":{"$error":"#N/A"}},{"$error":"#N/A"},{"$error":"#N/A"},{"$error":"#N/A"},{"$error":"#N/A"},{"$f":"TRANSPOSE(MMULT($AE$10:$AG$12,TRANSPOSE(F631:H631)))","v":{"$error":"#N/A"}},{"$error":"#N/A"},{"$error":"#N/A"},{"$error":"#N/A"},{"$error":"#N/A"},{"$f":"TRANSPOSE(MMULT($AO$40:$AQ$42,TRANSPOSE(C631:E631)))","v":{"$error":"#N/A"}},{"$error":"#N/A"},{"$error":"#N/A"},{"$error":"#N/A"},{"$error":"#N/A"},{"$error":"#N/A"}]
[632,{"$error":"#N/A"},{"$error":"#N/A"},{"$error":"#N/A"},{"$error":"#N/A"},{"$error":"#N/A"},{"$error":"#N/A"},{"$error":"#N/A"},{"$error":"#N/A"},{"$error":"#N/A"},{"$error":"#N/A"},{"$f":"IF($AK$38=0,TRANSPOSE(MMULT($O$10:$Q$12,TRANSPOSE(C632:E632))),TRANSPOSE(MMULT($O$10:$Q$12,TRANSPOSE(Y632:AA632))))","v":{"$error":"#N/A"}},{"$error":"#N/A"},{"$error":"#N/A"},{"$error":"#N/A"},{"$error":"#N/A"},{"$f":"TRANSPOSE(MMULT($AE$10:$AG$12,TRANSPOSE(F632:H632)))","v":{"$error":"#N/A"}},{"$error":"#N/A"},{"$error":"#N/A"},{"$error":"#N/A"},{"$error":"#N/A"},{"$f":"TRANSPOSE(MMULT($AO$40:$AQ$42,TRANSPOSE(C632:E632)))","v":{"$error":"#N/A"}},{"$error":"#N/A"},{"$error":"#N/A"},{"$error":"#N/A"},{"$error":"#N/A"},{"$error":"#N/A"}]
[633,{"$error":"#N/A"},{"$error":"#N/A"},{"$error":"#N/A"},{"$error":"#N/A"},{"$error":"#N/A"},{"$error":"#N/A"},{"$error":"#N/A"},{"$error":"#N/A"},{"$error":"#N/A"},{"$error":"#N/A"},{"$f":"IF($AK$38=0,TRANSPOSE(MMULT($O$10:$Q$12,TRANSPOSE(C633:E633))),TRANSPOSE(MMULT($O$10:$Q$12,TRANSPOSE(Y633:AA633))))","v":{"$error":"#N/A"}},{"$error":"#N/A"},{"$error":"#N/A"},{"$error":"#N/A"},{"$error":"#N/A"},{"$f":"TRANSPOSE(MMULT($AE$10:$AG$12,TRANSPOSE(F633:H633)))","v":{"$error":"#N/A"}},{"$error":"#N/A"},{"$error":"#N/A"},{"$error":"#N/A"},{"$error":"#N/A"},{"$f":"TRANSPOSE(MMULT($AO$40:$AQ$42,TRANSPOSE(C633:E633)))","v":{"$error":"#N/A"}},{"$error":"#N/A"},{"$error":"#N/A"},{"$error":"#N/A"},{"$error":"#N/A"},{"$error":"#N/A"}]
[634,{"$error":"#N/A"},{"$error":"#N/A"},{"$error":"#N/A"},{"$error":"#N/A"},{"$error":"#N/A"},{"$error":"#N/A"},{"$error":"#N/A"},{"$error":"#N/A"},{"$error":"#N/A"},{"$error":"#N/A"},{"$f":"IF($AK$38=0,TRANSPOSE(MMULT($O$10:$Q$12,TRANSPOSE(C634:E634))),TRANSPOSE(MMULT($O$10:$Q$12,TRANSPOSE(Y634:AA634))))","v":{"$error":"#N/A"}},{"$error":"#N/A"},{"$error":"#N/A"},{"$error":"#N/A"},{"$error":"#N/A"},{"$f":"TRANSPOSE(MMULT($AE$10:$AG$12,TRANSPOSE(F634:H634)))","v":{"$error":"#N/A"}},{"$error":"#N/A"},{"$error":"#N/A"},{"$error":"#N/A"},{"$error":"#N/A"},{"$f":"TRANSPOSE(MMULT($AO$40:$AQ$42,TRANSPOSE(C634:E634)))","v":{"$error":"#N/A"}},{"$error":"#N/A"},{"$error":"#N/A"},{"$error":"#N/A"},{"$error":"#N/A"},{"$error":"#N/A"}]
[635,{"$error":"#N/A"},{"$error":"#N/A"},{"$error":"#N/A"},{"$error":"#N/A"},{"$error":"#N/A"},{"$error":"#N/A"},{"$error":"#N/A"},{"$error":"#N/A"},{"$error":"#N/A"},{"$error":"#N/A"},{"$f":"IF($AK$38=0,TRANSPOSE(MMULT($O$10:$Q$12,TRANSPOSE(C635:E635))),TRANSPOSE(MMULT($O$10:$Q$12,TRANSPOSE(Y635:AA635))))","v":{"$error":"#N/A"}},{"$error":"#N/A"},{"$error":"#N/A"},{"$error":"#N/A"},{"$error":"#N/A"},{"$f":"TRANSPOSE(MMULT($AE$10:$AG$12,TRANSPOSE(F635:H635)))","v":{"$error":"#N/A"}},{"$error":"#N/A"},{"$error":"#N/A"},{"$error":"#N/A"},{"$error":"#N/A"},{"$f":"TRANSPOSE(MMULT($AO$40:$AQ$42,TRANSPOSE(C635:E635)))","v":{"$error":"#N/A"}},{"$error":"#N/A"},{"$error":"#N/A"},{"$error":"#N/A"},{"$error":"#N/A"},{"$error":"#N/A"}]
[636,{"$error":"#N/A"},{"$error":"#N/A"},{"$error":"#N/A"},{"$error":"#N/A"},{"$error":"#N/A"},{"$error":"#N/A"},{"$error":"#N/A"},{"$error":"#N/A"},{"$error":"#N/A"},{"$error":"#N/A"},{"$f":"IF($AK$38=0,TRANSPOSE(MMULT($O$10:$Q$12,TRANSPOSE(C636:E636))),TRANSPOSE(MMULT($O$10:$Q$12,TRANSPOSE(Y636:AA636))))","v":{"$error":"#N/A"}},{"$error":"#N/A"},{"$error":"#N/A"},{"$error":"#N/A"},{"$error":"#N/A"},{"$f":"TRANSPOSE(MMULT($AE$10:$AG$12,TRANSPOSE(F636:H636)))","v":{"$error":"#N/A"}},{"$error":"#N/A"},{"$error":"#N/A"},{"$error":"#N/A"},{"$error":"#N/A"},{"$f":"TRANSPOSE(MMULT($AO$40:$AQ$42,TRANSPOSE(C636:E636)))","v":{"$error":"#N/A"}},{"$error":"#N/A"},{"$error":"#N/A"},{"$error":"#N/A"},{"$error":"#N/A"},{"$error":"#N/A"}]
[637,{"$error":"#N/A"},{"$error":"#N/A"},{"$error":"#N/A"},{"$error":"#N/A"},{"$error":"#N/A"},{"$error":"#N/A"},{"$error":"#N/A"},{"$error":"#N/A"},{"$error":"#N/A"},{"$error":"#N/A"},{"$f":"IF($AK$38=0,TRANSPOSE(MMULT($O$10:$Q$12,TRANSPOSE(C637:E637))),TRANSPOSE(MMULT($O$10:$Q$12,TRANSPOSE(Y637:AA637))))","v":{"$error":"#N/A"}},{"$error":"#N/A"},{"$error":"#N/A"},{"$error":"#N/A"},{"$error":"#N/A"},{"$f":"TRANSPOSE(MMULT($AE$10:$AG$12,TRANSPOSE(F637:H637)))","v":{"$error":"#N/A"}},{"$error":"#N/A"},{"$error":"#N/A"},{"$error":"#N/A"},{"$error":"#N/A"},{"$f":"TRANSPOSE(MMULT($AO$40:$AQ$42,TRANSPOSE(C637:E637)))","v":{"$error":"#N/A"}},{"$error":"#N/A"},{"$error":"#N/A"},{"$error":"#N/A"},{"$error":"#N/A"},{"$error":"#N/A"}]
[638,{"$error":"#N/A"},{"$error":"#N/A"},{"$error":"#N/A"},{"$error":"#N/A"},{"$error":"#N/A"},{"$error":"#N/A"},{"$error":"#N/A"},{"$error":"#N/A"},{"$error":"#N/A"},{"$error":"#N/A"},{"$f":"IF($AK$38=0,TRANSPOSE(MMULT($O$10:$Q$12,TRANSPOSE(C638:E638))),TRANSPOSE(MMULT($O$10:$Q$12,TRANSPOSE(Y638:AA638))))","v":{"$error":"#N/A"}},{"$error":"#N/A"},{"$error":"#N/A"},{"$error":"#N/A"},{"$error":"#N/A"},{"$f":"TRANSPOSE(MMULT($AE$10:$AG$12,TRANSPOSE(F638:H638)))","v":{"$error":"#N/A"}},{"$error":"#N/A"},{"$error":"#N/A"},{"$error":"#N/A"},{"$error":"#N/A"},{"$f":"TRANSPOSE(MMULT($AO$40:$AQ$42,TRANSPOSE(C638:E638)))","v":{"$error":"#N/A"}},{"$error":"#N/A"},{"$error":"#N/A"},{"$error":"#N/A"},{"$error":"#N/A"},{"$error":"#N/A"}]
[639,{"$error":"#N/A"},{"$error":"#N/A"},{"$error":"#N/A"},{"$error":"#N/A"},{"$error":"#N/A"},{"$error":"#N/A"},{"$error":"#N/A"},{"$error":"#N/A"},{"$error":"#N/A"},{"$error":"#N/A"},{"$f":"IF($AK$38=0,TRANSPOSE(MMULT($O$10:$Q$12,TRANSPOSE(C639:E639))),TRANSPOSE(MMULT($O$10:$Q$12,TRANSPOSE(Y639:AA639))))","v":{"$error":"#N/A"}},{"$error":"#N/A"},{"$error":"#N/A"},{"$error":"#N/A"},{"$error":"#N/A"},{"$f":"TRANSPOSE(MMULT($AE$10:$AG$12,TRANSPOSE(F639:H639)))","v":{"$error":"#N/A"}},{"$error":"#N/A"},{"$error":"#N/A"},{"$error":"#N/A"},{"$error":"#N/A"},{"$f":"TRANSPOSE(MMULT($AO$40:$AQ$42,TRANSPOSE(C639:E639)))","v":{"$error":"#N/A"}},{"$error":"#N/A"},{"$error":"#N/A"},{"$error":"#N/A"},{"$error":"#N/A"},{"$error":"#N/A"}]
[640,{"$error":"#N/A"},{"$error":"#N/A"},{"$error":"#N/A"},{"$error":"#N/A"},{"$error":"#N/A"},{"$error":"#N/A"},{"$error":"#N/A"},{"$error":"#N/A"},{"$error":"#N/A"},{"$error":"#N/A"},{"$f":"IF($AK$38=0,TRANSPOSE(MMULT($O$10:$Q$12,TRANSPOSE(C640:E640))),TRANSPOSE(MMULT($O$10:$Q$12,TRANSPOSE(Y640:AA640))))","v":{"$error":"#N/A"}},{"$error":"#N/A"},{"$error":"#N/A"},{"$error":"#N/A"},{"$error":"#N/A"},{"$f":"TRANSPOSE(MMULT($AE$10:$AG$12,TRANSPOSE(F640:H640)))","v":{"$error":"#N/A"}},{"$error":"#N/A"},{"$error":"#N/A"},{"$error":"#N/A"},{"$error":"#N/A"},{"$f":"TRANSPOSE(MMULT($AO$40:$AQ$42,TRANSPOSE(C640:E640)))","v":{"$error":"#N/A"}},{"$error":"#N/A"},{"$error":"#N/A"},{"$error":"#N/A"},{"$error":"#N/A"},{"$error":"#N/A"}]
[641,{"$error":"#N/A"},{"$error":"#N/A"},{"$error":"#N/A"},{"$error":"#N/A"},{"$error":"#N/A"},{"$error":"#N/A"},{"$error":"#N/A"},{"$error":"#N/A"},{"$error":"#N/A"},{"$error":"#N/A"},{"$f":"IF($AK$38=0,TRANSPOSE(MMULT($O$10:$Q$12,TRANSPOSE(C641:E641))),TRANSPOSE(MMULT($O$10:$Q$12,TRANSPOSE(Y641:AA641))))","v":{"$error":"#N/A"}},{"$error":"#N/A"},{"$error":"#N/A"},{"$error":"#N/A"},{"$error":"#N/A"},{"$f":"TRANSPOSE(MMULT($AE$10:$AG$12,TRANSPOSE(F641:H641)))","v":{"$error":"#N/A"}},{"$error":"#N/A"},{"$error":"#N/A"},{"$error":"#N/A"},{"$error":"#N/A"},{"$f":"TRANSPOSE(MMULT($AO$40:$AQ$42,TRANSPOSE(C641:E641)))","v":{"$error":"#N/A"}},{"$error":"#N/A"},{"$error":"#N/A"},{"$error":"#N/A"},{"$error":"#N/A"},{"$error":"#N/A"}]
[642,{"$error":"#N/A"},{"$error":"#N/A"},{"$error":"#N/A"},{"$error":"#N/A"},{"$error":"#N/A"},{"$error":"#N/A"},{"$error":"#N/A"},{"$error":"#N/A"},{"$error":"#N/A"},{"$error":"#N/A"},{"$f":"IF($AK$38=0,TRANSPOSE(MMULT($O$10:$Q$12,TRANSPOSE(C642:E642))),TRANSPOSE(MMULT($O$10:$Q$12,TRANSPOSE(Y642:AA642))))","v":{"$error":"#N/A"}},{"$error":"#N/A"},{"$error":"#N/A"},{"$error":"#N/A"},{"$error":"#N/A"},{"$f":"TRANSPOSE(MMULT($AE$10:$AG$12,TRANSPOSE(F642:H642)))","v":{"$error":"#N/A"}},{"$error":"#N/A"},{"$error":"#N/A"},{"$error":"#N/A"},{"$error":"#N/A"},{"$f":"TRANSPOSE(MMULT($AO$40:$AQ$42,TRANSPOSE(C642:E642)))","v":{"$error":"#N/A"}},{"$error":"#N/A"},{"$error":"#N/A"},{"$error":"#N/A"},{"$error":"#N/A"},{"$error":"#N/A"}]
[643,{"$error":"#N/A"},{"$error":"#N/A"},{"$error":"#N/A"},{"$error":"#N/A"},{"$error":"#N/A"},{"$error":"#N/A"},{"$error":"#N/A"},{"$error":"#N/A"},{"$error":"#N/A"},{"$error":"#N/A"},{"$f":"IF($AK$38=0,TRANSPOSE(MMULT($O$10:$Q$12,TRANSPOSE(C643:E643))),TRANSPOSE(MMULT($O$10:$Q$12,TRANSPOSE(Y643:AA643))))","v":{"$error":"#N/A"}},{"$error":"#N/A"},{"$error":"#N/A"},{"$error":"#N/A"},{"$error":"#N/A"},{"$f":"TRANSPOSE(MMULT($AE$10:$AG$12,TRANSPOSE(F643:H643)))","v":{"$error":"#N/A"}},{"$error":"#N/A"},{"$error":"#N/A"},{"$error":"#N/A"},{"$error":"#N/A"},{"$f":"TRANSPOSE(MMULT($AO$40:$AQ$42,TRANSPOSE(C643:E643)))","v":{"$error":"#N/A"}},{"$error":"#N/A"},{"$error":"#N/A"},{"$error":"#N/A"},{"$error":"#N/A"},{"$error":"#N/A"}]
[644,{"$error":"#N/A"},{"$error":"#N/A"},{"$error":"#N/A"},{"$error":"#N/A"},{"$error":"#N/A"},{"$error":"#N/A"},{"$error":"#N/A"},{"$error":"#N/A"},{"$error":"#N/A"},{"$error":"#N/A"},{"$f":"IF($AK$38=0,TRANSPOSE(MMULT($O$10:$Q$12,TRANSPOSE(C644:E644))),TRANSPOSE(MMULT($O$10:$Q$12,TRANSPOSE(Y644:AA644))))","v":{"$error":"#N/A"}},{"$error":"#N/A"},{"$error":"#N/A"},{"$error":"#N/A"},{"$error":"#N/A"},{"$f":"TRANSPOSE(MMULT($AE$10:$AG$12,TRANSPOSE(F644:H644)))","v":{"$error":"#N/A"}},{"$error":"#N/A"},{"$error":"#N/A"},{"$error":"#N/A"},{"$error":"#N/A"},{"$f":"TRANSPOSE(MMULT($AO$40:$AQ$42,TRANSPOSE(C644:E644)))","v":{"$error":"#N/A"}},{"$error":"#N/A"},{"$error":"#N/A"},{"$error":"#N/A"},{"$error":"#N/A"},{"$error":"#N/A"}]
[645,{"$error":"#N/A"},{"$error":"#N/A"},{"$error":"#N/A"},{"$error":"#N/A"},{"$error":"#N/A"},{"$error":"#N/A"},{"$error":"#N/A"},{"$error":"#N/A"},{"$error":"#N/A"},{"$error":"#N/A"},{"$f":"IF($AK$38=0,TRANSPOSE(MMULT($O$10:$Q$12,TRANSPOSE(C645:E645))),TRANSPOSE(MMULT($O$10:$Q$12,TRANSPOSE(Y645:AA645))))","v":{"$error":"#N/A"}},{"$error":"#N/A"},{"$error":"#N/A"},{"$error":"#N/A"},{"$error":"#N/A"},{"$f":"TRANSPOSE(MMULT($AE$10:$AG$12,TRANSPOSE(F645:H645)))","v":{"$error":"#N/A"}},{"$error":"#N/A"},{"$error":"#N/A"},{"$error":"#N/A"},{"$error":"#N/A"},{"$f":"TRANSPOSE(MMULT($AO$40:$AQ$42,TRANSPOSE(C645:E645)))","v":{"$error":"#N/A"}},{"$error":"#N/A"},{"$error":"#N/A"},{"$error":"#N/A"},{"$error":"#N/A"},{"$error":"#N/A"}]
[646,{"$error":"#N/A"},{"$error":"#N/A"},{"$error":"#N/A"},{"$error":"#N/A"},{"$error":"#N/A"},{"$error":"#N/A"},{"$error":"#N/A"},{"$error":"#N/A"},{"$error":"#N/A"},{"$error":"#N/A"},{"$f":"IF($AK$38=0,TRANSPOSE(MMULT($O$10:$Q$12,TRANSPOSE(C646:E646))),TRANSPOSE(MMULT($O$10:$Q$12,TRANSPOSE(Y646:AA646))))","v":{"$error":"#N/A"}},{"$error":"#N/A"},{"$error":"#N/A"},{"$error":"#N/A"},{"$error":"#N/A"},{"$f":"TRANSPOSE(MMULT($AE$10:$AG$12,TRANSPOSE(F646:H646)))","v":{"$error":"#N/A"}},{"$error":"#N/A"},{"$error":"#N/A"},{"$error":"#N/A"},{"$error":"#N/A"},{"$f":"TRANSPOSE(MMULT($AO$40:$AQ$42,TRANSPOSE(C646:E646)))","v":{"$error":"#N/A"}},{"$error":"#N/A"},{"$error":"#N/A"},{"$error":"#N/A"},{"$error":"#N/A"},{"$error":"#N/A"}]
[647,{"$error":"#N/A"},{"$error":"#N/A"},{"$error":"#N/A"},{"$error":"#N/A"},{"$error":"#N/A"},{"$error":"#N/A"},{"$error":"#N/A"},{"$error":"#N/A"},{"$error":"#N/A"},{"$error":"#N/A"},{"$f":"IF($AK$38=0,TRANSPOSE(MMULT($O$10:$Q$12,TRANSPOSE(C647:E647))),TRANSPOSE(MMULT($O$10:$Q$12,TRANSPOSE(Y647:AA647))))","v":{"$error":"#N/A"}},{"$error":"#N/A"},{"$error":"#N/A"},{"$error":"#N/A"},{"$error":"#N/A"},{"$f":"TRANSPOSE(MMULT($AE$10:$AG$12,TRANSPOSE(F647:H647)))","v":{"$error":"#N/A"}},{"$error":"#N/A"},{"$error":"#N/A"},{"$error":"#N/A"},{"$error":"#N/A"},{"$f":"TRANSPOSE(MMULT($AO$40:$AQ$42,TRANSPOSE(C647:E647)))","v":{"$error":"#N/A"}},{"$error":"#N/A"},{"$error":"#N/A"},{"$error":"#N/A"},{"$error":"#N/A"},{"$error":"#N/A"}]
[648,{"$error":"#N/A"},{"$error":"#N/A"},{"$error":"#N/A"},{"$error":"#N/A"},{"$error":"#N/A"},{"$error":"#N/A"},{"$error":"#N/A"},{"$error":"#N/A"},{"$error":"#N/A"},{"$error":"#N/A"},{"$f":"IF($AK$38=0,TRANSPOSE(MMULT($O$10:$Q$12,TRANSPOSE(C648:E648))),TRANSPOSE(MMULT($O$10:$Q$12,TRANSPOSE(Y648:AA648))))","v":{"$error":"#N/A"}},{"$error":"#N/A"},{"$error":"#N/A"},{"$error":"#N/A"},{"$error":"#N/A"},{"$f":"TRANSPOSE(MMULT($AE$10:$AG$12,TRANSPOSE(F648:H648)))","v":{"$error":"#N/A"}},{"$error":"#N/A"},{"$error":"#N/A"},{"$error":"#N/A"},{"$error":"#N/A"},{"$f":"TRANSPOSE(MMULT($AO$40:$AQ$42,TRANSPOSE(C648:E648)))","v":{"$error":"#N/A"}},{"$error":"#N/A"},{"$error":"#N/A"},{"$error":"#N/A"},{"$error":"#N/A"},{"$error":"#N/A"}]
[649,{"$error":"#N/A"},{"$error":"#N/A"},{"$error":"#N/A"},{"$error":"#N/A"},{"$error":"#N/A"},{"$error":"#N/A"},{"$error":"#N/A"},{"$error":"#N/A"},{"$error":"#N/A"},{"$error":"#N/A"},{"$f":"IF($AK$38=0,TRANSPOSE(MMULT($O$10:$Q$12,TRANSPOSE(C649:E649))),TRANSPOSE(MMULT($O$10:$Q$12,TRANSPOSE(Y649:AA649))))","v":{"$error":"#N/A"}},{"$error":"#N/A"},{"$error":"#N/A"},{"$error":"#N/A"},{"$error":"#N/A"},{"$f":"TRANSPOSE(MMULT($AE$10:$AG$12,TRANSPOSE(F649:H649)))","v":{"$error":"#N/A"}},{"$error":"#N/A"},{"$error":"#N/A"},{"$error":"#N/A"},{"$error":"#N/A"},{"$f":"TRANSPOSE(MMULT($AO$40:$AQ$42,TRANSPOSE(C649:E649)))","v":{"$error":"#N/A"}},{"$error":"#N/A"},{"$error":"#N/A"},{"$error":"#N/A"},{"$error":"#N/A"},{"$error":"#N/A"}]
[650,{"$error":"#N/A"},{"$error":"#N/A"},{"$error":"#N/A"},{"$error":"#N/A"},{"$error":"#N/A"},{"$error":"#N/A"},{"$error":"#N/A"},{"$error":"#N/A"},{"$error":"#N/A"},{"$error":"#N/A"},{"$f":"IF($AK$38=0,TRANSPOSE(MMULT($O$10:$Q$12,TRANSPOSE(C650:E650))),TRANSPOSE(MMULT($O$10:$Q$12,TRANSPOSE(Y650:AA650))))","v":{"$error":"#N/A"}},{"$error":"#N/A"},{"$error":"#N/A"},{"$error":"#N/A"},{"$error":"#N/A"},{"$f":"TRANSPOSE(MMULT($AE$10:$AG$12,TRANSPOSE(F650:H650)))","v":{"$error":"#N/A"}},{"$error":"#N/A"},{"$error":"#N/A"},{"$error":"#N/A"},{"$error":"#N/A"},{"$f":"TRANSPOSE(MMULT($AO$40:$AQ$42,TRANSPOSE(C650:E650)))","v":{"$error":"#N/A"}},{"$error":"#N/A"},{"$error":"#N/A"},{"$error":"#N/A"},{"$error":"#N/A"},{"$error":"#N/A"}]
[651,{"$error":"#N/A"},{"$error":"#N/A"},{"$error":"#N/A"},{"$error":"#N/A"},{"$error":"#N/A"},{"$error":"#N/A"},{"$error":"#N/A"},{"$error":"#N/A"},{"$error":"#N/A"},{"$error":"#N/A"},{"$f":"IF($AK$38=0,TRANSPOSE(MMULT($O$10:$Q$12,TRANSPOSE(C651:E651))),TRANSPOSE(MMULT($O$10:$Q$12,TRANSPOSE(Y651:AA651))))","v":{"$error":"#N/A"}},{"$error":"#N/A"},{"$error":"#N/A"},{"$error":"#N/A"},{"$error":"#N/A"},{"$f":"TRANSPOSE(MMULT($AE$10:$AG$12,TRANSPOSE(F651:H651)))","v":{"$error":"#N/A"}},{"$error":"#N/A"},{"$error":"#N/A"},{"$error":"#N/A"},{"$error":"#N/A"},{"$f":"TRANSPOSE(MMULT($AO$40:$AQ$42,TRANSPOSE(C651:E651)))","v":{"$error":"#N/A"}},{"$error":"#N/A"},{"$error":"#N/A"},{"$error":"#N/A"},{"$error":"#N/A"},{"$error":"#N/A"}]
[652,{"$error":"#N/A"},{"$error":"#N/A"},{"$error":"#N/A"},{"$error":"#N/A"},{"$error":"#N/A"},{"$error":"#N/A"},{"$error":"#N/A"},{"$error":"#N/A"},{"$error":"#N/A"},{"$error":"#N/A"},{"$f":"IF($AK$38=0,TRANSPOSE(MMULT($O$10:$Q$12,TRANSPOSE(C652:E652))),TRANSPOSE(MMULT($O$10:$Q$12,TRANSPOSE(Y652:AA652))))","v":{"$error":"#N/A"}},{"$error":"#N/A"},{"$error":"#N/A"},{"$error":"#N/A"},{"$error":"#N/A"},{"$f":"TRANSPOSE(MMULT($AE$10:$AG$12,TRANSPOSE(F652:H652)))","v":{"$error":"#N/A"}},{"$error":"#N/A"},{"$error":"#N/A"},{"$error":"#N/A"},{"$error":"#N/A"},{"$f":"TRANSPOSE(MMULT($AO$40:$AQ$42,TRANSPOSE(C652:E652)))","v":{"$error":"#N/A"}},{"$error":"#N/A"},{"$error":"#N/A"},{"$error":"#N/A"},{"$error":"#N/A"},{"$error":"#N/A"}]
[653,{"$error":"#N/A"},{"$error":"#N/A"},{"$error":"#N/A"},{"$error":"#N/A"},{"$error":"#N/A"},{"$error":"#N/A"},{"$error":"#N/A"},{"$error":"#N/A"},{"$error":"#N/A"},{"$error":"#N/A"},{"$f":"IF($AK$38=0,TRANSPOSE(MMULT($O$10:$Q$12,TRANSPOSE(C653:E653))),TRANSPOSE(MMULT($O$10:$Q$12,TRANSPOSE(Y653:AA653))))","v":{"$error":"#N/A"}},{"$error":"#N/A"},{"$error":"#N/A"},{"$error":"#N/A"},{"$error":"#N/A"},{"$f":"TRANSPOSE(MMULT($AE$10:$AG$12,TRANSPOSE(F653:H653)))","v":{"$error":"#N/A"}},{"$error":"#N/A"},{"$error":"#N/A"},{"$error":"#N/A"},{"$error":"#N/A"},{"$f":"TRANSPOSE(MMULT($AO$40:$AQ$42,TRANSPOSE(C653:E653)))","v":{"$error":"#N/A"}},{"$error":"#N/A"},{"$error":"#N/A"},{"$error":"#N/A"},{"$error":"#N/A"},{"$error":"#N/A"}]
[654,{"$error":"#N/A"},{"$error":"#N/A"},{"$error":"#N/A"},{"$error":"#N/A"},{"$error":"#N/A"},{"$error":"#N/A"},{"$error":"#N/A"},{"$error":"#N/A"},{"$error":"#N/A"},{"$error":"#N/A"},{"$f":"IF($AK$38=0,TRANSPOSE(MMULT($O$10:$Q$12,TRANSPOSE(C654:E654))),TRANSPOSE(MMULT($O$10:$Q$12,TRANSPOSE(Y654:AA654))))","v":{"$error":"#N/A"}},{"$error":"#N/A"},{"$error":"#N/A"},{"$error":"#N/A"},{"$error":"#N/A"},{"$f":"TRANSPOSE(MMULT($AE$10:$AG$12,TRANSPOSE(F654:H654)))","v":{"$error":"#N/A"}},{"$error":"#N/A"},{"$error":"#N/A"},{"$error":"#N/A"},{"$error":"#N/A"},{"$f":"TRANSPOSE(MMULT($AO$40:$AQ$42,TRANSPOSE(C654:E654)))","v":{"$error":"#N/A"}},{"$error":"#N/A"},{"$error":"#N/A"},{"$error":"#N/A"},{"$error":"#N/A"},{"$error":"#N/A"}]
[655,{"$error":"#N/A"},{"$error":"#N/A"},{"$error":"#N/A"},{"$error":"#N/A"},{"$error":"#N/A"},{"$error":"#N/A"},{"$error":"#N/A"},{"$error":"#N/A"},{"$error":"#N/A"},{"$error":"#N/A"},{"$f":"IF($AK$38=0,TRANSPOSE(MMULT($O$10:$Q$12,TRANSPOSE(C655:E655))),TRANSPOSE(MMULT($O$10:$Q$12,TRANSPOSE(Y655:AA655))))","v":{"$error":"#N/A"}},{"$error":"#N/A"},{"$error":"#N/A"},{"$error":"#N/A"},{"$error":"#N/A"},{"$f":"TRANSPOSE(MMULT($AE$10:$AG$12,TRANSPOSE(F655:H655)))","v":{"$error":"#N/A"}},{"$error":"#N/A"},{"$error":"#N/A"},{"$error":"#N/A"},{"$error":"#N/A"},{"$f":"TRANSPOSE(MMULT($AO$40:$AQ$42,TRANSPOSE(C655:E655)))","v":{"$error":"#N/A"}},{"$error":"#N/A"},{"$error":"#N/A"},{"$error":"#N/A"},{"$error":"#N/A"},{"$error":"#N/A"}]
[656,{"$error":"#N/A"},{"$error":"#N/A"},{"$error":"#N/A"},{"$error":"#N/A"},{"$f":"(F$7+2*I$7*$B656+3*L$7*$B656^2+4*O$7*$B656^3)*SIN(O$8*$B656^4+L$8*$B656^3+I$8*$B656^2+F$8*$B656+C$8)+(F$8+2*I$8*$B656+3*L$8*$B656^2+4*O$8*$B656^3)*(C$7+F$7*$B656+I$7*$B656^2+L$7*$B656^3+O$7*$B656^4)*COS(O$8*$B656^4+L$8*$B656^3+I$8*$B656^2+F$8*$B656+C$8)-(F$6+2*I$6*$B656+3*L$6*$B656^2+4*O$6*$B656^3)*(C$5+F$5*$B656+I$5*$B656^2+L$5*$B656^3+O$5*$B656^4)*SIN(O$6*$B656^4+L$6*$B656^3+I$6*$B656^2+F$6*$B656+C$6)+(F$5+2*I$5*$B656+3*L$5*$B656^2+4*O$5*$B656^3)*COS(O$6*$B656^4+L$6*$B656^3+I$6*$B656^2+F$6*$B656+C$6)+4*O$4*$B656^3+3*L$4*$B656^2+2*I$4*$B656+F$4","v":{"$error":"#N/A"}},{"$f":"(G$7+2*J$7*$B656+3*M$7*$B656^2+4*P$7*$B656^3)*SIN(P$8*$B656^4+M$8*$B656^3+J$8*$B656^2+G$8*$B656+D$8)+(G$8+2*J$8*$B656+3*M$8*$B656^2+4*P$8*$B656^3)*(D$7+G$7*$B656+J$7*$B656^2+M$7*$B656^3+P$7*$B656^4)*COS(P$8*$B656^4+M$8*$B656^3+J$8*$B656^2+G$8*$B656+D$8)-(G$6+2*J$6*$B656+3*M$6*$B656^2+4*P$6*$B656^3)*(D$5+G$5*$B656+J$5*$B656^2+M$5*$B656^3+P$5*$B656^4)*SIN(P$6*$B656^4+M$6*$B656^3+J$6*$B656^2+G$6*$B656+D$6)+(G$5+2*J$5*$B656+3*M$5*$B656^2+4*P$5*$B656^3)*COS(P$6*$B656^4+M$6*$B656^3+J$6*$B656^2+G$6*$B656+D$6)+4*P$4*$B656^3+3*M$4*$B656^2+2*J$4*$B656+G$4","v":{"$error":"#N/A"}},{"$f":"(H$7+2*K$7*$B656+3*N$7*$B656^2+4*Q$7*$B656^3)*SIN(Q$8*$B656^4+N$8*$B656^3+K$8*$B656^2+H$8*$B656+E$8)+(H$8+2*K$8*$B656+3*N$8*$B656^2+4*Q$8*$B656^3)*(E$7+H$7*$B656+K$7*$B656^2+N$7*$B656^3+Q$7*$B656^4)*COS(Q$8*$B656^4+N$8*$B656^3+K$8*$B656^2+H$8*$B656+E$8)-(H$6+2*K$6*$B656+3*N$6*$B656^2+4*Q$6*$B656^3)*(E$5+H$5*$B656+K$5*$B656^2+N$5*$B656^3+Q$5*$B656^4)*SIN(Q$6*$B656^4+N$6*$B656^3+K$6*$B656^2+H$6*$B656+E$6)+(H$5+2*K$5*$B656+3*N$5*$B656^2+4*Q$5*$B656^3)*COS(Q$6*$B656^4+N$6*$B656^3+K$6*$B656^2+H$6*$B656+E$6)+4*Q$4*$B656^3+3*N$4*$B656^2+2*K$4*$B656+H$4","v":{"$error":"#N/A"}},{"$f":"-1*(F$8+2*I$8*$B656+3*L$8*$B656^2+4*O$8*$B656^3)^2*(C$7+F$7*$B656+I$7*$B656^2+L$7*$B656^3+O$7*$B656^4)*SIN(O$8*$B656^4+L$8*$B656^3+I$8*$B656^2+F$8*$B656+C$8)+(2*I$7+6*L$7*$B656+12*O$7*$B656^2)*SIN(O$8*$B656^4+L$8*$B656^3+I$8*$B656^2+F$8*$B656+C$8)+(2*I$8+6*L$8*$B656+12*O$8*$B656^2)*(C$7+F$7*$B656+I$7*$B656^2+L$7*$B656^3+O$7*$B656^4)*COS(O$8*$B656^4+L$8*$B656^3+I$8*$B656^2+F$8*$B656+C$8)+2*(F$7+2*I$7*$B656+3*L$7*$B656^2+4*O$7*$B656^3)*(F$8+2*I$8*$B656+3*L$8*$B656^2+4*O$8*$B656^3)*COS(O$8*$B656^4+L$8*$B656^3+I$8*$B656^2+F$8*$B656+C$8)-(2*I$6+6*L$6*$B656+12*O$6*$B656^2)*(C$5+F$5*$B656+I$5*$B656^2+L$5*$B656^3+O$5*$B656^4)*SIN(O$6*$B656^4+L$6*$B656^3+I$6*$B656^2+F$6*$B656+C$6)-2*(F$5+2*I$5*$B656+3*L$5*$B656^2+4*O$5*$B656^3)*(F$6+2*I$6*$B656+3*L$6*$B656^2+4*O$6*$B656^3)*SIN(O$6*$B656^4+L$6*$B656^3+I$6*$B656^2+F$6*$B656+C$6)-(F$6+2*I$6*$B656+3*L$6*$B656^2+4*O$6*$B656^3)^2*(C$5+F$5*$B656+I$5*$B656^2+L$5*$B656^3+O$5*$B656^4)*COS(O$6*$B656^4+L$6*$B656^3+I$6*$B656^2+F$6*$B656+C$6)+(2*I$5+6*L$5*$B656+12*O$5*$B656^2)*COS(O$6*$B656^4+L$6*$B656^3+I$6*$B656^2+F$6*$B656+C$6)+12*O$4*$B656^2+6*L$4*$B656+2*I$4","v":{"$error":"#N/A"}},{"$f":"-1*(G$8+2*J$8*$B656+3*M$8*$B656^2+4*P$8*$B656^3)^2*(D$7+G$7*$B656+J$7*$B656^2+M$7*$B656^3+P$7*$B656^4)*SIN(P$8*$B656^4+M$8*$B656^3+J$8*$B656^2+G$8*$B656+D$8)+(2*J$7+6*M$7*$B656+12*P$7*$B656^2)*SIN(P$8*$B656^4+M$8*$B656^3+J$8*$B656^2+G$8*$B656+D$8)+(2*J$8+6*M$8*$B656+12*P$8*$B656^2)*(D$7+G$7*$B656+J$7*$B656^2+M$7*$B656^3+P$7*$B656^4)*COS(P$8*$B656^4+M$8*$B656^3+J$8*$B656^2+G$8*$B656+D$8)+2*(G$7+2*J$7*$B656+3*M$7*$B656^2+4*P$7*$B656^3)*(G$8+2*J$8*$B656+3*M$8*$B656^2+4*P$8*$B656^3)*COS(P$8*$B656^4+M$8*$B656^3+J$8*$B656^2+G$8*$B656+D$8)-(2*J$6+6*M$6*$B656+12*P$6*$B656^2)*(D$5+G$5*$B656+J$5*$B656^2+M$5*$B656^3+P$5*$B656^4)*SIN(P$6*$B656^4+M$6*$B656^3+J$6*$B656^2+G$6*$B656+D$6)-2*(G$5+2*J$5*$B656+3*M$5*$B656^2+4*P$5*$B656^3)*(G$6+2*J$6*$B656+3*M$6*$B656^2+4*P$6*$B656^3)*SIN(P$6*$B656^4+M$6*$B656^3+J$6*$B656^2+G$6*$B656+D$6)-(G$6+2*J$6*$B656+3*M$6*$B656^2+4*P$6*$B656^3)^2*(D$5+G$5*$B656+J$5*$B656^2+M$5*$B656^3+P$5*$B656^4)*COS(P$6*$B656^4+M$6*$B656^3+J$6*$B656^2+G$6*$B656+D$6)+(2*J$5+6*M$5*$B656+12*P$5*$B656^2)*COS(P$6*$B656^4+M$6*$B656^3+J$6*$B656^2+G$6*$B656+D$6)+12*P$4*$B656^2+6*M$4*$B656+2*J$4","v":{"$error":"#N/A"}},{"$f":"-1*(H$8+2*K$8*$B656+3*N$8*$B656^2+4*Q$8*$B656^3)^2*(E$7+H$7*$B656+K$7*$B656^2+N$7*$B656^3+Q$7*$B656^4)*SIN(Q$8*$B656^4+N$8*$B656^3+K$8*$B656^2+H$8*$B656+E$8)+(2*K$7+6*N$7*$B656+12*Q$7*$B656^2)*SIN(Q$8*$B656^4+N$8*$B656^3+K$8*$B656^2+H$8*$B656+E$8)+(2*K$8+6*N$8*$B656+12*Q$8*$B656^2)*(E$7+H$7*$B656+K$7*$B656^2+N$7*$B656^3+Q$7*$B656^4)*COS(Q$8*$B656^4+N$8*$B656^3+K$8*$B656^2+H$8*$B656+E$8)+2*(H$7+2*K$7*$B656+3*N$7*$B656^2+4*Q$7*$B656^3)*(H$8+2*K$8*$B656+3*N$8*$B656^2+4*Q$8*$B656^3)*COS(Q$8*$B656^4+N$8*$B656^3+K$8*$B656^2+H$8*$B656+E$8)-(2*K$6+6*N$6*$B656+12*Q$6*$B656^2)*(E$5+H$5*$B656+K$5*$B656^2+N$5*$B656^3+Q$5*$B656^4)*SIN(Q$6*$B656^4+N$6*$B656^3+K$6*$B656^2+H$6*$B656+E$6)-2*(H$5+2*K$5*$B656+3*N$5*$B656^2+4*Q$5*$B656^3)*(H$6+2*K$6*$B656+3*N$6*$B656^2+4*Q$6*$B656^3)*SIN(Q$6*$B656^4+N$6*$B656^3+K$6*$B656^2+H$6*$B656+E$6)-(H$6+2*K$6*$B656+3*N$6*$B656^2+4*Q$6*$B656^3)^2*(E$5+H$5*$B656+K$5*$B656^2+N$5*$B656^3+Q$5*$B656^4)*COS(Q$6*$B656^4+N$6*$B656^3+K$6*$B656^2+H$6*$B656+E$6)+(2*K$5+6*N$5*$B656+12*Q$5*$B656^2)*COS(Q$6*$B656^4+N$6*$B656^3+K$6*$B656^2+H$6*$B656+E$6)+12*Q$4*$B656^2+6*N$4*$B656+2*K$4","v":{"$error":"#N/A"}},{"$f":"IF($AK$38=0,TRANSPOSE(MMULT($O$10:$Q$12,TRANSPOSE(C656:E656))),TRANSPOSE(MMULT($O$10:$Q$12,TRANSPOSE(Y656:AA656))))","v":{"$error":"#N/A"}},{"$error":"#N/A"},{"$error":"#N/A"},{"$error":"#N/A"},{"$error":"#N/A"},{"$f":"TRANSPOSE(MMULT($AE$10:$AG$12,TRANSPOSE(F656:H656)))","v":{"$error":"#N/A"}},{"$error":"#N/A"},{"$error":"#N/A"},{"$f":"$Y$5+$Y$4*IF($U$8=1,Q656,(Q656*$U$6)/($U$6+$U$7+R656))","v":{"$error":"#N/A"}},{"$f":"$Y$6+$Y$4*IF($U$8=1,R656,(S656*$U$6)/($U$6+$U$7+R656))","v":{"$error":"#N/A"}},{"$f":"TRANSPOSE(MMULT($AO$40:$AQ$42,TRANSPOSE(C656:E656)))","v":{"$error":"#N/A"}},{"$error":"#N/A"},{"$error":"#N/A"},{"$f":"V656+$AL$46","v":{"$error":"#N/A"}},{"$f":"W656+$AL$47","v":{"$error":"#N/A"}},{"$f":"X656+$AL$48","v":{"$error":"#N/A"}}]
[657,{"$error":"#N/A"},{"$error":"#N/A"},{"$error":"#N/A"},{"$error":"#N/A"},{"$error":"#N/A"},{"$error":"#N/A"},{"$error":"#N/A"},{"$error":"#N/A"},{"$error":"#N/A"},{"$error":"#N/A"},{"$f":"IF($AK$38=0,TRANSPOSE(MMULT($O$10:$Q$12,TRANSPOSE(C657:E657))),TRANSPOSE(MMULT($O$10:$Q$12,TRANSPOSE(Y657:AA657))))","v":{"$error":"#N/A"}},{"$error":"#N/A"},{"$error":"#N/A"},{"$f":"IF($AD$4=0,NA(),$X$5+$X$4*IF($U$8=1,L657,(L657*$U$6)/($U$6+$U$7+M657)))","v":{"$error":"#N/A"}},{"$f":"IF($AD$4=0,NA(),$X$6+$X$4*IF($U$8=1,M657,(N657*$U$6)/($U$6+$U$7+M657)))","v":{"$error":"#N/A"}},{"$f":"TRANSPOSE(MMULT($AE$10:$AG$12,TRANSPOSE(F657:H657)))","v":{"$error":"#N/A"}},{"$error":"#N/A"},{"$error":"#N/A"},{"$error":"#N/A"},{"$error":"#N/A"},{"$f":"TRANSPOSE(MMULT($AO$40:$AQ$42,TRANSPOSE(C657:E657)))","v":{"$error":"#N/A"}},{"$error":"#N/A"},{"$error":"#N/A"},{"$error":"#N/A"},{"$error":"#N/A"},{"$error":"#N/A"}]
[658,{"$f":"IF(B657<$B$3,B657+$S$3,NA())","v":{"$error":"#N/A"}},{"$error":"#N/A"},{"$error":"#N/A"},{"$error":"#N/A"},{"$error":"#N/A"},{"$error":"#N/A"},{"$error":"#N/A"},{"$error":"#N/A"},{"$error":"#N/A"},{"$error":"#N/A"},{"$f":"IF($AK$38=0,TRANSPOSE(MMULT($O$10:$Q$12,TRANSPOSE(C658:E658))),TRANSPOSE(MMULT($O$10:$Q$12,TRANSPOSE(Y658:AA658))))","v":{"$error":"#N/A"}},{"$error":"#N/A"},{"$error":"#N/A"},{"$error":"#N/A"},{"$error":"#N/A"},{"$f":"TRANSPOSE(MMULT($AE$10:$AG$12,TRANSPOSE(F658:H658)))","v":{"$error":"#N/A"}},{"$error":"#N/A"},{"$error":"#N/A"},{"$error":"#N/A"},{"$error":"#N/A"},{"$f":"TRANSPOSE(MMULT($AO$40:$AQ$42,TRANSPOSE(C658:E658)))","v":{"$error":"#N/A"}},{"$error":"#N/A"},{"$error":"#N/A"},{"$error":"#N/A"},{"$error":"#N/A"},{"$error":"#N/A"}]
[659,{"$error":"#N/A"},{"$error":"#N/A"},{"$error":"#N/A"},{"$error":"#N/A"},{"$error":"#N/A"},{"$error":"#N/A"},{"$error":"#N/A"},{"$error":"#N/A"},{"$error":"#N/A"},{"$error":"#N/A"},{"$f":"IF($AK$38=0,TRANSPOSE(MMULT($O$10:$Q$12,TRANSPOSE(C659:E659))),TRANSPOSE(MMULT($O$10:$Q$12,TRANSPOSE(Y659:AA659))))","v":{"$error":"#N/A"}},{"$error":"#N/A"},{"$error":"#N/A"},{"$error":"#N/A"},{"$error":"#N/A"},{"$f":"TRANSPOSE(MMULT($AE$10:$AG$12,TRANSPOSE(F659:H659)))","v":{"$error":"#N/A"}},{"$error":"#N/A"},{"$error":"#N/A"},{"$error":"#N/A"},{"$error":"#N/A"},{"$f":"TRANSPOSE(MMULT($AO$40:$AQ$42,TRANSPOSE(C659:E659)))","v":{"$error":"#N/A"}},{"$error":"#N/A"},{"$error":"#N/A"},{"$error":"#N/A"},{"$error":"#N/A"},{"$error":"#N/A"}]
[660,{"$error":"#N/A"},{"$error":"#N/A"},{"$error":"#N/A"},{"$error":"#N/A"},{"$error":"#N/A"},{"$error":"#N/A"},{"$error":"#N/A"},{"$error":"#N/A"},{"$error":"#N/A"},{"$error":"#N/A"},{"$f":"IF($AK$38=0,TRANSPOSE(MMULT($O$10:$Q$12,TRANSPOSE(C660:E660))),TRANSPOSE(MMULT($O$10:$Q$12,TRANSPOSE(Y660:AA660))))","v":{"$error":"#N/A"}},{"$error":"#N/A"},{"$error":"#N/A"},{"$error":"#N/A"},{"$error":"#N/A"},{"$f":"TRANSPOSE(MMULT($AE$10:$AG$12,TRANSPOSE(F660:H660)))","v":{"$error":"#N/A"}},{"$error":"#N/A"},{"$error":"#N/A"},{"$error":"#N/A"},{"$error":"#N/A"},{"$f":"TRANSPOSE(MMULT($AO$40:$AQ$42,TRANSPOSE(C660:E660)))","v":{"$error":"#N/A"}},{"$error":"#N/A"},{"$error":"#N/A"},{"$error":"#N/A"},{"$error":"#N/A"},{"$error":"#N/A"}]
[661,{"$error":"#N/A"},{"$error":"#N/A"},{"$error":"#N/A"},{"$error":"#N/A"},{"$error":"#N/A"},{"$error":"#N/A"},{"$error":"#N/A"},{"$error":"#N/A"},{"$error":"#N/A"},{"$error":"#N/A"},{"$f":"IF($AK$38=0,TRANSPOSE(MMULT($O$10:$Q$12,TRANSPOSE(C661:E661))),TRANSPOSE(MMULT($O$10:$Q$12,TRANSPOSE(Y661:AA661))))","v":{"$error":"#N/A"}},{"$error":"#N/A"},{"$error":"#N/A"},{"$error":"#N/A"},{"$error":"#N/A"},{"$f":"TRANSPOSE(MMULT($AE$10:$AG$12,TRANSPOSE(F661:H661)))","v":{"$error":"#N/A"}},{"$error":"#N/A"},{"$error":"#N/A"},{"$error":"#N/A"},{"$error":"#N/A"},{"$f":"TRANSPOSE(MMULT($AO$40:$AQ$42,TRANSPOSE(C661:E661)))","v":{"$error":"#N/A"}},{"$error":"#N/A"},{"$error":"#N/A"},{"$error":"#N/A"},{"$error":"#N/A"},{"$error":"#N/A"}]
[662,{"$error":"#N/A"},{"$error":"#N/A"},{"$error":"#N/A"},{"$error":"#N/A"},{"$error":"#N/A"},{"$error":"#N/A"},{"$error":"#N/A"},{"$error":"#N/A"},{"$error":"#N/A"},{"$error":"#N/A"},{"$f":"IF($AK$38=0,TRANSPOSE(MMULT($O$10:$Q$12,TRANSPOSE(C662:E662))),TRANSPOSE(MMULT($O$10:$Q$12,TRANSPOSE(Y662:AA662))))","v":{"$error":"#N/A"}},{"$error":"#N/A"},{"$error":"#N/A"},{"$error":"#N/A"},{"$error":"#N/A"},{"$f":"TRANSPOSE(MMULT($AE$10:$AG$12,TRANSPOSE(F662:H662)))","v":{"$error":"#N/A"}},{"$error":"#N/A"},{"$error":"#N/A"},{"$error":"#N/A"},{"$error":"#N/A"},{"$f":"TRANSPOSE(MMULT($AO$40:$AQ$42,TRANSPOSE(C662:E662)))","v":{"$error":"#N/A"}},{"$error":"#N/A"},{"$error":"#N/A"},{"$error":"#N/A"},{"$error":"#N/A"},{"$error":"#N/A"}]
[663,{"$error":"#N/A"},{"$error":"#N/A"},{"$error":"#N/A"},{"$error":"#N/A"},{"$error":"#N/A"},{"$error":"#N/A"},{"$error":"#N/A"},{"$error":"#N/A"},{"$error":"#N/A"},{"$error":"#N/A"},{"$f":"IF($AK$38=0,TRANSPOSE(MMULT($O$10:$Q$12,TRANSPOSE(C663:E663))),TRANSPOSE(MMULT($O$10:$Q$12,TRANSPOSE(Y663:AA663))))","v":{"$error":"#N/A"}},{"$error":"#N/A"},{"$error":"#N/A"},{"$error":"#N/A"},{"$error":"#N/A"},{"$f":"TRANSPOSE(MMULT($AE$10:$AG$12,TRANSPOSE(F663:H663)))","v":{"$error":"#N/A"}},{"$error":"#N/A"},{"$error":"#N/A"},{"$error":"#N/A"},{"$error":"#N/A"},{"$f":"TRANSPOSE(MMULT($AO$40:$AQ$42,TRANSPOSE(C663:E663)))","v":{"$error":"#N/A"}},{"$error":"#N/A"},{"$error":"#N/A"},{"$error":"#N/A"},{"$error":"#N/A"},{"$error":"#N/A"}]
[664,{"$error":"#N/A"},{"$error":"#N/A"},{"$error":"#N/A"},{"$error":"#N/A"},{"$error":"#N/A"},{"$error":"#N/A"},{"$error":"#N/A"},{"$error":"#N/A"},{"$error":"#N/A"},{"$error":"#N/A"},{"$f":"IF($AK$38=0,TRANSPOSE(MMULT($O$10:$Q$12,TRANSPOSE(C664:E664))),TRANSPOSE(MMULT($O$10:$Q$12,TRANSPOSE(Y664:AA664))))","v":{"$error":"#N/A"}},{"$error":"#N/A"},{"$error":"#N/A"},{"$error":"#N/A"},{"$error":"#N/A"},{"$f":"TRANSPOSE(MMULT($AE$10:$AG$12,TRANSPOSE(F664:H664)))","v":{"$error":"#N/A"}},{"$error":"#N/A"},{"$error":"#N/A"},{"$error":"#N/A"},{"$error":"#N/A"},{"$f":"TRANSPOSE(MMULT($AO$40:$AQ$42,TRANSPOSE(C664:E664)))","v":{"$error":"#N/A"}},{"$error":"#N/A"},{"$error":"#N/A"},{"$error":"#N/A"},{"$error":"#N/A"},{"$error":"#N/A"}]
[665,{"$error":"#N/A"},{"$error":"#N/A"},{"$error":"#N/A"},{"$error":"#N/A"},{"$error":"#N/A"},{"$error":"#N/A"},{"$error":"#N/A"},{"$error":"#N/A"},{"$error":"#N/A"},{"$error":"#N/A"},{"$f":"IF($AK$38=0,TRANSPOSE(MMULT($O$10:$Q$12,TRANSPOSE(C665:E665))),TRANSPOSE(MMULT($O$10:$Q$12,TRANSPOSE(Y665:AA665))))","v":{"$error":"#N/A"}},{"$error":"#N/A"},{"$error":"#N/A"},{"$error":"#N/A"},{"$error":"#N/A"},{"$f":"TRANSPOSE(MMULT($AE$10:$AG$12,TRANSPOSE(F665:H665)))","v":{"$error":"#N/A"}},{"$error":"#N/A"},{"$error":"#N/A"},{"$error":"#N/A"},{"$error":"#N/A"},{"$f":"TRANSPOSE(MMULT($AO$40:$AQ$42,TRANSPOSE(C665:E665)))","v":{"$error":"#N/A"}},{"$error":"#N/A"},{"$error":"#N/A"},{"$error":"#N/A"},{"$error":"#N/A"},{"$error":"#N/A"}]
[666,{"$error":"#N/A"},{"$error":"#N/A"},{"$error":"#N/A"},{"$error":"#N/A"},{"$error":"#N/A"},{"$error":"#N/A"},{"$error":"#N/A"},{"$error":"#N/A"},{"$error":"#N/A"},{"$error":"#N/A"},{"$f":"IF($AK$38=0,TRANSPOSE(MMULT($O$10:$Q$12,TRANSPOSE(C666:E666))),TRANSPOSE(MMULT($O$10:$Q$12,TRANSPOSE(Y666:AA666))))","v":{"$error":"#N/A"}},{"$error":"#N/A"},{"$error":"#N/A"},{"$error":"#N/A"},{"$error":"#N/A"},{"$f":"TRANSPOSE(MMULT($AE$10:$AG$12,TRANSPOSE(F666:H666)))","v":{"$error":"#N/A"}},{"$error":"#N/A"},{"$error":"#N/A"},{"$error":"#N/A"},{"$error":"#N/A"},{"$f":"TRANSPOSE(MMULT($AO$40:$AQ$42,TRANSPOSE(C666:E666)))","v":{"$error":"#N/A"}},{"$error":"#N/A"},{"$error":"#N/A"},{"$error":"#N/A"},{"$error":"#N/A"},{"$error":"#N/A"}]
[667,{"$error":"#N/A"},{"$error":"#N/A"},{"$error":"#N/A"},{"$error":"#N/A"},{"$error":"#N/A"},{"$error":"#N/A"},{"$error":"#N/A"},{"$error":"#N/A"},{"$error":"#N/A"},{"$error":"#N/A"},{"$f":"IF($AK$38=0,TRANSPOSE(MMULT($O$10:$Q$12,TRANSPOSE(C667:E667))),TRANSPOSE(MMULT($O$10:$Q$12,TRANSPOSE(Y667:AA667))))","v":{"$error":"#N/A"}},{"$error":"#N/A"},{"$error":"#N/A"},{"$error":"#N/A"},{"$error":"#N/A"},{"$f":"TRANSPOSE(MMULT($AE$10:$AG$12,TRANSPOSE(F667:H667)))","v":{"$error":"#N/A"}},{"$error":"#N/A"},{"$error":"#N/A"},{"$error":"#N/A"},{"$error":"#N/A"},{"$f":"TRANSPOSE(MMULT($AO$40:$AQ$42,TRANSPOSE(C667:E667)))","v":{"$error":"#N/A"}},{"$error":"#N/A"},{"$error":"#N/A"},{"$error":"#N/A"},{"$error":"#N/A"},{"$error":"#N/A"}]
[668,{"$error":"#N/A"},{"$error":"#N/A"},{"$error":"#N/A"},{"$error":"#N/A"},{"$error":"#N/A"},{"$error":"#N/A"},{"$error":"#N/A"},{"$error":"#N/A"},{"$error":"#N/A"},{"$error":"#N/A"},{"$f":"IF($AK$38=0,TRANSPOSE(MMULT($O$10:$Q$12,TRANSPOSE(C668:E668))),TRANSPOSE(MMULT($O$10:$Q$12,TRANSPOSE(Y668:AA668))))","v":{"$error":"#N/A"}},{"$error":"#N/A"},{"$error":"#N/A"},{"$error":"#N/A"},{"$error":"#N/A"},{"$f":"TRANSPOSE(MMULT($AE$10:$AG$12,TRANSPOSE(F668:H668)))","v":{"$error":"#N/A"}},{"$error":"#N/A"},{"$error":"#N/A"},{"$error":"#N/A"},{"$error":"#N/A"},{"$f":"TRANSPOSE(MMULT($AO$40:$AQ$42,TRANSPOSE(C668:E668)))","v":{"$error":"#N/A"}},{"$error":"#N/A"},{"$error":"#N/A"},{"$error":"#N/A"},{"$error":"#N/A"},{"$error":"#N/A"}]
[669,{"$error":"#N/A"},{"$error":"#N/A"},{"$error":"#N/A"},{"$error":"#N/A"},{"$error":"#N/A"},{"$error":"#N/A"},{"$error":"#N/A"},{"$error":"#N/A"},{"$error":"#N/A"},{"$error":"#N/A"},{"$f":"IF($AK$38=0,TRANSPOSE(MMULT($O$10:$Q$12,TRANSPOSE(C669:E669))),TRANSPOSE(MMULT($O$10:$Q$12,TRANSPOSE(Y669:AA669))))","v":{"$error":"#N/A"}},{"$error":"#N/A"},{"$error":"#N/A"},{"$error":"#N/A"},{"$error":"#N/A"},{"$f":"TRANSPOSE(MMULT($AE$10:$AG$12,TRANSPOSE(F669:H669)))","v":{"$error":"#N/A"}},{"$error":"#N/A"},{"$error":"#N/A"},{"$error":"#N/A"},{"$error":"#N/A"},{"$f":"TRANSPOSE(MMULT($AO$40:$AQ$42,TRANSPOSE(C669:E669)))","v":{"$error":"#N/A"}},{"$error":"#N/A"},{"$error":"#N/A"},{"$error":"#N/A"},{"$error":"#N/A"},{"$error":"#N/A"}]
[670,{"$error":"#N/A"},{"$error":"#N/A"},{"$error":"#N/A"},{"$error":"#N/A"},{"$error":"#N/A"},{"$error":"#N/A"},{"$error":"#N/A"},{"$error":"#N/A"},{"$error":"#N/A"},{"$error":"#N/A"},{"$f":"IF($AK$38=0,TRANSPOSE(MMULT($O$10:$Q$12,TRANSPOSE(C670:E670))),TRANSPOSE(MMULT($O$10:$Q$12,TRANSPOSE(Y670:AA670))))","v":{"$error":"#N/A"}},{"$error":"#N/A"},{"$error":"#N/A"},{"$error":"#N/A"},{"$error":"#N/A"},{"$f":"TRANSPOSE(MMULT($AE$10:$AG$12,TRANSPOSE(F670:H670)))","v":{"$error":"#N/A"}},{"$error":"#N/A"},{"$error":"#N/A"},{"$error":"#N/A"},{"$error":"#N/A"},{"$f":"TRANSPOSE(MMULT($AO$40:$AQ$42,TRANSPOSE(C670:E670)))","v":{"$error":"#N/A"}},{"$error":"#N/A"},{"$error":"#N/A"},{"$error":"#N/A"},{"$error":"#N/A"},{"$error":"#N/A"}]
[671,{"$error":"#N/A"},{"$error":"#N/A"},{"$error":"#N/A"},{"$error":"#N/A"},{"$error":"#N/A"},{"$error":"#N/A"},{"$error":"#N/A"},{"$error":"#N/A"},{"$error":"#N/A"},{"$error":"#N/A"},{"$f":"IF($AK$38=0,TRANSPOSE(MMULT($O$10:$Q$12,TRANSPOSE(C671:E671))),TRANSPOSE(MMULT($O$10:$Q$12,TRANSPOSE(Y671:AA671))))","v":{"$error":"#N/A"}},{"$error":"#N/A"},{"$error":"#N/A"},{"$error":"#N/A"},{"$error":"#N/A"},{"$f":"TRANSPOSE(MMULT($AE$10:$AG$12,TRANSPOSE(F671:H671)))","v":{"$error":"#N/A"}},{"$error":"#N/A"},{"$error":"#N/A"},{"$error":"#N/A"},{"$error":"#N/A"},{"$f":"TRANSPOSE(MMULT($AO$40:$AQ$42,TRANSPOSE(C671:E671)))","v":{"$error":"#N/A"}},{"$error":"#N/A"},{"$error":"#N/A"},{"$error":"#N/A"},{"$error":"#N/A"},{"$error":"#N/A"}]
[672,{"$error":"#N/A"},{"$error":"#N/A"},{"$error":"#N/A"},{"$error":"#N/A"},{"$error":"#N/A"},{"$error":"#N/A"},{"$error":"#N/A"},{"$error":"#N/A"},{"$error":"#N/A"},{"$error":"#N/A"},{"$f":"IF($AK$38=0,TRANSPOSE(MMULT($O$10:$Q$12,TRANSPOSE(C672:E672))),TRANSPOSE(MMULT($O$10:$Q$12,TRANSPOSE(Y672:AA672))))","v":{"$error":"#N/A"}},{"$error":"#N/A"},{"$error":"#N/A"},{"$error":"#N/A"},{"$error":"#N/A"},{"$f":"TRANSPOSE(MMULT($AE$10:$AG$12,TRANSPOSE(F672:H672)))","v":{"$error":"#N/A"}},{"$error":"#N/A"},{"$error":"#N/A"},{"$error":"#N/A"},{"$error":"#N/A"},{"$f":"TRANSPOSE(MMULT($AO$40:$AQ$42,TRANSPOSE(C672:E672)))","v":{"$error":"#N/A"}},{"$error":"#N/A"},{"$error":"#N/A"},{"$error":"#N/A"},{"$error":"#N/A"},{"$error":"#N/A"}]
[673,{"$error":"#N/A"},{"$error":"#N/A"},{"$error":"#N/A"},{"$error":"#N/A"},{"$error":"#N/A"},{"$error":"#N/A"},{"$error":"#N/A"},{"$error":"#N/A"},{"$error":"#N/A"},{"$error":"#N/A"},{"$f":"IF($AK$38=0,TRANSPOSE(MMULT($O$10:$Q$12,TRANSPOSE(C673:E673))),TRANSPOSE(MMULT($O$10:$Q$12,TRANSPOSE(Y673:AA673))))","v":{"$error":"#N/A"}},{"$error":"#N/A"},{"$error":"#N/A"},{"$error":"#N/A"},{"$error":"#N/A"},{"$f":"TRANSPOSE(MMULT($AE$10:$AG$12,TRANSPOSE(F673:H673)))","v":{"$error":"#N/A"}},{"$error":"#N/A"},{"$error":"#N/A"},{"$error":"#N/A"},{"$error":"#N/A"},{"$f":"TRANSPOSE(MMULT($AO$40:$AQ$42,TRANSPOSE(C673:E673)))","v":{"$error":"#N/A"}},{"$error":"#N/A"},{"$error":"#N/A"},{"$error":"#N/A"},{"$error":"#N/A"},{"$error":"#N/A"}]
[674,{"$error":"#N/A"},{"$error":"#N/A"},{"$error":"#N/A"},{"$error":"#N/A"},{"$error":"#N/A"},{"$error":"#N/A"},{"$error":"#N/A"},{"$error":"#N/A"},{"$error":"#N/A"},{"$error":"#N/A"},{"$f":"IF($AK$38=0,TRANSPOSE(MMULT($O$10:$Q$12,TRANSPOSE(C674:E674))),TRANSPOSE(MMULT($O$10:$Q$12,TRANSPOSE(Y674:AA674))))","v":{"$error":"#N/A"}},{"$error":"#N/A"},{"$error":"#N/A"},{"$error":"#N/A"},{"$error":"#N/A"},{"$f":"TRANSPOSE(MMULT($AE$10:$AG$12,TRANSPOSE(F674:H674)))","v":{"$error":"#N/A"}},{"$error":"#N/A"},{"$error":"#N/A"},{"$error":"#N/A"},{"$error":"#N/A"},{"$f":"TRANSPOSE(MMULT($AO$40:$AQ$42,TRANSPOSE(C674:E674)))","v":{"$error":"#N/A"}},{"$error":"#N/A"},{"$error":"#N/A"},{"$error":"#N/A"},{"$error":"#N/A"},{"$error":"#N/A"}]
[675,{"$error":"#N/A"},{"$error":"#N/A"},{"$error":"#N/A"},{"$error":"#N/A"},{"$error":"#N/A"},{"$error":"#N/A"},{"$error":"#N/A"},{"$error":"#N/A"},{"$error":"#N/A"},{"$error":"#N/A"},{"$f":"IF($AK$38=0,TRANSPOSE(MMULT($O$10:$Q$12,TRANSPOSE(C675:E675))),TRANSPOSE(MMULT($O$10:$Q$12,TRANSPOSE(Y675:AA675))))","v":{"$error":"#N/A"}},{"$error":"#N/A"},{"$error":"#N/A"},{"$error":"#N/A"},{"$error":"#N/A"},{"$f":"TRANSPOSE(MMULT($AE$10:$AG$12,TRANSPOSE(F675:H675)))","v":{"$error":"#N/A"}},{"$error":"#N/A"},{"$error":"#N/A"},{"$error":"#N/A"},{"$error":"#N/A"},{"$f":"TRANSPOSE(MMULT($AO$40:$AQ$42,TRANSPOSE(C675:E675)))","v":{"$error":"#N/A"}},{"$error":"#N/A"},{"$error":"#N/A"},{"$error":"#N/A"},{"$error":"#N/A"},{"$error":"#N/A"}]
[676,{"$error":"#N/A"},{"$error":"#N/A"},{"$error":"#N/A"},{"$error":"#N/A"},{"$error":"#N/A"},{"$error":"#N/A"},{"$error":"#N/A"},{"$error":"#N/A"},{"$error":"#N/A"},{"$error":"#N/A"},{"$f":"IF($AK$38=0,TRANSPOSE(MMULT($O$10:$Q$12,TRANSPOSE(C676:E676))),TRANSPOSE(MMULT($O$10:$Q$12,TRANSPOSE(Y676:AA676))))","v":{"$error":"#N/A"}},{"$error":"#N/A"},{"$error":"#N/A"},{"$error":"#N/A"},{"$error":"#N/A"},{"$f":"TRANSPOSE(MMULT($AE$10:$AG$12,TRANSPOSE(F676:H676)))","v":{"$error":"#N/A"}},{"$error":"#N/A"},{"$error":"#N/A"},{"$error":"#N/A"},{"$error":"#N/A"},{"$f":"TRANSPOSE(MMULT($AO$40:$AQ$42,TRANSPOSE(C676:E676)))","v":{"$error":"#N/A"}},{"$error":"#N/A"},{"$error":"#N/A"},{"$error":"#N/A"},{"$error":"#N/A"},{"$error":"#N/A"}]
[677,{"$error":"#N/A"},{"$error":"#N/A"},{"$error":"#N/A"},{"$error":"#N/A"},{"$error":"#N/A"},{"$error":"#N/A"},{"$error":"#N/A"},{"$error":"#N/A"},{"$error":"#N/A"},{"$error":"#N/A"},{"$f":"IF($AK$38=0,TRANSPOSE(MMULT($O$10:$Q$12,TRANSPOSE(C677:E677))),TRANSPOSE(MMULT($O$10:$Q$12,TRANSPOSE(Y677:AA677))))","v":{"$error":"#N/A"}},{"$error":"#N/A"},{"$error":"#N/A"},{"$error":"#N/A"},{"$error":"#N/A"},{"$f":"TRANSPOSE(MMULT($AE$10:$AG$12,TRANSPOSE(F677:H677)))","v":{"$error":"#N/A"}},{"$error":"#N/A"},{"$error":"#N/A"},{"$error":"#N/A"},{"$error":"#N/A"},{"$f":"TRANSPOSE(MMULT($AO$40:$AQ$42,TRANSPOSE(C677:E677)))","v":{"$error":"#N/A"}},{"$error":"#N/A"},{"$error":"#N/A"},{"$error":"#N/A"},{"$error":"#N/A"},{"$error":"#N/A"}]
[678,{"$error":"#N/A"},{"$error":"#N/A"},{"$error":"#N/A"},{"$error":"#N/A"},{"$error":"#N/A"},{"$error":"#N/A"},{"$error":"#N/A"},{"$error":"#N/A"},{"$error":"#N/A"},{"$error":"#N/A"},{"$f":"IF($AK$38=0,TRANSPOSE(MMULT($O$10:$Q$12,TRANSPOSE(C678:E678))),TRANSPOSE(MMULT($O$10:$Q$12,TRANSPOSE(Y678:AA678))))","v":{"$error":"#N/A"}},{"$error":"#N/A"},{"$error":"#N/A"},{"$error":"#N/A"},{"$error":"#N/A"},{"$f":"TRANSPOSE(MMULT($AE$10:$AG$12,TRANSPOSE(F678:H678)))","v":{"$error":"#N/A"}},{"$error":"#N/A"},{"$error":"#N/A"},{"$error":"#N/A"},{"$error":"#N/A"},{"$f":"TRANSPOSE(MMULT($AO$40:$AQ$42,TRANSPOSE(C678:E678)))","v":{"$error":"#N/A"}},{"$error":"#N/A"},{"$error":"#N/A"},{"$error":"#N/A"},{"$error":"#N/A"},{"$error":"#N/A"}]
[679,{"$error":"#N/A"},{"$error":"#N/A"},{"$error":"#N/A"},{"$error":"#N/A"},{"$error":"#N/A"},{"$error":"#N/A"},{"$error":"#N/A"},{"$error":"#N/A"},{"$error":"#N/A"},{"$error":"#N/A"},{"$f":"IF($AK$38=0,TRANSPOSE(MMULT($O$10:$Q$12,TRANSPOSE(C679:E679))),TRANSPOSE(MMULT($O$10:$Q$12,TRANSPOSE(Y679:AA679))))","v":{"$error":"#N/A"}},{"$error":"#N/A"},{"$error":"#N/A"},{"$error":"#N/A"},{"$error":"#N/A"},{"$f":"TRANSPOSE(MMULT($AE$10:$AG$12,TRANSPOSE(F679:H679)))","v":{"$error":"#N/A"}},{"$error":"#N/A"},{"$error":"#N/A"},{"$error":"#N/A"},{"$error":"#N/A"},{"$f":"TRANSPOSE(MMULT($AO$40:$AQ$42,TRANSPOSE(C679:E679)))","v":{"$error":"#N/A"}},{"$error":"#N/A"},{"$error":"#N/A"},{"$error":"#N/A"},{"$error":"#N/A"},{"$error":"#N/A"}]
[680,{"$error":"#N/A"},{"$error":"#N/A"},{"$error":"#N/A"},{"$error":"#N/A"},{"$error":"#N/A"},{"$error":"#N/A"},{"$error":"#N/A"},{"$error":"#N/A"},{"$error":"#N/A"},{"$error":"#N/A"},{"$f":"IF($AK$38=0,TRANSPOSE(MMULT($O$10:$Q$12,TRANSPOSE(C680:E680))),TRANSPOSE(MMULT($O$10:$Q$12,TRANSPOSE(Y680:AA680))))","v":{"$error":"#N/A"}},{"$error":"#N/A"},{"$error":"#N/A"},{"$error":"#N/A"},{"$error":"#N/A"},{"$f":"TRANSPOSE(MMULT($AE$10:$AG$12,TRANSPOSE(F680:H680)))","v":{"$error":"#N/A"}},{"$error":"#N/A"},{"$error":"#N/A"},{"$error":"#N/A"},{"$error":"#N/A"},{"$f":"TRANSPOSE(MMULT($AO$40:$AQ$42,TRANSPOSE(C680:E680)))","v":{"$error":"#N/A"}},{"$error":"#N/A"},{"$error":"#N/A"},{"$error":"#N/A"},{"$error":"#N/A"},{"$error":"#N/A"}]
[681,{"$error":"#N/A"},{"$error":"#N/A"},{"$error":"#N/A"},{"$error":"#N/A"},{"$error":"#N/A"},{"$error":"#N/A"},{"$error":"#N/A"},{"$error":"#N/A"},{"$error":"#N/A"},{"$error":"#N/A"},{"$f":"IF($AK$38=0,TRANSPOSE(MMULT($O$10:$Q$12,TRANSPOSE(C681:E681))),TRANSPOSE(MMULT($O$10:$Q$12,TRANSPOSE(Y681:AA681))))","v":{"$error":"#N/A"}},{"$error":"#N/A"},{"$error":"#N/A"},{"$error":"#N/A"},{"$error":"#N/A"},{"$f":"TRANSPOSE(MMULT($AE$10:$AG$12,TRANSPOSE(F681:H681)))","v":{"$error":"#N/A"}},{"$error":"#N/A"},{"$error":"#N/A"},{"$error":"#N/A"},{"$error":"#N/A"},{"$f":"TRANSPOSE(MMULT($AO$40:$AQ$42,TRANSPOSE(C681:E681)))","v":{"$error":"#N/A"}},{"$error":"#N/A"},{"$error":"#N/A"},{"$error":"#N/A"},{"$error":"#N/A"},{"$error":"#N/A"}]
[682,{"$error":"#N/A"},{"$error":"#N/A"},{"$error":"#N/A"},{"$error":"#N/A"},{"$error":"#N/A"},{"$error":"#N/A"},{"$error":"#N/A"},{"$error":"#N/A"},{"$error":"#N/A"},{"$error":"#N/A"},{"$f":"IF($AK$38=0,TRANSPOSE(MMULT($O$10:$Q$12,TRANSPOSE(C682:E682))),TRANSPOSE(MMULT($O$10:$Q$12,TRANSPOSE(Y682:AA682))))","v":{"$error":"#N/A"}},{"$error":"#N/A"},{"$error":"#N/A"},{"$error":"#N/A"},{"$error":"#N/A"},{"$f":"TRANSPOSE(MMULT($AE$10:$AG$12,TRANSPOSE(F682:H682)))","v":{"$error":"#N/A"}},{"$error":"#N/A"},{"$error":"#N/A"},{"$error":"#N/A"},{"$error":"#N/A"},{"$f":"TRANSPOSE(MMULT($AO$40:$AQ$42,TRANSPOSE(C682:E682)))","v":{"$error":"#N/A"}},{"$error":"#N/A"},{"$error":"#N/A"},{"$error":"#N/A"},{"$error":"#N/A"},{"$error":"#N/A"}]
[683,{"$error":"#N/A"},{"$error":"#N/A"},{"$error":"#N/A"},{"$error":"#N/A"},{"$error":"#N/A"},{"$error":"#N/A"},{"$error":"#N/A"},{"$error":"#N/A"},{"$error":"#N/A"},{"$error":"#N/A"},{"$f":"IF($AK$38=0,TRANSPOSE(MMULT($O$10:$Q$12,TRANSPOSE(C683:E683))),TRANSPOSE(MMULT($O$10:$Q$12,TRANSPOSE(Y683:AA683))))","v":{"$error":"#N/A"}},{"$error":"#N/A"},{"$error":"#N/A"},{"$error":"#N/A"},{"$error":"#N/A"},{"$f":"TRANSPOSE(MMULT($AE$10:$AG$12,TRANSPOSE(F683:H683)))","v":{"$error":"#N/A"}},{"$error":"#N/A"},{"$error":"#N/A"},{"$error":"#N/A"},{"$error":"#N/A"},{"$f":"TRANSPOSE(MMULT($AO$40:$AQ$42,TRANSPOSE(C683:E683)))","v":{"$error":"#N/A"}},{"$error":"#N/A"},{"$error":"#N/A"},{"$error":"#N/A"},{"$error":"#N/A"},{"$error":"#N/A"}]
[684,{"$error":"#N/A"},{"$error":"#N/A"},{"$error":"#N/A"},{"$error":"#N/A"},{"$error":"#N/A"},{"$error":"#N/A"},{"$error":"#N/A"},{"$error":"#N/A"},{"$error":"#N/A"},{"$error":"#N/A"},{"$f":"IF($AK$38=0,TRANSPOSE(MMULT($O$10:$Q$12,TRANSPOSE(C684:E684))),TRANSPOSE(MMULT($O$10:$Q$12,TRANSPOSE(Y684:AA684))))","v":{"$error":"#N/A"}},{"$error":"#N/A"},{"$error":"#N/A"},{"$error":"#N/A"},{"$error":"#N/A"},{"$f":"TRANSPOSE(MMULT($AE$10:$AG$12,TRANSPOSE(F684:H684)))","v":{"$error":"#N/A"}},{"$error":"#N/A"},{"$error":"#N/A"},{"$error":"#N/A"},{"$error":"#N/A"},{"$f":"TRANSPOSE(MMULT($AO$40:$AQ$42,TRANSPOSE(C684:E684)))","v":{"$error":"#N/A"}},{"$error":"#N/A"},{"$error":"#N/A"},{"$error":"#N/A"},{"$error":"#N/A"},{"$error":"#N/A"}]
[685,{"$error":"#N/A"},{"$error":"#N/A"},{"$error":"#N/A"},{"$error":"#N/A"},{"$error":"#N/A"},{"$error":"#N/A"},{"$error":"#N/A"},{"$error":"#N/A"},{"$error":"#N/A"},{"$error":"#N/A"},{"$f":"IF($AK$38=0,TRANSPOSE(MMULT($O$10:$Q$12,TRANSPOSE(C685:E685))),TRANSPOSE(MMULT($O$10:$Q$12,TRANSPOSE(Y685:AA685))))","v":{"$error":"#N/A"}},{"$error":"#N/A"},{"$error":"#N/A"},{"$error":"#N/A"},{"$error":"#N/A"},{"$f":"TRANSPOSE(MMULT($AE$10:$AG$12,TRANSPOSE(F685:H685)))","v":{"$error":"#N/A"}},{"$error":"#N/A"},{"$error":"#N/A"},{"$error":"#N/A"},{"$error":"#N/A"},{"$f":"TRANSPOSE(MMULT($AO$40:$AQ$42,TRANSPOSE(C685:E685)))","v":{"$error":"#N/A"}},{"$error":"#N/A"},{"$error":"#N/A"},{"$error":"#N/A"},{"$error":"#N/A"},{"$error":"#N/A"}]
[686,{"$error":"#N/A"},{"$error":"#N/A"},{"$error":"#N/A"},{"$error":"#N/A"},{"$error":"#N/A"},{"$error":"#N/A"},{"$error":"#N/A"},{"$error":"#N/A"},{"$error":"#N/A"},{"$error":"#N/A"},{"$f":"IF($AK$38=0,TRANSPOSE(MMULT($O$10:$Q$12,TRANSPOSE(C686:E686))),TRANSPOSE(MMULT($O$10:$Q$12,TRANSPOSE(Y686:AA686))))","v":{"$error":"#N/A"}},{"$error":"#N/A"},{"$error":"#N/A"},{"$error":"#N/A"},{"$error":"#N/A"},{"$f":"TRANSPOSE(MMULT($AE$10:$AG$12,TRANSPOSE(F686:H686)))","v":{"$error":"#N/A"}},{"$error":"#N/A"},{"$error":"#N/A"},{"$error":"#N/A"},{"$error":"#N/A"},{"$f":"TRANSPOSE(MMULT($AO$40:$AQ$42,TRANSPOSE(C686:E686)))","v":{"$error":"#N/A"}},{"$error":"#N/A"},{"$error":"#N/A"},{"$error":"#N/A"},{"$error":"#N/A"},{"$error":"#N/A"}]
[687,{"$error":"#N/A"},{"$error":"#N/A"},{"$error":"#N/A"},{"$error":"#N/A"},{"$error":"#N/A"},{"$error":"#N/A"},{"$error":"#N/A"},{"$error":"#N/A"},{"$error":"#N/A"},{"$error":"#N/A"},{"$f":"IF($AK$38=0,TRANSPOSE(MMULT($O$10:$Q$12,TRANSPOSE(C687:E687))),TRANSPOSE(MMULT($O$10:$Q$12,TRANSPOSE(Y687:AA687))))","v":{"$error":"#N/A"}},{"$error":"#N/A"},{"$error":"#N/A"},{"$error":"#N/A"},{"$error":"#N/A"},{"$f":"TRANSPOSE(MMULT($AE$10:$AG$12,TRANSPOSE(F687:H687)))","v":{"$error":"#N/A"}},{"$error":"#N/A"},{"$error":"#N/A"},{"$error":"#N/A"},{"$error":"#N/A"},{"$f":"TRANSPOSE(MMULT($AO$40:$AQ$42,TRANSPOSE(C687:E687)))","v":{"$error":"#N/A"}},{"$error":"#N/A"},{"$error":"#N/A"},{"$error":"#N/A"},{"$error":"#N/A"},{"$error":"#N/A"}]
[688,{"$error":"#N/A"},{"$error":"#N/A"},{"$error":"#N/A"},{"$error":"#N/A"},{"$error":"#N/A"},{"$error":"#N/A"},{"$error":"#N/A"},{"$error":"#N/A"},{"$error":"#N/A"},{"$error":"#N/A"},{"$f":"IF($AK$38=0,TRANSPOSE(MMULT($O$10:$Q$12,TRANSPOSE(C688:E688))),TRANSPOSE(MMULT($O$10:$Q$12,TRANSPOSE(Y688:AA688))))","v":{"$error":"#N/A"}},{"$error":"#N/A"},{"$error":"#N/A"},{"$error":"#N/A"},{"$error":"#N/A"},{"$f":"TRANSPOSE(MMULT($AE$10:$AG$12,TRANSPOSE(F688:H688)))","v":{"$error":"#N/A"}},{"$error":"#N/A"},{"$error":"#N/A"},{"$error":"#N/A"},{"$error":"#N/A"},{"$f":"TRANSPOSE(MMULT($AO$40:$AQ$42,TRANSPOSE(C688:E688)))","v":{"$error":"#N/A"}},{"$error":"#N/A"},{"$error":"#N/A"},{"$error":"#N/A"},{"$error":"#N/A"},{"$error":"#N/A"}]
[689,{"$error":"#N/A"},{"$error":"#N/A"},{"$error":"#N/A"},{"$error":"#N/A"},{"$error":"#N/A"},{"$error":"#N/A"},{"$error":"#N/A"},{"$error":"#N/A"},{"$error":"#N/A"},{"$error":"#N/A"},{"$f":"IF($AK$38=0,TRANSPOSE(MMULT($O$10:$Q$12,TRANSPOSE(C689:E689))),TRANSPOSE(MMULT($O$10:$Q$12,TRANSPOSE(Y689:AA689))))","v":{"$error":"#N/A"}},{"$error":"#N/A"},{"$error":"#N/A"},{"$error":"#N/A"},{"$error":"#N/A"},{"$f":"TRANSPOSE(MMULT($AE$10:$AG$12,TRANSPOSE(F689:H689)))","v":{"$error":"#N/A"}},{"$error":"#N/A"},{"$error":"#N/A"},{"$error":"#N/A"},{"$error":"#N/A"},{"$f":"TRANSPOSE(MMULT($AO$40:$AQ$42,TRANSPOSE(C689:E689)))","v":{"$error":"#N/A"}},{"$error":"#N/A"},{"$error":"#N/A"},{"$error":"#N/A"},{"$error":"#N/A"},{"$error":"#N/A"}]
[690,{"$error":"#N/A"},{"$error":"#N/A"},{"$error":"#N/A"},{"$error":"#N/A"},{"$error":"#N/A"},{"$error":"#N/A"},{"$error":"#N/A"},{"$error":"#N/A"},{"$error":"#N/A"},{"$error":"#N/A"},{"$f":"IF($AK$38=0,TRANSPOSE(MMULT($O$10:$Q$12,TRANSPOSE(C690:E690))),TRANSPOSE(MMULT($O$10:$Q$12,TRANSPOSE(Y690:AA690))))","v":{"$error":"#N/A"}},{"$error":"#N/A"},{"$error":"#N/A"},{"$error":"#N/A"},{"$error":"#N/A"},{"$f":"TRANSPOSE(MMULT($AE$10:$AG$12,TRANSPOSE(F690:H690)))","v":{"$error":"#N/A"}},{"$error":"#N/A"},{"$error":"#N/A"},{"$error":"#N/A"},{"$error":"#N/A"},{"$f":"TRANSPOSE(MMULT($AO$40:$AQ$42,TRANSPOSE(C690:E690)))","v":{"$error":"#N/A"}},{"$error":"#N/A"},{"$error":"#N/A"},{"$error":"#N/A"},{"$error":"#N/A"},{"$error":"#N/A"}]
[691,{"$error":"#N/A"},{"$error":"#N/A"},{"$error":"#N/A"},{"$error":"#N/A"},{"$error":"#N/A"},{"$error":"#N/A"},{"$error":"#N/A"},{"$error":"#N/A"},{"$error":"#N/A"},{"$error":"#N/A"},{"$f":"IF($AK$38=0,TRANSPOSE(MMULT($O$10:$Q$12,TRANSPOSE(C691:E691))),TRANSPOSE(MMULT($O$10:$Q$12,TRANSPOSE(Y691:AA691))))","v":{"$error":"#N/A"}},{"$error":"#N/A"},{"$error":"#N/A"},{"$error":"#N/A"},{"$error":"#N/A"},{"$f":"TRANSPOSE(MMULT($AE$10:$AG$12,TRANSPOSE(F691:H691)))","v":{"$error":"#N/A"}},{"$error":"#N/A"},{"$error":"#N/A"},{"$error":"#N/A"},{"$error":"#N/A"},{"$f":"TRANSPOSE(MMULT($AO$40:$AQ$42,TRANSPOSE(C691:E691)))","v":{"$error":"#N/A"}},{"$error":"#N/A"},{"$error":"#N/A"},{"$error":"#N/A"},{"$error":"#N/A"},{"$error":"#N/A"}]
[692,{"$error":"#N/A"},{"$f":"(C$4+F$4*$B692+I$4*$B692^2+L$4*$B692^3+O$4*$B692^4)+(C$5+F$5*$B692+I$5*$B692^2+L$5*$B692^3+O$5*$B692^5)*(COS(C$6+F$6*$B692+I$6*$B692^2+L$6*$B692^3+O$6*$B692^4))+(C$7+F$7*$B692+I$7*$B692^2+L$7*$B692^3+O$7*$B692^4)*(SIN(C$8+F$8*$B692+I$8*$B692^2+L$8*$B692^3+O$8*$B692^4))","v":{"$error":"#N/A"}},{"$f":"(D$4+G$4*$B692+J$4*$B692^2+M$4*$B692^3+P$4*$B692^4)+(D$5+G$5*$B692+J$5*$B692^2+M$5*$B692^3+P$5*$B692^5)*(COS(D$6+G$6*$B692+J$6*$B692^2+M$6*$B692^3+P$6*$B692^4))+(D$7+G$7*$B692+J$7*$B692^2+M$7*$B692^3+P$7*$B692^4)*(SIN(D$8+G$8*$B692+J$8*$B692^2+M$8*$B692^3+P$8*$B692^4))","v":{"$error":"#N/A"}},{"$f":"(E$4+H$4*$B692+K$4*$B692^2+N$4*$B692^3+Q$4*$B692^4)+(E$5+H$5*$B692+K$5*$B692^2+N$5*$B692^3+Q$5*$B692^5)*(COS(E$6+H$6*$B692+K$6*$B692^2+N$6*$B692^3+Q$6*$B692^4))+(E$7+H$7*$B692+K$7*$B692^2+N$7*$B692^3+Q$7*$B692^4)*(SIN(E$8+H$8*$B692+K$8*$B692^2+N$8*$B692^3+Q$8*$B692^4))","v":{"$error":"#N/A"}},{"$error":"#N/A"},{"$error":"#N/A"},{"$error":"#N/A"},{"$error":"#N/A"},{"$error":"#N/A"},{"$error":"#N/A"},{"$f":"IF($AK$38=0,TRANSPOSE(MMULT($O$10:$Q$12,TRANSPOSE(C692:E692))),TRANSPOSE(MMULT($O$10:$Q$12,TRANSPOSE(Y692:AA692))))","v":{"$error":"#N/A"}},{"$error":"#N/A"},{"$error":"#N/A"},{"$error":"#N/A"},{"$error":"#N/A"},{"$f":"TRANSPOSE(MMULT($AE$10:$AG$12,TRANSPOSE(F692:H692)))","v":{"$error":"#N/A"}},{"$error":"#N/A"},{"$error":"#N/A"},{"$error":"#N/A"},{"$error":"#N/A"},{"$f":"TRANSPOSE(MMULT($AO$40:$AQ$42,TRANSPOSE(C692:E692)))","v":{"$error":"#N/A"}},{"$error":"#N/A"},{"$error":"#N/A"},{"$error":"#N/A"},{"$error":"#N/A"},{"$error":"#N/A"}]
[693,{"$error":"#N/A"},{"$error":"#N/A"},{"$error":"#N/A"},{"$error":"#N/A"},{"$error":"#N/A"},{"$error":"#N/A"},{"$error":"#N/A"},{"$error":"#N/A"},{"$error":"#N/A"},{"$error":"#N/A"},{"$f":"IF($AK$38=0,TRANSPOSE(MMULT($O$10:$Q$12,TRANSPOSE(C693:E693))),TRANSPOSE(MMULT($O$10:$Q$12,TRANSPOSE(Y693:AA693))))","v":{"$error":"#N/A"}},{"$error":"#N/A"},{"$error":"#N/A"},{"$error":"#N/A"},{"$error":"#N/A"},{"$f":"TRANSPOSE(MMULT($AE$10:$AG$12,TRANSPOSE(F693:H693)))","v":{"$error":"#N/A"}},{"$error":"#N/A"},{"$error":"#N/A"},{"$error":"#N/A"},{"$error":"#N/A"},{"$f":"TRANSPOSE(MMULT($AO$40:$AQ$42,TRANSPOSE(C693:E693)))","v":{"$error":"#N/A"}},{"$error":"#N/A"},{"$error":"#N/A"},{"$error":"#N/A"},{"$error":"#N/A"},{"$error":"#N/A"}]
[694,{"$error":"#N/A"},{"$error":"#N/A"},{"$error":"#N/A"},{"$error":"#N/A"},{"$error":"#N/A"},{"$error":"#N/A"},{"$error":"#N/A"},{"$error":"#N/A"},{"$error":"#N/A"},{"$error":"#N/A"},{"$f":"IF($AK$38=0,TRANSPOSE(MMULT($O$10:$Q$12,TRANSPOSE(C694:E694))),TRANSPOSE(MMULT($O$10:$Q$12,TRANSPOSE(Y694:AA694))))","v":{"$error":"#N/A"}},{"$error":"#N/A"},{"$error":"#N/A"},{"$error":"#N/A"},{"$error":"#N/A"},{"$f":"TRANSPOSE(MMULT($AE$10:$AG$12,TRANSPOSE(F694:H694)))","v":{"$error":"#N/A"}},{"$error":"#N/A"},{"$error":"#N/A"},{"$error":"#N/A"},{"$error":"#N/A"},{"$f":"TRANSPOSE(MMULT($AO$40:$AQ$42,TRANSPOSE(C694:E694)))","v":{"$error":"#N/A"}},{"$error":"#N/A"},{"$error":"#N/A"},{"$error":"#N/A"},{"$error":"#N/A"},{"$error":"#N/A"}]
[695,{"$error":"#N/A"},{"$error":"#N/A"},{"$error":"#N/A"},{"$error":"#N/A"},{"$error":"#N/A"},{"$error":"#N/A"},{"$error":"#N/A"},{"$error":"#N/A"},{"$error":"#N/A"},{"$error":"#N/A"},{"$f":"IF($AK$38=0,TRANSPOSE(MMULT($O$10:$Q$12,TRANSPOSE(C695:E695))),TRANSPOSE(MMULT($O$10:$Q$12,TRANSPOSE(Y695:AA695))))","v":{"$error":"#N/A"}},{"$error":"#N/A"},{"$error":"#N/A"},{"$error":"#N/A"},{"$error":"#N/A"},{"$f":"TRANSPOSE(MMULT($AE$10:$AG$12,TRANSPOSE(F695:H695)))","v":{"$error":"#N/A"}},{"$error":"#N/A"},{"$error":"#N/A"},{"$error":"#N/A"},{"$error":"#N/A"},{"$f":"TRANSPOSE(MMULT($AO$40:$AQ$42,TRANSPOSE(C695:E695)))","v":{"$error":"#N/A"}},{"$error":"#N/A"},{"$error":"#N/A"},{"$error":"#N/A"},{"$error":"#N/A"},{"$error":"#N/A"}]
[696,{"$error":"#N/A"},{"$error":"#N/A"},{"$error":"#N/A"},{"$error":"#N/A"},{"$error":"#N/A"},{"$error":"#N/A"},{"$error":"#N/A"},{"$error":"#N/A"},{"$error":"#N/A"},{"$error":"#N/A"},{"$f":"IF($AK$38=0,TRANSPOSE(MMULT($O$10:$Q$12,TRANSPOSE(C696:E696))),TRANSPOSE(MMULT($O$10:$Q$12,TRANSPOSE(Y696:AA696))))","v":{"$error":"#N/A"}},{"$error":"#N/A"},{"$error":"#N/A"},{"$error":"#N/A"},{"$error":"#N/A"},{"$f":"TRANSPOSE(MMULT($AE$10:$AG$12,TRANSPOSE(F696:H696)))","v":{"$error":"#N/A"}},{"$error":"#N/A"},{"$error":"#N/A"},{"$error":"#N/A"},{"$error":"#N/A"},{"$f":"TRANSPOSE(MMULT($AO$40:$AQ$42,TRANSPOSE(C696:E696)))","v":{"$error":"#N/A"}},{"$error":"#N/A"},{"$error":"#N/A"},{"$error":"#N/A"},{"$error":"#N/A"},{"$error":"#N/A"}]
[697,{"$error":"#N/A"},{"$error":"#N/A"},{"$error":"#N/A"},{"$error":"#N/A"},{"$error":"#N/A"},{"$error":"#N/A"},{"$error":"#N/A"},{"$error":"#N/A"},{"$error":"#N/A"},{"$error":"#N/A"},{"$f":"IF($AK$38=0,TRANSPOSE(MMULT($O$10:$Q$12,TRANSPOSE(C697:E697))),TRANSPOSE(MMULT($O$10:$Q$12,TRANSPOSE(Y697:AA697))))","v":{"$error":"#N/A"}},{"$error":"#N/A"},{"$error":"#N/A"},{"$error":"#N/A"},{"$error":"#N/A"},{"$f":"TRANSPOSE(MMULT($AE$10:$AG$12,TRANSPOSE(F697:H697)))","v":{"$error":"#N/A"}},{"$error":"#N/A"},{"$error":"#N/A"},{"$error":"#N/A"},{"$error":"#N/A"},{"$f":"TRANSPOSE(MMULT($AO$40:$AQ$42,TRANSPOSE(C697:E697)))","v":{"$error":"#N/A"}},{"$error":"#N/A"},{"$error":"#N/A"},{"$error":"#N/A"},{"$error":"#N/A"},{"$error":"#N/A"}]
[698,{"$error":"#N/A"},{"$error":"#N/A"},{"$error":"#N/A"},{"$error":"#N/A"},{"$error":"#N/A"},{"$error":"#N/A"},{"$error":"#N/A"},{"$error":"#N/A"},{"$error":"#N/A"},{"$error":"#N/A"},{"$f":"IF($AK$38=0,TRANSPOSE(MMULT($O$10:$Q$12,TRANSPOSE(C698:E698))),TRANSPOSE(MMULT($O$10:$Q$12,TRANSPOSE(Y698:AA698))))","v":{"$error":"#N/A"}},{"$error":"#N/A"},{"$error":"#N/A"},{"$error":"#N/A"},{"$error":"#N/A"},{"$f":"TRANSPOSE(MMULT($AE$10:$AG$12,TRANSPOSE(F698:H698)))","v":{"$error":"#N/A"}},{"$error":"#N/A"},{"$error":"#N/A"},{"$error":"#N/A"},{"$error":"#N/A"},{"$f":"TRANSPOSE(MMULT($AO$40:$AQ$42,TRANSPOSE(C698:E698)))","v":{"$error":"#N/A"}},{"$error":"#N/A"},{"$error":"#N/A"},{"$error":"#N/A"},{"$error":"#N/A"},{"$error":"#N/A"}]
[699,{"$error":"#N/A"},{"$error":"#N/A"},{"$error":"#N/A"},{"$error":"#N/A"},{"$error":"#N/A"},{"$error":"#N/A"},{"$error":"#N/A"},{"$error":"#N/A"},{"$error":"#N/A"},{"$error":"#N/A"},{"$f":"IF($AK$38=0,TRANSPOSE(MMULT($O$10:$Q$12,TRANSPOSE(C699:E699))),TRANSPOSE(MMULT($O$10:$Q$12,TRANSPOSE(Y699:AA699))))","v":{"$error":"#N/A"}},{"$error":"#N/A"},{"$error":"#N/A"},{"$error":"#N/A"},{"$error":"#N/A"},{"$f":"TRANSPOSE(MMULT($AE$10:$AG$12,TRANSPOSE(F699:H699)))","v":{"$error":"#N/A"}},{"$error":"#N/A"},{"$error":"#N/A"},{"$error":"#N/A"},{"$error":"#N/A"},{"$f":"TRANSPOSE(MMULT($AO$40:$AQ$42,TRANSPOSE(C699:E699)))","v":{"$error":"#N/A"}},{"$error":"#N/A"},{"$error":"#N/A"},{"$error":"#N/A"},{"$error":"#N/A"},{"$error":"#N/A"}]
[700,{"$error":"#N/A"},{"$error":"#N/A"},{"$error":"#N/A"},{"$error":"#N/A"},{"$error":"#N/A"},{"$error":"#N/A"},{"$error":"#N/A"},{"$error":"#N/A"},{"$error":"#N/A"},{"$error":"#N/A"},{"$f":"IF($AK$38=0,TRANSPOSE(MMULT($O$10:$Q$12,TRANSPOSE(C700:E700))),TRANSPOSE(MMULT($O$10:$Q$12,TRANSPOSE(Y700:AA700))))","v":{"$error":"#N/A"}},{"$error":"#N/A"},{"$error":"#N/A"},{"$error":"#N/A"},{"$error":"#N/A"},{"$f":"TRANSPOSE(MMULT($AE$10:$AG$12,TRANSPOSE(F700:H700)))","v":{"$error":"#N/A"}},{"$error":"#N/A"},{"$error":"#N/A"},{"$error":"#N/A"},{"$error":"#N/A"},{"$f":"TRANSPOSE(MMULT($AO$40:$AQ$42,TRANSPOSE(C700:E700)))","v":{"$error":"#N/A"}},{"$error":"#N/A"},{"$error":"#N/A"},{"$error":"#N/A"},{"$error":"#N/A"},{"$error":"#N/A"}]
[701,{"$error":"#N/A"},{"$error":"#N/A"},{"$error":"#N/A"},{"$error":"#N/A"},{"$error":"#N/A"},{"$error":"#N/A"},{"$error":"#N/A"},{"$error":"#N/A"},{"$error":"#N/A"},{"$error":"#N/A"},{"$f":"IF($AK$38=0,TRANSPOSE(MMULT($O$10:$Q$12,TRANSPOSE(C701:E701))),TRANSPOSE(MMULT($O$10:$Q$12,TRANSPOSE(Y701:AA701))))","v":{"$error":"#N/A"}},{"$error":"#N/A"},{"$error":"#N/A"},{"$error":"#N/A"},{"$error":"#N/A"},{"$f":"TRANSPOSE(MMULT($AE$10:$AG$12,TRANSPOSE(F701:H701)))","v":{"$error":"#N/A"}},{"$error":"#N/A"},{"$error":"#N/A"},{"$error":"#N/A"},{"$error":"#N/A"},{"$f":"TRANSPOSE(MMULT($AO$40:$AQ$42,TRANSPOSE(C701:E701)))","v":{"$error":"#N/A"}},{"$error":"#N/A"},{"$error":"#N/A"},{"$error":"#N/A"},{"$error":"#N/A"},{"$error":"#N/A"}]
[702,{"$error":"#N/A"},{"$error":"#N/A"},{"$error":"#N/A"},{"$error":"#N/A"},{"$error":"#N/A"},{"$error":"#N/A"},{"$error":"#N/A"},{"$error":"#N/A"},{"$error":"#N/A"},{"$error":"#N/A"},{"$f":"IF($AK$38=0,TRANSPOSE(MMULT($O$10:$Q$12,TRANSPOSE(C702:E702))),TRANSPOSE(MMULT($O$10:$Q$12,TRANSPOSE(Y702:AA702))))","v":{"$error":"#N/A"}},{"$error":"#N/A"},{"$error":"#N/A"},{"$error":"#N/A"},{"$error":"#N/A"},{"$f":"TRANSPOSE(MMULT($AE$10:$AG$12,TRANSPOSE(F702:H702)))","v":{"$error":"#N/A"}},{"$error":"#N/A"},{"$error":"#N/A"},{"$error":"#N/A"},{"$error":"#N/A"},{"$f":"TRANSPOSE(MMULT($AO$40:$AQ$42,TRANSPOSE(C702:E702)))","v":{"$error":"#N/A"}},{"$error":"#N/A"},{"$error":"#N/A"},{"$error":"#N/A"},{"$error":"#N/A"},{"$error":"#N/A"}]
[703,{"$error":"#N/A"},{"$error":"#N/A"},{"$error":"#N/A"},{"$error":"#N/A"},{"$error":"#N/A"},{"$error":"#N/A"},{"$error":"#N/A"},{"$error":"#N/A"},{"$error":"#N/A"},{"$error":"#N/A"},{"$f":"IF($AK$38=0,TRANSPOSE(MMULT($O$10:$Q$12,TRANSPOSE(C703:E703))),TRANSPOSE(MMULT($O$10:$Q$12,TRANSPOSE(Y703:AA703))))","v":{"$error":"#N/A"}},{"$error":"#N/A"},{"$error":"#N/A"},{"$error":"#N/A"},{"$error":"#N/A"},{"$f":"TRANSPOSE(MMULT($AE$10:$AG$12,TRANSPOSE(F703:H703)))","v":{"$error":"#N/A"}},{"$error":"#N/A"},{"$error":"#N/A"},{"$error":"#N/A"},{"$error":"#N/A"},{"$f":"TRANSPOSE(MMULT($AO$40:$AQ$42,TRANSPOSE(C703:E703)))","v":{"$error":"#N/A"}},{"$error":"#N/A"},{"$error":"#N/A"},{"$error":"#N/A"},{"$error":"#N/A"},{"$error":"#N/A"}]
[704,{"$error":"#N/A"},{"$error":"#N/A"},{"$error":"#N/A"},{"$error":"#N/A"},{"$error":"#N/A"},{"$error":"#N/A"},{"$error":"#N/A"},{"$error":"#N/A"},{"$error":"#N/A"},{"$error":"#N/A"},{"$f":"IF($AK$38=0,TRANSPOSE(MMULT($O$10:$Q$12,TRANSPOSE(C704:E704))),TRANSPOSE(MMULT($O$10:$Q$12,TRANSPOSE(Y704:AA704))))","v":{"$error":"#N/A"}},{"$error":"#N/A"},{"$error":"#N/A"},{"$error":"#N/A"},{"$error":"#N/A"},{"$f":"TRANSPOSE(MMULT($AE$10:$AG$12,TRANSPOSE(F704:H704)))","v":{"$error":"#N/A"}},{"$error":"#N/A"},{"$error":"#N/A"},{"$error":"#N/A"},{"$error":"#N/A"},{"$f":"TRANSPOSE(MMULT($AO$40:$AQ$42,TRANSPOSE(C704:E704)))","v":{"$error":"#N/A"}},{"$error":"#N/A"},{"$error":"#N/A"},{"$error":"#N/A"},{"$error":"#N/A"},{"$error":"#N/A"}]
[705,{"$error":"#N/A"},{"$error":"#N/A"},{"$error":"#N/A"},{"$error":"#N/A"},{"$error":"#N/A"},{"$error":"#N/A"},{"$error":"#N/A"},{"$error":"#N/A"},{"$error":"#N/A"},{"$error":"#N/A"},{"$f":"IF($AK$38=0,TRANSPOSE(MMULT($O$10:$Q$12,TRANSPOSE(C705:E705))),TRANSPOSE(MMULT($O$10:$Q$12,TRANSPOSE(Y705:AA705))))","v":{"$error":"#N/A"}},{"$error":"#N/A"},{"$error":"#N/A"},{"$error":"#N/A"},{"$error":"#N/A"},{"$f":"TRANSPOSE(MMULT($AE$10:$AG$12,TRANSPOSE(F705:H705)))","v":{"$error":"#N/A"}},{"$error":"#N/A"},{"$error":"#N/A"},{"$error":"#N/A"},{"$error":"#N/A"},{"$f":"TRANSPOSE(MMULT($AO$40:$AQ$42,TRANSPOSE(C705:E705)))","v":{"$error":"#N/A"}},{"$error":"#N/A"},{"$error":"#N/A"},{"$error":"#N/A"},{"$error":"#N/A"},{"$error":"#N/A"}]
[706,{"$error":"#N/A"},{"$error":"#N/A"},{"$error":"#N/A"},{"$error":"#N/A"},{"$error":"#N/A"},{"$error":"#N/A"},{"$error":"#N/A"},{"$error":"#N/A"},{"$error":"#N/A"},{"$error":"#N/A"},{"$f":"IF($AK$38=0,TRANSPOSE(MMULT($O$10:$Q$12,TRANSPOSE(C706:E706))),TRANSPOSE(MMULT($O$10:$Q$12,TRANSPOSE(Y706:AA706))))","v":{"$error":"#N/A"}},{"$error":"#N/A"},{"$error":"#N/A"},{"$error":"#N/A"},{"$error":"#N/A"},{"$f":"TRANSPOSE(MMULT($AE$10:$AG$12,TRANSPOSE(F706:H706)))","v":{"$error":"#N/A"}},{"$error":"#N/A"},{"$error":"#N/A"},{"$error":"#N/A"},{"$error":"#N/A"},{"$f":"TRANSPOSE(MMULT($AO$40:$AQ$42,TRANSPOSE(C706:E706)))","v":{"$error":"#N/A"}},{"$error":"#N/A"},{"$error":"#N/A"},{"$error":"#N/A"},{"$error":"#N/A"},{"$error":"#N/A"}]
[707,{"$error":"#N/A"},{"$error":"#N/A"},{"$error":"#N/A"},{"$error":"#N/A"},{"$error":"#N/A"},{"$error":"#N/A"},{"$error":"#N/A"},{"$error":"#N/A"},{"$error":"#N/A"},{"$error":"#N/A"},{"$f":"IF($AK$38=0,TRANSPOSE(MMULT($O$10:$Q$12,TRANSPOSE(C707:E707))),TRANSPOSE(MMULT($O$10:$Q$12,TRANSPOSE(Y707:AA707))))","v":{"$error":"#N/A"}},{"$error":"#N/A"},{"$error":"#N/A"},{"$error":"#N/A"},{"$error":"#N/A"},{"$f":"TRANSPOSE(MMULT($AE$10:$AG$12,TRANSPOSE(F707:H707)))","v":{"$error":"#N/A"}},{"$error":"#N/A"},{"$error":"#N/A"},{"$error":"#N/A"},{"$error":"#N/A"},{"$f":"TRANSPOSE(MMULT($AO$40:$AQ$42,TRANSPOSE(C707:E707)))","v":{"$error":"#N/A"}},{"$error":"#N/A"},{"$error":"#N/A"},{"$error":"#N/A"},{"$error":"#N/A"},{"$error":"#N/A"}]
[708,{"$error":"#N/A"},{"$error":"#N/A"},{"$error":"#N/A"},{"$error":"#N/A"},{"$error":"#N/A"},{"$error":"#N/A"},{"$error":"#N/A"},{"$error":"#N/A"},{"$error":"#N/A"},{"$error":"#N/A"},{"$f":"IF($AK$38=0,TRANSPOSE(MMULT($O$10:$Q$12,TRANSPOSE(C708:E708))),TRANSPOSE(MMULT($O$10:$Q$12,TRANSPOSE(Y708:AA708))))","v":{"$error":"#N/A"}},{"$error":"#N/A"},{"$error":"#N/A"},{"$error":"#N/A"},{"$error":"#N/A"},{"$f":"TRANSPOSE(MMULT($AE$10:$AG$12,TRANSPOSE(F708:H708)))","v":{"$error":"#N/A"}},{"$error":"#N/A"},{"$error":"#N/A"},{"$error":"#N/A"},{"$error":"#N/A"},{"$f":"TRANSPOSE(MMULT($AO$40:$AQ$42,TRANSPOSE(C708:E708)))","v":{"$error":"#N/A"}},{"$error":"#N/A"},{"$error":"#N/A"},{"$error":"#N/A"},{"$error":"#N/A"},{"$error":"#N/A"}]
[709,{"$error":"#N/A"},{"$error":"#N/A"},{"$error":"#N/A"},{"$error":"#N/A"},{"$error":"#N/A"},{"$error":"#N/A"},{"$error":"#N/A"},{"$error":"#N/A"},{"$error":"#N/A"},{"$error":"#N/A"},{"$f":"IF($AK$38=0,TRANSPOSE(MMULT($O$10:$Q$12,TRANSPOSE(C709:E709))),TRANSPOSE(MMULT($O$10:$Q$12,TRANSPOSE(Y709:AA709))))","v":{"$error":"#N/A"}},{"$error":"#N/A"},{"$error":"#N/A"},{"$error":"#N/A"},{"$error":"#N/A"},{"$f":"TRANSPOSE(MMULT($AE$10:$AG$12,TRANSPOSE(F709:H709)))","v":{"$error":"#N/A"}},{"$error":"#N/A"},{"$error":"#N/A"},{"$error":"#N/A"},{"$error":"#N/A"},{"$f":"TRANSPOSE(MMULT($AO$40:$AQ$42,TRANSPOSE(C709:E709)))","v":{"$error":"#N/A"}},{"$error":"#N/A"},{"$error":"#N/A"},{"$error":"#N/A"},{"$error":"#N/A"},{"$error":"#N/A"}]
[710,{"$error":"#N/A"},{"$error":"#N/A"},{"$error":"#N/A"},{"$error":"#N/A"},{"$error":"#N/A"},{"$error":"#N/A"},{"$error":"#N/A"},{"$error":"#N/A"},{"$error":"#N/A"},{"$error":"#N/A"},{"$f":"IF($AK$38=0,TRANSPOSE(MMULT($O$10:$Q$12,TRANSPOSE(C710:E710))),TRANSPOSE(MMULT($O$10:$Q$12,TRANSPOSE(Y710:AA710))))","v":{"$error":"#N/A"}},{"$error":"#N/A"},{"$error":"#N/A"},{"$error":"#N/A"},{"$error":"#N/A"},{"$f":"TRANSPOSE(MMULT($AE$10:$AG$12,TRANSPOSE(F710:H710)))","v":{"$error":"#N/A"}},{"$error":"#N/A"},{"$error":"#N/A"},{"$error":"#N/A"},{"$error":"#N/A"},{"$f":"TRANSPOSE(MMULT($AO$40:$AQ$42,TRANSPOSE(C710:E710)))","v":{"$error":"#N/A"}},{"$error":"#N/A"},{"$error":"#N/A"},{"$error":"#N/A"},{"$error":"#N/A"},{"$error":"#N/A"}]
[711,{"$error":"#N/A"},{"$error":"#N/A"},{"$error":"#N/A"},{"$error":"#N/A"},{"$error":"#N/A"},{"$error":"#N/A"},{"$error":"#N/A"},{"$error":"#N/A"},{"$error":"#N/A"},{"$error":"#N/A"},{"$f":"IF($AK$38=0,TRANSPOSE(MMULT($O$10:$Q$12,TRANSPOSE(C711:E711))),TRANSPOSE(MMULT($O$10:$Q$12,TRANSPOSE(Y711:AA711))))","v":{"$error":"#N/A"}},{"$error":"#N/A"},{"$error":"#N/A"},{"$error":"#N/A"},{"$error":"#N/A"},{"$f":"TRANSPOSE(MMULT($AE$10:$AG$12,TRANSPOSE(F711:H711)))","v":{"$error":"#N/A"}},{"$error":"#N/A"},{"$error":"#N/A"},{"$error":"#N/A"},{"$error":"#N/A"},{"$f":"TRANSPOSE(MMULT($AO$40:$AQ$42,TRANSPOSE(C711:E711)))","v":{"$error":"#N/A"}},{"$error":"#N/A"},{"$error":"#N/A"},{"$error":"#N/A"},{"$error":"#N/A"},{"$error":"#N/A"}]
[712,{"$error":"#N/A"},{"$error":"#N/A"},{"$error":"#N/A"},{"$error":"#N/A"},{"$error":"#N/A"},{"$error":"#N/A"},{"$error":"#N/A"},{"$error":"#N/A"},{"$error":"#N/A"},{"$error":"#N/A"},{"$f":"IF($AK$38=0,TRANSPOSE(MMULT($O$10:$Q$12,TRANSPOSE(C712:E712))),TRANSPOSE(MMULT($O$10:$Q$12,TRANSPOSE(Y712:AA712))))","v":{"$error":"#N/A"}},{"$error":"#N/A"},{"$error":"#N/A"},{"$error":"#N/A"},{"$error":"#N/A"},{"$f":"TRANSPOSE(MMULT($AE$10:$AG$12,TRANSPOSE(F712:H712)))","v":{"$error":"#N/A"}},{"$error":"#N/A"},{"$error":"#N/A"},{"$error":"#N/A"},{"$error":"#N/A"},{"$f":"TRANSPOSE(MMULT($AO$40:$AQ$42,TRANSPOSE(C712:E712)))","v":{"$error":"#N/A"}},{"$error":"#N/A"},{"$error":"#N/A"},{"$error":"#N/A"},{"$error":"#N/A"},{"$error":"#N/A"}]
[713,{"$error":"#N/A"},{"$error":"#N/A"},{"$error":"#N/A"},{"$error":"#N/A"},{"$error":"#N/A"},{"$error":"#N/A"},{"$error":"#N/A"},{"$error":"#N/A"},{"$error":"#N/A"},{"$error":"#N/A"},{"$f":"IF($AK$38=0,TRANSPOSE(MMULT($O$10:$Q$12,TRANSPOSE(C713:E713))),TRANSPOSE(MMULT($O$10:$Q$12,TRANSPOSE(Y713:AA713))))","v":{"$error":"#N/A"}},{"$error":"#N/A"},{"$error":"#N/A"},{"$error":"#N/A"},{"$error":"#N/A"},{"$f":"TRANSPOSE(MMULT($AE$10:$AG$12,TRANSPOSE(F713:H713)))","v":{"$error":"#N/A"}},{"$error":"#N/A"},{"$error":"#N/A"},{"$error":"#N/A"},{"$error":"#N/A"},{"$f":"TRANSPOSE(MMULT($AO$40:$AQ$42,TRANSPOSE(C713:E713)))","v":{"$error":"#N/A"}},{"$error":"#N/A"},{"$error":"#N/A"},{"$error":"#N/A"},{"$error":"#N/A"},{"$error":"#N/A"}]
[714,{"$error":"#N/A"},{"$error":"#N/A"},{"$error":"#N/A"},{"$error":"#N/A"},{"$error":"#N/A"},{"$error":"#N/A"},{"$error":"#N/A"},{"$error":"#N/A"},{"$error":"#N/A"},{"$error":"#N/A"},{"$f":"IF($AK$38=0,TRANSPOSE(MMULT($O$10:$Q$12,TRANSPOSE(C714:E714))),TRANSPOSE(MMULT($O$10:$Q$12,TRANSPOSE(Y714:AA714))))","v":{"$error":"#N/A"}},{"$error":"#N/A"},{"$error":"#N/A"},{"$error":"#N/A"},{"$error":"#N/A"},{"$f":"TRANSPOSE(MMULT($AE$10:$AG$12,TRANSPOSE(F714:H714)))","v":{"$error":"#N/A"}},{"$error":"#N/A"},{"$error":"#N/A"},{"$error":"#N/A"},{"$error":"#N/A"},{"$f":"TRANSPOSE(MMULT($AO$40:$AQ$42,TRANSPOSE(C714:E714)))","v":{"$error":"#N/A"}},{"$error":"#N/A"},{"$error":"#N/A"},{"$error":"#N/A"},{"$error":"#N/A"},{"$error":"#N/A"}]
[715,{"$error":"#N/A"},{"$error":"#N/A"},{"$error":"#N/A"},{"$error":"#N/A"},{"$error":"#N/A"},{"$error":"#N/A"},{"$error":"#N/A"},{"$error":"#N/A"},{"$error":"#N/A"},{"$error":"#N/A"},{"$f":"IF($AK$38=0,TRANSPOSE(MMULT($O$10:$Q$12,TRANSPOSE(C715:E715))),TRANSPOSE(MMULT($O$10:$Q$12,TRANSPOSE(Y715:AA715))))","v":{"$error":"#N/A"}},{"$error":"#N/A"},{"$error":"#N/A"},{"$error":"#N/A"},{"$error":"#N/A"},{"$f":"TRANSPOSE(MMULT($AE$10:$AG$12,TRANSPOSE(F715:H715)))","v":{"$error":"#N/A"}},{"$error":"#N/A"},{"$error":"#N/A"},{"$error":"#N/A"},{"$error":"#N/A"},{"$f":"TRANSPOSE(MMULT($AO$40:$AQ$42,TRANSPOSE(C715:E715)))","v":{"$error":"#N/A"}},{"$error":"#N/A"},{"$error":"#N/A"},{"$error":"#N/A"},{"$error":"#N/A"},{"$error":"#N/A"}]
[716,{"$error":"#N/A"},{"$error":"#N/A"},{"$error":"#N/A"},{"$error":"#N/A"},{"$error":"#N/A"},{"$error":"#N/A"},{"$error":"#N/A"},{"$error":"#N/A"},{"$error":"#N/A"},{"$error":"#N/A"},{"$f":"IF($AK$38=0,TRANSPOSE(MMULT($O$10:$Q$12,TRANSPOSE(C716:E716))),TRANSPOSE(MMULT($O$10:$Q$12,TRANSPOSE(Y716:AA716))))","v":{"$error":"#N/A"}},{"$error":"#N/A"},{"$error":"#N/A"},{"$error":"#N/A"},{"$error":"#N/A"},{"$f":"TRANSPOSE(MMULT($AE$10:$AG$12,TRANSPOSE(F716:H716)))","v":{"$error":"#N/A"}},{"$error":"#N/A"},{"$error":"#N/A"},{"$error":"#N/A"},{"$error":"#N/A"},{"$f":"TRANSPOSE(MMULT($AO$40:$AQ$42,TRANSPOSE(C716:E716)))","v":{"$error":"#N/A"}},{"$error":"#N/A"},{"$error":"#N/A"},{"$error":"#N/A"},{"$error":"#N/A"},{"$error":"#N/A"}]
[717,{"$error":"#N/A"},{"$error":"#N/A"},{"$error":"#N/A"},{"$error":"#N/A"},{"$error":"#N/A"},{"$error":"#N/A"},{"$error":"#N/A"},{"$error":"#N/A"},{"$error":"#N/A"},{"$error":"#N/A"},{"$f":"IF($AK$38=0,TRANSPOSE(MMULT($O$10:$Q$12,TRANSPOSE(C717:E717))),TRANSPOSE(MMULT($O$10:$Q$12,TRANSPOSE(Y717:AA717))))","v":{"$error":"#N/A"}},{"$error":"#N/A"},{"$error":"#N/A"},{"$error":"#N/A"},{"$error":"#N/A"},{"$f":"TRANSPOSE(MMULT($AE$10:$AG$12,TRANSPOSE(F717:H717)))","v":{"$error":"#N/A"}},{"$error":"#N/A"},{"$error":"#N/A"},{"$error":"#N/A"},{"$error":"#N/A"},{"$f":"TRANSPOSE(MMULT($AO$40:$AQ$42,TRANSPOSE(C717:E717)))","v":{"$error":"#N/A"}},{"$error":"#N/A"},{"$error":"#N/A"},{"$error":"#N/A"},{"$error":"#N/A"},{"$error":"#N/A"}]
[718,{"$error":"#N/A"},{"$error":"#N/A"},{"$error":"#N/A"},{"$error":"#N/A"},{"$error":"#N/A"},{"$error":"#N/A"},{"$error":"#N/A"},{"$error":"#N/A"},{"$error":"#N/A"},{"$error":"#N/A"},{"$f":"IF($AK$38=0,TRANSPOSE(MMULT($O$10:$Q$12,TRANSPOSE(C718:E718))),TRANSPOSE(MMULT($O$10:$Q$12,TRANSPOSE(Y718:AA718))))","v":{"$error":"#N/A"}},{"$error":"#N/A"},{"$error":"#N/A"},{"$error":"#N/A"},{"$error":"#N/A"},{"$f":"TRANSPOSE(MMULT($AE$10:$AG$12,TRANSPOSE(F718:H718)))","v":{"$error":"#N/A"}},{"$error":"#N/A"},{"$error":"#N/A"},{"$error":"#N/A"},{"$error":"#N/A"},{"$f":"TRANSPOSE(MMULT($AO$40:$AQ$42,TRANSPOSE(C718:E718)))","v":{"$error":"#N/A"}},{"$error":"#N/A"},{"$error":"#N/A"},{"$error":"#N/A"},{"$error":"#N/A"},{"$error":"#N/A"}]
[719,{"$error":"#N/A"},{"$error":"#N/A"},{"$error":"#N/A"},{"$error":"#N/A"},{"$error":"#N/A"},{"$error":"#N/A"},{"$error":"#N/A"},{"$error":"#N/A"},{"$error":"#N/A"},{"$error":"#N/A"},{"$f":"IF($AK$38=0,TRANSPOSE(MMULT($O$10:$Q$12,TRANSPOSE(C719:E719))),TRANSPOSE(MMULT($O$10:$Q$12,TRANSPOSE(Y719:AA719))))","v":{"$error":"#N/A"}},{"$error":"#N/A"},{"$error":"#N/A"},{"$error":"#N/A"},{"$error":"#N/A"},{"$f":"TRANSPOSE(MMULT($AE$10:$AG$12,TRANSPOSE(F719:H719)))","v":{"$error":"#N/A"}},{"$error":"#N/A"},{"$error":"#N/A"},{"$error":"#N/A"},{"$error":"#N/A"},{"$f":"TRANSPOSE(MMULT($AO$40:$AQ$42,TRANSPOSE(C719:E719)))","v":{"$error":"#N/A"}},{"$error":"#N/A"},{"$error":"#N/A"},{"$error":"#N/A"},{"$error":"#N/A"},{"$error":"#N/A"}]
[720,{"$error":"#N/A"},{"$error":"#N/A"},{"$error":"#N/A"},{"$error":"#N/A"},{"$f":"(F$7+2*I$7*$B720+3*L$7*$B720^2+4*O$7*$B720^3)*SIN(O$8*$B720^4+L$8*$B720^3+I$8*$B720^2+F$8*$B720+C$8)+(F$8+2*I$8*$B720+3*L$8*$B720^2+4*O$8*$B720^3)*(C$7+F$7*$B720+I$7*$B720^2+L$7*$B720^3+O$7*$B720^4)*COS(O$8*$B720^4+L$8*$B720^3+I$8*$B720^2+F$8*$B720+C$8)-(F$6+2*I$6*$B720+3*L$6*$B720^2+4*O$6*$B720^3)*(C$5+F$5*$B720+I$5*$B720^2+L$5*$B720^3+O$5*$B720^4)*SIN(O$6*$B720^4+L$6*$B720^3+I$6*$B720^2+F$6*$B720+C$6)+(F$5+2*I$5*$B720+3*L$5*$B720^2+4*O$5*$B720^3)*COS(O$6*$B720^4+L$6*$B720^3+I$6*$B720^2+F$6*$B720+C$6)+4*O$4*$B720^3+3*L$4*$B720^2+2*I$4*$B720+F$4","v":{"$error":"#N/A"}},{"$f":"(G$7+2*J$7*$B720+3*M$7*$B720^2+4*P$7*$B720^3)*SIN(P$8*$B720^4+M$8*$B720^3+J$8*$B720^2+G$8*$B720+D$8)+(G$8+2*J$8*$B720+3*M$8*$B720^2+4*P$8*$B720^3)*(D$7+G$7*$B720+J$7*$B720^2+M$7*$B720^3+P$7*$B720^4)*COS(P$8*$B720^4+M$8*$B720^3+J$8*$B720^2+G$8*$B720+D$8)-(G$6+2*J$6*$B720+3*M$6*$B720^2+4*P$6*$B720^3)*(D$5+G$5*$B720+J$5*$B720^2+M$5*$B720^3+P$5*$B720^4)*SIN(P$6*$B720^4+M$6*$B720^3+J$6*$B720^2+G$6*$B720+D$6)+(G$5+2*J$5*$B720+3*M$5*$B720^2+4*P$5*$B720^3)*COS(P$6*$B720^4+M$6*$B720^3+J$6*$B720^2+G$6*$B720+D$6)+4*P$4*$B720^3+3*M$4*$B720^2+2*J$4*$B720+G$4","v":{"$error":"#N/A"}},{"$f":"(H$7+2*K$7*$B720+3*N$7*$B720^2+4*Q$7*$B720^3)*SIN(Q$8*$B720^4+N$8*$B720^3+K$8*$B720^2+H$8*$B720+E$8)+(H$8+2*K$8*$B720+3*N$8*$B720^2+4*Q$8*$B720^3)*(E$7+H$7*$B720+K$7*$B720^2+N$7*$B720^3+Q$7*$B720^4)*COS(Q$8*$B720^4+N$8*$B720^3+K$8*$B720^2+H$8*$B720+E$8)-(H$6+2*K$6*$B720+3*N$6*$B720^2+4*Q$6*$B720^3)*(E$5+H$5*$B720+K$5*$B720^2+N$5*$B720^3+Q$5*$B720^4)*SIN(Q$6*$B720^4+N$6*$B720^3+K$6*$B720^2+H$6*$B720+E$6)+(H$5+2*K$5*$B720+3*N$5*$B720^2+4*Q$5*$B720^3)*COS(Q$6*$B720^4+N$6*$B720^3+K$6*$B720^2+H$6*$B720+E$6)+4*Q$4*$B720^3+3*N$4*$B720^2+2*K$4*$B720+H$4","v":{"$error":"#N/A"}},{"$f":"-1*(F$8+2*I$8*$B720+3*L$8*$B720^2+4*O$8*$B720^3)^2*(C$7+F$7*$B720+I$7*$B720^2+L$7*$B720^3+O$7*$B720^4)*SIN(O$8*$B720^4+L$8*$B720^3+I$8*$B720^2+F$8*$B720+C$8)+(2*I$7+6*L$7*$B720+12*O$7*$B720^2)*SIN(O$8*$B720^4+L$8*$B720^3+I$8*$B720^2+F$8*$B720+C$8)+(2*I$8+6*L$8*$B720+12*O$8*$B720^2)*(C$7+F$7*$B720+I$7*$B720^2+L$7*$B720^3+O$7*$B720^4)*COS(O$8*$B720^4+L$8*$B720^3+I$8*$B720^2+F$8*$B720+C$8)+2*(F$7+2*I$7*$B720+3*L$7*$B720^2+4*O$7*$B720^3)*(F$8+2*I$8*$B720+3*L$8*$B720^2+4*O$8*$B720^3)*COS(O$8*$B720^4+L$8*$B720^3+I$8*$B720^2+F$8*$B720+C$8)-(2*I$6+6*L$6*$B720+12*O$6*$B720^2)*(C$5+F$5*$B720+I$5*$B720^2+L$5*$B720^3+O$5*$B720^4)*SIN(O$6*$B720^4+L$6*$B720^3+I$6*$B720^2+F$6*$B720+C$6)-2*(F$5+2*I$5*$B720+3*L$5*$B720^2+4*O$5*$B720^3)*(F$6+2*I$6*$B720+3*L$6*$B720^2+4*O$6*$B720^3)*SIN(O$6*$B720^4+L$6*$B720^3+I$6*$B720^2+F$6*$B720+C$6)-(F$6+2*I$6*$B720+3*L$6*$B720^2+4*O$6*$B720^3)^2*(C$5+F$5*$B720+I$5*$B720^2+L$5*$B720^3+O$5*$B720^4)*COS(O$6*$B720^4+L$6*$B720^3+I$6*$B720^2+F$6*$B720+C$6)+(2*I$5+6*L$5*$B720+12*O$5*$B720^2)*COS(O$6*$B720^4+L$6*$B720^3+I$6*$B720^2+F$6*$B720+C$6)+12*O$4*$B720^2+6*L$4*$B720+2*I$4","v":{"$error":"#N/A"}},{"$f":"-1*(G$8+2*J$8*$B720+3*M$8*$B720^2+4*P$8*$B720^3)^2*(D$7+G$7*$B720+J$7*$B720^2+M$7*$B720^3+P$7*$B720^4)*SIN(P$8*$B720^4+M$8*$B720^3+J$8*$B720^2+G$8*$B720+D$8)+(2*J$7+6*M$7*$B720+12*P$7*$B720^2)*SIN(P$8*$B720^4+M$8*$B720^3+J$8*$B720^2+G$8*$B720+D$8)+(2*J$8+6*M$8*$B720+12*P$8*$B720^2)*(D$7+G$7*$B720+J$7*$B720^2+M$7*$B720^3+P$7*$B720^4)*COS(P$8*$B720^4+M$8*$B720^3+J$8*$B720^2+G$8*$B720+D$8)+2*(G$7+2*J$7*$B720+3*M$7*$B720^2+4*P$7*$B720^3)*(G$8+2*J$8*$B720+3*M$8*$B720^2+4*P$8*$B720^3)*COS(P$8*$B720^4+M$8*$B720^3+J$8*$B720^2+G$8*$B720+D$8)-(2*J$6+6*M$6*$B720+12*P$6*$B720^2)*(D$5+G$5*$B720+J$5*$B720^2+M$5*$B720^3+P$5*$B720^4)*SIN(P$6*$B720^4+M$6*$B720^3+J$6*$B720^2+G$6*$B720+D$6)-2*(G$5+2*J$5*$B720+3*M$5*$B720^2+4*P$5*$B720^3)*(G$6+2*J$6*$B720+3*M$6*$B720^2+4*P$6*$B720^3)*SIN(P$6*$B720^4+M$6*$B720^3+J$6*$B720^2+G$6*$B720+D$6)-(G$6+2*J$6*$B720+3*M$6*$B720^2+4*P$6*$B720^3)^2*(D$5+G$5*$B720+J$5*$B720^2+M$5*$B720^3+P$5*$B720^4)*COS(P$6*$B720^4+M$6*$B720^3+J$6*$B720^2+G$6*$B720+D$6)+(2*J$5+6*M$5*$B720+12*P$5*$B720^2)*COS(P$6*$B720^4+M$6*$B720^3+J$6*$B720^2+G$6*$B720+D$6)+12*P$4*$B720^2+6*M$4*$B720+2*J$4","v":{"$error":"#N/A"}},{"$f":"-1*(H$8+2*K$8*$B720+3*N$8*$B720^2+4*Q$8*$B720^3)^2*(E$7+H$7*$B720+K$7*$B720^2+N$7*$B720^3+Q$7*$B720^4)*SIN(Q$8*$B720^4+N$8*$B720^3+K$8*$B720^2+H$8*$B720+E$8)+(2*K$7+6*N$7*$B720+12*Q$7*$B720^2)*SIN(Q$8*$B720^4+N$8*$B720^3+K$8*$B720^2+H$8*$B720+E$8)+(2*K$8+6*N$8*$B720+12*Q$8*$B720^2)*(E$7+H$7*$B720+K$7*$B720^2+N$7*$B720^3+Q$7*$B720^4)*COS(Q$8*$B720^4+N$8*$B720^3+K$8*$B720^2+H$8*$B720+E$8)+2*(H$7+2*K$7*$B720+3*N$7*$B720^2+4*Q$7*$B720^3)*(H$8+2*K$8*$B720+3*N$8*$B720^2+4*Q$8*$B720^3)*COS(Q$8*$B720^4+N$8*$B720^3+K$8*$B720^2+H$8*$B720+E$8)-(2*K$6+6*N$6*$B720+12*Q$6*$B720^2)*(E$5+H$5*$B720+K$5*$B720^2+N$5*$B720^3+Q$5*$B720^4)*SIN(Q$6*$B720^4+N$6*$B720^3+K$6*$B720^2+H$6*$B720+E$6)-2*(H$5+2*K$5*$B720+3*N$5*$B720^2+4*Q$5*$B720^3)*(H$6+2*K$6*$B720+3*N$6*$B720^2+4*Q$6*$B720^3)*SIN(Q$6*$B720^4+N$6*$B720^3+K$6*$B720^2+H$6*$B720+E$6)-(H$6+2*K$6*$B720+3*N$6*$B720^2+4*Q$6*$B720^3)^2*(E$5+H$5*$B720+K$5*$B720^2+N$5*$B720^3+Q$5*$B720^4)*COS(Q$6*$B720^4+N$6*$B720^3+K$6*$B720^2+H$6*$B720+E$6)+(2*K$5+6*N$5*$B720+12*Q$5*$B720^2)*COS(Q$6*$B720^4+N$6*$B720^3+K$6*$B720^2+H$6*$B720+E$6)+12*Q$4*$B720^2+6*N$4*$B720+2*K$4","v":{"$error":"#N/A"}},{"$f":"IF($AK$38=0,TRANSPOSE(MMULT($O$10:$Q$12,TRANSPOSE(C720:E720))),TRANSPOSE(MMULT($O$10:$Q$12,TRANSPOSE(Y720:AA720))))","v":{"$error":"#N/A"}},{"$error":"#N/A"},{"$error":"#N/A"},{"$error":"#N/A"},{"$error":"#N/A"},{"$f":"TRANSPOSE(MMULT($AE$10:$AG$12,TRANSPOSE(F720:H720)))","v":{"$error":"#N/A"}},{"$error":"#N/A"},{"$error":"#N/A"},{"$f":"$Y$5+$Y$4*IF($U$8=1,Q720,(Q720*$U$6)/($U$6+$U$7+R720))","v":{"$error":"#N/A"}},{"$f":"$Y$6+$Y$4*IF($U$8=1,R720,(S720*$U$6)/($U$6+$U$7+R720))","v":{"$error":"#N/A"}},{"$f":"TRANSPOSE(MMULT($AO$40:$AQ$42,TRANSPOSE(C720:E720)))","v":{"$error":"#N/A"}},{"$error":"#N/A"},{"$error":"#N/A"},{"$f":"V720+$AL$46","v":{"$error":"#N/A"}},{"$f":"W720+$AL$47","v":{"$error":"#N/A"}},{"$f":"X720+$AL$48","v":{"$error":"#N/A"}}]
[721,{"$error":"#N/A"},{"$error":"#N/A"},{"$error":"#N/A"},{"$error":"#N/A"},{"$error":"#N/A"},{"$error":"#N/A"},{"$error":"#N/A"},{"$error":"#N/A"},{"$error":"#N/A"},{"$error":"#N/A"},{"$f":"IF($AK$38=0,TRANSPOSE(MMULT($O$10:$Q$12,TRANSPOSE(C721:E721))),TRANSPOSE(MMULT($O$10:$Q$12,TRANSPOSE(Y721:AA721))))","v":{"$error":"#N/A"}},{"$error":"#N/A"},{"$error":"#N/A"},{"$f":"IF($AD$4=0,NA(),$X$5+$X$4*IF($U$8=1,L721,(L721*$U$6)/($U$6+$U$7+M721)))","v":{"$error":"#N/A"}},{"$f":"IF($AD$4=0,NA(),$X$6+$X$4*IF($U$8=1,M721,(N721*$U$6)/($U$6+$U$7+M721)))","v":{"$error":"#N/A"}},{"$f":"TRANSPOSE(MMULT($AE$10:$AG$12,TRANSPOSE(F721:H721)))","v":{"$error":"#N/A"}},{"$error":"#N/A"},{"$error":"#N/A"},{"$error":"#N/A"},{"$error":"#N/A"},{"$f":"TRANSPOSE(MMULT($AO$40:$AQ$42,TRANSPOSE(C721:E721)))","v":{"$error":"#N/A"}},{"$error":"#N/A"},{"$error":"#N/A"},{"$error":"#N/A"},{"$error":"#N/A"},{"$error":"#N/A"}]
[722,{"$f":"IF(B721<$B$3,B721+$S$3,NA())","v":{"$error":"#N/A"}},{"$error":"#N/A"},{"$error":"#N/A"},{"$error":"#N/A"},{"$error":"#N/A"},{"$error":"#N/A"},{"$error":"#N/A"},{"$error":"#N/A"},{"$error":"#N/A"},{"$error":"#N/A"},{"$f":"IF($AK$38=0,TRANSPOSE(MMULT($O$10:$Q$12,TRANSPOSE(C722:E722))),TRANSPOSE(MMULT($O$10:$Q$12,TRANSPOSE(Y722:AA722))))","v":{"$error":"#N/A"}},{"$error":"#N/A"},{"$error":"#N/A"},{"$error":"#N/A"},{"$error":"#N/A"},{"$f":"TRANSPOSE(MMULT($AE$10:$AG$12,TRANSPOSE(F722:H722)))","v":{"$error":"#N/A"}},{"$error":"#N/A"},{"$error":"#N/A"},{"$error":"#N/A"},{"$error":"#N/A"},{"$f":"TRANSPOSE(MMULT($AO$40:$AQ$42,TRANSPOSE(C722:E722)))","v":{"$error":"#N/A"}},{"$error":"#N/A"},{"$error":"#N/A"},{"$error":"#N/A"},{"$error":"#N/A"},{"$error":"#N/A"}]
[723,{"$error":"#N/A"},{"$error":"#N/A"},{"$error":"#N/A"},{"$error":"#N/A"},{"$error":"#N/A"},{"$error":"#N/A"},{"$error":"#N/A"},{"$error":"#N/A"},{"$error":"#N/A"},{"$error":"#N/A"},{"$f":"IF($AK$38=0,TRANSPOSE(MMULT($O$10:$Q$12,TRANSPOSE(C723:E723))),TRANSPOSE(MMULT($O$10:$Q$12,TRANSPOSE(Y723:AA723))))","v":{"$error":"#N/A"}},{"$error":"#N/A"},{"$error":"#N/A"},{"$error":"#N/A"},{"$error":"#N/A"},{"$f":"TRANSPOSE(MMULT($AE$10:$AG$12,TRANSPOSE(F723:H723)))","v":{"$error":"#N/A"}},{"$error":"#N/A"},{"$error":"#N/A"},{"$error":"#N/A"},{"$error":"#N/A"},{"$f":"TRANSPOSE(MMULT($AO$40:$AQ$42,TRANSPOSE(C723:E723)))","v":{"$error":"#N/A"}},{"$error":"#N/A"},{"$error":"#N/A"},{"$error":"#N/A"},{"$error":"#N/A"},{"$error":"#N/A"}]
[724,{"$error":"#N/A"},{"$error":"#N/A"},{"$error":"#N/A"},{"$error":"#N/A"},{"$error":"#N/A"},{"$error":"#N/A"},{"$error":"#N/A"},{"$error":"#N/A"},{"$error":"#N/A"},{"$error":"#N/A"},{"$f":"IF($AK$38=0,TRANSPOSE(MMULT($O$10:$Q$12,TRANSPOSE(C724:E724))),TRANSPOSE(MMULT($O$10:$Q$12,TRANSPOSE(Y724:AA724))))","v":{"$error":"#N/A"}},{"$error":"#N/A"},{"$error":"#N/A"},{"$error":"#N/A"},{"$error":"#N/A"},{"$f":"TRANSPOSE(MMULT($AE$10:$AG$12,TRANSPOSE(F724:H724)))","v":{"$error":"#N/A"}},{"$error":"#N/A"},{"$error":"#N/A"},{"$error":"#N/A"},{"$error":"#N/A"},{"$f":"TRANSPOSE(MMULT($AO$40:$AQ$42,TRANSPOSE(C724:E724)))","v":{"$error":"#N/A"}},{"$error":"#N/A"},{"$error":"#N/A"},{"$error":"#N/A"},{"$error":"#N/A"},{"$error":"#N/A"}]
[725,{"$error":"#N/A"},{"$error":"#N/A"},{"$error":"#N/A"},{"$error":"#N/A"},{"$error":"#N/A"},{"$error":"#N/A"},{"$error":"#N/A"},{"$error":"#N/A"},{"$error":"#N/A"},{"$error":"#N/A"},{"$f":"IF($AK$38=0,TRANSPOSE(MMULT($O$10:$Q$12,TRANSPOSE(C725:E725))),TRANSPOSE(MMULT($O$10:$Q$12,TRANSPOSE(Y725:AA725))))","v":{"$error":"#N/A"}},{"$error":"#N/A"},{"$error":"#N/A"},{"$error":"#N/A"},{"$error":"#N/A"},{"$f":"TRANSPOSE(MMULT($AE$10:$AG$12,TRANSPOSE(F725:H725)))","v":{"$error":"#N/A"}},{"$error":"#N/A"},{"$error":"#N/A"},{"$error":"#N/A"},{"$error":"#N/A"},{"$f":"TRANSPOSE(MMULT($AO$40:$AQ$42,TRANSPOSE(C725:E725)))","v":{"$error":"#N/A"}},{"$error":"#N/A"},{"$error":"#N/A"},{"$error":"#N/A"},{"$error":"#N/A"},{"$error":"#N/A"}]
[726,{"$error":"#N/A"},{"$error":"#N/A"},{"$error":"#N/A"},{"$error":"#N/A"},{"$error":"#N/A"},{"$error":"#N/A"},{"$error":"#N/A"},{"$error":"#N/A"},{"$error":"#N/A"},{"$error":"#N/A"},{"$f":"IF($AK$38=0,TRANSPOSE(MMULT($O$10:$Q$12,TRANSPOSE(C726:E726))),TRANSPOSE(MMULT($O$10:$Q$12,TRANSPOSE(Y726:AA726))))","v":{"$error":"#N/A"}},{"$error":"#N/A"},{"$error":"#N/A"},{"$error":"#N/A"},{"$error":"#N/A"},{"$f":"TRANSPOSE(MMULT($AE$10:$AG$12,TRANSPOSE(F726:H726)))","v":{"$error":"#N/A"}},{"$error":"#N/A"},{"$error":"#N/A"},{"$error":"#N/A"},{"$error":"#N/A"},{"$f":"TRANSPOSE(MMULT($AO$40:$AQ$42,TRANSPOSE(C726:E726)))","v":{"$error":"#N/A"}},{"$error":"#N/A"},{"$error":"#N/A"},{"$error":"#N/A"},{"$error":"#N/A"},{"$error":"#N/A"}]
[727,{"$error":"#N/A"},{"$error":"#N/A"},{"$error":"#N/A"},{"$error":"#N/A"},{"$error":"#N/A"},{"$error":"#N/A"},{"$error":"#N/A"},{"$error":"#N/A"},{"$error":"#N/A"},{"$error":"#N/A"},{"$f":"IF($AK$38=0,TRANSPOSE(MMULT($O$10:$Q$12,TRANSPOSE(C727:E727))),TRANSPOSE(MMULT($O$10:$Q$12,TRANSPOSE(Y727:AA727))))","v":{"$error":"#N/A"}},{"$error":"#N/A"},{"$error":"#N/A"},{"$error":"#N/A"},{"$error":"#N/A"},{"$f":"TRANSPOSE(MMULT($AE$10:$AG$12,TRANSPOSE(F727:H727)))","v":{"$error":"#N/A"}},{"$error":"#N/A"},{"$error":"#N/A"},{"$error":"#N/A"},{"$error":"#N/A"},{"$f":"TRANSPOSE(MMULT($AO$40:$AQ$42,TRANSPOSE(C727:E727)))","v":{"$error":"#N/A"}},{"$error":"#N/A"},{"$error":"#N/A"},{"$error":"#N/A"},{"$error":"#N/A"},{"$error":"#N/A"}]
[728,{"$error":"#N/A"},{"$error":"#N/A"},{"$error":"#N/A"},{"$error":"#N/A"},{"$error":"#N/A"},{"$error":"#N/A"},{"$error":"#N/A"},{"$error":"#N/A"},{"$error":"#N/A"},{"$error":"#N/A"},{"$f":"IF($AK$38=0,TRANSPOSE(MMULT($O$10:$Q$12,TRANSPOSE(C728:E728))),TRANSPOSE(MMULT($O$10:$Q$12,TRANSPOSE(Y728:AA728))))","v":{"$error":"#N/A"}},{"$error":"#N/A"},{"$error":"#N/A"},{"$error":"#N/A"},{"$error":"#N/A"},{"$f":"TRANSPOSE(MMULT($AE$10:$AG$12,TRANSPOSE(F728:H728)))","v":{"$error":"#N/A"}},{"$error":"#N/A"},{"$error":"#N/A"},{"$error":"#N/A"},{"$error":"#N/A"},{"$f":"TRANSPOSE(MMULT($AO$40:$AQ$42,TRANSPOSE(C728:E728)))","v":{"$error":"#N/A"}},{"$error":"#N/A"},{"$error":"#N/A"},{"$error":"#N/A"},{"$error":"#N/A"},{"$error":"#N/A"}]
[729,{"$error":"#N/A"},{"$error":"#N/A"},{"$error":"#N/A"},{"$error":"#N/A"},{"$error":"#N/A"},{"$error":"#N/A"},{"$error":"#N/A"},{"$error":"#N/A"},{"$error":"#N/A"},{"$error":"#N/A"},{"$f":"IF($AK$38=0,TRANSPOSE(MMULT($O$10:$Q$12,TRANSPOSE(C729:E729))),TRANSPOSE(MMULT($O$10:$Q$12,TRANSPOSE(Y729:AA729))))","v":{"$error":"#N/A"}},{"$error":"#N/A"},{"$error":"#N/A"},{"$error":"#N/A"},{"$error":"#N/A"},{"$f":"TRANSPOSE(MMULT($AE$10:$AG$12,TRANSPOSE(F729:H729)))","v":{"$error":"#N/A"}},{"$error":"#N/A"},{"$error":"#N/A"},{"$error":"#N/A"},{"$error":"#N/A"},{"$f":"TRANSPOSE(MMULT($AO$40:$AQ$42,TRANSPOSE(C729:E729)))","v":{"$error":"#N/A"}},{"$error":"#N/A"},{"$error":"#N/A"},{"$error":"#N/A"},{"$error":"#N/A"},{"$error":"#N/A"}]
[730,{"$error":"#N/A"},{"$error":"#N/A"},{"$error":"#N/A"},{"$error":"#N/A"},{"$error":"#N/A"},{"$error":"#N/A"},{"$error":"#N/A"},{"$error":"#N/A"},{"$error":"#N/A"},{"$error":"#N/A"},{"$f":"IF($AK$38=0,TRANSPOSE(MMULT($O$10:$Q$12,TRANSPOSE(C730:E730))),TRANSPOSE(MMULT($O$10:$Q$12,TRANSPOSE(Y730:AA730))))","v":{"$error":"#N/A"}},{"$error":"#N/A"},{"$error":"#N/A"},{"$error":"#N/A"},{"$error":"#N/A"},{"$f":"TRANSPOSE(MMULT($AE$10:$AG$12,TRANSPOSE(F730:H730)))","v":{"$error":"#N/A"}},{"$error":"#N/A"},{"$error":"#N/A"},{"$error":"#N/A"},{"$error":"#N/A"},{"$f":"TRANSPOSE(MMULT($AO$40:$AQ$42,TRANSPOSE(C730:E730)))","v":{"$error":"#N/A"}},{"$error":"#N/A"},{"$error":"#N/A"},{"$error":"#N/A"},{"$error":"#N/A"},{"$error":"#N/A"}]
[731,{"$error":"#N/A"},{"$error":"#N/A"},{"$error":"#N/A"},{"$error":"#N/A"},{"$error":"#N/A"},{"$error":"#N/A"},{"$error":"#N/A"},{"$error":"#N/A"},{"$error":"#N/A"},{"$error":"#N/A"},{"$f":"IF($AK$38=0,TRANSPOSE(MMULT($O$10:$Q$12,TRANSPOSE(C731:E731))),TRANSPOSE(MMULT($O$10:$Q$12,TRANSPOSE(Y731:AA731))))","v":{"$error":"#N/A"}},{"$error":"#N/A"},{"$error":"#N/A"},{"$error":"#N/A"},{"$error":"#N/A"},{"$f":"TRANSPOSE(MMULT($AE$10:$AG$12,TRANSPOSE(F731:H731)))","v":{"$error":"#N/A"}},{"$error":"#N/A"},{"$error":"#N/A"},{"$error":"#N/A"},{"$error":"#N/A"},{"$f":"TRANSPOSE(MMULT($AO$40:$AQ$42,TRANSPOSE(C731:E731)))","v":{"$error":"#N/A"}},{"$error":"#N/A"},{"$error":"#N/A"},{"$error":"#N/A"},{"$error":"#N/A"},{"$error":"#N/A"}]
[732,{"$error":"#N/A"},{"$error":"#N/A"},{"$error":"#N/A"},{"$error":"#N/A"},{"$error":"#N/A"},{"$error":"#N/A"},{"$error":"#N/A"},{"$error":"#N/A"},{"$error":"#N/A"},{"$error":"#N/A"},{"$f":"IF($AK$38=0,TRANSPOSE(MMULT($O$10:$Q$12,TRANSPOSE(C732:E732))),TRANSPOSE(MMULT($O$10:$Q$12,TRANSPOSE(Y732:AA732))))","v":{"$error":"#N/A"}},{"$error":"#N/A"},{"$error":"#N/A"},{"$error":"#N/A"},{"$error":"#N/A"},{"$f":"TRANSPOSE(MMULT($AE$10:$AG$12,TRANSPOSE(F732:H732)))","v":{"$error":"#N/A"}},{"$error":"#N/A"},{"$error":"#N/A"},{"$error":"#N/A"},{"$error":"#N/A"},{"$f":"TRANSPOSE(MMULT($AO$40:$AQ$42,TRANSPOSE(C732:E732)))","v":{"$error":"#N/A"}},{"$error":"#N/A"},{"$error":"#N/A"},{"$error":"#N/A"},{"$error":"#N/A"},{"$error":"#N/A"}]
[733,{"$error":"#N/A"},{"$error":"#N/A"},{"$error":"#N/A"},{"$error":"#N/A"},{"$error":"#N/A"},{"$error":"#N/A"},{"$error":"#N/A"},{"$error":"#N/A"},{"$error":"#N/A"},{"$error":"#N/A"},{"$f":"IF($AK$38=0,TRANSPOSE(MMULT($O$10:$Q$12,TRANSPOSE(C733:E733))),TRANSPOSE(MMULT($O$10:$Q$12,TRANSPOSE(Y733:AA733))))","v":{"$error":"#N/A"}},{"$error":"#N/A"},{"$error":"#N/A"},{"$error":"#N/A"},{"$error":"#N/A"},{"$f":"TRANSPOSE(MMULT($AE$10:$AG$12,TRANSPOSE(F733:H733)))","v":{"$error":"#N/A"}},{"$error":"#N/A"},{"$error":"#N/A"},{"$error":"#N/A"},{"$error":"#N/A"},{"$f":"TRANSPOSE(MMULT($AO$40:$AQ$42,TRANSPOSE(C733:E733)))","v":{"$error":"#N/A"}},{"$error":"#N/A"},{"$error":"#N/A"},{"$error":"#N/A"},{"$error":"#N/A"},{"$error":"#N/A"}]
[734,{"$error":"#N/A"},{"$error":"#N/A"},{"$error":"#N/A"},{"$error":"#N/A"},{"$error":"#N/A"},{"$error":"#N/A"},{"$error":"#N/A"},{"$error":"#N/A"},{"$error":"#N/A"},{"$error":"#N/A"},{"$f":"IF($AK$38=0,TRANSPOSE(MMULT($O$10:$Q$12,TRANSPOSE(C734:E734))),TRANSPOSE(MMULT($O$10:$Q$12,TRANSPOSE(Y734:AA734))))","v":{"$error":"#N/A"}},{"$error":"#N/A"},{"$error":"#N/A"},{"$error":"#N/A"},{"$error":"#N/A"},{"$f":"TRANSPOSE(MMULT($AE$10:$AG$12,TRANSPOSE(F734:H734)))","v":{"$error":"#N/A"}},{"$error":"#N/A"},{"$error":"#N/A"},{"$error":"#N/A"},{"$error":"#N/A"},{"$f":"TRANSPOSE(MMULT($AO$40:$AQ$42,TRANSPOSE(C734:E734)))","v":{"$error":"#N/A"}},{"$error":"#N/A"},{"$error":"#N/A"},{"$error":"#N/A"},{"$error":"#N/A"},{"$error":"#N/A"}]
[735,{"$error":"#N/A"},{"$error":"#N/A"},{"$error":"#N/A"},{"$error":"#N/A"},{"$error":"#N/A"},{"$error":"#N/A"},{"$error":"#N/A"},{"$error":"#N/A"},{"$error":"#N/A"},{"$error":"#N/A"},{"$f":"IF($AK$38=0,TRANSPOSE(MMULT($O$10:$Q$12,TRANSPOSE(C735:E735))),TRANSPOSE(MMULT($O$10:$Q$12,TRANSPOSE(Y735:AA735))))","v":{"$error":"#N/A"}},{"$error":"#N/A"},{"$error":"#N/A"},{"$error":"#N/A"},{"$error":"#N/A"},{"$f":"TRANSPOSE(MMULT($AE$10:$AG$12,TRANSPOSE(F735:H735)))","v":{"$error":"#N/A"}},{"$error":"#N/A"},{"$error":"#N/A"},{"$error":"#N/A"},{"$error":"#N/A"},{"$f":"TRANSPOSE(MMULT($AO$40:$AQ$42,TRANSPOSE(C735:E735)))","v":{"$error":"#N/A"}},{"$error":"#N/A"},{"$error":"#N/A"},{"$error":"#N/A"},{"$error":"#N/A"},{"$error":"#N/A"}]
[736,{"$error":"#N/A"},{"$error":"#N/A"},{"$error":"#N/A"},{"$error":"#N/A"},{"$error":"#N/A"},{"$error":"#N/A"},{"$error":"#N/A"},{"$error":"#N/A"},{"$error":"#N/A"},{"$error":"#N/A"},{"$f":"IF($AK$38=0,TRANSPOSE(MMULT($O$10:$Q$12,TRANSPOSE(C736:E736))),TRANSPOSE(MMULT($O$10:$Q$12,TRANSPOSE(Y736:AA736))))","v":{"$error":"#N/A"}},{"$error":"#N/A"},{"$error":"#N/A"},{"$error":"#N/A"},{"$error":"#N/A"},{"$f":"TRANSPOSE(MMULT($AE$10:$AG$12,TRANSPOSE(F736:H736)))","v":{"$error":"#N/A"}},{"$error":"#N/A"},{"$error":"#N/A"},{"$error":"#N/A"},{"$error":"#N/A"},{"$f":"TRANSPOSE(MMULT($AO$40:$AQ$42,TRANSPOSE(C736:E736)))","v":{"$error":"#N/A"}},{"$error":"#N/A"},{"$error":"#N/A"},{"$error":"#N/A"},{"$error":"#N/A"},{"$error":"#N/A"}]
[737,{"$error":"#N/A"},{"$error":"#N/A"},{"$error":"#N/A"},{"$error":"#N/A"},{"$error":"#N/A"},{"$error":"#N/A"},{"$error":"#N/A"},{"$error":"#N/A"},{"$error":"#N/A"},{"$error":"#N/A"},{"$f":"IF($AK$38=0,TRANSPOSE(MMULT($O$10:$Q$12,TRANSPOSE(C737:E737))),TRANSPOSE(MMULT($O$10:$Q$12,TRANSPOSE(Y737:AA737))))","v":{"$error":"#N/A"}},{"$error":"#N/A"},{"$error":"#N/A"},{"$error":"#N/A"},{"$error":"#N/A"},{"$f":"TRANSPOSE(MMULT($AE$10:$AG$12,TRANSPOSE(F737:H737)))","v":{"$error":"#N/A"}},{"$error":"#N/A"},{"$error":"#N/A"},{"$error":"#N/A"},{"$error":"#N/A"},{"$f":"TRANSPOSE(MMULT($AO$40:$AQ$42,TRANSPOSE(C737:E737)))","v":{"$error":"#N/A"}},{"$error":"#N/A"},{"$error":"#N/A"},{"$error":"#N/A"},{"$error":"#N/A"},{"$error":"#N/A"}]
[738,{"$error":"#N/A"},{"$error":"#N/A"},{"$error":"#N/A"},{"$error":"#N/A"},{"$error":"#N/A"},{"$error":"#N/A"},{"$error":"#N/A"},{"$error":"#N/A"},{"$error":"#N/A"},{"$error":"#N/A"},{"$f":"IF($AK$38=0,TRANSPOSE(MMULT($O$10:$Q$12,TRANSPOSE(C738:E738))),TRANSPOSE(MMULT($O$10:$Q$12,TRANSPOSE(Y738:AA738))))","v":{"$error":"#N/A"}},{"$error":"#N/A"},{"$error":"#N/A"},{"$error":"#N/A"},{"$error":"#N/A"},{"$f":"TRANSPOSE(MMULT($AE$10:$AG$12,TRANSPOSE(F738:H738)))","v":{"$error":"#N/A"}},{"$error":"#N/A"},{"$error":"#N/A"},{"$error":"#N/A"},{"$error":"#N/A"},{"$f":"TRANSPOSE(MMULT($AO$40:$AQ$42,TRANSPOSE(C738:E738)))","v":{"$error":"#N/A"}},{"$error":"#N/A"},{"$error":"#N/A"},{"$error":"#N/A"},{"$error":"#N/A"},{"$error":"#N/A"}]
[739,{"$error":"#N/A"},{"$error":"#N/A"},{"$error":"#N/A"},{"$error":"#N/A"},{"$error":"#N/A"},{"$error":"#N/A"},{"$error":"#N/A"},{"$error":"#N/A"},{"$error":"#N/A"},{"$error":"#N/A"},{"$f":"IF($AK$38=0,TRANSPOSE(MMULT($O$10:$Q$12,TRANSPOSE(C739:E739))),TRANSPOSE(MMULT($O$10:$Q$12,TRANSPOSE(Y739:AA739))))","v":{"$error":"#N/A"}},{"$error":"#N/A"},{"$error":"#N/A"},{"$error":"#N/A"},{"$error":"#N/A"},{"$f":"TRANSPOSE(MMULT($AE$10:$AG$12,TRANSPOSE(F739:H739)))","v":{"$error":"#N/A"}},{"$error":"#N/A"},{"$error":"#N/A"},{"$error":"#N/A"},{"$error":"#N/A"},{"$f":"TRANSPOSE(MMULT($AO$40:$AQ$42,TRANSPOSE(C739:E739)))","v":{"$error":"#N/A"}},{"$error":"#N/A"},{"$error":"#N/A"},{"$error":"#N/A"},{"$error":"#N/A"},{"$error":"#N/A"}]
[740,{"$error":"#N/A"},{"$error":"#N/A"},{"$error":"#N/A"},{"$error":"#N/A"},{"$error":"#N/A"},{"$error":"#N/A"},{"$error":"#N/A"},{"$error":"#N/A"},{"$error":"#N/A"},{"$error":"#N/A"},{"$f":"IF($AK$38=0,TRANSPOSE(MMULT($O$10:$Q$12,TRANSPOSE(C740:E740))),TRANSPOSE(MMULT($O$10:$Q$12,TRANSPOSE(Y740:AA740))))","v":{"$error":"#N/A"}},{"$error":"#N/A"},{"$error":"#N/A"},{"$error":"#N/A"},{"$error":"#N/A"},{"$f":"TRANSPOSE(MMULT($AE$10:$AG$12,TRANSPOSE(F740:H740)))","v":{"$error":"#N/A"}},{"$error":"#N/A"},{"$error":"#N/A"},{"$error":"#N/A"},{"$error":"#N/A"},{"$f":"TRANSPOSE(MMULT($AO$40:$AQ$42,TRANSPOSE(C740:E740)))","v":{"$error":"#N/A"}},{"$error":"#N/A"},{"$error":"#N/A"},{"$error":"#N/A"},{"$error":"#N/A"},{"$error":"#N/A"}]
[741,{"$error":"#N/A"},{"$error":"#N/A"},{"$error":"#N/A"},{"$error":"#N/A"},{"$error":"#N/A"},{"$error":"#N/A"},{"$error":"#N/A"},{"$error":"#N/A"},{"$error":"#N/A"},{"$error":"#N/A"},{"$f":"IF($AK$38=0,TRANSPOSE(MMULT($O$10:$Q$12,TRANSPOSE(C741:E741))),TRANSPOSE(MMULT($O$10:$Q$12,TRANSPOSE(Y741:AA741))))","v":{"$error":"#N/A"}},{"$error":"#N/A"},{"$error":"#N/A"},{"$error":"#N/A"},{"$error":"#N/A"},{"$f":"TRANSPOSE(MMULT($AE$10:$AG$12,TRANSPOSE(F741:H741)))","v":{"$error":"#N/A"}},{"$error":"#N/A"},{"$error":"#N/A"},{"$error":"#N/A"},{"$error":"#N/A"},{"$f":"TRANSPOSE(MMULT($AO$40:$AQ$42,TRANSPOSE(C741:E741)))","v":{"$error":"#N/A"}},{"$error":"#N/A"},{"$error":"#N/A"},{"$error":"#N/A"},{"$error":"#N/A"},{"$error":"#N/A"}]
[742,{"$error":"#N/A"},{"$error":"#N/A"},{"$error":"#N/A"},{"$error":"#N/A"},{"$error":"#N/A"},{"$error":"#N/A"},{"$error":"#N/A"},{"$error":"#N/A"},{"$error":"#N/A"},{"$error":"#N/A"},{"$f":"IF($AK$38=0,TRANSPOSE(MMULT($O$10:$Q$12,TRANSPOSE(C742:E742))),TRANSPOSE(MMULT($O$10:$Q$12,TRANSPOSE(Y742:AA742))))","v":{"$error":"#N/A"}},{"$error":"#N/A"},{"$error":"#N/A"},{"$error":"#N/A"},{"$error":"#N/A"},{"$f":"TRANSPOSE(MMULT($AE$10:$AG$12,TRANSPOSE(F742:H742)))","v":{"$error":"#N/A"}},{"$error":"#N/A"},{"$error":"#N/A"},{"$error":"#N/A"},{"$error":"#N/A"},{"$f":"TRANSPOSE(MMULT($AO$40:$AQ$42,TRANSPOSE(C742:E742)))","v":{"$error":"#N/A"}},{"$error":"#N/A"},{"$error":"#N/A"},{"$error":"#N/A"},{"$error":"#N/A"},{"$error":"#N/A"}]
[743,{"$error":"#N/A"},{"$error":"#N/A"},{"$error":"#N/A"},{"$error":"#N/A"},{"$error":"#N/A"},{"$error":"#N/A"},{"$error":"#N/A"},{"$error":"#N/A"},{"$error":"#N/A"},{"$error":"#N/A"},{"$f":"IF($AK$38=0,TRANSPOSE(MMULT($O$10:$Q$12,TRANSPOSE(C743:E743))),TRANSPOSE(MMULT($O$10:$Q$12,TRANSPOSE(Y743:AA743))))","v":{"$error":"#N/A"}},{"$error":"#N/A"},{"$error":"#N/A"},{"$error":"#N/A"},{"$error":"#N/A"},{"$f":"TRANSPOSE(MMULT($AE$10:$AG$12,TRANSPOSE(F743:H743)))","v":{"$error":"#N/A"}},{"$error":"#N/A"},{"$error":"#N/A"},{"$error":"#N/A"},{"$error":"#N/A"},{"$f":"TRANSPOSE(MMULT($AO$40:$AQ$42,TRANSPOSE(C743:E743)))","v":{"$error":"#N/A"}},{"$error":"#N/A"},{"$error":"#N/A"},{"$error":"#N/A"},{"$error":"#N/A"},{"$error":"#N/A"}]
[744,{"$error":"#N/A"},{"$error":"#N/A"},{"$error":"#N/A"},{"$error":"#N/A"},{"$error":"#N/A"},{"$error":"#N/A"},{"$error":"#N/A"},{"$error":"#N/A"},{"$error":"#N/A"},{"$error":"#N/A"},{"$f":"IF($AK$38=0,TRANSPOSE(MMULT($O$10:$Q$12,TRANSPOSE(C744:E744))),TRANSPOSE(MMULT($O$10:$Q$12,TRANSPOSE(Y744:AA744))))","v":{"$error":"#N/A"}},{"$error":"#N/A"},{"$error":"#N/A"},{"$error":"#N/A"},{"$error":"#N/A"},{"$f":"TRANSPOSE(MMULT($AE$10:$AG$12,TRANSPOSE(F744:H744)))","v":{"$error":"#N/A"}},{"$error":"#N/A"},{"$error":"#N/A"},{"$error":"#N/A"},{"$error":"#N/A"},{"$f":"TRANSPOSE(MMULT($AO$40:$AQ$42,TRANSPOSE(C744:E744)))","v":{"$error":"#N/A"}},{"$error":"#N/A"},{"$error":"#N/A"},{"$error":"#N/A"},{"$error":"#N/A"},{"$error":"#N/A"}]
[745,{"$error":"#N/A"},{"$error":"#N/A"},{"$error":"#N/A"},{"$error":"#N/A"},{"$error":"#N/A"},{"$error":"#N/A"},{"$error":"#N/A"},{"$error":"#N/A"},{"$error":"#N/A"},{"$error":"#N/A"},{"$f":"IF($AK$38=0,TRANSPOSE(MMULT($O$10:$Q$12,TRANSPOSE(C745:E745))),TRANSPOSE(MMULT($O$10:$Q$12,TRANSPOSE(Y745:AA745))))","v":{"$error":"#N/A"}},{"$error":"#N/A"},{"$error":"#N/A"},{"$error":"#N/A"},{"$error":"#N/A"},{"$f":"TRANSPOSE(MMULT($AE$10:$AG$12,TRANSPOSE(F745:H745)))","v":{"$error":"#N/A"}},{"$error":"#N/A"},{"$error":"#N/A"},{"$error":"#N/A"},{"$error":"#N/A"},{"$f":"TRANSPOSE(MMULT($AO$40:$AQ$42,TRANSPOSE(C745:E745)))","v":{"$error":"#N/A"}},{"$error":"#N/A"},{"$error":"#N/A"},{"$error":"#N/A"},{"$error":"#N/A"},{"$error":"#N/A"}]
[746,{"$error":"#N/A"},{"$error":"#N/A"},{"$error":"#N/A"},{"$error":"#N/A"},{"$error":"#N/A"},{"$error":"#N/A"},{"$error":"#N/A"},{"$error":"#N/A"},{"$error":"#N/A"},{"$error":"#N/A"},{"$f":"IF($AK$38=0,TRANSPOSE(MMULT($O$10:$Q$12,TRANSPOSE(C746:E746))),TRANSPOSE(MMULT($O$10:$Q$12,TRANSPOSE(Y746:AA746))))","v":{"$error":"#N/A"}},{"$error":"#N/A"},{"$error":"#N/A"},{"$error":"#N/A"},{"$error":"#N/A"},{"$f":"TRANSPOSE(MMULT($AE$10:$AG$12,TRANSPOSE(F746:H746)))","v":{"$error":"#N/A"}},{"$error":"#N/A"},{"$error":"#N/A"},{"$error":"#N/A"},{"$error":"#N/A"},{"$f":"TRANSPOSE(MMULT($AO$40:$AQ$42,TRANSPOSE(C746:E746)))","v":{"$error":"#N/A"}},{"$error":"#N/A"},{"$error":"#N/A"},{"$error":"#N/A"},{"$error":"#N/A"},{"$error":"#N/A"}]
[747,{"$error":"#N/A"},{"$error":"#N/A"},{"$error":"#N/A"},{"$error":"#N/A"},{"$error":"#N/A"},{"$error":"#N/A"},{"$error":"#N/A"},{"$error":"#N/A"},{"$error":"#N/A"},{"$error":"#N/A"},{"$f":"IF($AK$38=0,TRANSPOSE(MMULT($O$10:$Q$12,TRANSPOSE(C747:E747))),TRANSPOSE(MMULT($O$10:$Q$12,TRANSPOSE(Y747:AA747))))","v":{"$error":"#N/A"}},{"$error":"#N/A"},{"$error":"#N/A"},{"$error":"#N/A"},{"$error":"#N/A"},{"$f":"TRANSPOSE(MMULT($AE$10:$AG$12,TRANSPOSE(F747:H747)))","v":{"$error":"#N/A"}},{"$error":"#N/A"},{"$error":"#N/A"},{"$error":"#N/A"},{"$error":"#N/A"},{"$f":"TRANSPOSE(MMULT($AO$40:$AQ$42,TRANSPOSE(C747:E747)))","v":{"$error":"#N/A"}},{"$error":"#N/A"},{"$error":"#N/A"},{"$error":"#N/A"},{"$error":"#N/A"},{"$error":"#N/A"}]
[748,{"$error":"#N/A"},{"$error":"#N/A"},{"$error":"#N/A"},{"$error":"#N/A"},{"$error":"#N/A"},{"$error":"#N/A"},{"$error":"#N/A"},{"$error":"#N/A"},{"$error":"#N/A"},{"$error":"#N/A"},{"$f":"IF($AK$38=0,TRANSPOSE(MMULT($O$10:$Q$12,TRANSPOSE(C748:E748))),TRANSPOSE(MMULT($O$10:$Q$12,TRANSPOSE(Y748:AA748))))","v":{"$error":"#N/A"}},{"$error":"#N/A"},{"$error":"#N/A"},{"$error":"#N/A"},{"$error":"#N/A"},{"$f":"TRANSPOSE(MMULT($AE$10:$AG$12,TRANSPOSE(F748:H748)))","v":{"$error":"#N/A"}},{"$error":"#N/A"},{"$error":"#N/A"},{"$error":"#N/A"},{"$error":"#N/A"},{"$f":"TRANSPOSE(MMULT($AO$40:$AQ$42,TRANSPOSE(C748:E748)))","v":{"$error":"#N/A"}},{"$error":"#N/A"},{"$error":"#N/A"},{"$error":"#N/A"},{"$error":"#N/A"},{"$error":"#N/A"}]
[749,{"$error":"#N/A"},{"$error":"#N/A"},{"$error":"#N/A"},{"$error":"#N/A"},{"$error":"#N/A"},{"$error":"#N/A"},{"$error":"#N/A"},{"$error":"#N/A"},{"$error":"#N/A"},{"$error":"#N/A"},{"$f":"IF($AK$38=0,TRANSPOSE(MMULT($O$10:$Q$12,TRANSPOSE(C749:E749))),TRANSPOSE(MMULT($O$10:$Q$12,TRANSPOSE(Y749:AA749))))","v":{"$error":"#N/A"}},{"$error":"#N/A"},{"$error":"#N/A"},{"$error":"#N/A"},{"$error":"#N/A"},{"$f":"TRANSPOSE(MMULT($AE$10:$AG$12,TRANSPOSE(F749:H749)))","v":{"$error":"#N/A"}},{"$error":"#N/A"},{"$error":"#N/A"},{"$error":"#N/A"},{"$error":"#N/A"},{"$f":"TRANSPOSE(MMULT($AO$40:$AQ$42,TRANSPOSE(C749:E749)))","v":{"$error":"#N/A"}},{"$error":"#N/A"},{"$error":"#N/A"},{"$error":"#N/A"},{"$error":"#N/A"},{"$error":"#N/A"}]
[750,{"$error":"#N/A"},{"$error":"#N/A"},{"$error":"#N/A"},{"$error":"#N/A"},{"$error":"#N/A"},{"$error":"#N/A"},{"$error":"#N/A"},{"$error":"#N/A"},{"$error":"#N/A"},{"$error":"#N/A"},{"$f":"IF($AK$38=0,TRANSPOSE(MMULT($O$10:$Q$12,TRANSPOSE(C750:E750))),TRANSPOSE(MMULT($O$10:$Q$12,TRANSPOSE(Y750:AA750))))","v":{"$error":"#N/A"}},{"$error":"#N/A"},{"$error":"#N/A"},{"$error":"#N/A"},{"$error":"#N/A"},{"$f":"TRANSPOSE(MMULT($AE$10:$AG$12,TRANSPOSE(F750:H750)))","v":{"$error":"#N/A"}},{"$error":"#N/A"},{"$error":"#N/A"},{"$error":"#N/A"},{"$error":"#N/A"},{"$f":"TRANSPOSE(MMULT($AO$40:$AQ$42,TRANSPOSE(C750:E750)))","v":{"$error":"#N/A"}},{"$error":"#N/A"},{"$error":"#N/A"},{"$error":"#N/A"},{"$error":"#N/A"},{"$error":"#N/A"}]
[751,{"$error":"#N/A"},{"$error":"#N/A"},{"$error":"#N/A"},{"$error":"#N/A"},{"$error":"#N/A"},{"$error":"#N/A"},{"$error":"#N/A"},{"$error":"#N/A"},{"$error":"#N/A"},{"$error":"#N/A"},{"$f":"IF($AK$38=0,TRANSPOSE(MMULT($O$10:$Q$12,TRANSPOSE(C751:E751))),TRANSPOSE(MMULT($O$10:$Q$12,TRANSPOSE(Y751:AA751))))","v":{"$error":"#N/A"}},{"$error":"#N/A"},{"$error":"#N/A"},{"$error":"#N/A"},{"$error":"#N/A"},{"$f":"TRANSPOSE(MMULT($AE$10:$AG$12,TRANSPOSE(F751:H751)))","v":{"$error":"#N/A"}},{"$error":"#N/A"},{"$error":"#N/A"},{"$error":"#N/A"},{"$error":"#N/A"},{"$f":"TRANSPOSE(MMULT($AO$40:$AQ$42,TRANSPOSE(C751:E751)))","v":{"$error":"#N/A"}},{"$error":"#N/A"},{"$error":"#N/A"},{"$error":"#N/A"},{"$error":"#N/A"},{"$error":"#N/A"}]
[752,{"$error":"#N/A"},{"$error":"#N/A"},{"$error":"#N/A"},{"$error":"#N/A"},{"$error":"#N/A"},{"$error":"#N/A"},{"$error":"#N/A"},{"$error":"#N/A"},{"$error":"#N/A"},{"$error":"#N/A"},{"$f":"IF($AK$38=0,TRANSPOSE(MMULT($O$10:$Q$12,TRANSPOSE(C752:E752))),TRANSPOSE(MMULT($O$10:$Q$12,TRANSPOSE(Y752:AA752))))","v":{"$error":"#N/A"}},{"$error":"#N/A"},{"$error":"#N/A"},{"$error":"#N/A"},{"$error":"#N/A"},{"$f":"TRANSPOSE(MMULT($AE$10:$AG$12,TRANSPOSE(F752:H752)))","v":{"$error":"#N/A"}},{"$error":"#N/A"},{"$error":"#N/A"},{"$error":"#N/A"},{"$error":"#N/A"},{"$f":"TRANSPOSE(MMULT($AO$40:$AQ$42,TRANSPOSE(C752:E752)))","v":{"$error":"#N/A"}},{"$error":"#N/A"},{"$error":"#N/A"},{"$error":"#N/A"},{"$error":"#N/A"},{"$error":"#N/A"}]
[753,{"$error":"#N/A"},{"$error":"#N/A"},{"$error":"#N/A"},{"$error":"#N/A"},{"$error":"#N/A"},{"$error":"#N/A"},{"$error":"#N/A"},{"$error":"#N/A"},{"$error":"#N/A"},{"$error":"#N/A"},{"$f":"IF($AK$38=0,TRANSPOSE(MMULT($O$10:$Q$12,TRANSPOSE(C753:E753))),TRANSPOSE(MMULT($O$10:$Q$12,TRANSPOSE(Y753:AA753))))","v":{"$error":"#N/A"}},{"$error":"#N/A"},{"$error":"#N/A"},{"$error":"#N/A"},{"$error":"#N/A"},{"$f":"TRANSPOSE(MMULT($AE$10:$AG$12,TRANSPOSE(F753:H753)))","v":{"$error":"#N/A"}},{"$error":"#N/A"},{"$error":"#N/A"},{"$error":"#N/A"},{"$error":"#N/A"},{"$f":"TRANSPOSE(MMULT($AO$40:$AQ$42,TRANSPOSE(C753:E753)))","v":{"$error":"#N/A"}},{"$error":"#N/A"},{"$error":"#N/A"},{"$error":"#N/A"},{"$error":"#N/A"},{"$error":"#N/A"}]
[754,{"$error":"#N/A"},{"$error":"#N/A"},{"$error":"#N/A"},{"$error":"#N/A"},{"$error":"#N/A"},{"$error":"#N/A"},{"$error":"#N/A"},{"$error":"#N/A"},{"$error":"#N/A"},{"$error":"#N/A"},{"$f":"IF($AK$38=0,TRANSPOSE(MMULT($O$10:$Q$12,TRANSPOSE(C754:E754))),TRANSPOSE(MMULT($O$10:$Q$12,TRANSPOSE(Y754:AA754))))","v":{"$error":"#N/A"}},{"$error":"#N/A"},{"$error":"#N/A"},{"$error":"#N/A"},{"$error":"#N/A"},{"$f":"TRANSPOSE(MMULT($AE$10:$AG$12,TRANSPOSE(F754:H754)))","v":{"$error":"#N/A"}},{"$error":"#N/A"},{"$error":"#N/A"},{"$error":"#N/A"},{"$error":"#N/A"},{"$f":"TRANSPOSE(MMULT($AO$40:$AQ$42,TRANSPOSE(C754:E754)))","v":{"$error":"#N/A"}},{"$error":"#N/A"},{"$error":"#N/A"},{"$error":"#N/A"},{"$error":"#N/A"},{"$error":"#N/A"}]
[755,{"$error":"#N/A"},{"$error":"#N/A"},{"$error":"#N/A"},{"$error":"#N/A"},{"$error":"#N/A"},{"$error":"#N/A"},{"$error":"#N/A"},{"$error":"#N/A"},{"$error":"#N/A"},{"$error":"#N/A"},{"$f":"IF($AK$38=0,TRANSPOSE(MMULT($O$10:$Q$12,TRANSPOSE(C755:E755))),TRANSPOSE(MMULT($O$10:$Q$12,TRANSPOSE(Y755:AA755))))","v":{"$error":"#N/A"}},{"$error":"#N/A"},{"$error":"#N/A"},{"$error":"#N/A"},{"$error":"#N/A"},{"$f":"TRANSPOSE(MMULT($AE$10:$AG$12,TRANSPOSE(F755:H755)))","v":{"$error":"#N/A"}},{"$error":"#N/A"},{"$error":"#N/A"},{"$error":"#N/A"},{"$error":"#N/A"},{"$f":"TRANSPOSE(MMULT($AO$40:$AQ$42,TRANSPOSE(C755:E755)))","v":{"$error":"#N/A"}},{"$error":"#N/A"},{"$error":"#N/A"},{"$error":"#N/A"},{"$error":"#N/A"},{"$error":"#N/A"}]
[756,{"$error":"#N/A"},{"$f":"(C$4+F$4*$B756+I$4*$B756^2+L$4*$B756^3+O$4*$B756^4)+(C$5+F$5*$B756+I$5*$B756^2+L$5*$B756^3+O$5*$B756^5)*(COS(C$6+F$6*$B756+I$6*$B756^2+L$6*$B756^3+O$6*$B756^4))+(C$7+F$7*$B756+I$7*$B756^2+L$7*$B756^3+O$7*$B756^4)*(SIN(C$8+F$8*$B756+I$8*$B756^2+L$8*$B756^3+O$8*$B756^4))","v":{"$error":"#N/A"}},{"$f":"(D$4+G$4*$B756+J$4*$B756^2+M$4*$B756^3+P$4*$B756^4)+(D$5+G$5*$B756+J$5*$B756^2+M$5*$B756^3+P$5*$B756^5)*(COS(D$6+G$6*$B756+J$6*$B756^2+M$6*$B756^3+P$6*$B756^4))+(D$7+G$7*$B756+J$7*$B756^2+M$7*$B756^3+P$7*$B756^4)*(SIN(D$8+G$8*$B756+J$8*$B756^2+M$8*$B756^3+P$8*$B756^4))","v":{"$error":"#N/A"}},{"$f":"(E$4+H$4*$B756+K$4*$B756^2+N$4*$B756^3+Q$4*$B756^4)+(E$5+H$5*$B756+K$5*$B756^2+N$5*$B756^3+Q$5*$B756^5)*(COS(E$6+H$6*$B756+K$6*$B756^2+N$6*$B756^3+Q$6*$B756^4))+(E$7+H$7*$B756+K$7*$B756^2+N$7*$B756^3+Q$7*$B756^4)*(SIN(E$8+H$8*$B756+K$8*$B756^2+N$8*$B756^3+Q$8*$B756^4))","v":{"$error":"#N/A"}},{"$error":"#N/A"},{"$error":"#N/A"},{"$error":"#N/A"},{"$error":"#N/A"},{"$error":"#N/A"},{"$error":"#N/A"},{"$f":"IF($AK$38=0,TRANSPOSE(MMULT($O$10:$Q$12,TRANSPOSE(C756:E756))),TRANSPOSE(MMULT($O$10:$Q$12,TRANSPOSE(Y756:AA756))))","v":{"$error":"#N/A"}},{"$error":"#N/A"},{"$error":"#N/A"},{"$error":"#N/A"},{"$error":"#N/A"},{"$f":"TRANSPOSE(MMULT($AE$10:$AG$12,TRANSPOSE(F756:H756)))","v":{"$error":"#N/A"}},{"$error":"#N/A"},{"$error":"#N/A"},{"$error":"#N/A"},{"$error":"#N/A"},{"$f":"TRANSPOSE(MMULT($AO$40:$AQ$42,TRANSPOSE(C756:E756)))","v":{"$error":"#N/A"}},{"$error":"#N/A"},{"$error":"#N/A"},{"$error":"#N/A"},{"$error":"#N/A"},{"$error":"#N/A"}]
[757,{"$error":"#N/A"},{"$error":"#N/A"},{"$error":"#N/A"},{"$error":"#N/A"},{"$error":"#N/A"},{"$error":"#N/A"},{"$error":"#N/A"},{"$error":"#N/A"},{"$error":"#N/A"},{"$error":"#N/A"},{"$f":"IF($AK$38=0,TRANSPOSE(MMULT($O$10:$Q$12,TRANSPOSE(C757:E757))),TRANSPOSE(MMULT($O$10:$Q$12,TRANSPOSE(Y757:AA757))))","v":{"$error":"#N/A"}},{"$error":"#N/A"},{"$error":"#N/A"},{"$error":"#N/A"},{"$error":"#N/A"},{"$f":"TRANSPOSE(MMULT($AE$10:$AG$12,TRANSPOSE(F757:H757)))","v":{"$error":"#N/A"}},{"$error":"#N/A"},{"$error":"#N/A"},{"$error":"#N/A"},{"$error":"#N/A"},{"$f":"TRANSPOSE(MMULT($AO$40:$AQ$42,TRANSPOSE(C757:E757)))","v":{"$error":"#N/A"}},{"$error":"#N/A"},{"$error":"#N/A"},{"$error":"#N/A"},{"$error":"#N/A"},{"$error":"#N/A"}]
[758,{"$error":"#N/A"},{"$error":"#N/A"},{"$error":"#N/A"},{"$error":"#N/A"},{"$error":"#N/A"},{"$error":"#N/A"},{"$error":"#N/A"},{"$error":"#N/A"},{"$error":"#N/A"},{"$error":"#N/A"},{"$f":"IF($AK$38=0,TRANSPOSE(MMULT($O$10:$Q$12,TRANSPOSE(C758:E758))),TRANSPOSE(MMULT($O$10:$Q$12,TRANSPOSE(Y758:AA758))))","v":{"$error":"#N/A"}},{"$error":"#N/A"},{"$error":"#N/A"},{"$error":"#N/A"},{"$error":"#N/A"},{"$f":"TRANSPOSE(MMULT($AE$10:$AG$12,TRANSPOSE(F758:H758)))","v":{"$error":"#N/A"}},{"$error":"#N/A"},{"$error":"#N/A"},{"$error":"#N/A"},{"$error":"#N/A"},{"$f":"TRANSPOSE(MMULT($AO$40:$AQ$42,TRANSPOSE(C758:E758)))","v":{"$error":"#N/A"}},{"$error":"#N/A"},{"$error":"#N/A"},{"$error":"#N/A"},{"$error":"#N/A"},{"$error":"#N/A"}]
[759,{"$error":"#N/A"},{"$error":"#N/A"},{"$error":"#N/A"},{"$error":"#N/A"},{"$error":"#N/A"},{"$error":"#N/A"},{"$error":"#N/A"},{"$error":"#N/A"},{"$error":"#N/A"},{"$error":"#N/A"},{"$f":"IF($AK$38=0,TRANSPOSE(MMULT($O$10:$Q$12,TRANSPOSE(C759:E759))),TRANSPOSE(MMULT($O$10:$Q$12,TRANSPOSE(Y759:AA759))))","v":{"$error":"#N/A"}},{"$error":"#N/A"},{"$error":"#N/A"},{"$error":"#N/A"},{"$error":"#N/A"},{"$f":"TRANSPOSE(MMULT($AE$10:$AG$12,TRANSPOSE(F759:H759)))","v":{"$error":"#N/A"}},{"$error":"#N/A"},{"$error":"#N/A"},{"$error":"#N/A"},{"$error":"#N/A"},{"$f":"TRANSPOSE(MMULT($AO$40:$AQ$42,TRANSPOSE(C759:E759)))","v":{"$error":"#N/A"}},{"$error":"#N/A"},{"$error":"#N/A"},{"$error":"#N/A"},{"$error":"#N/A"},{"$error":"#N/A"}]
[760,{"$error":"#N/A"},{"$error":"#N/A"},{"$error":"#N/A"},{"$error":"#N/A"},{"$error":"#N/A"},{"$error":"#N/A"},{"$error":"#N/A"},{"$error":"#N/A"},{"$error":"#N/A"},{"$error":"#N/A"},{"$f":"IF($AK$38=0,TRANSPOSE(MMULT($O$10:$Q$12,TRANSPOSE(C760:E760))),TRANSPOSE(MMULT($O$10:$Q$12,TRANSPOSE(Y760:AA760))))","v":{"$error":"#N/A"}},{"$error":"#N/A"},{"$error":"#N/A"},{"$error":"#N/A"},{"$error":"#N/A"},{"$f":"TRANSPOSE(MMULT($AE$10:$AG$12,TRANSPOSE(F760:H760)))","v":{"$error":"#N/A"}},{"$error":"#N/A"},{"$error":"#N/A"},{"$error":"#N/A"},{"$error":"#N/A"},{"$f":"TRANSPOSE(MMULT($AO$40:$AQ$42,TRANSPOSE(C760:E760)))","v":{"$error":"#N/A"}},{"$error":"#N/A"},{"$error":"#N/A"},{"$error":"#N/A"},{"$error":"#N/A"},{"$error":"#N/A"}]
[761,{"$error":"#N/A"},{"$error":"#N/A"},{"$error":"#N/A"},{"$error":"#N/A"},{"$error":"#N/A"},{"$error":"#N/A"},{"$error":"#N/A"},{"$error":"#N/A"},{"$error":"#N/A"},{"$error":"#N/A"},{"$f":"IF($AK$38=0,TRANSPOSE(MMULT($O$10:$Q$12,TRANSPOSE(C761:E761))),TRANSPOSE(MMULT($O$10:$Q$12,TRANSPOSE(Y761:AA761))))","v":{"$error":"#N/A"}},{"$error":"#N/A"},{"$error":"#N/A"},{"$error":"#N/A"},{"$error":"#N/A"},{"$f":"TRANSPOSE(MMULT($AE$10:$AG$12,TRANSPOSE(F761:H761)))","v":{"$error":"#N/A"}},{"$error":"#N/A"},{"$error":"#N/A"},{"$error":"#N/A"},{"$error":"#N/A"},{"$f":"TRANSPOSE(MMULT($AO$40:$AQ$42,TRANSPOSE(C761:E761)))","v":{"$error":"#N/A"}},{"$error":"#N/A"},{"$error":"#N/A"},{"$error":"#N/A"},{"$error":"#N/A"},{"$error":"#N/A"}]
[762,{"$error":"#N/A"},{"$error":"#N/A"},{"$error":"#N/A"},{"$error":"#N/A"},{"$error":"#N/A"},{"$error":"#N/A"},{"$error":"#N/A"},{"$error":"#N/A"},{"$error":"#N/A"},{"$error":"#N/A"},{"$f":"IF($AK$38=0,TRANSPOSE(MMULT($O$10:$Q$12,TRANSPOSE(C762:E762))),TRANSPOSE(MMULT($O$10:$Q$12,TRANSPOSE(Y762:AA762))))","v":{"$error":"#N/A"}},{"$error":"#N/A"},{"$error":"#N/A"},{"$error":"#N/A"},{"$error":"#N/A"},{"$f":"TRANSPOSE(MMULT($AE$10:$AG$12,TRANSPOSE(F762:H762)))","v":{"$error":"#N/A"}},{"$error":"#N/A"},{"$error":"#N/A"},{"$error":"#N/A"},{"$error":"#N/A"},{"$f":"TRANSPOSE(MMULT($AO$40:$AQ$42,TRANSPOSE(C762:E762)))","v":{"$error":"#N/A"}},{"$error":"#N/A"},{"$error":"#N/A"},{"$error":"#N/A"},{"$error":"#N/A"},{"$error":"#N/A"}]
[763,{"$error":"#N/A"},{"$error":"#N/A"},{"$error":"#N/A"},{"$error":"#N/A"},{"$error":"#N/A"},{"$error":"#N/A"},{"$error":"#N/A"},{"$error":"#N/A"},{"$error":"#N/A"},{"$error":"#N/A"},{"$f":"IF($AK$38=0,TRANSPOSE(MMULT($O$10:$Q$12,TRANSPOSE(C763:E763))),TRANSPOSE(MMULT($O$10:$Q$12,TRANSPOSE(Y763:AA763))))","v":{"$error":"#N/A"}},{"$error":"#N/A"},{"$error":"#N/A"},{"$error":"#N/A"},{"$error":"#N/A"},{"$f":"TRANSPOSE(MMULT($AE$10:$AG$12,TRANSPOSE(F763:H763)))","v":{"$error":"#N/A"}},{"$error":"#N/A"},{"$error":"#N/A"},{"$error":"#N/A"},{"$error":"#N/A"},{"$f":"TRANSPOSE(MMULT($AO$40:$AQ$42,TRANSPOSE(C763:E763)))","v":{"$error":"#N/A"}},{"$error":"#N/A"},{"$error":"#N/A"},{"$error":"#N/A"},{"$error":"#N/A"},{"$error":"#N/A"}]
[764,{"$error":"#N/A"},{"$error":"#N/A"},{"$error":"#N/A"},{"$error":"#N/A"},{"$error":"#N/A"},{"$error":"#N/A"},{"$error":"#N/A"},{"$error":"#N/A"},{"$error":"#N/A"},{"$error":"#N/A"},{"$f":"IF($AK$38=0,TRANSPOSE(MMULT($O$10:$Q$12,TRANSPOSE(C764:E764))),TRANSPOSE(MMULT($O$10:$Q$12,TRANSPOSE(Y764:AA764))))","v":{"$error":"#N/A"}},{"$error":"#N/A"},{"$error":"#N/A"},{"$error":"#N/A"},{"$error":"#N/A"},{"$f":"TRANSPOSE(MMULT($AE$10:$AG$12,TRANSPOSE(F764:H764)))","v":{"$error":"#N/A"}},{"$error":"#N/A"},{"$error":"#N/A"},{"$error":"#N/A"},{"$error":"#N/A"},{"$f":"TRANSPOSE(MMULT($AO$40:$AQ$42,TRANSPOSE(C764:E764)))","v":{"$error":"#N/A"}},{"$error":"#N/A"},{"$error":"#N/A"},{"$error":"#N/A"},{"$error":"#N/A"},{"$error":"#N/A"}]
[765,{"$error":"#N/A"},{"$error":"#N/A"},{"$error":"#N/A"},{"$error":"#N/A"},{"$error":"#N/A"},{"$error":"#N/A"},{"$error":"#N/A"},{"$error":"#N/A"},{"$error":"#N/A"},{"$error":"#N/A"},{"$f":"IF($AK$38=0,TRANSPOSE(MMULT($O$10:$Q$12,TRANSPOSE(C765:E765))),TRANSPOSE(MMULT($O$10:$Q$12,TRANSPOSE(Y765:AA765))))","v":{"$error":"#N/A"}},{"$error":"#N/A"},{"$error":"#N/A"},{"$error":"#N/A"},{"$error":"#N/A"},{"$f":"TRANSPOSE(MMULT($AE$10:$AG$12,TRANSPOSE(F765:H765)))","v":{"$error":"#N/A"}},{"$error":"#N/A"},{"$error":"#N/A"},{"$error":"#N/A"},{"$error":"#N/A"},{"$f":"TRANSPOSE(MMULT($AO$40:$AQ$42,TRANSPOSE(C765:E765)))","v":{"$error":"#N/A"}},{"$error":"#N/A"},{"$error":"#N/A"},{"$error":"#N/A"},{"$error":"#N/A"},{"$error":"#N/A"}]
[766,{"$error":"#N/A"},{"$error":"#N/A"},{"$error":"#N/A"},{"$error":"#N/A"},{"$error":"#N/A"},{"$error":"#N/A"},{"$error":"#N/A"},{"$error":"#N/A"},{"$error":"#N/A"},{"$error":"#N/A"},{"$f":"IF($AK$38=0,TRANSPOSE(MMULT($O$10:$Q$12,TRANSPOSE(C766:E766))),TRANSPOSE(MMULT($O$10:$Q$12,TRANSPOSE(Y766:AA766))))","v":{"$error":"#N/A"}},{"$error":"#N/A"},{"$error":"#N/A"},{"$error":"#N/A"},{"$error":"#N/A"},{"$f":"TRANSPOSE(MMULT($AE$10:$AG$12,TRANSPOSE(F766:H766)))","v":{"$error":"#N/A"}},{"$error":"#N/A"},{"$error":"#N/A"},{"$error":"#N/A"},{"$error":"#N/A"},{"$f":"TRANSPOSE(MMULT($AO$40:$AQ$42,TRANSPOSE(C766:E766)))","v":{"$error":"#N/A"}},{"$error":"#N/A"},{"$error":"#N/A"},{"$error":"#N/A"},{"$error":"#N/A"},{"$error":"#N/A"}]
[767,{"$error":"#N/A"},{"$error":"#N/A"},{"$error":"#N/A"},{"$error":"#N/A"},{"$error":"#N/A"},{"$error":"#N/A"},{"$error":"#N/A"},{"$error":"#N/A"},{"$error":"#N/A"},{"$error":"#N/A"},{"$f":"IF($AK$38=0,TRANSPOSE(MMULT($O$10:$Q$12,TRANSPOSE(C767:E767))),TRANSPOSE(MMULT($O$10:$Q$12,TRANSPOSE(Y767:AA767))))","v":{"$error":"#N/A"}},{"$error":"#N/A"},{"$error":"#N/A"},{"$error":"#N/A"},{"$error":"#N/A"},{"$f":"TRANSPOSE(MMULT($AE$10:$AG$12,TRANSPOSE(F767:H767)))","v":{"$error":"#N/A"}},{"$error":"#N/A"},{"$error":"#N/A"},{"$error":"#N/A"},{"$error":"#N/A"},{"$f":"TRANSPOSE(MMULT($AO$40:$AQ$42,TRANSPOSE(C767:E767)))","v":{"$error":"#N/A"}},{"$error":"#N/A"},{"$error":"#N/A"},{"$error":"#N/A"},{"$error":"#N/A"},{"$error":"#N/A"}]
[768,{"$error":"#N/A"},{"$error":"#N/A"},{"$error":"#N/A"},{"$error":"#N/A"},{"$error":"#N/A"},{"$error":"#N/A"},{"$error":"#N/A"},{"$error":"#N/A"},{"$error":"#N/A"},{"$error":"#N/A"},{"$f":"IF($AK$38=0,TRANSPOSE(MMULT($O$10:$Q$12,TRANSPOSE(C768:E768))),TRANSPOSE(MMULT($O$10:$Q$12,TRANSPOSE(Y768:AA768))))","v":{"$error":"#N/A"}},{"$error":"#N/A"},{"$error":"#N/A"},{"$error":"#N/A"},{"$error":"#N/A"},{"$f":"TRANSPOSE(MMULT($AE$10:$AG$12,TRANSPOSE(F768:H768)))","v":{"$error":"#N/A"}},{"$error":"#N/A"},{"$error":"#N/A"},{"$error":"#N/A"},{"$error":"#N/A"},{"$f":"TRANSPOSE(MMULT($AO$40:$AQ$42,TRANSPOSE(C768:E768)))","v":{"$error":"#N/A"}},{"$error":"#N/A"},{"$error":"#N/A"},{"$error":"#N/A"},{"$error":"#N/A"},{"$error":"#N/A"}]
[769,{"$error":"#N/A"},{"$error":"#N/A"},{"$error":"#N/A"},{"$error":"#N/A"},{"$error":"#N/A"},{"$error":"#N/A"},{"$error":"#N/A"},{"$error":"#N/A"},{"$error":"#N/A"},{"$error":"#N/A"},{"$f":"IF($AK$38=0,TRANSPOSE(MMULT($O$10:$Q$12,TRANSPOSE(C769:E769))),TRANSPOSE(MMULT($O$10:$Q$12,TRANSPOSE(Y769:AA769))))","v":{"$error":"#N/A"}},{"$error":"#N/A"},{"$error":"#N/A"},{"$error":"#N/A"},{"$error":"#N/A"},{"$f":"TRANSPOSE(MMULT($AE$10:$AG$12,TRANSPOSE(F769:H769)))","v":{"$error":"#N/A"}},{"$error":"#N/A"},{"$error":"#N/A"},{"$error":"#N/A"},{"$error":"#N/A"},{"$f":"TRANSPOSE(MMULT($AO$40:$AQ$42,TRANSPOSE(C769:E769)))","v":{"$error":"#N/A"}},{"$error":"#N/A"},{"$error":"#N/A"},{"$error":"#N/A"},{"$error":"#N/A"},{"$error":"#N/A"}]
[770,{"$error":"#N/A"},{"$error":"#N/A"},{"$error":"#N/A"},{"$error":"#N/A"},{"$error":"#N/A"},{"$error":"#N/A"},{"$error":"#N/A"},{"$error":"#N/A"},{"$error":"#N/A"},{"$error":"#N/A"},{"$f":"IF($AK$38=0,TRANSPOSE(MMULT($O$10:$Q$12,TRANSPOSE(C770:E770))),TRANSPOSE(MMULT($O$10:$Q$12,TRANSPOSE(Y770:AA770))))","v":{"$error":"#N/A"}},{"$error":"#N/A"},{"$error":"#N/A"},{"$error":"#N/A"},{"$error":"#N/A"},{"$f":"TRANSPOSE(MMULT($AE$10:$AG$12,TRANSPOSE(F770:H770)))","v":{"$error":"#N/A"}},{"$error":"#N/A"},{"$error":"#N/A"},{"$error":"#N/A"},{"$error":"#N/A"},{"$f":"TRANSPOSE(MMULT($AO$40:$AQ$42,TRANSPOSE(C770:E770)))","v":{"$error":"#N/A"}},{"$error":"#N/A"},{"$error":"#N/A"},{"$error":"#N/A"},{"$error":"#N/A"},{"$error":"#N/A"}]
[771,{"$error":"#N/A"},{"$error":"#N/A"},{"$error":"#N/A"},{"$error":"#N/A"},{"$error":"#N/A"},{"$error":"#N/A"},{"$error":"#N/A"},{"$error":"#N/A"},{"$error":"#N/A"},{"$error":"#N/A"},{"$f":"IF($AK$38=0,TRANSPOSE(MMULT($O$10:$Q$12,TRANSPOSE(C771:E771))),TRANSPOSE(MMULT($O$10:$Q$12,TRANSPOSE(Y771:AA771))))","v":{"$error":"#N/A"}},{"$error":"#N/A"},{"$error":"#N/A"},{"$error":"#N/A"},{"$error":"#N/A"},{"$f":"TRANSPOSE(MMULT($AE$10:$AG$12,TRANSPOSE(F771:H771)))","v":{"$error":"#N/A"}},{"$error":"#N/A"},{"$error":"#N/A"},{"$error":"#N/A"},{"$error":"#N/A"},{"$f":"TRANSPOSE(MMULT($AO$40:$AQ$42,TRANSPOSE(C771:E771)))","v":{"$error":"#N/A"}},{"$error":"#N/A"},{"$error":"#N/A"},{"$error":"#N/A"},{"$error":"#N/A"},{"$error":"#N/A"}]
[772,{"$error":"#N/A"},{"$error":"#N/A"},{"$error":"#N/A"},{"$error":"#N/A"},{"$error":"#N/A"},{"$error":"#N/A"},{"$error":"#N/A"},{"$error":"#N/A"},{"$error":"#N/A"},{"$error":"#N/A"},{"$f":"IF($AK$38=0,TRANSPOSE(MMULT($O$10:$Q$12,TRANSPOSE(C772:E772))),TRANSPOSE(MMULT($O$10:$Q$12,TRANSPOSE(Y772:AA772))))","v":{"$error":"#N/A"}},{"$error":"#N/A"},{"$error":"#N/A"},{"$error":"#N/A"},{"$error":"#N/A"},{"$f":"TRANSPOSE(MMULT($AE$10:$AG$12,TRANSPOSE(F772:H772)))","v":{"$error":"#N/A"}},{"$error":"#N/A"},{"$error":"#N/A"},{"$error":"#N/A"},{"$error":"#N/A"},{"$f":"TRANSPOSE(MMULT($AO$40:$AQ$42,TRANSPOSE(C772:E772)))","v":{"$error":"#N/A"}},{"$error":"#N/A"},{"$error":"#N/A"},{"$error":"#N/A"},{"$error":"#N/A"},{"$error":"#N/A"}]
[773,{"$error":"#N/A"},{"$error":"#N/A"},{"$error":"#N/A"},{"$error":"#N/A"},{"$error":"#N/A"},{"$error":"#N/A"},{"$error":"#N/A"},{"$error":"#N/A"},{"$error":"#N/A"},{"$error":"#N/A"},{"$f":"IF($AK$38=0,TRANSPOSE(MMULT($O$10:$Q$12,TRANSPOSE(C773:E773))),TRANSPOSE(MMULT($O$10:$Q$12,TRANSPOSE(Y773:AA773))))","v":{"$error":"#N/A"}},{"$error":"#N/A"},{"$error":"#N/A"},{"$error":"#N/A"},{"$error":"#N/A"},{"$f":"TRANSPOSE(MMULT($AE$10:$AG$12,TRANSPOSE(F773:H773)))","v":{"$error":"#N/A"}},{"$error":"#N/A"},{"$error":"#N/A"},{"$error":"#N/A"},{"$error":"#N/A"},{"$f":"TRANSPOSE(MMULT($AO$40:$AQ$42,TRANSPOSE(C773:E773)))","v":{"$error":"#N/A"}},{"$error":"#N/A"},{"$error":"#N/A"},{"$error":"#N/A"},{"$error":"#N/A"},{"$error":"#N/A"}]
[774,{"$error":"#N/A"},{"$error":"#N/A"},{"$error":"#N/A"},{"$error":"#N/A"},{"$error":"#N/A"},{"$error":"#N/A"},{"$error":"#N/A"},{"$error":"#N/A"},{"$error":"#N/A"},{"$error":"#N/A"},{"$f":"IF($AK$38=0,TRANSPOSE(MMULT($O$10:$Q$12,TRANSPOSE(C774:E774))),TRANSPOSE(MMULT($O$10:$Q$12,TRANSPOSE(Y774:AA774))))","v":{"$error":"#N/A"}},{"$error":"#N/A"},{"$error":"#N/A"},{"$error":"#N/A"},{"$error":"#N/A"},{"$f":"TRANSPOSE(MMULT($AE$10:$AG$12,TRANSPOSE(F774:H774)))","v":{"$error":"#N/A"}},{"$error":"#N/A"},{"$error":"#N/A"},{"$error":"#N/A"},{"$error":"#N/A"},{"$f":"TRANSPOSE(MMULT($AO$40:$AQ$42,TRANSPOSE(C774:E774)))","v":{"$error":"#N/A"}},{"$error":"#N/A"},{"$error":"#N/A"},{"$error":"#N/A"},{"$error":"#N/A"},{"$error":"#N/A"}]
[775,{"$error":"#N/A"},{"$error":"#N/A"},{"$error":"#N/A"},{"$error":"#N/A"},{"$error":"#N/A"},{"$error":"#N/A"},{"$error":"#N/A"},{"$error":"#N/A"},{"$error":"#N/A"},{"$error":"#N/A"},{"$f":"IF($AK$38=0,TRANSPOSE(MMULT($O$10:$Q$12,TRANSPOSE(C775:E775))),TRANSPOSE(MMULT($O$10:$Q$12,TRANSPOSE(Y775:AA775))))","v":{"$error":"#N/A"}},{"$error":"#N/A"},{"$error":"#N/A"},{"$error":"#N/A"},{"$error":"#N/A"},{"$f":"TRANSPOSE(MMULT($AE$10:$AG$12,TRANSPOSE(F775:H775)))","v":{"$error":"#N/A"}},{"$error":"#N/A"},{"$error":"#N/A"},{"$error":"#N/A"},{"$error":"#N/A"},{"$f":"TRANSPOSE(MMULT($AO$40:$AQ$42,TRANSPOSE(C775:E775)))","v":{"$error":"#N/A"}},{"$error":"#N/A"},{"$error":"#N/A"},{"$error":"#N/A"},{"$error":"#N/A"},{"$error":"#N/A"}]
[776,{"$error":"#N/A"},{"$error":"#N/A"},{"$error":"#N/A"},{"$error":"#N/A"},{"$error":"#N/A"},{"$error":"#N/A"},{"$error":"#N/A"},{"$error":"#N/A"},{"$error":"#N/A"},{"$error":"#N/A"},{"$f":"IF($AK$38=0,TRANSPOSE(MMULT($O$10:$Q$12,TRANSPOSE(C776:E776))),TRANSPOSE(MMULT($O$10:$Q$12,TRANSPOSE(Y776:AA776))))","v":{"$error":"#N/A"}},{"$error":"#N/A"},{"$error":"#N/A"},{"$error":"#N/A"},{"$error":"#N/A"},{"$f":"TRANSPOSE(MMULT($AE$10:$AG$12,TRANSPOSE(F776:H776)))","v":{"$error":"#N/A"}},{"$error":"#N/A"},{"$error":"#N/A"},{"$error":"#N/A"},{"$error":"#N/A"},{"$f":"TRANSPOSE(MMULT($AO$40:$AQ$42,TRANSPOSE(C776:E776)))","v":{"$error":"#N/A"}},{"$error":"#N/A"},{"$error":"#N/A"},{"$error":"#N/A"},{"$error":"#N/A"},{"$error":"#N/A"}]
[777,{"$error":"#N/A"},{"$error":"#N/A"},{"$error":"#N/A"},{"$error":"#N/A"},{"$error":"#N/A"},{"$error":"#N/A"},{"$error":"#N/A"},{"$error":"#N/A"},{"$error":"#N/A"},{"$error":"#N/A"},{"$f":"IF($AK$38=0,TRANSPOSE(MMULT($O$10:$Q$12,TRANSPOSE(C777:E777))),TRANSPOSE(MMULT($O$10:$Q$12,TRANSPOSE(Y777:AA777))))","v":{"$error":"#N/A"}},{"$error":"#N/A"},{"$error":"#N/A"},{"$error":"#N/A"},{"$error":"#N/A"},{"$f":"TRANSPOSE(MMULT($AE$10:$AG$12,TRANSPOSE(F777:H777)))","v":{"$error":"#N/A"}},{"$error":"#N/A"},{"$error":"#N/A"},{"$error":"#N/A"},{"$error":"#N/A"},{"$f":"TRANSPOSE(MMULT($AO$40:$AQ$42,TRANSPOSE(C777:E777)))","v":{"$error":"#N/A"}},{"$error":"#N/A"},{"$error":"#N/A"},{"$error":"#N/A"},{"$error":"#N/A"},{"$error":"#N/A"}]
[778,{"$error":"#N/A"},{"$error":"#N/A"},{"$error":"#N/A"},{"$error":"#N/A"},{"$error":"#N/A"},{"$error":"#N/A"},{"$error":"#N/A"},{"$error":"#N/A"},{"$error":"#N/A"},{"$error":"#N/A"},{"$f":"IF($AK$38=0,TRANSPOSE(MMULT($O$10:$Q$12,TRANSPOSE(C778:E778))),TRANSPOSE(MMULT($O$10:$Q$12,TRANSPOSE(Y778:AA778))))","v":{"$error":"#N/A"}},{"$error":"#N/A"},{"$error":"#N/A"},{"$error":"#N/A"},{"$error":"#N/A"},{"$f":"TRANSPOSE(MMULT($AE$10:$AG$12,TRANSPOSE(F778:H778)))","v":{"$error":"#N/A"}},{"$error":"#N/A"},{"$error":"#N/A"},{"$error":"#N/A"},{"$error":"#N/A"},{"$f":"TRANSPOSE(MMULT($AO$40:$AQ$42,TRANSPOSE(C778:E778)))","v":{"$error":"#N/A"}},{"$error":"#N/A"},{"$error":"#N/A"},{"$error":"#N/A"},{"$error":"#N/A"},{"$error":"#N/A"}]
[779,{"$error":"#N/A"},{"$error":"#N/A"},{"$error":"#N/A"},{"$error":"#N/A"},{"$error":"#N/A"},{"$error":"#N/A"},{"$error":"#N/A"},{"$error":"#N/A"},{"$error":"#N/A"},{"$error":"#N/A"},{"$f":"IF($AK$38=0,TRANSPOSE(MMULT($O$10:$Q$12,TRANSPOSE(C779:E779))),TRANSPOSE(MMULT($O$10:$Q$12,TRANSPOSE(Y779:AA779))))","v":{"$error":"#N/A"}},{"$error":"#N/A"},{"$error":"#N/A"},{"$error":"#N/A"},{"$error":"#N/A"},{"$f":"TRANSPOSE(MMULT($AE$10:$AG$12,TRANSPOSE(F779:H779)))","v":{"$error":"#N/A"}},{"$error":"#N/A"},{"$error":"#N/A"},{"$error":"#N/A"},{"$error":"#N/A"},{"$f":"TRANSPOSE(MMULT($AO$40:$AQ$42,TRANSPOSE(C779:E779)))","v":{"$error":"#N/A"}},{"$error":"#N/A"},{"$error":"#N/A"},{"$error":"#N/A"},{"$error":"#N/A"},{"$error":"#N/A"}]
[780,{"$error":"#N/A"},{"$error":"#N/A"},{"$error":"#N/A"},{"$error":"#N/A"},{"$error":"#N/A"},{"$error":"#N/A"},{"$error":"#N/A"},{"$error":"#N/A"},{"$error":"#N/A"},{"$error":"#N/A"},{"$f":"IF($AK$38=0,TRANSPOSE(MMULT($O$10:$Q$12,TRANSPOSE(C780:E780))),TRANSPOSE(MMULT($O$10:$Q$12,TRANSPOSE(Y780:AA780))))","v":{"$error":"#N/A"}},{"$error":"#N/A"},{"$error":"#N/A"},{"$error":"#N/A"},{"$error":"#N/A"},{"$f":"TRANSPOSE(MMULT($AE$10:$AG$12,TRANSPOSE(F780:H780)))","v":{"$error":"#N/A"}},{"$error":"#N/A"},{"$error":"#N/A"},{"$error":"#N/A"},{"$error":"#N/A"},{"$f":"TRANSPOSE(MMULT($AO$40:$AQ$42,TRANSPOSE(C780:E780)))","v":{"$error":"#N/A"}},{"$error":"#N/A"},{"$error":"#N/A"},{"$error":"#N/A"},{"$error":"#N/A"},{"$error":"#N/A"}]
[781,{"$error":"#N/A"},{"$error":"#N/A"},{"$error":"#N/A"},{"$error":"#N/A"},{"$error":"#N/A"},{"$error":"#N/A"},{"$error":"#N/A"},{"$error":"#N/A"},{"$error":"#N/A"},{"$error":"#N/A"},{"$f":"IF($AK$38=0,TRANSPOSE(MMULT($O$10:$Q$12,TRANSPOSE(C781:E781))),TRANSPOSE(MMULT($O$10:$Q$12,TRANSPOSE(Y781:AA781))))","v":{"$error":"#N/A"}},{"$error":"#N/A"},{"$error":"#N/A"},{"$error":"#N/A"},{"$error":"#N/A"},{"$f":"TRANSPOSE(MMULT($AE$10:$AG$12,TRANSPOSE(F781:H781)))","v":{"$error":"#N/A"}},{"$error":"#N/A"},{"$error":"#N/A"},{"$error":"#N/A"},{"$error":"#N/A"},{"$f":"TRANSPOSE(MMULT($AO$40:$AQ$42,TRANSPOSE(C781:E781)))","v":{"$error":"#N/A"}},{"$error":"#N/A"},{"$error":"#N/A"},{"$error":"#N/A"},{"$error":"#N/A"},{"$error":"#N/A"}]
[782,{"$error":"#N/A"},{"$error":"#N/A"},{"$error":"#N/A"},{"$error":"#N/A"},{"$error":"#N/A"},{"$error":"#N/A"},{"$error":"#N/A"},{"$error":"#N/A"},{"$error":"#N/A"},{"$error":"#N/A"},{"$f":"IF($AK$38=0,TRANSPOSE(MMULT($O$10:$Q$12,TRANSPOSE(C782:E782))),TRANSPOSE(MMULT($O$10:$Q$12,TRANSPOSE(Y782:AA782))))","v":{"$error":"#N/A"}},{"$error":"#N/A"},{"$error":"#N/A"},{"$error":"#N/A"},{"$error":"#N/A"},{"$f":"TRANSPOSE(MMULT($AE$10:$AG$12,TRANSPOSE(F782:H782)))","v":{"$error":"#N/A"}},{"$error":"#N/A"},{"$error":"#N/A"},{"$error":"#N/A"},{"$error":"#N/A"},{"$f":"TRANSPOSE(MMULT($AO$40:$AQ$42,TRANSPOSE(C782:E782)))","v":{"$error":"#N/A"}},{"$error":"#N/A"},{"$error":"#N/A"},{"$error":"#N/A"},{"$error":"#N/A"},{"$error":"#N/A"}]
[783,{"$error":"#N/A"},{"$error":"#N/A"},{"$error":"#N/A"},{"$error":"#N/A"},{"$error":"#N/A"},{"$error":"#N/A"},{"$error":"#N/A"},{"$error":"#N/A"},{"$error":"#N/A"},{"$error":"#N/A"},{"$f":"IF($AK$38=0,TRANSPOSE(MMULT($O$10:$Q$12,TRANSPOSE(C783:E783))),TRANSPOSE(MMULT($O$10:$Q$12,TRANSPOSE(Y783:AA783))))","v":{"$error":"#N/A"}},{"$error":"#N/A"},{"$error":"#N/A"},{"$error":"#N/A"},{"$error":"#N/A"},{"$f":"TRANSPOSE(MMULT($AE$10:$AG$12,TRANSPOSE(F783:H783)))","v":{"$error":"#N/A"}},{"$error":"#N/A"},{"$error":"#N/A"},{"$error":"#N/A"},{"$error":"#N/A"},{"$f":"TRANSPOSE(MMULT($AO$40:$AQ$42,TRANSPOSE(C783:E783)))","v":{"$error":"#N/A"}},{"$error":"#N/A"},{"$error":"#N/A"},{"$error":"#N/A"},{"$error":"#N/A"},{"$error":"#N/A"}]
[784,{"$error":"#N/A"},{"$error":"#N/A"},{"$error":"#N/A"},{"$error":"#N/A"},{"$f":"(F$7+2*I$7*$B784+3*L$7*$B784^2+4*O$7*$B784^3)*SIN(O$8*$B784^4+L$8*$B784^3+I$8*$B784^2+F$8*$B784+C$8)+(F$8+2*I$8*$B784+3*L$8*$B784^2+4*O$8*$B784^3)*(C$7+F$7*$B784+I$7*$B784^2+L$7*$B784^3+O$7*$B784^4)*COS(O$8*$B784^4+L$8*$B784^3+I$8*$B784^2+F$8*$B784+C$8)-(F$6+2*I$6*$B784+3*L$6*$B784^2+4*O$6*$B784^3)*(C$5+F$5*$B784+I$5*$B784^2+L$5*$B784^3+O$5*$B784^4)*SIN(O$6*$B784^4+L$6*$B784^3+I$6*$B784^2+F$6*$B784+C$6)+(F$5+2*I$5*$B784+3*L$5*$B784^2+4*O$5*$B784^3)*COS(O$6*$B784^4+L$6*$B784^3+I$6*$B784^2+F$6*$B784+C$6)+4*O$4*$B784^3+3*L$4*$B784^2+2*I$4*$B784+F$4","v":{"$error":"#N/A"}},{"$f":"(G$7+2*J$7*$B784+3*M$7*$B784^2+4*P$7*$B784^3)*SIN(P$8*$B784^4+M$8*$B784^3+J$8*$B784^2+G$8*$B784+D$8)+(G$8+2*J$8*$B784+3*M$8*$B784^2+4*P$8*$B784^3)*(D$7+G$7*$B784+J$7*$B784^2+M$7*$B784^3+P$7*$B784^4)*COS(P$8*$B784^4+M$8*$B784^3+J$8*$B784^2+G$8*$B784+D$8)-(G$6+2*J$6*$B784+3*M$6*$B784^2+4*P$6*$B784^3)*(D$5+G$5*$B784+J$5*$B784^2+M$5*$B784^3+P$5*$B784^4)*SIN(P$6*$B784^4+M$6*$B784^3+J$6*$B784^2+G$6*$B784+D$6)+(G$5+2*J$5*$B784+3*M$5*$B784^2+4*P$5*$B784^3)*COS(P$6*$B784^4+M$6*$B784^3+J$6*$B784^2+G$6*$B784+D$6)+4*P$4*$B784^3+3*M$4*$B784^2+2*J$4*$B784+G$4","v":{"$error":"#N/A"}},{"$f":"(H$7+2*K$7*$B784+3*N$7*$B784^2+4*Q$7*$B784^3)*SIN(Q$8*$B784^4+N$8*$B784^3+K$8*$B784^2+H$8*$B784+E$8)+(H$8+2*K$8*$B784+3*N$8*$B784^2+4*Q$8*$B784^3)*(E$7+H$7*$B784+K$7*$B784^2+N$7*$B784^3+Q$7*$B784^4)*COS(Q$8*$B784^4+N$8*$B784^3+K$8*$B784^2+H$8*$B784+E$8)-(H$6+2*K$6*$B784+3*N$6*$B784^2+4*Q$6*$B784^3)*(E$5+H$5*$B784+K$5*$B784^2+N$5*$B784^3+Q$5*$B784^4)*SIN(Q$6*$B784^4+N$6*$B784^3+K$6*$B784^2+H$6*$B784+E$6)+(H$5+2*K$5*$B784+3*N$5*$B784^2+4*Q$5*$B784^3)*COS(Q$6*$B784^4+N$6*$B784^3+K$6*$B784^2+H$6*$B784+E$6)+4*Q$4*$B784^3+3*N$4*$B784^2+2*K$4*$B784+H$4","v":{"$error":"#N/A"}},{"$f":"-1*(F$8+2*I$8*$B784+3*L$8*$B784^2+4*O$8*$B784^3)^2*(C$7+F$7*$B784+I$7*$B784^2+L$7*$B784^3+O$7*$B784^4)*SIN(O$8*$B784^4+L$8*$B784^3+I$8*$B784^2+F$8*$B784+C$8)+(2*I$7+6*L$7*$B784+12*O$7*$B784^2)*SIN(O$8*$B784^4+L$8*$B784^3+I$8*$B784^2+F$8*$B784+C$8)+(2*I$8+6*L$8*$B784+12*O$8*$B784^2)*(C$7+F$7*$B784+I$7*$B784^2+L$7*$B784^3+O$7*$B784^4)*COS(O$8*$B784^4+L$8*$B784^3+I$8*$B784^2+F$8*$B784+C$8)+2*(F$7+2*I$7*$B784+3*L$7*$B784^2+4*O$7*$B784^3)*(F$8+2*I$8*$B784+3*L$8*$B784^2+4*O$8*$B784^3)*COS(O$8*$B784^4+L$8*$B784^3+I$8*$B784^2+F$8*$B784+C$8)-(2*I$6+6*L$6*$B784+12*O$6*$B784^2)*(C$5+F$5*$B784+I$5*$B784^2+L$5*$B784^3+O$5*$B784^4)*SIN(O$6*$B784^4+L$6*$B784^3+I$6*$B784^2+F$6*$B784+C$6)-2*(F$5+2*I$5*$B784+3*L$5*$B784^2+4*O$5*$B784^3)*(F$6+2*I$6*$B784+3*L$6*$B784^2+4*O$6*$B784^3)*SIN(O$6*$B784^4+L$6*$B784^3+I$6*$B784^2+F$6*$B784+C$6)-(F$6+2*I$6*$B784+3*L$6*$B784^2+4*O$6*$B784^3)^2*(C$5+F$5*$B784+I$5*$B784^2+L$5*$B784^3+O$5*$B784^4)*COS(O$6*$B784^4+L$6*$B784^3+I$6*$B784^2+F$6*$B784+C$6)+(2*I$5+6*L$5*$B784+12*O$5*$B784^2)*COS(O$6*$B784^4+L$6*$B784^3+I$6*$B784^2+F$6*$B784+C$6)+12*O$4*$B784^2+6*L$4*$B784+2*I$4","v":{"$error":"#N/A"}},{"$f":"-1*(G$8+2*J$8*$B784+3*M$8*$B784^2+4*P$8*$B784^3)^2*(D$7+G$7*$B784+J$7*$B784^2+M$7*$B784^3+P$7*$B784^4)*SIN(P$8*$B784^4+M$8*$B784^3+J$8*$B784^2+G$8*$B784+D$8)+(2*J$7+6*M$7*$B784+12*P$7*$B784^2)*SIN(P$8*$B784^4+M$8*$B784^3+J$8*$B784^2+G$8*$B784+D$8)+(2*J$8+6*M$8*$B784+12*P$8*$B784^2)*(D$7+G$7*$B784+J$7*$B784^2+M$7*$B784^3+P$7*$B784^4)*COS(P$8*$B784^4+M$8*$B784^3+J$8*$B784^2+G$8*$B784+D$8)+2*(G$7+2*J$7*$B784+3*M$7*$B784^2+4*P$7*$B784^3)*(G$8+2*J$8*$B784+3*M$8*$B784^2+4*P$8*$B784^3)*COS(P$8*$B784^4+M$8*$B784^3+J$8*$B784^2+G$8*$B784+D$8)-(2*J$6+6*M$6*$B784+12*P$6*$B784^2)*(D$5+G$5*$B784+J$5*$B784^2+M$5*$B784^3+P$5*$B784^4)*SIN(P$6*$B784^4+M$6*$B784^3+J$6*$B784^2+G$6*$B784+D$6)-2*(G$5+2*J$5*$B784+3*M$5*$B784^2+4*P$5*$B784^3)*(G$6+2*J$6*$B784+3*M$6*$B784^2+4*P$6*$B784^3)*SIN(P$6*$B784^4+M$6*$B784^3+J$6*$B784^2+G$6*$B784+D$6)-(G$6+2*J$6*$B784+3*M$6*$B784^2+4*P$6*$B784^3)^2*(D$5+G$5*$B784+J$5*$B784^2+M$5*$B784^3+P$5*$B784^4)*COS(P$6*$B784^4+M$6*$B784^3+J$6*$B784^2+G$6*$B784+D$6)+(2*J$5+6*M$5*$B784+12*P$5*$B784^2)*COS(P$6*$B784^4+M$6*$B784^3+J$6*$B784^2+G$6*$B784+D$6)+12*P$4*$B784^2+6*M$4*$B784+2*J$4","v":{"$error":"#N/A"}},{"$f":"-1*(H$8+2*K$8*$B784+3*N$8*$B784^2+4*Q$8*$B784^3)^2*(E$7+H$7*$B784+K$7*$B784^2+N$7*$B784^3+Q$7*$B784^4)*SIN(Q$8*$B784^4+N$8*$B784^3+K$8*$B784^2+H$8*$B784+E$8)+(2*K$7+6*N$7*$B784+12*Q$7*$B784^2)*SIN(Q$8*$B784^4+N$8*$B784^3+K$8*$B784^2+H$8*$B784+E$8)+(2*K$8+6*N$8*$B784+12*Q$8*$B784^2)*(E$7+H$7*$B784+K$7*$B784^2+N$7*$B784^3+Q$7*$B784^4)*COS(Q$8*$B784^4+N$8*$B784^3+K$8*$B784^2+H$8*$B784+E$8)+2*(H$7+2*K$7*$B784+3*N$7*$B784^2+4*Q$7*$B784^3)*(H$8+2*K$8*$B784+3*N$8*$B784^2+4*Q$8*$B784^3)*COS(Q$8*$B784^4+N$8*$B784^3+K$8*$B784^2+H$8*$B784+E$8)-(2*K$6+6*N$6*$B784+12*Q$6*$B784^2)*(E$5+H$5*$B784+K$5*$B784^2+N$5*$B784^3+Q$5*$B784^4)*SIN(Q$6*$B784^4+N$6*$B784^3+K$6*$B784^2+H$6*$B784+E$6)-2*(H$5+2*K$5*$B784+3*N$5*$B784^2+4*Q$5*$B784^3)*(H$6+2*K$6*$B784+3*N$6*$B784^2+4*Q$6*$B784^3)*SIN(Q$6*$B784^4+N$6*$B784^3+K$6*$B784^2+H$6*$B784+E$6)-(H$6+2*K$6*$B784+3*N$6*$B784^2+4*Q$6*$B784^3)^2*(E$5+H$5*$B784+K$5*$B784^2+N$5*$B784^3+Q$5*$B784^4)*COS(Q$6*$B784^4+N$6*$B784^3+K$6*$B784^2+H$6*$B784+E$6)+(2*K$5+6*N$5*$B784+12*Q$5*$B784^2)*COS(Q$6*$B784^4+N$6*$B784^3+K$6*$B784^2+H$6*$B784+E$6)+12*Q$4*$B784^2+6*N$4*$B784+2*K$4","v":{"$error":"#N/A"}},{"$f":"IF($AK$38=0,TRANSPOSE(MMULT($O$10:$Q$12,TRANSPOSE(C784:E784))),TRANSPOSE(MMULT($O$10:$Q$12,TRANSPOSE(Y784:AA784))))","v":{"$error":"#N/A"}},{"$error":"#N/A"},{"$error":"#N/A"},{"$error":"#N/A"},{"$error":"#N/A"},{"$f":"TRANSPOSE(MMULT($AE$10:$AG$12,TRANSPOSE(F784:H784)))","v":{"$error":"#N/A"}},{"$error":"#N/A"},{"$error":"#N/A"},{"$f":"$Y$5+$Y$4*IF($U$8=1,Q784,(Q784*$U$6)/($U$6+$U$7+R784))","v":{"$error":"#N/A"}},{"$f":"$Y$6+$Y$4*IF($U$8=1,R784,(S784*$U$6)/($U$6+$U$7+R784))","v":{"$error":"#N/A"}},{"$f":"TRANSPOSE(MMULT($AO$40:$AQ$42,TRANSPOSE(C784:E784)))","v":{"$error":"#N/A"}},{"$error":"#N/A"},{"$error":"#N/A"},{"$f":"V784+$AL$46","v":{"$error":"#N/A"}},{"$f":"W784+$AL$47","v":{"$error":"#N/A"}},{"$f":"X784+$AL$48","v":{"$error":"#N/A"}}]
[785,{"$error":"#N/A"},{"$error":"#N/A"},{"$error":"#N/A"},{"$error":"#N/A"},{"$error":"#N/A"},{"$error":"#N/A"},{"$error":"#N/A"},{"$error":"#N/A"},{"$error":"#N/A"},{"$error":"#N/A"},{"$f":"IF($AK$38=0,TRANSPOSE(MMULT($O$10:$Q$12,TRANSPOSE(C785:E785))),TRANSPOSE(MMULT($O$10:$Q$12,TRANSPOSE(Y785:AA785))))","v":{"$error":"#N/A"}},{"$error":"#N/A"},{"$error":"#N/A"},{"$f":"IF($AD$4=0,NA(),$X$5+$X$4*IF($U$8=1,L785,(L785*$U$6)/($U$6+$U$7+M785)))","v":{"$error":"#N/A"}},{"$f":"IF($AD$4=0,NA(),$X$6+$X$4*IF($U$8=1,M785,(N785*$U$6)/($U$6+$U$7+M785)))","v":{"$error":"#N/A"}},{"$f":"TRANSPOSE(MMULT($AE$10:$AG$12,TRANSPOSE(F785:H785)))","v":{"$error":"#N/A"}},{"$error":"#N/A"},{"$error":"#N/A"},{"$error":"#N/A"},{"$error":"#N/A"},{"$f":"TRANSPOSE(MMULT($AO$40:$AQ$42,TRANSPOSE(C785:E785)))","v":{"$error":"#N/A"}},{"$error":"#N/A"},{"$error":"#N/A"},{"$error":"#N/A"},{"$error":"#N/A"},{"$error":"#N/A"}]
[786,{"$f":"IF(B785<$B$3,B785+$S$3,NA())","v":{"$error":"#N/A"}},{"$error":"#N/A"},{"$error":"#N/A"},{"$error":"#N/A"},{"$error":"#N/A"},{"$error":"#N/A"},{"$error":"#N/A"},{"$error":"#N/A"},{"$error":"#N/A"},{"$error":"#N/A"},{"$f":"IF($AK$38=0,TRANSPOSE(MMULT($O$10:$Q$12,TRANSPOSE(C786:E786))),TRANSPOSE(MMULT($O$10:$Q$12,TRANSPOSE(Y786:AA786))))","v":{"$error":"#N/A"}},{"$error":"#N/A"},{"$error":"#N/A"},{"$error":"#N/A"},{"$error":"#N/A"},{"$f":"TRANSPOSE(MMULT($AE$10:$AG$12,TRANSPOSE(F786:H786)))","v":{"$error":"#N/A"}},{"$error":"#N/A"},{"$error":"#N/A"},{"$error":"#N/A"},{"$error":"#N/A"},{"$f":"TRANSPOSE(MMULT($AO$40:$AQ$42,TRANSPOSE(C786:E786)))","v":{"$error":"#N/A"}},{"$error":"#N/A"},{"$error":"#N/A"},{"$error":"#N/A"},{"$error":"#N/A"},{"$error":"#N/A"}]
[787,{"$error":"#N/A"},{"$error":"#N/A"},{"$error":"#N/A"},{"$error":"#N/A"},{"$error":"#N/A"},{"$error":"#N/A"},{"$error":"#N/A"},{"$error":"#N/A"},{"$error":"#N/A"},{"$error":"#N/A"},{"$f":"IF($AK$38=0,TRANSPOSE(MMULT($O$10:$Q$12,TRANSPOSE(C787:E787))),TRANSPOSE(MMULT($O$10:$Q$12,TRANSPOSE(Y787:AA787))))","v":{"$error":"#N/A"}},{"$error":"#N/A"},{"$error":"#N/A"},{"$error":"#N/A"},{"$error":"#N/A"},{"$f":"TRANSPOSE(MMULT($AE$10:$AG$12,TRANSPOSE(F787:H787)))","v":{"$error":"#N/A"}},{"$error":"#N/A"},{"$error":"#N/A"},{"$error":"#N/A"},{"$error":"#N/A"},{"$f":"TRANSPOSE(MMULT($AO$40:$AQ$42,TRANSPOSE(C787:E787)))","v":{"$error":"#N/A"}},{"$error":"#N/A"},{"$error":"#N/A"},{"$error":"#N/A"},{"$error":"#N/A"},{"$error":"#N/A"}]
[788,{"$error":"#N/A"},{"$error":"#N/A"},{"$error":"#N/A"},{"$error":"#N/A"},{"$error":"#N/A"},{"$error":"#N/A"},{"$error":"#N/A"},{"$error":"#N/A"},{"$error":"#N/A"},{"$error":"#N/A"},{"$f":"IF($AK$38=0,TRANSPOSE(MMULT($O$10:$Q$12,TRANSPOSE(C788:E788))),TRANSPOSE(MMULT($O$10:$Q$12,TRANSPOSE(Y788:AA788))))","v":{"$error":"#N/A"}},{"$error":"#N/A"},{"$error":"#N/A"},{"$error":"#N/A"},{"$error":"#N/A"},{"$f":"TRANSPOSE(MMULT($AE$10:$AG$12,TRANSPOSE(F788:H788)))","v":{"$error":"#N/A"}},{"$error":"#N/A"},{"$error":"#N/A"},{"$error":"#N/A"},{"$error":"#N/A"},{"$f":"TRANSPOSE(MMULT($AO$40:$AQ$42,TRANSPOSE(C788:E788)))","v":{"$error":"#N/A"}},{"$error":"#N/A"},{"$error":"#N/A"},{"$error":"#N/A"},{"$error":"#N/A"},{"$error":"#N/A"}]
[789,{"$error":"#N/A"},{"$error":"#N/A"},{"$error":"#N/A"},{"$error":"#N/A"},{"$error":"#N/A"},{"$error":"#N/A"},{"$error":"#N/A"},{"$error":"#N/A"},{"$error":"#N/A"},{"$error":"#N/A"},{"$f":"IF($AK$38=0,TRANSPOSE(MMULT($O$10:$Q$12,TRANSPOSE(C789:E789))),TRANSPOSE(MMULT($O$10:$Q$12,TRANSPOSE(Y789:AA789))))","v":{"$error":"#N/A"}},{"$error":"#N/A"},{"$error":"#N/A"},{"$error":"#N/A"},{"$error":"#N/A"},{"$f":"TRANSPOSE(MMULT($AE$10:$AG$12,TRANSPOSE(F789:H789)))","v":{"$error":"#N/A"}},{"$error":"#N/A"},{"$error":"#N/A"},{"$error":"#N/A"},{"$error":"#N/A"},{"$f":"TRANSPOSE(MMULT($AO$40:$AQ$42,TRANSPOSE(C789:E789)))","v":{"$error":"#N/A"}},{"$error":"#N/A"},{"$error":"#N/A"},{"$error":"#N/A"},{"$error":"#N/A"},{"$error":"#N/A"}]
[790,{"$error":"#N/A"},{"$error":"#N/A"},{"$error":"#N/A"},{"$error":"#N/A"},{"$error":"#N/A"},{"$error":"#N/A"},{"$error":"#N/A"},{"$error":"#N/A"},{"$error":"#N/A"},{"$error":"#N/A"},{"$f":"IF($AK$38=0,TRANSPOSE(MMULT($O$10:$Q$12,TRANSPOSE(C790:E790))),TRANSPOSE(MMULT($O$10:$Q$12,TRANSPOSE(Y790:AA790))))","v":{"$error":"#N/A"}},{"$error":"#N/A"},{"$error":"#N/A"},{"$error":"#N/A"},{"$error":"#N/A"},{"$f":"TRANSPOSE(MMULT($AE$10:$AG$12,TRANSPOSE(F790:H790)))","v":{"$error":"#N/A"}},{"$error":"#N/A"},{"$error":"#N/A"},{"$error":"#N/A"},{"$error":"#N/A"},{"$f":"TRANSPOSE(MMULT($AO$40:$AQ$42,TRANSPOSE(C790:E790)))","v":{"$error":"#N/A"}},{"$error":"#N/A"},{"$error":"#N/A"},{"$error":"#N/A"},{"$error":"#N/A"},{"$error":"#N/A"}]
[791,{"$error":"#N/A"},{"$error":"#N/A"},{"$error":"#N/A"},{"$error":"#N/A"},{"$error":"#N/A"},{"$error":"#N/A"},{"$error":"#N/A"},{"$error":"#N/A"},{"$error":"#N/A"},{"$error":"#N/A"},{"$f":"IF($AK$38=0,TRANSPOSE(MMULT($O$10:$Q$12,TRANSPOSE(C791:E791))),TRANSPOSE(MMULT($O$10:$Q$12,TRANSPOSE(Y791:AA791))))","v":{"$error":"#N/A"}},{"$error":"#N/A"},{"$error":"#N/A"},{"$error":"#N/A"},{"$error":"#N/A"},{"$f":"TRANSPOSE(MMULT($AE$10:$AG$12,TRANSPOSE(F791:H791)))","v":{"$error":"#N/A"}},{"$error":"#N/A"},{"$error":"#N/A"},{"$error":"#N/A"},{"$error":"#N/A"},{"$f":"TRANSPOSE(MMULT($AO$40:$AQ$42,TRANSPOSE(C791:E791)))","v":{"$error":"#N/A"}},{"$error":"#N/A"},{"$error":"#N/A"},{"$error":"#N/A"},{"$error":"#N/A"},{"$error":"#N/A"}]
[792,{"$error":"#N/A"},{"$error":"#N/A"},{"$error":"#N/A"},{"$error":"#N/A"},{"$error":"#N/A"},{"$error":"#N/A"},{"$error":"#N/A"},{"$error":"#N/A"},{"$error":"#N/A"},{"$error":"#N/A"},{"$f":"IF($AK$38=0,TRANSPOSE(MMULT($O$10:$Q$12,TRANSPOSE(C792:E792))),TRANSPOSE(MMULT($O$10:$Q$12,TRANSPOSE(Y792:AA792))))","v":{"$error":"#N/A"}},{"$error":"#N/A"},{"$error":"#N/A"},{"$error":"#N/A"},{"$error":"#N/A"},{"$f":"TRANSPOSE(MMULT($AE$10:$AG$12,TRANSPOSE(F792:H792)))","v":{"$error":"#N/A"}},{"$error":"#N/A"},{"$error":"#N/A"},{"$error":"#N/A"},{"$error":"#N/A"},{"$f":"TRANSPOSE(MMULT($AO$40:$AQ$42,TRANSPOSE(C792:E792)))","v":{"$error":"#N/A"}},{"$error":"#N/A"},{"$error":"#N/A"},{"$error":"#N/A"},{"$error":"#N/A"},{"$error":"#N/A"}]
[793,{"$error":"#N/A"},{"$error":"#N/A"},{"$error":"#N/A"},{"$error":"#N/A"},{"$error":"#N/A"},{"$error":"#N/A"},{"$error":"#N/A"},{"$error":"#N/A"},{"$error":"#N/A"},{"$error":"#N/A"},{"$f":"IF($AK$38=0,TRANSPOSE(MMULT($O$10:$Q$12,TRANSPOSE(C793:E793))),TRANSPOSE(MMULT($O$10:$Q$12,TRANSPOSE(Y793:AA793))))","v":{"$error":"#N/A"}},{"$error":"#N/A"},{"$error":"#N/A"},{"$error":"#N/A"},{"$error":"#N/A"},{"$f":"TRANSPOSE(MMULT($AE$10:$AG$12,TRANSPOSE(F793:H793)))","v":{"$error":"#N/A"}},{"$error":"#N/A"},{"$error":"#N/A"},{"$error":"#N/A"},{"$error":"#N/A"},{"$f":"TRANSPOSE(MMULT($AO$40:$AQ$42,TRANSPOSE(C793:E793)))","v":{"$error":"#N/A"}},{"$error":"#N/A"},{"$error":"#N/A"},{"$error":"#N/A"},{"$error":"#N/A"},{"$error":"#N/A"}]
[794,{"$error":"#N/A"},{"$error":"#N/A"},{"$error":"#N/A"},{"$error":"#N/A"},{"$error":"#N/A"},{"$error":"#N/A"},{"$error":"#N/A"},{"$error":"#N/A"},{"$error":"#N/A"},{"$error":"#N/A"},{"$f":"IF($AK$38=0,TRANSPOSE(MMULT($O$10:$Q$12,TRANSPOSE(C794:E794))),TRANSPOSE(MMULT($O$10:$Q$12,TRANSPOSE(Y794:AA794))))","v":{"$error":"#N/A"}},{"$error":"#N/A"},{"$error":"#N/A"},{"$error":"#N/A"},{"$error":"#N/A"},{"$f":"TRANSPOSE(MMULT($AE$10:$AG$12,TRANSPOSE(F794:H794)))","v":{"$error":"#N/A"}},{"$error":"#N/A"},{"$error":"#N/A"},{"$error":"#N/A"},{"$error":"#N/A"},{"$f":"TRANSPOSE(MMULT($AO$40:$AQ$42,TRANSPOSE(C794:E794)))","v":{"$error":"#N/A"}},{"$error":"#N/A"},{"$error":"#N/A"},{"$error":"#N/A"},{"$error":"#N/A"},{"$error":"#N/A"}]
[795,{"$error":"#N/A"},{"$error":"#N/A"},{"$error":"#N/A"},{"$error":"#N/A"},{"$error":"#N/A"},{"$error":"#N/A"},{"$error":"#N/A"},{"$error":"#N/A"},{"$error":"#N/A"},{"$error":"#N/A"},{"$f":"IF($AK$38=0,TRANSPOSE(MMULT($O$10:$Q$12,TRANSPOSE(C795:E795))),TRANSPOSE(MMULT($O$10:$Q$12,TRANSPOSE(Y795:AA795))))","v":{"$error":"#N/A"}},{"$error":"#N/A"},{"$error":"#N/A"},{"$error":"#N/A"},{"$error":"#N/A"},{"$f":"TRANSPOSE(MMULT($AE$10:$AG$12,TRANSPOSE(F795:H795)))","v":{"$error":"#N/A"}},{"$error":"#N/A"},{"$error":"#N/A"},{"$error":"#N/A"},{"$error":"#N/A"},{"$f":"TRANSPOSE(MMULT($AO$40:$AQ$42,TRANSPOSE(C795:E795)))","v":{"$error":"#N/A"}},{"$error":"#N/A"},{"$error":"#N/A"},{"$error":"#N/A"},{"$error":"#N/A"},{"$error":"#N/A"}]
[796,{"$error":"#N/A"},{"$error":"#N/A"},{"$error":"#N/A"},{"$error":"#N/A"},{"$error":"#N/A"},{"$error":"#N/A"},{"$error":"#N/A"},{"$error":"#N/A"},{"$error":"#N/A"},{"$error":"#N/A"},{"$f":"IF($AK$38=0,TRANSPOSE(MMULT($O$10:$Q$12,TRANSPOSE(C796:E796))),TRANSPOSE(MMULT($O$10:$Q$12,TRANSPOSE(Y796:AA796))))","v":{"$error":"#N/A"}},{"$error":"#N/A"},{"$error":"#N/A"},{"$error":"#N/A"},{"$error":"#N/A"},{"$f":"TRANSPOSE(MMULT($AE$10:$AG$12,TRANSPOSE(F796:H796)))","v":{"$error":"#N/A"}},{"$error":"#N/A"},{"$error":"#N/A"},{"$error":"#N/A"},{"$error":"#N/A"},{"$f":"TRANSPOSE(MMULT($AO$40:$AQ$42,TRANSPOSE(C796:E796)))","v":{"$error":"#N/A"}},{"$error":"#N/A"},{"$error":"#N/A"},{"$error":"#N/A"},{"$error":"#N/A"},{"$error":"#N/A"}]
[797,{"$error":"#N/A"},{"$error":"#N/A"},{"$error":"#N/A"},{"$error":"#N/A"},{"$error":"#N/A"},{"$error":"#N/A"},{"$error":"#N/A"},{"$error":"#N/A"},{"$error":"#N/A"},{"$error":"#N/A"},{"$f":"IF($AK$38=0,TRANSPOSE(MMULT($O$10:$Q$12,TRANSPOSE(C797:E797))),TRANSPOSE(MMULT($O$10:$Q$12,TRANSPOSE(Y797:AA797))))","v":{"$error":"#N/A"}},{"$error":"#N/A"},{"$error":"#N/A"},{"$error":"#N/A"},{"$error":"#N/A"},{"$f":"TRANSPOSE(MMULT($AE$10:$AG$12,TRANSPOSE(F797:H797)))","v":{"$error":"#N/A"}},{"$error":"#N/A"},{"$error":"#N/A"},{"$error":"#N/A"},{"$error":"#N/A"},{"$f":"TRANSPOSE(MMULT($AO$40:$AQ$42,TRANSPOSE(C797:E797)))","v":{"$error":"#N/A"}},{"$error":"#N/A"},{"$error":"#N/A"},{"$error":"#N/A"},{"$error":"#N/A"},{"$error":"#N/A"}]
[798,{"$error":"#N/A"},{"$error":"#N/A"},{"$error":"#N/A"},{"$error":"#N/A"},{"$error":"#N/A"},{"$error":"#N/A"},{"$error":"#N/A"},{"$error":"#N/A"},{"$error":"#N/A"},{"$error":"#N/A"},{"$f":"IF($AK$38=0,TRANSPOSE(MMULT($O$10:$Q$12,TRANSPOSE(C798:E798))),TRANSPOSE(MMULT($O$10:$Q$12,TRANSPOSE(Y798:AA798))))","v":{"$error":"#N/A"}},{"$error":"#N/A"},{"$error":"#N/A"},{"$error":"#N/A"},{"$error":"#N/A"},{"$f":"TRANSPOSE(MMULT($AE$10:$AG$12,TRANSPOSE(F798:H798)))","v":{"$error":"#N/A"}},{"$error":"#N/A"},{"$error":"#N/A"},{"$error":"#N/A"},{"$error":"#N/A"},{"$f":"TRANSPOSE(MMULT($AO$40:$AQ$42,TRANSPOSE(C798:E798)))","v":{"$error":"#N/A"}},{"$error":"#N/A"},{"$error":"#N/A"},{"$error":"#N/A"},{"$error":"#N/A"},{"$error":"#N/A"}]
[799,{"$error":"#N/A"},{"$error":"#N/A"},{"$error":"#N/A"},{"$error":"#N/A"},{"$error":"#N/A"},{"$error":"#N/A"},{"$error":"#N/A"},{"$error":"#N/A"},{"$error":"#N/A"},{"$error":"#N/A"},{"$f":"IF($AK$38=0,TRANSPOSE(MMULT($O$10:$Q$12,TRANSPOSE(C799:E799))),TRANSPOSE(MMULT($O$10:$Q$12,TRANSPOSE(Y799:AA799))))","v":{"$error":"#N/A"}},{"$error":"#N/A"},{"$error":"#N/A"},{"$error":"#N/A"},{"$error":"#N/A"},{"$f":"TRANSPOSE(MMULT($AE$10:$AG$12,TRANSPOSE(F799:H799)))","v":{"$error":"#N/A"}},{"$error":"#N/A"},{"$error":"#N/A"},{"$error":"#N/A"},{"$error":"#N/A"},{"$f":"TRANSPOSE(MMULT($AO$40:$AQ$42,TRANSPOSE(C799:E799)))","v":{"$error":"#N/A"}},{"$error":"#N/A"},{"$error":"#N/A"},{"$error":"#N/A"},{"$error":"#N/A"},{"$error":"#N/A"}]
[800,{"$error":"#N/A"},{"$error":"#N/A"},{"$error":"#N/A"},{"$error":"#N/A"},{"$error":"#N/A"},{"$error":"#N/A"},{"$error":"#N/A"},{"$error":"#N/A"},{"$error":"#N/A"},{"$error":"#N/A"},{"$f":"IF($AK$38=0,TRANSPOSE(MMULT($O$10:$Q$12,TRANSPOSE(C800:E800))),TRANSPOSE(MMULT($O$10:$Q$12,TRANSPOSE(Y800:AA800))))","v":{"$error":"#N/A"}},{"$error":"#N/A"},{"$error":"#N/A"},{"$error":"#N/A"},{"$error":"#N/A"},{"$f":"TRANSPOSE(MMULT($AE$10:$AG$12,TRANSPOSE(F800:H800)))","v":{"$error":"#N/A"}},{"$error":"#N/A"},{"$error":"#N/A"},{"$error":"#N/A"},{"$error":"#N/A"},{"$f":"TRANSPOSE(MMULT($AO$40:$AQ$42,TRANSPOSE(C800:E800)))","v":{"$error":"#N/A"}},{"$error":"#N/A"},{"$error":"#N/A"},{"$error":"#N/A"},{"$error":"#N/A"},{"$error":"#N/A"}]
[801,{"$error":"#N/A"},{"$error":"#N/A"},{"$error":"#N/A"},{"$error":"#N/A"},{"$error":"#N/A"},{"$error":"#N/A"},{"$error":"#N/A"},{"$error":"#N/A"},{"$error":"#N/A"},{"$error":"#N/A"},{"$f":"IF($AK$38=0,TRANSPOSE(MMULT($O$10:$Q$12,TRANSPOSE(C801:E801))),TRANSPOSE(MMULT($O$10:$Q$12,TRANSPOSE(Y801:AA801))))","v":{"$error":"#N/A"}},{"$error":"#N/A"},{"$error":"#N/A"},{"$error":"#N/A"},{"$error":"#N/A"},{"$f":"TRANSPOSE(MMULT($AE$10:$AG$12,TRANSPOSE(F801:H801)))","v":{"$error":"#N/A"}},{"$error":"#N/A"},{"$error":"#N/A"},{"$error":"#N/A"},{"$error":"#N/A"},{"$f":"TRANSPOSE(MMULT($AO$40:$AQ$42,TRANSPOSE(C801:E801)))","v":{"$error":"#N/A"}},{"$error":"#N/A"},{"$error":"#N/A"},{"$error":"#N/A"},{"$error":"#N/A"},{"$error":"#N/A"}]
[802,{"$error":"#N/A"},{"$error":"#N/A"},{"$error":"#N/A"},{"$error":"#N/A"},{"$error":"#N/A"},{"$error":"#N/A"},{"$error":"#N/A"},{"$error":"#N/A"},{"$error":"#N/A"},{"$error":"#N/A"},{"$f":"IF($AK$38=0,TRANSPOSE(MMULT($O$10:$Q$12,TRANSPOSE(C802:E802))),TRANSPOSE(MMULT($O$10:$Q$12,TRANSPOSE(Y802:AA802))))","v":{"$error":"#N/A"}},{"$error":"#N/A"},{"$error":"#N/A"},{"$error":"#N/A"},{"$error":"#N/A"},{"$f":"TRANSPOSE(MMULT($AE$10:$AG$12,TRANSPOSE(F802:H802)))","v":{"$error":"#N/A"}},{"$error":"#N/A"},{"$error":"#N/A"},{"$error":"#N/A"},{"$error":"#N/A"},{"$f":"TRANSPOSE(MMULT($AO$40:$AQ$42,TRANSPOSE(C802:E802)))","v":{"$error":"#N/A"}},{"$error":"#N/A"},{"$error":"#N/A"},{"$error":"#N/A"},{"$error":"#N/A"},{"$error":"#N/A"}]
[803,{"$error":"#N/A"},{"$error":"#N/A"},{"$error":"#N/A"},{"$error":"#N/A"},{"$error":"#N/A"},{"$error":"#N/A"},{"$error":"#N/A"},{"$error":"#N/A"},{"$error":"#N/A"},{"$error":"#N/A"},{"$f":"IF($AK$38=0,TRANSPOSE(MMULT($O$10:$Q$12,TRANSPOSE(C803:E803))),TRANSPOSE(MMULT($O$10:$Q$12,TRANSPOSE(Y803:AA803))))","v":{"$error":"#N/A"}},{"$error":"#N/A"},{"$error":"#N/A"},{"$error":"#N/A"},{"$error":"#N/A"},{"$f":"TRANSPOSE(MMULT($AE$10:$AG$12,TRANSPOSE(F803:H803)))","v":{"$error":"#N/A"}},{"$error":"#N/A"},{"$error":"#N/A"},{"$error":"#N/A"},{"$error":"#N/A"},{"$f":"TRANSPOSE(MMULT($AO$40:$AQ$42,TRANSPOSE(C803:E803)))","v":{"$error":"#N/A"}},{"$error":"#N/A"},{"$error":"#N/A"},{"$error":"#N/A"},{"$error":"#N/A"},{"$error":"#N/A"}]
[804,{"$error":"#N/A"},{"$error":"#N/A"},{"$error":"#N/A"},{"$error":"#N/A"},{"$error":"#N/A"},{"$error":"#N/A"},{"$error":"#N/A"},{"$error":"#N/A"},{"$error":"#N/A"},{"$error":"#N/A"},{"$f":"IF($AK$38=0,TRANSPOSE(MMULT($O$10:$Q$12,TRANSPOSE(C804:E804))),TRANSPOSE(MMULT($O$10:$Q$12,TRANSPOSE(Y804:AA804))))","v":{"$error":"#N/A"}},{"$error":"#N/A"},{"$error":"#N/A"},{"$error":"#N/A"},{"$error":"#N/A"},{"$f":"TRANSPOSE(MMULT($AE$10:$AG$12,TRANSPOSE(F804:H804)))","v":{"$error":"#N/A"}},{"$error":"#N/A"},{"$error":"#N/A"},{"$error":"#N/A"},{"$error":"#N/A"},{"$f":"TRANSPOSE(MMULT($AO$40:$AQ$42,TRANSPOSE(C804:E804)))","v":{"$error":"#N/A"}},{"$error":"#N/A"},{"$error":"#N/A"},{"$error":"#N/A"},{"$error":"#N/A"},{"$error":"#N/A"}]
[805,{"$error":"#N/A"},{"$error":"#N/A"},{"$error":"#N/A"},{"$error":"#N/A"},{"$error":"#N/A"},{"$error":"#N/A"},{"$error":"#N/A"},{"$error":"#N/A"},{"$error":"#N/A"},{"$error":"#N/A"},{"$f":"IF($AK$38=0,TRANSPOSE(MMULT($O$10:$Q$12,TRANSPOSE(C805:E805))),TRANSPOSE(MMULT($O$10:$Q$12,TRANSPOSE(Y805:AA805))))","v":{"$error":"#N/A"}},{"$error":"#N/A"},{"$error":"#N/A"},{"$error":"#N/A"},{"$error":"#N/A"},{"$f":"TRANSPOSE(MMULT($AE$10:$AG$12,TRANSPOSE(F805:H805)))","v":{"$error":"#N/A"}},{"$error":"#N/A"},{"$error":"#N/A"},{"$error":"#N/A"},{"$error":"#N/A"},{"$f":"TRANSPOSE(MMULT($AO$40:$AQ$42,TRANSPOSE(C805:E805)))","v":{"$error":"#N/A"}},{"$error":"#N/A"},{"$error":"#N/A"},{"$error":"#N/A"},{"$error":"#N/A"},{"$error":"#N/A"}]
[806,{"$error":"#N/A"},{"$error":"#N/A"},{"$error":"#N/A"},{"$error":"#N/A"},{"$error":"#N/A"},{"$error":"#N/A"},{"$error":"#N/A"},{"$error":"#N/A"},{"$error":"#N/A"},{"$error":"#N/A"},{"$f":"IF($AK$38=0,TRANSPOSE(MMULT($O$10:$Q$12,TRANSPOSE(C806:E806))),TRANSPOSE(MMULT($O$10:$Q$12,TRANSPOSE(Y806:AA806))))","v":{"$error":"#N/A"}},{"$error":"#N/A"},{"$error":"#N/A"},{"$error":"#N/A"},{"$error":"#N/A"},{"$f":"TRANSPOSE(MMULT($AE$10:$AG$12,TRANSPOSE(F806:H806)))","v":{"$error":"#N/A"}},{"$error":"#N/A"},{"$error":"#N/A"},{"$error":"#N/A"},{"$error":"#N/A"},{"$f":"TRANSPOSE(MMULT($AO$40:$AQ$42,TRANSPOSE(C806:E806)))","v":{"$error":"#N/A"}},{"$error":"#N/A"},{"$error":"#N/A"},{"$error":"#N/A"},{"$error":"#N/A"},{"$error":"#N/A"}]
[807,{"$error":"#N/A"},{"$error":"#N/A"},{"$error":"#N/A"},{"$error":"#N/A"},{"$error":"#N/A"},{"$error":"#N/A"},{"$error":"#N/A"},{"$error":"#N/A"},{"$error":"#N/A"},{"$error":"#N/A"},{"$f":"IF($AK$38=0,TRANSPOSE(MMULT($O$10:$Q$12,TRANSPOSE(C807:E807))),TRANSPOSE(MMULT($O$10:$Q$12,TRANSPOSE(Y807:AA807))))","v":{"$error":"#N/A"}},{"$error":"#N/A"},{"$error":"#N/A"},{"$error":"#N/A"},{"$error":"#N/A"},{"$f":"TRANSPOSE(MMULT($AE$10:$AG$12,TRANSPOSE(F807:H807)))","v":{"$error":"#N/A"}},{"$error":"#N/A"},{"$error":"#N/A"},{"$error":"#N/A"},{"$error":"#N/A"},{"$f":"TRANSPOSE(MMULT($AO$40:$AQ$42,TRANSPOSE(C807:E807)))","v":{"$error":"#N/A"}},{"$error":"#N/A"},{"$error":"#N/A"},{"$error":"#N/A"},{"$error":"#N/A"},{"$error":"#N/A"}]
[808,{"$error":"#N/A"},{"$error":"#N/A"},{"$error":"#N/A"},{"$error":"#N/A"},{"$error":"#N/A"},{"$error":"#N/A"},{"$error":"#N/A"},{"$error":"#N/A"},{"$error":"#N/A"},{"$error":"#N/A"},{"$f":"IF($AK$38=0,TRANSPOSE(MMULT($O$10:$Q$12,TRANSPOSE(C808:E808))),TRANSPOSE(MMULT($O$10:$Q$12,TRANSPOSE(Y808:AA808))))","v":{"$error":"#N/A"}},{"$error":"#N/A"},{"$error":"#N/A"},{"$error":"#N/A"},{"$error":"#N/A"},{"$f":"TRANSPOSE(MMULT($AE$10:$AG$12,TRANSPOSE(F808:H808)))","v":{"$error":"#N/A"}},{"$error":"#N/A"},{"$error":"#N/A"},{"$error":"#N/A"},{"$error":"#N/A"},{"$f":"TRANSPOSE(MMULT($AO$40:$AQ$42,TRANSPOSE(C808:E808)))","v":{"$error":"#N/A"}},{"$error":"#N/A"},{"$error":"#N/A"},{"$error":"#N/A"},{"$error":"#N/A"},{"$error":"#N/A"}]
[809,{"$error":"#N/A"},{"$error":"#N/A"},{"$error":"#N/A"},{"$error":"#N/A"},{"$error":"#N/A"},{"$error":"#N/A"},{"$error":"#N/A"},{"$error":"#N/A"},{"$error":"#N/A"},{"$error":"#N/A"},{"$f":"IF($AK$38=0,TRANSPOSE(MMULT($O$10:$Q$12,TRANSPOSE(C809:E809))),TRANSPOSE(MMULT($O$10:$Q$12,TRANSPOSE(Y809:AA809))))","v":{"$error":"#N/A"}},{"$error":"#N/A"},{"$error":"#N/A"},{"$error":"#N/A"},{"$error":"#N/A"},{"$f":"TRANSPOSE(MMULT($AE$10:$AG$12,TRANSPOSE(F809:H809)))","v":{"$error":"#N/A"}},{"$error":"#N/A"},{"$error":"#N/A"},{"$error":"#N/A"},{"$error":"#N/A"},{"$f":"TRANSPOSE(MMULT($AO$40:$AQ$42,TRANSPOSE(C809:E809)))","v":{"$error":"#N/A"}},{"$error":"#N/A"},{"$error":"#N/A"},{"$error":"#N/A"},{"$error":"#N/A"},{"$error":"#N/A"}]
[810,{"$error":"#N/A"},{"$error":"#N/A"},{"$error":"#N/A"},{"$error":"#N/A"},{"$error":"#N/A"},{"$error":"#N/A"},{"$error":"#N/A"},{"$error":"#N/A"},{"$error":"#N/A"},{"$error":"#N/A"},{"$f":"IF($AK$38=0,TRANSPOSE(MMULT($O$10:$Q$12,TRANSPOSE(C810:E810))),TRANSPOSE(MMULT($O$10:$Q$12,TRANSPOSE(Y810:AA810))))","v":{"$error":"#N/A"}},{"$error":"#N/A"},{"$error":"#N/A"},{"$error":"#N/A"},{"$error":"#N/A"},{"$f":"TRANSPOSE(MMULT($AE$10:$AG$12,TRANSPOSE(F810:H810)))","v":{"$error":"#N/A"}},{"$error":"#N/A"},{"$error":"#N/A"},{"$error":"#N/A"},{"$error":"#N/A"},{"$f":"TRANSPOSE(MMULT($AO$40:$AQ$42,TRANSPOSE(C810:E810)))","v":{"$error":"#N/A"}},{"$error":"#N/A"},{"$error":"#N/A"},{"$error":"#N/A"},{"$error":"#N/A"},{"$error":"#N/A"}]
[811,{"$error":"#N/A"},{"$error":"#N/A"},{"$error":"#N/A"},{"$error":"#N/A"},{"$error":"#N/A"},{"$error":"#N/A"},{"$error":"#N/A"},{"$error":"#N/A"},{"$error":"#N/A"},{"$error":"#N/A"},{"$f":"IF($AK$38=0,TRANSPOSE(MMULT($O$10:$Q$12,TRANSPOSE(C811:E811))),TRANSPOSE(MMULT($O$10:$Q$12,TRANSPOSE(Y811:AA811))))","v":{"$error":"#N/A"}},{"$error":"#N/A"},{"$error":"#N/A"},{"$error":"#N/A"},{"$error":"#N/A"},{"$f":"TRANSPOSE(MMULT($AE$10:$AG$12,TRANSPOSE(F811:H811)))","v":{"$error":"#N/A"}},{"$error":"#N/A"},{"$error":"#N/A"},{"$error":"#N/A"},{"$error":"#N/A"},{"$f":"TRANSPOSE(MMULT($AO$40:$AQ$42,TRANSPOSE(C811:E811)))","v":{"$error":"#N/A"}},{"$error":"#N/A"},{"$error":"#N/A"},{"$error":"#N/A"},{"$error":"#N/A"},{"$error":"#N/A"}]
[812,{"$error":"#N/A"},{"$error":"#N/A"},{"$error":"#N/A"},{"$error":"#N/A"},{"$error":"#N/A"},{"$error":"#N/A"},{"$error":"#N/A"},{"$error":"#N/A"},{"$error":"#N/A"},{"$error":"#N/A"},{"$f":"IF($AK$38=0,TRANSPOSE(MMULT($O$10:$Q$12,TRANSPOSE(C812:E812))),TRANSPOSE(MMULT($O$10:$Q$12,TRANSPOSE(Y812:AA812))))","v":{"$error":"#N/A"}},{"$error":"#N/A"},{"$error":"#N/A"},{"$error":"#N/A"},{"$error":"#N/A"},{"$f":"TRANSPOSE(MMULT($AE$10:$AG$12,TRANSPOSE(F812:H812)))","v":{"$error":"#N/A"}},{"$error":"#N/A"},{"$error":"#N/A"},{"$error":"#N/A"},{"$error":"#N/A"},{"$f":"TRANSPOSE(MMULT($AO$40:$AQ$42,TRANSPOSE(C812:E812)))","v":{"$error":"#N/A"}},{"$error":"#N/A"},{"$error":"#N/A"},{"$error":"#N/A"},{"$error":"#N/A"},{"$error":"#N/A"}]
[813,{"$error":"#N/A"},{"$error":"#N/A"},{"$error":"#N/A"},{"$error":"#N/A"},{"$error":"#N/A"},{"$error":"#N/A"},{"$error":"#N/A"},{"$error":"#N/A"},{"$error":"#N/A"},{"$error":"#N/A"},{"$f":"IF($AK$38=0,TRANSPOSE(MMULT($O$10:$Q$12,TRANSPOSE(C813:E813))),TRANSPOSE(MMULT($O$10:$Q$12,TRANSPOSE(Y813:AA813))))","v":{"$error":"#N/A"}},{"$error":"#N/A"},{"$error":"#N/A"},{"$error":"#N/A"},{"$error":"#N/A"},{"$f":"TRANSPOSE(MMULT($AE$10:$AG$12,TRANSPOSE(F813:H813)))","v":{"$error":"#N/A"}},{"$error":"#N/A"},{"$error":"#N/A"},{"$error":"#N/A"},{"$error":"#N/A"},{"$f":"TRANSPOSE(MMULT($AO$40:$AQ$42,TRANSPOSE(C813:E813)))","v":{"$error":"#N/A"}},{"$error":"#N/A"},{"$error":"#N/A"},{"$error":"#N/A"},{"$error":"#N/A"},{"$error":"#N/A"}]
[814,{"$error":"#N/A"},{"$error":"#N/A"},{"$error":"#N/A"},{"$error":"#N/A"},{"$error":"#N/A"},{"$error":"#N/A"},{"$error":"#N/A"},{"$error":"#N/A"},{"$error":"#N/A"},{"$error":"#N/A"},{"$f":"IF($AK$38=0,TRANSPOSE(MMULT($O$10:$Q$12,TRANSPOSE(C814:E814))),TRANSPOSE(MMULT($O$10:$Q$12,TRANSPOSE(Y814:AA814))))","v":{"$error":"#N/A"}},{"$error":"#N/A"},{"$error":"#N/A"},{"$error":"#N/A"},{"$error":"#N/A"},{"$f":"TRANSPOSE(MMULT($AE$10:$AG$12,TRANSPOSE(F814:H814)))","v":{"$error":"#N/A"}},{"$error":"#N/A"},{"$error":"#N/A"},{"$error":"#N/A"},{"$error":"#N/A"},{"$f":"TRANSPOSE(MMULT($AO$40:$AQ$42,TRANSPOSE(C814:E814)))","v":{"$error":"#N/A"}},{"$error":"#N/A"},{"$error":"#N/A"},{"$error":"#N/A"},{"$error":"#N/A"},{"$error":"#N/A"}]
[815,{"$error":"#N/A"},{"$error":"#N/A"},{"$error":"#N/A"},{"$error":"#N/A"},{"$error":"#N/A"},{"$error":"#N/A"},{"$error":"#N/A"},{"$error":"#N/A"},{"$error":"#N/A"},{"$error":"#N/A"},{"$f":"IF($AK$38=0,TRANSPOSE(MMULT($O$10:$Q$12,TRANSPOSE(C815:E815))),TRANSPOSE(MMULT($O$10:$Q$12,TRANSPOSE(Y815:AA815))))","v":{"$error":"#N/A"}},{"$error":"#N/A"},{"$error":"#N/A"},{"$error":"#N/A"},{"$error":"#N/A"},{"$f":"TRANSPOSE(MMULT($AE$10:$AG$12,TRANSPOSE(F815:H815)))","v":{"$error":"#N/A"}},{"$error":"#N/A"},{"$error":"#N/A"},{"$error":"#N/A"},{"$error":"#N/A"},{"$f":"TRANSPOSE(MMULT($AO$40:$AQ$42,TRANSPOSE(C815:E815)))","v":{"$error":"#N/A"}},{"$error":"#N/A"},{"$error":"#N/A"},{"$error":"#N/A"},{"$error":"#N/A"},{"$error":"#N/A"}]
[816,{"$error":"#N/A"},{"$error":"#N/A"},{"$error":"#N/A"},{"$error":"#N/A"},{"$error":"#N/A"},{"$error":"#N/A"},{"$error":"#N/A"},{"$error":"#N/A"},{"$error":"#N/A"},{"$error":"#N/A"},{"$f":"IF($AK$38=0,TRANSPOSE(MMULT($O$10:$Q$12,TRANSPOSE(C816:E816))),TRANSPOSE(MMULT($O$10:$Q$12,TRANSPOSE(Y816:AA816))))","v":{"$error":"#N/A"}},{"$error":"#N/A"},{"$error":"#N/A"},{"$error":"#N/A"},{"$error":"#N/A"},{"$f":"TRANSPOSE(MMULT($AE$10:$AG$12,TRANSPOSE(F816:H816)))","v":{"$error":"#N/A"}},{"$error":"#N/A"},{"$error":"#N/A"},{"$error":"#N/A"},{"$error":"#N/A"},{"$f":"TRANSPOSE(MMULT($AO$40:$AQ$42,TRANSPOSE(C816:E816)))","v":{"$error":"#N/A"}},{"$error":"#N/A"},{"$error":"#N/A"},{"$error":"#N/A"},{"$error":"#N/A"},{"$error":"#N/A"}]
[817,{"$error":"#N/A"},{"$error":"#N/A"},{"$error":"#N/A"},{"$error":"#N/A"},{"$error":"#N/A"},{"$error":"#N/A"},{"$error":"#N/A"},{"$error":"#N/A"},{"$error":"#N/A"},{"$error":"#N/A"},{"$f":"IF($AK$38=0,TRANSPOSE(MMULT($O$10:$Q$12,TRANSPOSE(C817:E817))),TRANSPOSE(MMULT($O$10:$Q$12,TRANSPOSE(Y817:AA817))))","v":{"$error":"#N/A"}},{"$error":"#N/A"},{"$error":"#N/A"},{"$error":"#N/A"},{"$error":"#N/A"},{"$f":"TRANSPOSE(MMULT($AE$10:$AG$12,TRANSPOSE(F817:H817)))","v":{"$error":"#N/A"}},{"$error":"#N/A"},{"$error":"#N/A"},{"$error":"#N/A"},{"$error":"#N/A"},{"$f":"TRANSPOSE(MMULT($AO$40:$AQ$42,TRANSPOSE(C817:E817)))","v":{"$error":"#N/A"}},{"$error":"#N/A"},{"$error":"#N/A"},{"$error":"#N/A"},{"$error":"#N/A"},{"$error":"#N/A"}]
[818,{"$error":"#N/A"},{"$error":"#N/A"},{"$error":"#N/A"},{"$error":"#N/A"},{"$error":"#N/A"},{"$error":"#N/A"},{"$error":"#N/A"},{"$error":"#N/A"},{"$error":"#N/A"},{"$error":"#N/A"},{"$f":"IF($AK$38=0,TRANSPOSE(MMULT($O$10:$Q$12,TRANSPOSE(C818:E818))),TRANSPOSE(MMULT($O$10:$Q$12,TRANSPOSE(Y818:AA818))))","v":{"$error":"#N/A"}},{"$error":"#N/A"},{"$error":"#N/A"},{"$error":"#N/A"},{"$error":"#N/A"},{"$f":"TRANSPOSE(MMULT($AE$10:$AG$12,TRANSPOSE(F818:H818)))","v":{"$error":"#N/A"}},{"$error":"#N/A"},{"$error":"#N/A"},{"$error":"#N/A"},{"$error":"#N/A"},{"$f":"TRANSPOSE(MMULT($AO$40:$AQ$42,TRANSPOSE(C818:E818)))","v":{"$error":"#N/A"}},{"$error":"#N/A"},{"$error":"#N/A"},{"$error":"#N/A"},{"$error":"#N/A"},{"$error":"#N/A"}]
[819,{"$error":"#N/A"},{"$error":"#N/A"},{"$error":"#N/A"},{"$error":"#N/A"},{"$error":"#N/A"},{"$error":"#N/A"},{"$error":"#N/A"},{"$error":"#N/A"},{"$error":"#N/A"},{"$error":"#N/A"},{"$f":"IF($AK$38=0,TRANSPOSE(MMULT($O$10:$Q$12,TRANSPOSE(C819:E819))),TRANSPOSE(MMULT($O$10:$Q$12,TRANSPOSE(Y819:AA819))))","v":{"$error":"#N/A"}},{"$error":"#N/A"},{"$error":"#N/A"},{"$error":"#N/A"},{"$error":"#N/A"},{"$f":"TRANSPOSE(MMULT($AE$10:$AG$12,TRANSPOSE(F819:H819)))","v":{"$error":"#N/A"}},{"$error":"#N/A"},{"$error":"#N/A"},{"$error":"#N/A"},{"$error":"#N/A"},{"$f":"TRANSPOSE(MMULT($AO$40:$AQ$42,TRANSPOSE(C819:E819)))","v":{"$error":"#N/A"}},{"$error":"#N/A"},{"$error":"#N/A"},{"$error":"#N/A"},{"$error":"#N/A"},{"$error":"#N/A"}]
[820,{"$error":"#N/A"},{"$f":"(C$4+F$4*$B820+I$4*$B820^2+L$4*$B820^3+O$4*$B820^4)+(C$5+F$5*$B820+I$5*$B820^2+L$5*$B820^3+O$5*$B820^5)*(COS(C$6+F$6*$B820+I$6*$B820^2+L$6*$B820^3+O$6*$B820^4))+(C$7+F$7*$B820+I$7*$B820^2+L$7*$B820^3+O$7*$B820^4)*(SIN(C$8+F$8*$B820+I$8*$B820^2+L$8*$B820^3+O$8*$B820^4))","v":{"$error":"#N/A"}},{"$f":"(D$4+G$4*$B820+J$4*$B820^2+M$4*$B820^3+P$4*$B820^4)+(D$5+G$5*$B820+J$5*$B820^2+M$5*$B820^3+P$5*$B820^5)*(COS(D$6+G$6*$B820+J$6*$B820^2+M$6*$B820^3+P$6*$B820^4))+(D$7+G$7*$B820+J$7*$B820^2+M$7*$B820^3+P$7*$B820^4)*(SIN(D$8+G$8*$B820+J$8*$B820^2+M$8*$B820^3+P$8*$B820^4))","v":{"$error":"#N/A"}},{"$f":"(E$4+H$4*$B820+K$4*$B820^2+N$4*$B820^3+Q$4*$B820^4)+(E$5+H$5*$B820+K$5*$B820^2+N$5*$B820^3+Q$5*$B820^5)*(COS(E$6+H$6*$B820+K$6*$B820^2+N$6*$B820^3+Q$6*$B820^4))+(E$7+H$7*$B820+K$7*$B820^2+N$7*$B820^3+Q$7*$B820^4)*(SIN(E$8+H$8*$B820+K$8*$B820^2+N$8*$B820^3+Q$8*$B820^4))","v":{"$error":"#N/A"}},{"$error":"#N/A"},{"$error":"#N/A"},{"$error":"#N/A"},{"$error":"#N/A"},{"$error":"#N/A"},{"$error":"#N/A"},{"$f":"IF($AK$38=0,TRANSPOSE(MMULT($O$10:$Q$12,TRANSPOSE(C820:E820))),TRANSPOSE(MMULT($O$10:$Q$12,TRANSPOSE(Y820:AA820))))","v":{"$error":"#N/A"}},{"$error":"#N/A"},{"$error":"#N/A"},{"$error":"#N/A"},{"$error":"#N/A"},{"$f":"TRANSPOSE(MMULT($AE$10:$AG$12,TRANSPOSE(F820:H820)))","v":{"$error":"#N/A"}},{"$error":"#N/A"},{"$error":"#N/A"},{"$error":"#N/A"},{"$error":"#N/A"},{"$f":"TRANSPOSE(MMULT($AO$40:$AQ$42,TRANSPOSE(C820:E820)))","v":{"$error":"#N/A"}},{"$error":"#N/A"},{"$error":"#N/A"},{"$error":"#N/A"},{"$error":"#N/A"},{"$error":"#N/A"}]
[821,{"$error":"#N/A"},{"$error":"#N/A"},{"$error":"#N/A"},{"$error":"#N/A"},{"$error":"#N/A"},{"$error":"#N/A"},{"$error":"#N/A"},{"$error":"#N/A"},{"$error":"#N/A"},{"$error":"#N/A"},{"$f":"IF($AK$38=0,TRANSPOSE(MMULT($O$10:$Q$12,TRANSPOSE(C821:E821))),TRANSPOSE(MMULT($O$10:$Q$12,TRANSPOSE(Y821:AA821))))","v":{"$error":"#N/A"}},{"$error":"#N/A"},{"$error":"#N/A"},{"$error":"#N/A"},{"$error":"#N/A"},{"$f":"TRANSPOSE(MMULT($AE$10:$AG$12,TRANSPOSE(F821:H821)))","v":{"$error":"#N/A"}},{"$error":"#N/A"},{"$error":"#N/A"},{"$error":"#N/A"},{"$error":"#N/A"},{"$f":"TRANSPOSE(MMULT($AO$40:$AQ$42,TRANSPOSE(C821:E821)))","v":{"$error":"#N/A"}},{"$error":"#N/A"},{"$error":"#N/A"},{"$error":"#N/A"},{"$error":"#N/A"},{"$error":"#N/A"}]
[822,{"$error":"#N/A"},{"$error":"#N/A"},{"$error":"#N/A"},{"$error":"#N/A"},{"$error":"#N/A"},{"$error":"#N/A"},{"$error":"#N/A"},{"$error":"#N/A"},{"$error":"#N/A"},{"$error":"#N/A"},{"$f":"IF($AK$38=0,TRANSPOSE(MMULT($O$10:$Q$12,TRANSPOSE(C822:E822))),TRANSPOSE(MMULT($O$10:$Q$12,TRANSPOSE(Y822:AA822))))","v":{"$error":"#N/A"}},{"$error":"#N/A"},{"$error":"#N/A"},{"$error":"#N/A"},{"$error":"#N/A"},{"$f":"TRANSPOSE(MMULT($AE$10:$AG$12,TRANSPOSE(F822:H822)))","v":{"$error":"#N/A"}},{"$error":"#N/A"},{"$error":"#N/A"},{"$error":"#N/A"},{"$error":"#N/A"},{"$f":"TRANSPOSE(MMULT($AO$40:$AQ$42,TRANSPOSE(C822:E822)))","v":{"$error":"#N/A"}},{"$error":"#N/A"},{"$error":"#N/A"},{"$error":"#N/A"},{"$error":"#N/A"},{"$error":"#N/A"}]
[823,{"$error":"#N/A"},{"$error":"#N/A"},{"$error":"#N/A"},{"$error":"#N/A"},{"$error":"#N/A"},{"$error":"#N/A"},{"$error":"#N/A"},{"$error":"#N/A"},{"$error":"#N/A"},{"$error":"#N/A"},{"$f":"IF($AK$38=0,TRANSPOSE(MMULT($O$10:$Q$12,TRANSPOSE(C823:E823))),TRANSPOSE(MMULT($O$10:$Q$12,TRANSPOSE(Y823:AA823))))","v":{"$error":"#N/A"}},{"$error":"#N/A"},{"$error":"#N/A"},{"$error":"#N/A"},{"$error":"#N/A"},{"$f":"TRANSPOSE(MMULT($AE$10:$AG$12,TRANSPOSE(F823:H823)))","v":{"$error":"#N/A"}},{"$error":"#N/A"},{"$error":"#N/A"},{"$error":"#N/A"},{"$error":"#N/A"},{"$f":"TRANSPOSE(MMULT($AO$40:$AQ$42,TRANSPOSE(C823:E823)))","v":{"$error":"#N/A"}},{"$error":"#N/A"},{"$error":"#N/A"},{"$error":"#N/A"},{"$error":"#N/A"},{"$error":"#N/A"}]
[824,{"$error":"#N/A"},{"$error":"#N/A"},{"$error":"#N/A"},{"$error":"#N/A"},{"$error":"#N/A"},{"$error":"#N/A"},{"$error":"#N/A"},{"$error":"#N/A"},{"$error":"#N/A"},{"$error":"#N/A"},{"$f":"IF($AK$38=0,TRANSPOSE(MMULT($O$10:$Q$12,TRANSPOSE(C824:E824))),TRANSPOSE(MMULT($O$10:$Q$12,TRANSPOSE(Y824:AA824))))","v":{"$error":"#N/A"}},{"$error":"#N/A"},{"$error":"#N/A"},{"$error":"#N/A"},{"$error":"#N/A"},{"$f":"TRANSPOSE(MMULT($AE$10:$AG$12,TRANSPOSE(F824:H824)))","v":{"$error":"#N/A"}},{"$error":"#N/A"},{"$error":"#N/A"},{"$error":"#N/A"},{"$error":"#N/A"},{"$f":"TRANSPOSE(MMULT($AO$40:$AQ$42,TRANSPOSE(C824:E824)))","v":{"$error":"#N/A"}},{"$error":"#N/A"},{"$error":"#N/A"},{"$error":"#N/A"},{"$error":"#N/A"},{"$error":"#N/A"}]
[825,{"$error":"#N/A"},{"$error":"#N/A"},{"$error":"#N/A"},{"$error":"#N/A"},{"$error":"#N/A"},{"$error":"#N/A"},{"$error":"#N/A"},{"$error":"#N/A"},{"$error":"#N/A"},{"$error":"#N/A"},{"$f":"IF($AK$38=0,TRANSPOSE(MMULT($O$10:$Q$12,TRANSPOSE(C825:E825))),TRANSPOSE(MMULT($O$10:$Q$12,TRANSPOSE(Y825:AA825))))","v":{"$error":"#N/A"}},{"$error":"#N/A"},{"$error":"#N/A"},{"$error":"#N/A"},{"$error":"#N/A"},{"$f":"TRANSPOSE(MMULT($AE$10:$AG$12,TRANSPOSE(F825:H825)))","v":{"$error":"#N/A"}},{"$error":"#N/A"},{"$error":"#N/A"},{"$error":"#N/A"},{"$error":"#N/A"},{"$f":"TRANSPOSE(MMULT($AO$40:$AQ$42,TRANSPOSE(C825:E825)))","v":{"$error":"#N/A"}},{"$error":"#N/A"},{"$error":"#N/A"},{"$error":"#N/A"},{"$error":"#N/A"},{"$error":"#N/A"}]
[826,{"$error":"#N/A"},{"$error":"#N/A"},{"$error":"#N/A"},{"$error":"#N/A"},{"$error":"#N/A"},{"$error":"#N/A"},{"$error":"#N/A"},{"$error":"#N/A"},{"$error":"#N/A"},{"$error":"#N/A"},{"$f":"IF($AK$38=0,TRANSPOSE(MMULT($O$10:$Q$12,TRANSPOSE(C826:E826))),TRANSPOSE(MMULT($O$10:$Q$12,TRANSPOSE(Y826:AA826))))","v":{"$error":"#N/A"}},{"$error":"#N/A"},{"$error":"#N/A"},{"$error":"#N/A"},{"$error":"#N/A"},{"$f":"TRANSPOSE(MMULT($AE$10:$AG$12,TRANSPOSE(F826:H826)))","v":{"$error":"#N/A"}},{"$error":"#N/A"},{"$error":"#N/A"},{"$error":"#N/A"},{"$error":"#N/A"},{"$f":"TRANSPOSE(MMULT($AO$40:$AQ$42,TRANSPOSE(C826:E826)))","v":{"$error":"#N/A"}},{"$error":"#N/A"},{"$error":"#N/A"},{"$error":"#N/A"},{"$error":"#N/A"},{"$error":"#N/A"}]
[827,{"$error":"#N/A"},{"$error":"#N/A"},{"$error":"#N/A"},{"$error":"#N/A"},{"$error":"#N/A"},{"$error":"#N/A"},{"$error":"#N/A"},{"$error":"#N/A"},{"$error":"#N/A"},{"$error":"#N/A"},{"$f":"IF($AK$38=0,TRANSPOSE(MMULT($O$10:$Q$12,TRANSPOSE(C827:E827))),TRANSPOSE(MMULT($O$10:$Q$12,TRANSPOSE(Y827:AA827))))","v":{"$error":"#N/A"}},{"$error":"#N/A"},{"$error":"#N/A"},{"$error":"#N/A"},{"$error":"#N/A"},{"$f":"TRANSPOSE(MMULT($AE$10:$AG$12,TRANSPOSE(F827:H827)))","v":{"$error":"#N/A"}},{"$error":"#N/A"},{"$error":"#N/A"},{"$error":"#N/A"},{"$error":"#N/A"},{"$f":"TRANSPOSE(MMULT($AO$40:$AQ$42,TRANSPOSE(C827:E827)))","v":{"$error":"#N/A"}},{"$error":"#N/A"},{"$error":"#N/A"},{"$error":"#N/A"},{"$error":"#N/A"},{"$error":"#N/A"}]
[828,{"$error":"#N/A"},{"$error":"#N/A"},{"$error":"#N/A"},{"$error":"#N/A"},{"$error":"#N/A"},{"$error":"#N/A"},{"$error":"#N/A"},{"$error":"#N/A"},{"$error":"#N/A"},{"$error":"#N/A"},{"$f":"IF($AK$38=0,TRANSPOSE(MMULT($O$10:$Q$12,TRANSPOSE(C828:E828))),TRANSPOSE(MMULT($O$10:$Q$12,TRANSPOSE(Y828:AA828))))","v":{"$error":"#N/A"}},{"$error":"#N/A"},{"$error":"#N/A"},{"$error":"#N/A"},{"$error":"#N/A"},{"$f":"TRANSPOSE(MMULT($AE$10:$AG$12,TRANSPOSE(F828:H828)))","v":{"$error":"#N/A"}},{"$error":"#N/A"},{"$error":"#N/A"},{"$error":"#N/A"},{"$error":"#N/A"},{"$f":"TRANSPOSE(MMULT($AO$40:$AQ$42,TRANSPOSE(C828:E828)))","v":{"$error":"#N/A"}},{"$error":"#N/A"},{"$error":"#N/A"},{"$error":"#N/A"},{"$error":"#N/A"},{"$error":"#N/A"}]
[829,{"$error":"#N/A"},{"$error":"#N/A"},{"$error":"#N/A"},{"$error":"#N/A"},{"$error":"#N/A"},{"$error":"#N/A"},{"$error":"#N/A"},{"$error":"#N/A"},{"$error":"#N/A"},{"$error":"#N/A"},{"$f":"IF($AK$38=0,TRANSPOSE(MMULT($O$10:$Q$12,TRANSPOSE(C829:E829))),TRANSPOSE(MMULT($O$10:$Q$12,TRANSPOSE(Y829:AA829))))","v":{"$error":"#N/A"}},{"$error":"#N/A"},{"$error":"#N/A"},{"$error":"#N/A"},{"$error":"#N/A"},{"$f":"TRANSPOSE(MMULT($AE$10:$AG$12,TRANSPOSE(F829:H829)))","v":{"$error":"#N/A"}},{"$error":"#N/A"},{"$error":"#N/A"},{"$error":"#N/A"},{"$error":"#N/A"},{"$f":"TRANSPOSE(MMULT($AO$40:$AQ$42,TRANSPOSE(C829:E829)))","v":{"$error":"#N/A"}},{"$error":"#N/A"},{"$error":"#N/A"},{"$error":"#N/A"},{"$error":"#N/A"},{"$error":"#N/A"}]
[830,{"$error":"#N/A"},{"$error":"#N/A"},{"$error":"#N/A"},{"$error":"#N/A"},{"$error":"#N/A"},{"$error":"#N/A"},{"$error":"#N/A"},{"$error":"#N/A"},{"$error":"#N/A"},{"$error":"#N/A"},{"$f":"IF($AK$38=0,TRANSPOSE(MMULT($O$10:$Q$12,TRANSPOSE(C830:E830))),TRANSPOSE(MMULT($O$10:$Q$12,TRANSPOSE(Y830:AA830))))","v":{"$error":"#N/A"}},{"$error":"#N/A"},{"$error":"#N/A"},{"$error":"#N/A"},{"$error":"#N/A"},{"$f":"TRANSPOSE(MMULT($AE$10:$AG$12,TRANSPOSE(F830:H830)))","v":{"$error":"#N/A"}},{"$error":"#N/A"},{"$error":"#N/A"},{"$error":"#N/A"},{"$error":"#N/A"},{"$f":"TRANSPOSE(MMULT($AO$40:$AQ$42,TRANSPOSE(C830:E830)))","v":{"$error":"#N/A"}},{"$error":"#N/A"},{"$error":"#N/A"},{"$error":"#N/A"},{"$error":"#N/A"},{"$error":"#N/A"}]
[831,{"$error":"#N/A"},{"$error":"#N/A"},{"$error":"#N/A"},{"$error":"#N/A"},{"$error":"#N/A"},{"$error":"#N/A"},{"$error":"#N/A"},{"$error":"#N/A"},{"$error":"#N/A"},{"$error":"#N/A"},{"$f":"IF($AK$38=0,TRANSPOSE(MMULT($O$10:$Q$12,TRANSPOSE(C831:E831))),TRANSPOSE(MMULT($O$10:$Q$12,TRANSPOSE(Y831:AA831))))","v":{"$error":"#N/A"}},{"$error":"#N/A"},{"$error":"#N/A"},{"$error":"#N/A"},{"$error":"#N/A"},{"$f":"TRANSPOSE(MMULT($AE$10:$AG$12,TRANSPOSE(F831:H831)))","v":{"$error":"#N/A"}},{"$error":"#N/A"},{"$error":"#N/A"},{"$error":"#N/A"},{"$error":"#N/A"},{"$f":"TRANSPOSE(MMULT($AO$40:$AQ$42,TRANSPOSE(C831:E831)))","v":{"$error":"#N/A"}},{"$error":"#N/A"},{"$error":"#N/A"},{"$error":"#N/A"},{"$error":"#N/A"},{"$error":"#N/A"}]
[832,{"$error":"#N/A"},{"$error":"#N/A"},{"$error":"#N/A"},{"$error":"#N/A"},{"$error":"#N/A"},{"$error":"#N/A"},{"$error":"#N/A"},{"$error":"#N/A"},{"$error":"#N/A"},{"$error":"#N/A"},{"$f":"IF($AK$38=0,TRANSPOSE(MMULT($O$10:$Q$12,TRANSPOSE(C832:E832))),TRANSPOSE(MMULT($O$10:$Q$12,TRANSPOSE(Y832:AA832))))","v":{"$error":"#N/A"}},{"$error":"#N/A"},{"$error":"#N/A"},{"$error":"#N/A"},{"$error":"#N/A"},{"$f":"TRANSPOSE(MMULT($AE$10:$AG$12,TRANSPOSE(F832:H832)))","v":{"$error":"#N/A"}},{"$error":"#N/A"},{"$error":"#N/A"},{"$error":"#N/A"},{"$error":"#N/A"},{"$f":"TRANSPOSE(MMULT($AO$40:$AQ$42,TRANSPOSE(C832:E832)))","v":{"$error":"#N/A"}},{"$error":"#N/A"},{"$error":"#N/A"},{"$error":"#N/A"},{"$error":"#N/A"},{"$error":"#N/A"}]
[833,{"$error":"#N/A"},{"$error":"#N/A"},{"$error":"#N/A"},{"$error":"#N/A"},{"$error":"#N/A"},{"$error":"#N/A"},{"$error":"#N/A"},{"$error":"#N/A"},{"$error":"#N/A"},{"$error":"#N/A"},{"$f":"IF($AK$38=0,TRANSPOSE(MMULT($O$10:$Q$12,TRANSPOSE(C833:E833))),TRANSPOSE(MMULT($O$10:$Q$12,TRANSPOSE(Y833:AA833))))","v":{"$error":"#N/A"}},{"$error":"#N/A"},{"$error":"#N/A"},{"$error":"#N/A"},{"$error":"#N/A"},{"$f":"TRANSPOSE(MMULT($AE$10:$AG$12,TRANSPOSE(F833:H833)))","v":{"$error":"#N/A"}},{"$error":"#N/A"},{"$error":"#N/A"},{"$error":"#N/A"},{"$error":"#N/A"},{"$f":"TRANSPOSE(MMULT($AO$40:$AQ$42,TRANSPOSE(C833:E833)))","v":{"$error":"#N/A"}},{"$error":"#N/A"},{"$error":"#N/A"},{"$error":"#N/A"},{"$error":"#N/A"},{"$error":"#N/A"}]
[834,{"$error":"#N/A"},{"$error":"#N/A"},{"$error":"#N/A"},{"$error":"#N/A"},{"$error":"#N/A"},{"$error":"#N/A"},{"$error":"#N/A"},{"$error":"#N/A"},{"$error":"#N/A"},{"$error":"#N/A"},{"$f":"IF($AK$38=0,TRANSPOSE(MMULT($O$10:$Q$12,TRANSPOSE(C834:E834))),TRANSPOSE(MMULT($O$10:$Q$12,TRANSPOSE(Y834:AA834))))","v":{"$error":"#N/A"}},{"$error":"#N/A"},{"$error":"#N/A"},{"$error":"#N/A"},{"$error":"#N/A"},{"$f":"TRANSPOSE(MMULT($AE$10:$AG$12,TRANSPOSE(F834:H834)))","v":{"$error":"#N/A"}},{"$error":"#N/A"},{"$error":"#N/A"},{"$error":"#N/A"},{"$error":"#N/A"},{"$f":"TRANSPOSE(MMULT($AO$40:$AQ$42,TRANSPOSE(C834:E834)))","v":{"$error":"#N/A"}},{"$error":"#N/A"},{"$error":"#N/A"},{"$error":"#N/A"},{"$error":"#N/A"},{"$error":"#N/A"}]
[835,{"$error":"#N/A"},{"$error":"#N/A"},{"$error":"#N/A"},{"$error":"#N/A"},{"$error":"#N/A"},{"$error":"#N/A"},{"$error":"#N/A"},{"$error":"#N/A"},{"$error":"#N/A"},{"$error":"#N/A"},{"$f":"IF($AK$38=0,TRANSPOSE(MMULT($O$10:$Q$12,TRANSPOSE(C835:E835))),TRANSPOSE(MMULT($O$10:$Q$12,TRANSPOSE(Y835:AA835))))","v":{"$error":"#N/A"}},{"$error":"#N/A"},{"$error":"#N/A"},{"$error":"#N/A"},{"$error":"#N/A"},{"$f":"TRANSPOSE(MMULT($AE$10:$AG$12,TRANSPOSE(F835:H835)))","v":{"$error":"#N/A"}},{"$error":"#N/A"},{"$error":"#N/A"},{"$error":"#N/A"},{"$error":"#N/A"},{"$f":"TRANSPOSE(MMULT($AO$40:$AQ$42,TRANSPOSE(C835:E835)))","v":{"$error":"#N/A"}},{"$error":"#N/A"},{"$error":"#N/A"},{"$error":"#N/A"},{"$error":"#N/A"},{"$error":"#N/A"}]
[836,{"$error":"#N/A"},{"$error":"#N/A"},{"$error":"#N/A"},{"$error":"#N/A"},{"$error":"#N/A"},{"$error":"#N/A"},{"$error":"#N/A"},{"$error":"#N/A"},{"$error":"#N/A"},{"$error":"#N/A"},{"$f":"IF($AK$38=0,TRANSPOSE(MMULT($O$10:$Q$12,TRANSPOSE(C836:E836))),TRANSPOSE(MMULT($O$10:$Q$12,TRANSPOSE(Y836:AA836))))","v":{"$error":"#N/A"}},{"$error":"#N/A"},{"$error":"#N/A"},{"$error":"#N/A"},{"$error":"#N/A"},{"$f":"TRANSPOSE(MMULT($AE$10:$AG$12,TRANSPOSE(F836:H836)))","v":{"$error":"#N/A"}},{"$error":"#N/A"},{"$error":"#N/A"},{"$error":"#N/A"},{"$error":"#N/A"},{"$f":"TRANSPOSE(MMULT($AO$40:$AQ$42,TRANSPOSE(C836:E836)))","v":{"$error":"#N/A"}},{"$error":"#N/A"},{"$error":"#N/A"},{"$error":"#N/A"},{"$error":"#N/A"},{"$error":"#N/A"}]
[837,{"$error":"#N/A"},{"$error":"#N/A"},{"$error":"#N/A"},{"$error":"#N/A"},{"$error":"#N/A"},{"$error":"#N/A"},{"$error":"#N/A"},{"$error":"#N/A"},{"$error":"#N/A"},{"$error":"#N/A"},{"$f":"IF($AK$38=0,TRANSPOSE(MMULT($O$10:$Q$12,TRANSPOSE(C837:E837))),TRANSPOSE(MMULT($O$10:$Q$12,TRANSPOSE(Y837:AA837))))","v":{"$error":"#N/A"}},{"$error":"#N/A"},{"$error":"#N/A"},{"$error":"#N/A"},{"$error":"#N/A"},{"$f":"TRANSPOSE(MMULT($AE$10:$AG$12,TRANSPOSE(F837:H837)))","v":{"$error":"#N/A"}},{"$error":"#N/A"},{"$error":"#N/A"},{"$error":"#N/A"},{"$error":"#N/A"},{"$f":"TRANSPOSE(MMULT($AO$40:$AQ$42,TRANSPOSE(C837:E837)))","v":{"$error":"#N/A"}},{"$error":"#N/A"},{"$error":"#N/A"},{"$error":"#N/A"},{"$error":"#N/A"},{"$error":"#N/A"}]
[838,{"$error":"#N/A"},{"$error":"#N/A"},{"$error":"#N/A"},{"$error":"#N/A"},{"$error":"#N/A"},{"$error":"#N/A"},{"$error":"#N/A"},{"$error":"#N/A"},{"$error":"#N/A"},{"$error":"#N/A"},{"$f":"IF($AK$38=0,TRANSPOSE(MMULT($O$10:$Q$12,TRANSPOSE(C838:E838))),TRANSPOSE(MMULT($O$10:$Q$12,TRANSPOSE(Y838:AA838))))","v":{"$error":"#N/A"}},{"$error":"#N/A"},{"$error":"#N/A"},{"$error":"#N/A"},{"$error":"#N/A"},{"$f":"TRANSPOSE(MMULT($AE$10:$AG$12,TRANSPOSE(F838:H838)))","v":{"$error":"#N/A"}},{"$error":"#N/A"},{"$error":"#N/A"},{"$error":"#N/A"},{"$error":"#N/A"},{"$f":"TRANSPOSE(MMULT($AO$40:$AQ$42,TRANSPOSE(C838:E838)))","v":{"$error":"#N/A"}},{"$error":"#N/A"},{"$error":"#N/A"},{"$error":"#N/A"},{"$error":"#N/A"},{"$error":"#N/A"}]
[839,{"$error":"#N/A"},{"$error":"#N/A"},{"$error":"#N/A"},{"$error":"#N/A"},{"$error":"#N/A"},{"$error":"#N/A"},{"$error":"#N/A"},{"$error":"#N/A"},{"$error":"#N/A"},{"$error":"#N/A"},{"$f":"IF($AK$38=0,TRANSPOSE(MMULT($O$10:$Q$12,TRANSPOSE(C839:E839))),TRANSPOSE(MMULT($O$10:$Q$12,TRANSPOSE(Y839:AA839))))","v":{"$error":"#N/A"}},{"$error":"#N/A"},{"$error":"#N/A"},{"$error":"#N/A"},{"$error":"#N/A"},{"$f":"TRANSPOSE(MMULT($AE$10:$AG$12,TRANSPOSE(F839:H839)))","v":{"$error":"#N/A"}},{"$error":"#N/A"},{"$error":"#N/A"},{"$error":"#N/A"},{"$error":"#N/A"},{"$f":"TRANSPOSE(MMULT($AO$40:$AQ$42,TRANSPOSE(C839:E839)))","v":{"$error":"#N/A"}},{"$error":"#N/A"},{"$error":"#N/A"},{"$error":"#N/A"},{"$error":"#N/A"},{"$error":"#N/A"}]
[840,{"$error":"#N/A"},{"$error":"#N/A"},{"$error":"#N/A"},{"$error":"#N/A"},{"$error":"#N/A"},{"$error":"#N/A"},{"$error":"#N/A"},{"$error":"#N/A"},{"$error":"#N/A"},{"$error":"#N/A"},{"$f":"IF($AK$38=0,TRANSPOSE(MMULT($O$10:$Q$12,TRANSPOSE(C840:E840))),TRANSPOSE(MMULT($O$10:$Q$12,TRANSPOSE(Y840:AA840))))","v":{"$error":"#N/A"}},{"$error":"#N/A"},{"$error":"#N/A"},{"$error":"#N/A"},{"$error":"#N/A"},{"$f":"TRANSPOSE(MMULT($AE$10:$AG$12,TRANSPOSE(F840:H840)))","v":{"$error":"#N/A"}},{"$error":"#N/A"},{"$error":"#N/A"},{"$error":"#N/A"},{"$error":"#N/A"},{"$f":"TRANSPOSE(MMULT($AO$40:$AQ$42,TRANSPOSE(C840:E840)))","v":{"$error":"#N/A"}},{"$error":"#N/A"},{"$error":"#N/A"},{"$error":"#N/A"},{"$error":"#N/A"},{"$error":"#N/A"}]
[841,{"$error":"#N/A"},{"$error":"#N/A"},{"$error":"#N/A"},{"$error":"#N/A"},{"$error":"#N/A"},{"$error":"#N/A"},{"$error":"#N/A"},{"$error":"#N/A"},{"$error":"#N/A"},{"$error":"#N/A"},{"$f":"IF($AK$38=0,TRANSPOSE(MMULT($O$10:$Q$12,TRANSPOSE(C841:E841))),TRANSPOSE(MMULT($O$10:$Q$12,TRANSPOSE(Y841:AA841))))","v":{"$error":"#N/A"}},{"$error":"#N/A"},{"$error":"#N/A"},{"$error":"#N/A"},{"$error":"#N/A"},{"$f":"TRANSPOSE(MMULT($AE$10:$AG$12,TRANSPOSE(F841:H841)))","v":{"$error":"#N/A"}},{"$error":"#N/A"},{"$error":"#N/A"},{"$error":"#N/A"},{"$error":"#N/A"},{"$f":"TRANSPOSE(MMULT($AO$40:$AQ$42,TRANSPOSE(C841:E841)))","v":{"$error":"#N/A"}},{"$error":"#N/A"},{"$error":"#N/A"},{"$error":"#N/A"},{"$error":"#N/A"},{"$error":"#N/A"}]
[842,{"$error":"#N/A"},{"$error":"#N/A"},{"$error":"#N/A"},{"$error":"#N/A"},{"$error":"#N/A"},{"$error":"#N/A"},{"$error":"#N/A"},{"$error":"#N/A"},{"$error":"#N/A"},{"$error":"#N/A"},{"$f":"IF($AK$38=0,TRANSPOSE(MMULT($O$10:$Q$12,TRANSPOSE(C842:E842))),TRANSPOSE(MMULT($O$10:$Q$12,TRANSPOSE(Y842:AA842))))","v":{"$error":"#N/A"}},{"$error":"#N/A"},{"$error":"#N/A"},{"$error":"#N/A"},{"$error":"#N/A"},{"$f":"TRANSPOSE(MMULT($AE$10:$AG$12,TRANSPOSE(F842:H842)))","v":{"$error":"#N/A"}},{"$error":"#N/A"},{"$error":"#N/A"},{"$error":"#N/A"},{"$error":"#N/A"},{"$f":"TRANSPOSE(MMULT($AO$40:$AQ$42,TRANSPOSE(C842:E842)))","v":{"$error":"#N/A"}},{"$error":"#N/A"},{"$error":"#N/A"},{"$error":"#N/A"},{"$error":"#N/A"},{"$error":"#N/A"}]
[843,{"$error":"#N/A"},{"$error":"#N/A"},{"$error":"#N/A"},{"$error":"#N/A"},{"$error":"#N/A"},{"$error":"#N/A"},{"$error":"#N/A"},{"$error":"#N/A"},{"$error":"#N/A"},{"$error":"#N/A"},{"$f":"IF($AK$38=0,TRANSPOSE(MMULT($O$10:$Q$12,TRANSPOSE(C843:E843))),TRANSPOSE(MMULT($O$10:$Q$12,TRANSPOSE(Y843:AA843))))","v":{"$error":"#N/A"}},{"$error":"#N/A"},{"$error":"#N/A"},{"$error":"#N/A"},{"$error":"#N/A"},{"$f":"TRANSPOSE(MMULT($AE$10:$AG$12,TRANSPOSE(F843:H843)))","v":{"$error":"#N/A"}},{"$error":"#N/A"},{"$error":"#N/A"},{"$error":"#N/A"},{"$error":"#N/A"},{"$f":"TRANSPOSE(MMULT($AO$40:$AQ$42,TRANSPOSE(C843:E843)))","v":{"$error":"#N/A"}},{"$error":"#N/A"},{"$error":"#N/A"},{"$error":"#N/A"},{"$error":"#N/A"},{"$error":"#N/A"}]
[844,{"$error":"#N/A"},{"$error":"#N/A"},{"$error":"#N/A"},{"$error":"#N/A"},{"$error":"#N/A"},{"$error":"#N/A"},{"$error":"#N/A"},{"$error":"#N/A"},{"$error":"#N/A"},{"$error":"#N/A"},{"$f":"IF($AK$38=0,TRANSPOSE(MMULT($O$10:$Q$12,TRANSPOSE(C844:E844))),TRANSPOSE(MMULT($O$10:$Q$12,TRANSPOSE(Y844:AA844))))","v":{"$error":"#N/A"}},{"$error":"#N/A"},{"$error":"#N/A"},{"$error":"#N/A"},{"$error":"#N/A"},{"$f":"TRANSPOSE(MMULT($AE$10:$AG$12,TRANSPOSE(F844:H844)))","v":{"$error":"#N/A"}},{"$error":"#N/A"},{"$error":"#N/A"},{"$error":"#N/A"},{"$error":"#N/A"},{"$f":"TRANSPOSE(MMULT($AO$40:$AQ$42,TRANSPOSE(C844:E844)))","v":{"$error":"#N/A"}},{"$error":"#N/A"},{"$error":"#N/A"},{"$error":"#N/A"},{"$error":"#N/A"},{"$error":"#N/A"}]
[845,{"$error":"#N/A"},{"$error":"#N/A"},{"$error":"#N/A"},{"$error":"#N/A"},{"$error":"#N/A"},{"$error":"#N/A"},{"$error":"#N/A"},{"$error":"#N/A"},{"$error":"#N/A"},{"$error":"#N/A"},{"$f":"IF($AK$38=0,TRANSPOSE(MMULT($O$10:$Q$12,TRANSPOSE(C845:E845))),TRANSPOSE(MMULT($O$10:$Q$12,TRANSPOSE(Y845:AA845))))","v":{"$error":"#N/A"}},{"$error":"#N/A"},{"$error":"#N/A"},{"$error":"#N/A"},{"$error":"#N/A"},{"$f":"TRANSPOSE(MMULT($AE$10:$AG$12,TRANSPOSE(F845:H845)))","v":{"$error":"#N/A"}},{"$error":"#N/A"},{"$error":"#N/A"},{"$error":"#N/A"},{"$error":"#N/A"},{"$f":"TRANSPOSE(MMULT($AO$40:$AQ$42,TRANSPOSE(C845:E845)))","v":{"$error":"#N/A"}},{"$error":"#N/A"},{"$error":"#N/A"},{"$error":"#N/A"},{"$error":"#N/A"},{"$error":"#N/A"}]
[846,{"$error":"#N/A"},{"$error":"#N/A"},{"$error":"#N/A"},{"$error":"#N/A"},{"$error":"#N/A"},{"$error":"#N/A"},{"$error":"#N/A"},{"$error":"#N/A"},{"$error":"#N/A"},{"$error":"#N/A"},{"$f":"IF($AK$38=0,TRANSPOSE(MMULT($O$10:$Q$12,TRANSPOSE(C846:E846))),TRANSPOSE(MMULT($O$10:$Q$12,TRANSPOSE(Y846:AA846))))","v":{"$error":"#N/A"}},{"$error":"#N/A"},{"$error":"#N/A"},{"$error":"#N/A"},{"$error":"#N/A"},{"$f":"TRANSPOSE(MMULT($AE$10:$AG$12,TRANSPOSE(F846:H846)))","v":{"$error":"#N/A"}},{"$error":"#N/A"},{"$error":"#N/A"},{"$error":"#N/A"},{"$error":"#N/A"},{"$f":"TRANSPOSE(MMULT($AO$40:$AQ$42,TRANSPOSE(C846:E846)))","v":{"$error":"#N/A"}},{"$error":"#N/A"},{"$error":"#N/A"},{"$error":"#N/A"},{"$error":"#N/A"},{"$error":"#N/A"}]
[847,{"$error":"#N/A"},{"$error":"#N/A"},{"$error":"#N/A"},{"$error":"#N/A"},{"$error":"#N/A"},{"$error":"#N/A"},{"$error":"#N/A"},{"$error":"#N/A"},{"$error":"#N/A"},{"$error":"#N/A"},{"$f":"IF($AK$38=0,TRANSPOSE(MMULT($O$10:$Q$12,TRANSPOSE(C847:E847))),TRANSPOSE(MMULT($O$10:$Q$12,TRANSPOSE(Y847:AA847))))","v":{"$error":"#N/A"}},{"$error":"#N/A"},{"$error":"#N/A"},{"$error":"#N/A"},{"$error":"#N/A"},{"$f":"TRANSPOSE(MMULT($AE$10:$AG$12,TRANSPOSE(F847:H847)))","v":{"$error":"#N/A"}},{"$error":"#N/A"},{"$error":"#N/A"},{"$error":"#N/A"},{"$error":"#N/A"},{"$f":"TRANSPOSE(MMULT($AO$40:$AQ$42,TRANSPOSE(C847:E847)))","v":{"$error":"#N/A"}},{"$error":"#N/A"},{"$error":"#N/A"},{"$error":"#N/A"},{"$error":"#N/A"},{"$error":"#N/A"}]
[848,{"$error":"#N/A"},{"$error":"#N/A"},{"$error":"#N/A"},{"$error":"#N/A"},{"$f":"(F$7+2*I$7*$B848+3*L$7*$B848^2+4*O$7*$B848^3)*SIN(O$8*$B848^4+L$8*$B848^3+I$8*$B848^2+F$8*$B848+C$8)+(F$8+2*I$8*$B848+3*L$8*$B848^2+4*O$8*$B848^3)*(C$7+F$7*$B848+I$7*$B848^2+L$7*$B848^3+O$7*$B848^4)*COS(O$8*$B848^4+L$8*$B848^3+I$8*$B848^2+F$8*$B848+C$8)-(F$6+2*I$6*$B848+3*L$6*$B848^2+4*O$6*$B848^3)*(C$5+F$5*$B848+I$5*$B848^2+L$5*$B848^3+O$5*$B848^4)*SIN(O$6*$B848^4+L$6*$B848^3+I$6*$B848^2+F$6*$B848+C$6)+(F$5+2*I$5*$B848+3*L$5*$B848^2+4*O$5*$B848^3)*COS(O$6*$B848^4+L$6*$B848^3+I$6*$B848^2+F$6*$B848+C$6)+4*O$4*$B848^3+3*L$4*$B848^2+2*I$4*$B848+F$4","v":{"$error":"#N/A"}},{"$f":"(G$7+2*J$7*$B848+3*M$7*$B848^2+4*P$7*$B848^3)*SIN(P$8*$B848^4+M$8*$B848^3+J$8*$B848^2+G$8*$B848+D$8)+(G$8+2*J$8*$B848+3*M$8*$B848^2+4*P$8*$B848^3)*(D$7+G$7*$B848+J$7*$B848^2+M$7*$B848^3+P$7*$B848^4)*COS(P$8*$B848^4+M$8*$B848^3+J$8*$B848^2+G$8*$B848+D$8)-(G$6+2*J$6*$B848+3*M$6*$B848^2+4*P$6*$B848^3)*(D$5+G$5*$B848+J$5*$B848^2+M$5*$B848^3+P$5*$B848^4)*SIN(P$6*$B848^4+M$6*$B848^3+J$6*$B848^2+G$6*$B848+D$6)+(G$5+2*J$5*$B848+3*M$5*$B848^2+4*P$5*$B848^3)*COS(P$6*$B848^4+M$6*$B848^3+J$6*$B848^2+G$6*$B848+D$6)+4*P$4*$B848^3+3*M$4*$B848^2+2*J$4*$B848+G$4","v":{"$error":"#N/A"}},{"$f":"(H$7+2*K$7*$B848+3*N$7*$B848^2+4*Q$7*$B848^3)*SIN(Q$8*$B848^4+N$8*$B848^3+K$8*$B848^2+H$8*$B848+E$8)+(H$8+2*K$8*$B848+3*N$8*$B848^2+4*Q$8*$B848^3)*(E$7+H$7*$B848+K$7*$B848^2+N$7*$B848^3+Q$7*$B848^4)*COS(Q$8*$B848^4+N$8*$B848^3+K$8*$B848^2+H$8*$B848+E$8)-(H$6+2*K$6*$B848+3*N$6*$B848^2+4*Q$6*$B848^3)*(E$5+H$5*$B848+K$5*$B848^2+N$5*$B848^3+Q$5*$B848^4)*SIN(Q$6*$B848^4+N$6*$B848^3+K$6*$B848^2+H$6*$B848+E$6)+(H$5+2*K$5*$B848+3*N$5*$B848^2+4*Q$5*$B848^3)*COS(Q$6*$B848^4+N$6*$B848^3+K$6*$B848^2+H$6*$B848+E$6)+4*Q$4*$B848^3+3*N$4*$B848^2+2*K$4*$B848+H$4","v":{"$error":"#N/A"}},{"$f":"-1*(F$8+2*I$8*$B848+3*L$8*$B848^2+4*O$8*$B848^3)^2*(C$7+F$7*$B848+I$7*$B848^2+L$7*$B848^3+O$7*$B848^4)*SIN(O$8*$B848^4+L$8*$B848^3+I$8*$B848^2+F$8*$B848+C$8)+(2*I$7+6*L$7*$B848+12*O$7*$B848^2)*SIN(O$8*$B848^4+L$8*$B848^3+I$8*$B848^2+F$8*$B848+C$8)+(2*I$8+6*L$8*$B848+12*O$8*$B848^2)*(C$7+F$7*$B848+I$7*$B848^2+L$7*$B848^3+O$7*$B848^4)*COS(O$8*$B848^4+L$8*$B848^3+I$8*$B848^2+F$8*$B848+C$8)+2*(F$7+2*I$7*$B848+3*L$7*$B848^2+4*O$7*$B848^3)*(F$8+2*I$8*$B848+3*L$8*$B848^2+4*O$8*$B848^3)*COS(O$8*$B848^4+L$8*$B848^3+I$8*$B848^2+F$8*$B848+C$8)-(2*I$6+6*L$6*$B848+12*O$6*$B848^2)*(C$5+F$5*$B848+I$5*$B848^2+L$5*$B848^3+O$5*$B848^4)*SIN(O$6*$B848^4+L$6*$B848^3+I$6*$B848^2+F$6*$B848+C$6)-2*(F$5+2*I$5*$B848+3*L$5*$B848^2+4*O$5*$B848^3)*(F$6+2*I$6*$B848+3*L$6*$B848^2+4*O$6*$B848^3)*SIN(O$6*$B848^4+L$6*$B848^3+I$6*$B848^2+F$6*$B848+C$6)-(F$6+2*I$6*$B848+3*L$6*$B848^2+4*O$6*$B848^3)^2*(C$5+F$5*$B848+I$5*$B848^2+L$5*$B848^3+O$5*$B848^4)*COS(O$6*$B848^4+L$6*$B848^3+I$6*$B848^2+F$6*$B848+C$6)+(2*I$5+6*L$5*$B848+12*O$5*$B848^2)*COS(O$6*$B848^4+L$6*$B848^3+I$6*$B848^2+F$6*$B848+C$6)+12*O$4*$B848^2+6*L$4*$B848+2*I$4","v":{"$error":"#N/A"}},{"$f":"-1*(G$8+2*J$8*$B848+3*M$8*$B848^2+4*P$8*$B848^3)^2*(D$7+G$7*$B848+J$7*$B848^2+M$7*$B848^3+P$7*$B848^4)*SIN(P$8*$B848^4+M$8*$B848^3+J$8*$B848^2+G$8*$B848+D$8)+(2*J$7+6*M$7*$B848+12*P$7*$B848^2)*SIN(P$8*$B848^4+M$8*$B848^3+J$8*$B848^2+G$8*$B848+D$8)+(2*J$8+6*M$8*$B848+12*P$8*$B848^2)*(D$7+G$7*$B848+J$7*$B848^2+M$7*$B848^3+P$7*$B848^4)*COS(P$8*$B848^4+M$8*$B848^3+J$8*$B848^2+G$8*$B848+D$8)+2*(G$7+2*J$7*$B848+3*M$7*$B848^2+4*P$7*$B848^3)*(G$8+2*J$8*$B848+3*M$8*$B848^2+4*P$8*$B848^3)*COS(P$8*$B848^4+M$8*$B848^3+J$8*$B848^2+G$8*$B848+D$8)-(2*J$6+6*M$6*$B848+12*P$6*$B848^2)*(D$5+G$5*$B848+J$5*$B848^2+M$5*$B848^3+P$5*$B848^4)*SIN(P$6*$B848^4+M$6*$B848^3+J$6*$B848^2+G$6*$B848+D$6)-2*(G$5+2*J$5*$B848+3*M$5*$B848^2+4*P$5*$B848^3)*(G$6+2*J$6*$B848+3*M$6*$B848^2+4*P$6*$B848^3)*SIN(P$6*$B848^4+M$6*$B848^3+J$6*$B848^2+G$6*$B848+D$6)-(G$6+2*J$6*$B848+3*M$6*$B848^2+4*P$6*$B848^3)^2*(D$5+G$5*$B848+J$5*$B848^2+M$5*$B848^3+P$5*$B848^4)*COS(P$6*$B848^4+M$6*$B848^3+J$6*$B848^2+G$6*$B848+D$6)+(2*J$5+6*M$5*$B848+12*P$5*$B848^2)*COS(P$6*$B848^4+M$6*$B848^3+J$6*$B848^2+G$6*$B848+D$6)+12*P$4*$B848^2+6*M$4*$B848+2*J$4","v":{"$error":"#N/A"}},{"$f":"-1*(H$8+2*K$8*$B848+3*N$8*$B848^2+4*Q$8*$B848^3)^2*(E$7+H$7*$B848+K$7*$B848^2+N$7*$B848^3+Q$7*$B848^4)*SIN(Q$8*$B848^4+N$8*$B848^3+K$8*$B848^2+H$8*$B848+E$8)+(2*K$7+6*N$7*$B848+12*Q$7*$B848^2)*SIN(Q$8*$B848^4+N$8*$B848^3+K$8*$B848^2+H$8*$B848+E$8)+(2*K$8+6*N$8*$B848+12*Q$8*$B848^2)*(E$7+H$7*$B848+K$7*$B848^2+N$7*$B848^3+Q$7*$B848^4)*COS(Q$8*$B848^4+N$8*$B848^3+K$8*$B848^2+H$8*$B848+E$8)+2*(H$7+2*K$7*$B848+3*N$7*$B848^2+4*Q$7*$B848^3)*(H$8+2*K$8*$B848+3*N$8*$B848^2+4*Q$8*$B848^3)*COS(Q$8*$B848^4+N$8*$B848^3+K$8*$B848^2+H$8*$B848+E$8)-(2*K$6+6*N$6*$B848+12*Q$6*$B848^2)*(E$5+H$5*$B848+K$5*$B848^2+N$5*$B848^3+Q$5*$B848^4)*SIN(Q$6*$B848^4+N$6*$B848^3+K$6*$B848^2+H$6*$B848+E$6)-2*(H$5+2*K$5*$B848+3*N$5*$B848^2+4*Q$5*$B848^3)*(H$6+2*K$6*$B848+3*N$6*$B848^2+4*Q$6*$B848^3)*SIN(Q$6*$B848^4+N$6*$B848^3+K$6*$B848^2+H$6*$B848+E$6)-(H$6+2*K$6*$B848+3*N$6*$B848^2+4*Q$6*$B848^3)^2*(E$5+H$5*$B848+K$5*$B848^2+N$5*$B848^3+Q$5*$B848^4)*COS(Q$6*$B848^4+N$6*$B848^3+K$6*$B848^2+H$6*$B848+E$6)+(2*K$5+6*N$5*$B848+12*Q$5*$B848^2)*COS(Q$6*$B848^4+N$6*$B848^3+K$6*$B848^2+H$6*$B848+E$6)+12*Q$4*$B848^2+6*N$4*$B848+2*K$4","v":{"$error":"#N/A"}},{"$f":"IF($AK$38=0,TRANSPOSE(MMULT($O$10:$Q$12,TRANSPOSE(C848:E848))),TRANSPOSE(MMULT($O$10:$Q$12,TRANSPOSE(Y848:AA848))))","v":{"$error":"#N/A"}},{"$error":"#N/A"},{"$error":"#N/A"},{"$error":"#N/A"},{"$error":"#N/A"},{"$f":"TRANSPOSE(MMULT($AE$10:$AG$12,TRANSPOSE(F848:H848)))","v":{"$error":"#N/A"}},{"$error":"#N/A"},{"$error":"#N/A"},{"$f":"$Y$5+$Y$4*IF($U$8=1,Q848,(Q848*$U$6)/($U$6+$U$7+R848))","v":{"$error":"#N/A"}},{"$f":"$Y$6+$Y$4*IF($U$8=1,R848,(S848*$U$6)/($U$6+$U$7+R848))","v":{"$error":"#N/A"}},{"$f":"TRANSPOSE(MMULT($AO$40:$AQ$42,TRANSPOSE(C848:E848)))","v":{"$error":"#N/A"}},{"$error":"#N/A"},{"$error":"#N/A"},{"$f":"V848+$AL$46","v":{"$error":"#N/A"}},{"$f":"W848+$AL$47","v":{"$error":"#N/A"}},{"$f":"X848+$AL$48","v":{"$error":"#N/A"}}]
[849,{"$error":"#N/A"},{"$error":"#N/A"},{"$error":"#N/A"},{"$error":"#N/A"},{"$error":"#N/A"},{"$error":"#N/A"},{"$error":"#N/A"},{"$error":"#N/A"},{"$error":"#N/A"},{"$error":"#N/A"},{"$f":"IF($AK$38=0,TRANSPOSE(MMULT($O$10:$Q$12,TRANSPOSE(C849:E849))),TRANSPOSE(MMULT($O$10:$Q$12,TRANSPOSE(Y849:AA849))))","v":{"$error":"#N/A"}},{"$error":"#N/A"},{"$error":"#N/A"},{"$f":"IF($AD$4=0,NA(),$X$5+$X$4*IF($U$8=1,L849,(L849*$U$6)/($U$6+$U$7+M849)))","v":{"$error":"#N/A"}},{"$f":"IF($AD$4=0,NA(),$X$6+$X$4*IF($U$8=1,M849,(N849*$U$6)/($U$6+$U$7+M849)))","v":{"$error":"#N/A"}},{"$f":"TRANSPOSE(MMULT($AE$10:$AG$12,TRANSPOSE(F849:H849)))","v":{"$error":"#N/A"}},{"$error":"#N/A"},{"$error":"#N/A"},{"$error":"#N/A"},{"$error":"#N/A"},{"$f":"TRANSPOSE(MMULT($AO$40:$AQ$42,TRANSPOSE(C849:E849)))","v":{"$error":"#N/A"}},{"$error":"#N/A"},{"$error":"#N/A"},{"$error":"#N/A"},{"$error":"#N/A"},{"$error":"#N/A"}]
[850,{"$f":"IF(B849<$B$3,B849+$S$3,NA())","v":{"$error":"#N/A"}},{"$error":"#N/A"},{"$error":"#N/A"},{"$error":"#N/A"},{"$error":"#N/A"},{"$error":"#N/A"},{"$error":"#N/A"},{"$error":"#N/A"},{"$error":"#N/A"},{"$error":"#N/A"},{"$f":"IF($AK$38=0,TRANSPOSE(MMULT($O$10:$Q$12,TRANSPOSE(C850:E850))),TRANSPOSE(MMULT($O$10:$Q$12,TRANSPOSE(Y850:AA850))))","v":{"$error":"#N/A"}},{"$error":"#N/A"},{"$error":"#N/A"},{"$error":"#N/A"},{"$error":"#N/A"},{"$f":"TRANSPOSE(MMULT($AE$10:$AG$12,TRANSPOSE(F850:H850)))","v":{"$error":"#N/A"}},{"$error":"#N/A"},{"$error":"#N/A"},{"$error":"#N/A"},{"$error":"#N/A"},{"$f":"TRANSPOSE(MMULT($AO$40:$AQ$42,TRANSPOSE(C850:E850)))","v":{"$error":"#N/A"}},{"$error":"#N/A"},{"$error":"#N/A"},{"$error":"#N/A"},{"$error":"#N/A"},{"$error":"#N/A"}]
[851,{"$error":"#N/A"},{"$error":"#N/A"},{"$error":"#N/A"},{"$error":"#N/A"},{"$error":"#N/A"},{"$error":"#N/A"},{"$error":"#N/A"},{"$error":"#N/A"},{"$error":"#N/A"},{"$error":"#N/A"},{"$f":"IF($AK$38=0,TRANSPOSE(MMULT($O$10:$Q$12,TRANSPOSE(C851:E851))),TRANSPOSE(MMULT($O$10:$Q$12,TRANSPOSE(Y851:AA851))))","v":{"$error":"#N/A"}},{"$error":"#N/A"},{"$error":"#N/A"},{"$error":"#N/A"},{"$error":"#N/A"},{"$f":"TRANSPOSE(MMULT($AE$10:$AG$12,TRANSPOSE(F851:H851)))","v":{"$error":"#N/A"}},{"$error":"#N/A"},{"$error":"#N/A"},{"$error":"#N/A"},{"$error":"#N/A"},{"$f":"TRANSPOSE(MMULT($AO$40:$AQ$42,TRANSPOSE(C851:E851)))","v":{"$error":"#N/A"}},{"$error":"#N/A"},{"$error":"#N/A"},{"$error":"#N/A"},{"$error":"#N/A"},{"$error":"#N/A"}]
[852,{"$error":"#N/A"},{"$error":"#N/A"},{"$error":"#N/A"},{"$error":"#N/A"},{"$error":"#N/A"},{"$error":"#N/A"},{"$error":"#N/A"},{"$error":"#N/A"},{"$error":"#N/A"},{"$error":"#N/A"},{"$f":"IF($AK$38=0,TRANSPOSE(MMULT($O$10:$Q$12,TRANSPOSE(C852:E852))),TRANSPOSE(MMULT($O$10:$Q$12,TRANSPOSE(Y852:AA852))))","v":{"$error":"#N/A"}},{"$error":"#N/A"},{"$error":"#N/A"},{"$error":"#N/A"},{"$error":"#N/A"},{"$f":"TRANSPOSE(MMULT($AE$10:$AG$12,TRANSPOSE(F852:H852)))","v":{"$error":"#N/A"}},{"$error":"#N/A"},{"$error":"#N/A"},{"$error":"#N/A"},{"$error":"#N/A"},{"$f":"TRANSPOSE(MMULT($AO$40:$AQ$42,TRANSPOSE(C852:E852)))","v":{"$error":"#N/A"}},{"$error":"#N/A"},{"$error":"#N/A"},{"$error":"#N/A"},{"$error":"#N/A"},{"$error":"#N/A"}]
[853,{"$error":"#N/A"},{"$error":"#N/A"},{"$error":"#N/A"},{"$error":"#N/A"},{"$error":"#N/A"},{"$error":"#N/A"},{"$error":"#N/A"},{"$error":"#N/A"},{"$error":"#N/A"},{"$error":"#N/A"},{"$f":"IF($AK$38=0,TRANSPOSE(MMULT($O$10:$Q$12,TRANSPOSE(C853:E853))),TRANSPOSE(MMULT($O$10:$Q$12,TRANSPOSE(Y853:AA853))))","v":{"$error":"#N/A"}},{"$error":"#N/A"},{"$error":"#N/A"},{"$error":"#N/A"},{"$error":"#N/A"},{"$f":"TRANSPOSE(MMULT($AE$10:$AG$12,TRANSPOSE(F853:H853)))","v":{"$error":"#N/A"}},{"$error":"#N/A"},{"$error":"#N/A"},{"$error":"#N/A"},{"$error":"#N/A"},{"$f":"TRANSPOSE(MMULT($AO$40:$AQ$42,TRANSPOSE(C853:E853)))","v":{"$error":"#N/A"}},{"$error":"#N/A"},{"$error":"#N/A"},{"$error":"#N/A"},{"$error":"#N/A"},{"$error":"#N/A"}]
[854,{"$error":"#N/A"},{"$error":"#N/A"},{"$error":"#N/A"},{"$error":"#N/A"},{"$error":"#N/A"},{"$error":"#N/A"},{"$error":"#N/A"},{"$error":"#N/A"},{"$error":"#N/A"},{"$error":"#N/A"},{"$f":"IF($AK$38=0,TRANSPOSE(MMULT($O$10:$Q$12,TRANSPOSE(C854:E854))),TRANSPOSE(MMULT($O$10:$Q$12,TRANSPOSE(Y854:AA854))))","v":{"$error":"#N/A"}},{"$error":"#N/A"},{"$error":"#N/A"},{"$error":"#N/A"},{"$error":"#N/A"},{"$f":"TRANSPOSE(MMULT($AE$10:$AG$12,TRANSPOSE(F854:H854)))","v":{"$error":"#N/A"}},{"$error":"#N/A"},{"$error":"#N/A"},{"$error":"#N/A"},{"$error":"#N/A"},{"$f":"TRANSPOSE(MMULT($AO$40:$AQ$42,TRANSPOSE(C854:E854)))","v":{"$error":"#N/A"}},{"$error":"#N/A"},{"$error":"#N/A"},{"$error":"#N/A"},{"$error":"#N/A"},{"$error":"#N/A"}]
[855,{"$error":"#N/A"},{"$error":"#N/A"},{"$error":"#N/A"},{"$error":"#N/A"},{"$error":"#N/A"},{"$error":"#N/A"},{"$error":"#N/A"},{"$error":"#N/A"},{"$error":"#N/A"},{"$error":"#N/A"},{"$f":"IF($AK$38=0,TRANSPOSE(MMULT($O$10:$Q$12,TRANSPOSE(C855:E855))),TRANSPOSE(MMULT($O$10:$Q$12,TRANSPOSE(Y855:AA855))))","v":{"$error":"#N/A"}},{"$error":"#N/A"},{"$error":"#N/A"},{"$error":"#N/A"},{"$error":"#N/A"},{"$f":"TRANSPOSE(MMULT($AE$10:$AG$12,TRANSPOSE(F855:H855)))","v":{"$error":"#N/A"}},{"$error":"#N/A"},{"$error":"#N/A"},{"$error":"#N/A"},{"$error":"#N/A"},{"$f":"TRANSPOSE(MMULT($AO$40:$AQ$42,TRANSPOSE(C855:E855)))","v":{"$error":"#N/A"}},{"$error":"#N/A"},{"$error":"#N/A"},{"$error":"#N/A"},{"$error":"#N/A"},{"$error":"#N/A"}]
[856,{"$error":"#N/A"},{"$error":"#N/A"},{"$error":"#N/A"},{"$error":"#N/A"},{"$error":"#N/A"},{"$error":"#N/A"},{"$error":"#N/A"},{"$error":"#N/A"},{"$error":"#N/A"},{"$error":"#N/A"},{"$f":"IF($AK$38=0,TRANSPOSE(MMULT($O$10:$Q$12,TRANSPOSE(C856:E856))),TRANSPOSE(MMULT($O$10:$Q$12,TRANSPOSE(Y856:AA856))))","v":{"$error":"#N/A"}},{"$error":"#N/A"},{"$error":"#N/A"},{"$error":"#N/A"},{"$error":"#N/A"},{"$f":"TRANSPOSE(MMULT($AE$10:$AG$12,TRANSPOSE(F856:H856)))","v":{"$error":"#N/A"}},{"$error":"#N/A"},{"$error":"#N/A"},{"$error":"#N/A"},{"$error":"#N/A"},{"$f":"TRANSPOSE(MMULT($AO$40:$AQ$42,TRANSPOSE(C856:E856)))","v":{"$error":"#N/A"}},{"$error":"#N/A"},{"$error":"#N/A"},{"$error":"#N/A"},{"$error":"#N/A"},{"$error":"#N/A"}]
[857,{"$error":"#N/A"},{"$error":"#N/A"},{"$error":"#N/A"},{"$error":"#N/A"},{"$error":"#N/A"},{"$error":"#N/A"},{"$error":"#N/A"},{"$error":"#N/A"},{"$error":"#N/A"},{"$error":"#N/A"},{"$f":"IF($AK$38=0,TRANSPOSE(MMULT($O$10:$Q$12,TRANSPOSE(C857:E857))),TRANSPOSE(MMULT($O$10:$Q$12,TRANSPOSE(Y857:AA857))))","v":{"$error":"#N/A"}},{"$error":"#N/A"},{"$error":"#N/A"},{"$error":"#N/A"},{"$error":"#N/A"},{"$f":"TRANSPOSE(MMULT($AE$10:$AG$12,TRANSPOSE(F857:H857)))","v":{"$error":"#N/A"}},{"$error":"#N/A"},{"$error":"#N/A"},{"$error":"#N/A"},{"$error":"#N/A"},{"$f":"TRANSPOSE(MMULT($AO$40:$AQ$42,TRANSPOSE(C857:E857)))","v":{"$error":"#N/A"}},{"$error":"#N/A"},{"$error":"#N/A"},{"$error":"#N/A"},{"$error":"#N/A"},{"$error":"#N/A"}]
[858,{"$error":"#N/A"},{"$error":"#N/A"},{"$error":"#N/A"},{"$error":"#N/A"},{"$error":"#N/A"},{"$error":"#N/A"},{"$error":"#N/A"},{"$error":"#N/A"},{"$error":"#N/A"},{"$error":"#N/A"},{"$f":"IF($AK$38=0,TRANSPOSE(MMULT($O$10:$Q$12,TRANSPOSE(C858:E858))),TRANSPOSE(MMULT($O$10:$Q$12,TRANSPOSE(Y858:AA858))))","v":{"$error":"#N/A"}},{"$error":"#N/A"},{"$error":"#N/A"},{"$error":"#N/A"},{"$error":"#N/A"},{"$f":"TRANSPOSE(MMULT($AE$10:$AG$12,TRANSPOSE(F858:H858)))","v":{"$error":"#N/A"}},{"$error":"#N/A"},{"$error":"#N/A"},{"$error":"#N/A"},{"$error":"#N/A"},{"$f":"TRANSPOSE(MMULT($AO$40:$AQ$42,TRANSPOSE(C858:E858)))","v":{"$error":"#N/A"}},{"$error":"#N/A"},{"$error":"#N/A"},{"$error":"#N/A"},{"$error":"#N/A"},{"$error":"#N/A"}]
[859,{"$error":"#N/A"},{"$error":"#N/A"},{"$error":"#N/A"},{"$error":"#N/A"},{"$error":"#N/A"},{"$error":"#N/A"},{"$error":"#N/A"},{"$error":"#N/A"},{"$error":"#N/A"},{"$error":"#N/A"},{"$f":"IF($AK$38=0,TRANSPOSE(MMULT($O$10:$Q$12,TRANSPOSE(C859:E859))),TRANSPOSE(MMULT($O$10:$Q$12,TRANSPOSE(Y859:AA859))))","v":{"$error":"#N/A"}},{"$error":"#N/A"},{"$error":"#N/A"},{"$error":"#N/A"},{"$error":"#N/A"},{"$f":"TRANSPOSE(MMULT($AE$10:$AG$12,TRANSPOSE(F859:H859)))","v":{"$error":"#N/A"}},{"$error":"#N/A"},{"$error":"#N/A"},{"$error":"#N/A"},{"$error":"#N/A"},{"$f":"TRANSPOSE(MMULT($AO$40:$AQ$42,TRANSPOSE(C859:E859)))","v":{"$error":"#N/A"}},{"$error":"#N/A"},{"$error":"#N/A"},{"$error":"#N/A"},{"$error":"#N/A"},{"$error":"#N/A"}]
[860,{"$error":"#N/A"},{"$error":"#N/A"},{"$error":"#N/A"},{"$error":"#N/A"},{"$error":"#N/A"},{"$error":"#N/A"},{"$error":"#N/A"},{"$error":"#N/A"},{"$error":"#N/A"},{"$error":"#N/A"},{"$f":"IF($AK$38=0,TRANSPOSE(MMULT($O$10:$Q$12,TRANSPOSE(C860:E860))),TRANSPOSE(MMULT($O$10:$Q$12,TRANSPOSE(Y860:AA860))))","v":{"$error":"#N/A"}},{"$error":"#N/A"},{"$error":"#N/A"},{"$error":"#N/A"},{"$error":"#N/A"},{"$f":"TRANSPOSE(MMULT($AE$10:$AG$12,TRANSPOSE(F860:H860)))","v":{"$error":"#N/A"}},{"$error":"#N/A"},{"$error":"#N/A"},{"$error":"#N/A"},{"$error":"#N/A"},{"$f":"TRANSPOSE(MMULT($AO$40:$AQ$42,TRANSPOSE(C860:E860)))","v":{"$error":"#N/A"}},{"$error":"#N/A"},{"$error":"#N/A"},{"$error":"#N/A"},{"$error":"#N/A"},{"$error":"#N/A"}]
[861,{"$error":"#N/A"},{"$error":"#N/A"},{"$error":"#N/A"},{"$error":"#N/A"},{"$error":"#N/A"},{"$error":"#N/A"},{"$error":"#N/A"},{"$error":"#N/A"},{"$error":"#N/A"},{"$error":"#N/A"},{"$f":"IF($AK$38=0,TRANSPOSE(MMULT($O$10:$Q$12,TRANSPOSE(C861:E861))),TRANSPOSE(MMULT($O$10:$Q$12,TRANSPOSE(Y861:AA861))))","v":{"$error":"#N/A"}},{"$error":"#N/A"},{"$error":"#N/A"},{"$error":"#N/A"},{"$error":"#N/A"},{"$f":"TRANSPOSE(MMULT($AE$10:$AG$12,TRANSPOSE(F861:H861)))","v":{"$error":"#N/A"}},{"$error":"#N/A"},{"$error":"#N/A"},{"$error":"#N/A"},{"$error":"#N/A"},{"$f":"TRANSPOSE(MMULT($AO$40:$AQ$42,TRANSPOSE(C861:E861)))","v":{"$error":"#N/A"}},{"$error":"#N/A"},{"$error":"#N/A"},{"$error":"#N/A"},{"$error":"#N/A"},{"$error":"#N/A"}]
[862,{"$error":"#N/A"},{"$error":"#N/A"},{"$error":"#N/A"},{"$error":"#N/A"},{"$error":"#N/A"},{"$error":"#N/A"},{"$error":"#N/A"},{"$error":"#N/A"},{"$error":"#N/A"},{"$error":"#N/A"},{"$f":"IF($AK$38=0,TRANSPOSE(MMULT($O$10:$Q$12,TRANSPOSE(C862:E862))),TRANSPOSE(MMULT($O$10:$Q$12,TRANSPOSE(Y862:AA862))))","v":{"$error":"#N/A"}},{"$error":"#N/A"},{"$error":"#N/A"},{"$error":"#N/A"},{"$error":"#N/A"},{"$f":"TRANSPOSE(MMULT($AE$10:$AG$12,TRANSPOSE(F862:H862)))","v":{"$error":"#N/A"}},{"$error":"#N/A"},{"$error":"#N/A"},{"$error":"#N/A"},{"$error":"#N/A"},{"$f":"TRANSPOSE(MMULT($AO$40:$AQ$42,TRANSPOSE(C862:E862)))","v":{"$error":"#N/A"}},{"$error":"#N/A"},{"$error":"#N/A"},{"$error":"#N/A"},{"$error":"#N/A"},{"$error":"#N/A"}]
[863,{"$error":"#N/A"},{"$error":"#N/A"},{"$error":"#N/A"},{"$error":"#N/A"},{"$error":"#N/A"},{"$error":"#N/A"},{"$error":"#N/A"},{"$error":"#N/A"},{"$error":"#N/A"},{"$error":"#N/A"},{"$f":"IF($AK$38=0,TRANSPOSE(MMULT($O$10:$Q$12,TRANSPOSE(C863:E863))),TRANSPOSE(MMULT($O$10:$Q$12,TRANSPOSE(Y863:AA863))))","v":{"$error":"#N/A"}},{"$error":"#N/A"},{"$error":"#N/A"},{"$error":"#N/A"},{"$error":"#N/A"},{"$f":"TRANSPOSE(MMULT($AE$10:$AG$12,TRANSPOSE(F863:H863)))","v":{"$error":"#N/A"}},{"$error":"#N/A"},{"$error":"#N/A"},{"$error":"#N/A"},{"$error":"#N/A"},{"$f":"TRANSPOSE(MMULT($AO$40:$AQ$42,TRANSPOSE(C863:E863)))","v":{"$error":"#N/A"}},{"$error":"#N/A"},{"$error":"#N/A"},{"$error":"#N/A"},{"$error":"#N/A"},{"$error":"#N/A"}]
[864,{"$error":"#N/A"},{"$error":"#N/A"},{"$error":"#N/A"},{"$error":"#N/A"},{"$error":"#N/A"},{"$error":"#N/A"},{"$error":"#N/A"},{"$error":"#N/A"},{"$error":"#N/A"},{"$error":"#N/A"},{"$f":"IF($AK$38=0,TRANSPOSE(MMULT($O$10:$Q$12,TRANSPOSE(C864:E864))),TRANSPOSE(MMULT($O$10:$Q$12,TRANSPOSE(Y864:AA864))))","v":{"$error":"#N/A"}},{"$error":"#N/A"},{"$error":"#N/A"},{"$error":"#N/A"},{"$error":"#N/A"},{"$f":"TRANSPOSE(MMULT($AE$10:$AG$12,TRANSPOSE(F864:H864)))","v":{"$error":"#N/A"}},{"$error":"#N/A"},{"$error":"#N/A"},{"$error":"#N/A"},{"$error":"#N/A"},{"$f":"TRANSPOSE(MMULT($AO$40:$AQ$42,TRANSPOSE(C864:E864)))","v":{"$error":"#N/A"}},{"$error":"#N/A"},{"$error":"#N/A"},{"$error":"#N/A"},{"$error":"#N/A"},{"$error":"#N/A"}]
[865,{"$error":"#N/A"},{"$error":"#N/A"},{"$error":"#N/A"},{"$error":"#N/A"},{"$error":"#N/A"},{"$error":"#N/A"},{"$error":"#N/A"},{"$error":"#N/A"},{"$error":"#N/A"},{"$error":"#N/A"},{"$f":"IF($AK$38=0,TRANSPOSE(MMULT($O$10:$Q$12,TRANSPOSE(C865:E865))),TRANSPOSE(MMULT($O$10:$Q$12,TRANSPOSE(Y865:AA865))))","v":{"$error":"#N/A"}},{"$error":"#N/A"},{"$error":"#N/A"},{"$error":"#N/A"},{"$error":"#N/A"},{"$f":"TRANSPOSE(MMULT($AE$10:$AG$12,TRANSPOSE(F865:H865)))","v":{"$error":"#N/A"}},{"$error":"#N/A"},{"$error":"#N/A"},{"$error":"#N/A"},{"$error":"#N/A"},{"$f":"TRANSPOSE(MMULT($AO$40:$AQ$42,TRANSPOSE(C865:E865)))","v":{"$error":"#N/A"}},{"$error":"#N/A"},{"$error":"#N/A"},{"$error":"#N/A"},{"$error":"#N/A"},{"$error":"#N/A"}]
[866,{"$error":"#N/A"},{"$error":"#N/A"},{"$error":"#N/A"},{"$error":"#N/A"},{"$error":"#N/A"},{"$error":"#N/A"},{"$error":"#N/A"},{"$error":"#N/A"},{"$error":"#N/A"},{"$error":"#N/A"},{"$f":"IF($AK$38=0,TRANSPOSE(MMULT($O$10:$Q$12,TRANSPOSE(C866:E866))),TRANSPOSE(MMULT($O$10:$Q$12,TRANSPOSE(Y866:AA866))))","v":{"$error":"#N/A"}},{"$error":"#N/A"},{"$error":"#N/A"},{"$error":"#N/A"},{"$error":"#N/A"},{"$f":"TRANSPOSE(MMULT($AE$10:$AG$12,TRANSPOSE(F866:H866)))","v":{"$error":"#N/A"}},{"$error":"#N/A"},{"$error":"#N/A"},{"$error":"#N/A"},{"$error":"#N/A"},{"$f":"TRANSPOSE(MMULT($AO$40:$AQ$42,TRANSPOSE(C866:E866)))","v":{"$error":"#N/A"}},{"$error":"#N/A"},{"$error":"#N/A"},{"$error":"#N/A"},{"$error":"#N/A"},{"$error":"#N/A"}]
[867,{"$error":"#N/A"},{"$error":"#N/A"},{"$error":"#N/A"},{"$error":"#N/A"},{"$error":"#N/A"},{"$error":"#N/A"},{"$error":"#N/A"},{"$error":"#N/A"},{"$error":"#N/A"},{"$error":"#N/A"},{"$f":"IF($AK$38=0,TRANSPOSE(MMULT($O$10:$Q$12,TRANSPOSE(C867:E867))),TRANSPOSE(MMULT($O$10:$Q$12,TRANSPOSE(Y867:AA867))))","v":{"$error":"#N/A"}},{"$error":"#N/A"},{"$error":"#N/A"},{"$error":"#N/A"},{"$error":"#N/A"},{"$f":"TRANSPOSE(MMULT($AE$10:$AG$12,TRANSPOSE(F867:H867)))","v":{"$error":"#N/A"}},{"$error":"#N/A"},{"$error":"#N/A"},{"$error":"#N/A"},{"$error":"#N/A"},{"$f":"TRANSPOSE(MMULT($AO$40:$AQ$42,TRANSPOSE(C867:E867)))","v":{"$error":"#N/A"}},{"$error":"#N/A"},{"$error":"#N/A"},{"$error":"#N/A"},{"$error":"#N/A"},{"$error":"#N/A"}]
[868,{"$error":"#N/A"},{"$error":"#N/A"},{"$error":"#N/A"},{"$error":"#N/A"},{"$error":"#N/A"},{"$error":"#N/A"},{"$error":"#N/A"},{"$error":"#N/A"},{"$error":"#N/A"},{"$error":"#N/A"},{"$f":"IF($AK$38=0,TRANSPOSE(MMULT($O$10:$Q$12,TRANSPOSE(C868:E868))),TRANSPOSE(MMULT($O$10:$Q$12,TRANSPOSE(Y868:AA868))))","v":{"$error":"#N/A"}},{"$error":"#N/A"},{"$error":"#N/A"},{"$error":"#N/A"},{"$error":"#N/A"},{"$f":"TRANSPOSE(MMULT($AE$10:$AG$12,TRANSPOSE(F868:H868)))","v":{"$error":"#N/A"}},{"$error":"#N/A"},{"$error":"#N/A"},{"$error":"#N/A"},{"$error":"#N/A"},{"$f":"TRANSPOSE(MMULT($AO$40:$AQ$42,TRANSPOSE(C868:E868)))","v":{"$error":"#N/A"}},{"$error":"#N/A"},{"$error":"#N/A"},{"$error":"#N/A"},{"$error":"#N/A"},{"$error":"#N/A"}]
[869,{"$error":"#N/A"},{"$error":"#N/A"},{"$error":"#N/A"},{"$error":"#N/A"},{"$error":"#N/A"},{"$error":"#N/A"},{"$error":"#N/A"},{"$error":"#N/A"},{"$error":"#N/A"},{"$error":"#N/A"},{"$f":"IF($AK$38=0,TRANSPOSE(MMULT($O$10:$Q$12,TRANSPOSE(C869:E869))),TRANSPOSE(MMULT($O$10:$Q$12,TRANSPOSE(Y869:AA869))))","v":{"$error":"#N/A"}},{"$error":"#N/A"},{"$error":"#N/A"},{"$error":"#N/A"},{"$error":"#N/A"},{"$f":"TRANSPOSE(MMULT($AE$10:$AG$12,TRANSPOSE(F869:H869)))","v":{"$error":"#N/A"}},{"$error":"#N/A"},{"$error":"#N/A"},{"$error":"#N/A"},{"$error":"#N/A"},{"$f":"TRANSPOSE(MMULT($AO$40:$AQ$42,TRANSPOSE(C869:E869)))","v":{"$error":"#N/A"}},{"$error":"#N/A"},{"$error":"#N/A"},{"$error":"#N/A"},{"$error":"#N/A"},{"$error":"#N/A"}]
[870,{"$error":"#N/A"},{"$error":"#N/A"},{"$error":"#N/A"},{"$error":"#N/A"},{"$error":"#N/A"},{"$error":"#N/A"},{"$error":"#N/A"},{"$error":"#N/A"},{"$error":"#N/A"},{"$error":"#N/A"},{"$f":"IF($AK$38=0,TRANSPOSE(MMULT($O$10:$Q$12,TRANSPOSE(C870:E870))),TRANSPOSE(MMULT($O$10:$Q$12,TRANSPOSE(Y870:AA870))))","v":{"$error":"#N/A"}},{"$error":"#N/A"},{"$error":"#N/A"},{"$error":"#N/A"},{"$error":"#N/A"},{"$f":"TRANSPOSE(MMULT($AE$10:$AG$12,TRANSPOSE(F870:H870)))","v":{"$error":"#N/A"}},{"$error":"#N/A"},{"$error":"#N/A"},{"$error":"#N/A"},{"$error":"#N/A"},{"$f":"TRANSPOSE(MMULT($AO$40:$AQ$42,TRANSPOSE(C870:E870)))","v":{"$error":"#N/A"}},{"$error":"#N/A"},{"$error":"#N/A"},{"$error":"#N/A"},{"$error":"#N/A"},{"$error":"#N/A"}]
[871,{"$error":"#N/A"},{"$error":"#N/A"},{"$error":"#N/A"},{"$error":"#N/A"},{"$error":"#N/A"},{"$error":"#N/A"},{"$error":"#N/A"},{"$error":"#N/A"},{"$error":"#N/A"},{"$error":"#N/A"},{"$f":"IF($AK$38=0,TRANSPOSE(MMULT($O$10:$Q$12,TRANSPOSE(C871:E871))),TRANSPOSE(MMULT($O$10:$Q$12,TRANSPOSE(Y871:AA871))))","v":{"$error":"#N/A"}},{"$error":"#N/A"},{"$error":"#N/A"},{"$error":"#N/A"},{"$error":"#N/A"},{"$f":"TRANSPOSE(MMULT($AE$10:$AG$12,TRANSPOSE(F871:H871)))","v":{"$error":"#N/A"}},{"$error":"#N/A"},{"$error":"#N/A"},{"$error":"#N/A"},{"$error":"#N/A"},{"$f":"TRANSPOSE(MMULT($AO$40:$AQ$42,TRANSPOSE(C871:E871)))","v":{"$error":"#N/A"}},{"$error":"#N/A"},{"$error":"#N/A"},{"$error":"#N/A"},{"$error":"#N/A"},{"$error":"#N/A"}]
[872,{"$error":"#N/A"},{"$error":"#N/A"},{"$error":"#N/A"},{"$error":"#N/A"},{"$error":"#N/A"},{"$error":"#N/A"},{"$error":"#N/A"},{"$error":"#N/A"},{"$error":"#N/A"},{"$error":"#N/A"},{"$f":"IF($AK$38=0,TRANSPOSE(MMULT($O$10:$Q$12,TRANSPOSE(C872:E872))),TRANSPOSE(MMULT($O$10:$Q$12,TRANSPOSE(Y872:AA872))))","v":{"$error":"#N/A"}},{"$error":"#N/A"},{"$error":"#N/A"},{"$error":"#N/A"},{"$error":"#N/A"},{"$f":"TRANSPOSE(MMULT($AE$10:$AG$12,TRANSPOSE(F872:H872)))","v":{"$error":"#N/A"}},{"$error":"#N/A"},{"$error":"#N/A"},{"$error":"#N/A"},{"$error":"#N/A"},{"$f":"TRANSPOSE(MMULT($AO$40:$AQ$42,TRANSPOSE(C872:E872)))","v":{"$error":"#N/A"}},{"$error":"#N/A"},{"$error":"#N/A"},{"$error":"#N/A"},{"$error":"#N/A"},{"$error":"#N/A"}]
[873,{"$error":"#N/A"},{"$error":"#N/A"},{"$error":"#N/A"},{"$error":"#N/A"},{"$error":"#N/A"},{"$error":"#N/A"},{"$error":"#N/A"},{"$error":"#N/A"},{"$error":"#N/A"},{"$error":"#N/A"},{"$f":"IF($AK$38=0,TRANSPOSE(MMULT($O$10:$Q$12,TRANSPOSE(C873:E873))),TRANSPOSE(MMULT($O$10:$Q$12,TRANSPOSE(Y873:AA873))))","v":{"$error":"#N/A"}},{"$error":"#N/A"},{"$error":"#N/A"},{"$error":"#N/A"},{"$error":"#N/A"},{"$f":"TRANSPOSE(MMULT($AE$10:$AG$12,TRANSPOSE(F873:H873)))","v":{"$error":"#N/A"}},{"$error":"#N/A"},{"$error":"#N/A"},{"$error":"#N/A"},{"$error":"#N/A"},{"$f":"TRANSPOSE(MMULT($AO$40:$AQ$42,TRANSPOSE(C873:E873)))","v":{"$error":"#N/A"}},{"$error":"#N/A"},{"$error":"#N/A"},{"$error":"#N/A"},{"$error":"#N/A"},{"$error":"#N/A"}]
[874,{"$error":"#N/A"},{"$error":"#N/A"},{"$error":"#N/A"},{"$error":"#N/A"},{"$error":"#N/A"},{"$error":"#N/A"},{"$error":"#N/A"},{"$error":"#N/A"},{"$error":"#N/A"},{"$error":"#N/A"},{"$f":"IF($AK$38=0,TRANSPOSE(MMULT($O$10:$Q$12,TRANSPOSE(C874:E874))),TRANSPOSE(MMULT($O$10:$Q$12,TRANSPOSE(Y874:AA874))))","v":{"$error":"#N/A"}},{"$error":"#N/A"},{"$error":"#N/A"},{"$error":"#N/A"},{"$error":"#N/A"},{"$f":"TRANSPOSE(MMULT($AE$10:$AG$12,TRANSPOSE(F874:H874)))","v":{"$error":"#N/A"}},{"$error":"#N/A"},{"$error":"#N/A"},{"$error":"#N/A"},{"$error":"#N/A"},{"$f":"TRANSPOSE(MMULT($AO$40:$AQ$42,TRANSPOSE(C874:E874)))","v":{"$error":"#N/A"}},{"$error":"#N/A"},{"$error":"#N/A"},{"$error":"#N/A"},{"$error":"#N/A"},{"$error":"#N/A"}]
[875,{"$error":"#N/A"},{"$error":"#N/A"},{"$error":"#N/A"},{"$error":"#N/A"},{"$error":"#N/A"},{"$error":"#N/A"},{"$error":"#N/A"},{"$error":"#N/A"},{"$error":"#N/A"},{"$error":"#N/A"},{"$f":"IF($AK$38=0,TRANSPOSE(MMULT($O$10:$Q$12,TRANSPOSE(C875:E875))),TRANSPOSE(MMULT($O$10:$Q$12,TRANSPOSE(Y875:AA875))))","v":{"$error":"#N/A"}},{"$error":"#N/A"},{"$error":"#N/A"},{"$error":"#N/A"},{"$error":"#N/A"},{"$f":"TRANSPOSE(MMULT($AE$10:$AG$12,TRANSPOSE(F875:H875)))","v":{"$error":"#N/A"}},{"$error":"#N/A"},{"$error":"#N/A"},{"$error":"#N/A"},{"$error":"#N/A"},{"$f":"TRANSPOSE(MMULT($AO$40:$AQ$42,TRANSPOSE(C875:E875)))","v":{"$error":"#N/A"}},{"$error":"#N/A"},{"$error":"#N/A"},{"$error":"#N/A"},{"$error":"#N/A"},{"$error":"#N/A"}]
[876,{"$error":"#N/A"},{"$error":"#N/A"},{"$error":"#N/A"},{"$error":"#N/A"},{"$error":"#N/A"},{"$error":"#N/A"},{"$error":"#N/A"},{"$error":"#N/A"},{"$error":"#N/A"},{"$error":"#N/A"},{"$f":"IF($AK$38=0,TRANSPOSE(MMULT($O$10:$Q$12,TRANSPOSE(C876:E876))),TRANSPOSE(MMULT($O$10:$Q$12,TRANSPOSE(Y876:AA876))))","v":{"$error":"#N/A"}},{"$error":"#N/A"},{"$error":"#N/A"},{"$error":"#N/A"},{"$error":"#N/A"},{"$f":"TRANSPOSE(MMULT($AE$10:$AG$12,TRANSPOSE(F876:H876)))","v":{"$error":"#N/A"}},{"$error":"#N/A"},{"$error":"#N/A"},{"$error":"#N/A"},{"$error":"#N/A"},{"$f":"TRANSPOSE(MMULT($AO$40:$AQ$42,TRANSPOSE(C876:E876)))","v":{"$error":"#N/A"}},{"$error":"#N/A"},{"$error":"#N/A"},{"$error":"#N/A"},{"$error":"#N/A"},{"$error":"#N/A"}]
[877,{"$error":"#N/A"},{"$error":"#N/A"},{"$error":"#N/A"},{"$error":"#N/A"},{"$error":"#N/A"},{"$error":"#N/A"},{"$error":"#N/A"},{"$error":"#N/A"},{"$error":"#N/A"},{"$error":"#N/A"},{"$f":"IF($AK$38=0,TRANSPOSE(MMULT($O$10:$Q$12,TRANSPOSE(C877:E877))),TRANSPOSE(MMULT($O$10:$Q$12,TRANSPOSE(Y877:AA877))))","v":{"$error":"#N/A"}},{"$error":"#N/A"},{"$error":"#N/A"},{"$error":"#N/A"},{"$error":"#N/A"},{"$f":"TRANSPOSE(MMULT($AE$10:$AG$12,TRANSPOSE(F877:H877)))","v":{"$error":"#N/A"}},{"$error":"#N/A"},{"$error":"#N/A"},{"$error":"#N/A"},{"$error":"#N/A"},{"$f":"TRANSPOSE(MMULT($AO$40:$AQ$42,TRANSPOSE(C877:E877)))","v":{"$error":"#N/A"}},{"$error":"#N/A"},{"$error":"#N/A"},{"$error":"#N/A"},{"$error":"#N/A"},{"$error":"#N/A"}]
[878,{"$error":"#N/A"},{"$error":"#N/A"},{"$error":"#N/A"},{"$error":"#N/A"},{"$error":"#N/A"},{"$error":"#N/A"},{"$error":"#N/A"},{"$error":"#N/A"},{"$error":"#N/A"},{"$error":"#N/A"},{"$f":"IF($AK$38=0,TRANSPOSE(MMULT($O$10:$Q$12,TRANSPOSE(C878:E878))),TRANSPOSE(MMULT($O$10:$Q$12,TRANSPOSE(Y878:AA878))))","v":{"$error":"#N/A"}},{"$error":"#N/A"},{"$error":"#N/A"},{"$error":"#N/A"},{"$error":"#N/A"},{"$f":"TRANSPOSE(MMULT($AE$10:$AG$12,TRANSPOSE(F878:H878)))","v":{"$error":"#N/A"}},{"$error":"#N/A"},{"$error":"#N/A"},{"$error":"#N/A"},{"$error":"#N/A"},{"$f":"TRANSPOSE(MMULT($AO$40:$AQ$42,TRANSPOSE(C878:E878)))","v":{"$error":"#N/A"}},{"$error":"#N/A"},{"$error":"#N/A"},{"$error":"#N/A"},{"$error":"#N/A"},{"$error":"#N/A"}]
[879,{"$error":"#N/A"},{"$error":"#N/A"},{"$error":"#N/A"},{"$error":"#N/A"},{"$error":"#N/A"},{"$error":"#N/A"},{"$error":"#N/A"},{"$error":"#N/A"},{"$error":"#N/A"},{"$error":"#N/A"},{"$f":"IF($AK$38=0,TRANSPOSE(MMULT($O$10:$Q$12,TRANSPOSE(C879:E879))),TRANSPOSE(MMULT($O$10:$Q$12,TRANSPOSE(Y879:AA879))))","v":{"$error":"#N/A"}},{"$error":"#N/A"},{"$error":"#N/A"},{"$error":"#N/A"},{"$error":"#N/A"},{"$f":"TRANSPOSE(MMULT($AE$10:$AG$12,TRANSPOSE(F879:H879)))","v":{"$error":"#N/A"}},{"$error":"#N/A"},{"$error":"#N/A"},{"$error":"#N/A"},{"$error":"#N/A"},{"$f":"TRANSPOSE(MMULT($AO$40:$AQ$42,TRANSPOSE(C879:E879)))","v":{"$error":"#N/A"}},{"$error":"#N/A"},{"$error":"#N/A"},{"$error":"#N/A"},{"$error":"#N/A"},{"$error":"#N/A"}]
[880,{"$error":"#N/A"},{"$error":"#N/A"},{"$error":"#N/A"},{"$error":"#N/A"},{"$error":"#N/A"},{"$error":"#N/A"},{"$error":"#N/A"},{"$error":"#N/A"},{"$error":"#N/A"},{"$error":"#N/A"},{"$f":"IF($AK$38=0,TRANSPOSE(MMULT($O$10:$Q$12,TRANSPOSE(C880:E880))),TRANSPOSE(MMULT($O$10:$Q$12,TRANSPOSE(Y880:AA880))))","v":{"$error":"#N/A"}},{"$error":"#N/A"},{"$error":"#N/A"},{"$error":"#N/A"},{"$error":"#N/A"},{"$f":"TRANSPOSE(MMULT($AE$10:$AG$12,TRANSPOSE(F880:H880)))","v":{"$error":"#N/A"}},{"$error":"#N/A"},{"$error":"#N/A"},{"$error":"#N/A"},{"$error":"#N/A"},{"$f":"TRANSPOSE(MMULT($AO$40:$AQ$42,TRANSPOSE(C880:E880)))","v":{"$error":"#N/A"}},{"$error":"#N/A"},{"$error":"#N/A"},{"$error":"#N/A"},{"$error":"#N/A"},{"$error":"#N/A"}]
[881,{"$error":"#N/A"},{"$error":"#N/A"},{"$error":"#N/A"},{"$error":"#N/A"},{"$error":"#N/A"},{"$error":"#N/A"},{"$error":"#N/A"},{"$error":"#N/A"},{"$error":"#N/A"},{"$error":"#N/A"},{"$f":"IF($AK$38=0,TRANSPOSE(MMULT($O$10:$Q$12,TRANSPOSE(C881:E881))),TRANSPOSE(MMULT($O$10:$Q$12,TRANSPOSE(Y881:AA881))))","v":{"$error":"#N/A"}},{"$error":"#N/A"},{"$error":"#N/A"},{"$error":"#N/A"},{"$error":"#N/A"},{"$f":"TRANSPOSE(MMULT($AE$10:$AG$12,TRANSPOSE(F881:H881)))","v":{"$error":"#N/A"}},{"$error":"#N/A"},{"$error":"#N/A"},{"$error":"#N/A"},{"$error":"#N/A"},{"$f":"TRANSPOSE(MMULT($AO$40:$AQ$42,TRANSPOSE(C881:E881)))","v":{"$error":"#N/A"}},{"$error":"#N/A"},{"$error":"#N/A"},{"$error":"#N/A"},{"$error":"#N/A"},{"$error":"#N/A"}]
[882,{"$error":"#N/A"},{"$error":"#N/A"},{"$error":"#N/A"},{"$error":"#N/A"},{"$error":"#N/A"},{"$error":"#N/A"},{"$error":"#N/A"},{"$error":"#N/A"},{"$error":"#N/A"},{"$error":"#N/A"},{"$f":"IF($AK$38=0,TRANSPOSE(MMULT($O$10:$Q$12,TRANSPOSE(C882:E882))),TRANSPOSE(MMULT($O$10:$Q$12,TRANSPOSE(Y882:AA882))))","v":{"$error":"#N/A"}},{"$error":"#N/A"},{"$error":"#N/A"},{"$error":"#N/A"},{"$error":"#N/A"},{"$f":"TRANSPOSE(MMULT($AE$10:$AG$12,TRANSPOSE(F882:H882)))","v":{"$error":"#N/A"}},{"$error":"#N/A"},{"$error":"#N/A"},{"$error":"#N/A"},{"$error":"#N/A"},{"$f":"TRANSPOSE(MMULT($AO$40:$AQ$42,TRANSPOSE(C882:E882)))","v":{"$error":"#N/A"}},{"$error":"#N/A"},{"$error":"#N/A"},{"$error":"#N/A"},{"$error":"#N/A"},{"$error":"#N/A"}]
[883,{"$error":"#N/A"},{"$error":"#N/A"},{"$error":"#N/A"},{"$error":"#N/A"},{"$error":"#N/A"},{"$error":"#N/A"},{"$error":"#N/A"},{"$error":"#N/A"},{"$error":"#N/A"},{"$error":"#N/A"},{"$f":"IF($AK$38=0,TRANSPOSE(MMULT($O$10:$Q$12,TRANSPOSE(C883:E883))),TRANSPOSE(MMULT($O$10:$Q$12,TRANSPOSE(Y883:AA883))))","v":{"$error":"#N/A"}},{"$error":"#N/A"},{"$error":"#N/A"},{"$error":"#N/A"},{"$error":"#N/A"},{"$f":"TRANSPOSE(MMULT($AE$10:$AG$12,TRANSPOSE(F883:H883)))","v":{"$error":"#N/A"}},{"$error":"#N/A"},{"$error":"#N/A"},{"$error":"#N/A"},{"$error":"#N/A"},{"$f":"TRANSPOSE(MMULT($AO$40:$AQ$42,TRANSPOSE(C883:E883)))","v":{"$error":"#N/A"}},{"$error":"#N/A"},{"$error":"#N/A"},{"$error":"#N/A"},{"$error":"#N/A"},{"$error":"#N/A"}]
[884,{"$error":"#N/A"},{"$f":"(C$4+F$4*$B884+I$4*$B884^2+L$4*$B884^3+O$4*$B884^4)+(C$5+F$5*$B884+I$5*$B884^2+L$5*$B884^3+O$5*$B884^5)*(COS(C$6+F$6*$B884+I$6*$B884^2+L$6*$B884^3+O$6*$B884^4))+(C$7+F$7*$B884+I$7*$B884^2+L$7*$B884^3+O$7*$B884^4)*(SIN(C$8+F$8*$B884+I$8*$B884^2+L$8*$B884^3+O$8*$B884^4))","v":{"$error":"#N/A"}},{"$f":"(D$4+G$4*$B884+J$4*$B884^2+M$4*$B884^3+P$4*$B884^4)+(D$5+G$5*$B884+J$5*$B884^2+M$5*$B884^3+P$5*$B884^5)*(COS(D$6+G$6*$B884+J$6*$B884^2+M$6*$B884^3+P$6*$B884^4))+(D$7+G$7*$B884+J$7*$B884^2+M$7*$B884^3+P$7*$B884^4)*(SIN(D$8+G$8*$B884+J$8*$B884^2+M$8*$B884^3+P$8*$B884^4))","v":{"$error":"#N/A"}},{"$f":"(E$4+H$4*$B884+K$4*$B884^2+N$4*$B884^3+Q$4*$B884^4)+(E$5+H$5*$B884+K$5*$B884^2+N$5*$B884^3+Q$5*$B884^5)*(COS(E$6+H$6*$B884+K$6*$B884^2+N$6*$B884^3+Q$6*$B884^4))+(E$7+H$7*$B884+K$7*$B884^2+N$7*$B884^3+Q$7*$B884^4)*(SIN(E$8+H$8*$B884+K$8*$B884^2+N$8*$B884^3+Q$8*$B884^4))","v":{"$error":"#N/A"}},{"$error":"#N/A"},{"$error":"#N/A"},{"$error":"#N/A"},{"$error":"#N/A"},{"$error":"#N/A"},{"$error":"#N/A"},{"$f":"IF($AK$38=0,TRANSPOSE(MMULT($O$10:$Q$12,TRANSPOSE(C884:E884))),TRANSPOSE(MMULT($O$10:$Q$12,TRANSPOSE(Y884:AA884))))","v":{"$error":"#N/A"}},{"$error":"#N/A"},{"$error":"#N/A"},{"$error":"#N/A"},{"$error":"#N/A"},{"$f":"TRANSPOSE(MMULT($AE$10:$AG$12,TRANSPOSE(F884:H884)))","v":{"$error":"#N/A"}},{"$error":"#N/A"},{"$error":"#N/A"},{"$error":"#N/A"},{"$error":"#N/A"},{"$f":"TRANSPOSE(MMULT($AO$40:$AQ$42,TRANSPOSE(C884:E884)))","v":{"$error":"#N/A"}},{"$error":"#N/A"},{"$error":"#N/A"},{"$error":"#N/A"},{"$error":"#N/A"},{"$error":"#N/A"}]
[885,{"$error":"#N/A"},{"$error":"#N/A"},{"$error":"#N/A"},{"$error":"#N/A"},{"$error":"#N/A"},{"$error":"#N/A"},{"$error":"#N/A"},{"$error":"#N/A"},{"$error":"#N/A"},{"$error":"#N/A"},{"$f":"IF($AK$38=0,TRANSPOSE(MMULT($O$10:$Q$12,TRANSPOSE(C885:E885))),TRANSPOSE(MMULT($O$10:$Q$12,TRANSPOSE(Y885:AA885))))","v":{"$error":"#N/A"}},{"$error":"#N/A"},{"$error":"#N/A"},{"$error":"#N/A"},{"$error":"#N/A"},{"$f":"TRANSPOSE(MMULT($AE$10:$AG$12,TRANSPOSE(F885:H885)))","v":{"$error":"#N/A"}},{"$error":"#N/A"},{"$error":"#N/A"},{"$error":"#N/A"},{"$error":"#N/A"},{"$f":"TRANSPOSE(MMULT($AO$40:$AQ$42,TRANSPOSE(C885:E885)))","v":{"$error":"#N/A"}},{"$error":"#N/A"},{"$error":"#N/A"},{"$error":"#N/A"},{"$error":"#N/A"},{"$error":"#N/A"}]
[886,{"$error":"#N/A"},{"$error":"#N/A"},{"$error":"#N/A"},{"$error":"#N/A"},{"$error":"#N/A"},{"$error":"#N/A"},{"$error":"#N/A"},{"$error":"#N/A"},{"$error":"#N/A"},{"$error":"#N/A"},{"$f":"IF($AK$38=0,TRANSPOSE(MMULT($O$10:$Q$12,TRANSPOSE(C886:E886))),TRANSPOSE(MMULT($O$10:$Q$12,TRANSPOSE(Y886:AA886))))","v":{"$error":"#N/A"}},{"$error":"#N/A"},{"$error":"#N/A"},{"$error":"#N/A"},{"$error":"#N/A"},{"$f":"TRANSPOSE(MMULT($AE$10:$AG$12,TRANSPOSE(F886:H886)))","v":{"$error":"#N/A"}},{"$error":"#N/A"},{"$error":"#N/A"},{"$error":"#N/A"},{"$error":"#N/A"},{"$f":"TRANSPOSE(MMULT($AO$40:$AQ$42,TRANSPOSE(C886:E886)))","v":{"$error":"#N/A"}},{"$error":"#N/A"},{"$error":"#N/A"},{"$error":"#N/A"},{"$error":"#N/A"},{"$error":"#N/A"}]
[887,{"$error":"#N/A"},{"$error":"#N/A"},{"$error":"#N/A"},{"$error":"#N/A"},{"$error":"#N/A"},{"$error":"#N/A"},{"$error":"#N/A"},{"$error":"#N/A"},{"$error":"#N/A"},{"$error":"#N/A"},{"$f":"IF($AK$38=0,TRANSPOSE(MMULT($O$10:$Q$12,TRANSPOSE(C887:E887))),TRANSPOSE(MMULT($O$10:$Q$12,TRANSPOSE(Y887:AA887))))","v":{"$error":"#N/A"}},{"$error":"#N/A"},{"$error":"#N/A"},{"$error":"#N/A"},{"$error":"#N/A"},{"$f":"TRANSPOSE(MMULT($AE$10:$AG$12,TRANSPOSE(F887:H887)))","v":{"$error":"#N/A"}},{"$error":"#N/A"},{"$error":"#N/A"},{"$error":"#N/A"},{"$error":"#N/A"},{"$f":"TRANSPOSE(MMULT($AO$40:$AQ$42,TRANSPOSE(C887:E887)))","v":{"$error":"#N/A"}},{"$error":"#N/A"},{"$error":"#N/A"},{"$error":"#N/A"},{"$error":"#N/A"},{"$error":"#N/A"}]
[888,{"$error":"#N/A"},{"$error":"#N/A"},{"$error":"#N/A"},{"$error":"#N/A"},{"$error":"#N/A"},{"$error":"#N/A"},{"$error":"#N/A"},{"$error":"#N/A"},{"$error":"#N/A"},{"$error":"#N/A"},{"$f":"IF($AK$38=0,TRANSPOSE(MMULT($O$10:$Q$12,TRANSPOSE(C888:E888))),TRANSPOSE(MMULT($O$10:$Q$12,TRANSPOSE(Y888:AA888))))","v":{"$error":"#N/A"}},{"$error":"#N/A"},{"$error":"#N/A"},{"$error":"#N/A"},{"$error":"#N/A"},{"$f":"TRANSPOSE(MMULT($AE$10:$AG$12,TRANSPOSE(F888:H888)))","v":{"$error":"#N/A"}},{"$error":"#N/A"},{"$error":"#N/A"},{"$error":"#N/A"},{"$error":"#N/A"},{"$f":"TRANSPOSE(MMULT($AO$40:$AQ$42,TRANSPOSE(C888:E888)))","v":{"$error":"#N/A"}},{"$error":"#N/A"},{"$error":"#N/A"},{"$error":"#N/A"},{"$error":"#N/A"},{"$error":"#N/A"}]
[889,{"$error":"#N/A"},{"$error":"#N/A"},{"$error":"#N/A"},{"$error":"#N/A"},{"$error":"#N/A"},{"$error":"#N/A"},{"$error":"#N/A"},{"$error":"#N/A"},{"$error":"#N/A"},{"$error":"#N/A"},{"$f":"IF($AK$38=0,TRANSPOSE(MMULT($O$10:$Q$12,TRANSPOSE(C889:E889))),TRANSPOSE(MMULT($O$10:$Q$12,TRANSPOSE(Y889:AA889))))","v":{"$error":"#N/A"}},{"$error":"#N/A"},{"$error":"#N/A"},{"$error":"#N/A"},{"$error":"#N/A"},{"$f":"TRANSPOSE(MMULT($AE$10:$AG$12,TRANSPOSE(F889:H889)))","v":{"$error":"#N/A"}},{"$error":"#N/A"},{"$error":"#N/A"},{"$error":"#N/A"},{"$error":"#N/A"},{"$f":"TRANSPOSE(MMULT($AO$40:$AQ$42,TRANSPOSE(C889:E889)))","v":{"$error":"#N/A"}},{"$error":"#N/A"},{"$error":"#N/A"},{"$error":"#N/A"},{"$error":"#N/A"},{"$error":"#N/A"}]
[890,{"$error":"#N/A"},{"$error":"#N/A"},{"$error":"#N/A"},{"$error":"#N/A"},{"$error":"#N/A"},{"$error":"#N/A"},{"$error":"#N/A"},{"$error":"#N/A"},{"$error":"#N/A"},{"$error":"#N/A"},{"$f":"IF($AK$38=0,TRANSPOSE(MMULT($O$10:$Q$12,TRANSPOSE(C890:E890))),TRANSPOSE(MMULT($O$10:$Q$12,TRANSPOSE(Y890:AA890))))","v":{"$error":"#N/A"}},{"$error":"#N/A"},{"$error":"#N/A"},{"$error":"#N/A"},{"$error":"#N/A"},{"$f":"TRANSPOSE(MMULT($AE$10:$AG$12,TRANSPOSE(F890:H890)))","v":{"$error":"#N/A"}},{"$error":"#N/A"},{"$error":"#N/A"},{"$error":"#N/A"},{"$error":"#N/A"},{"$f":"TRANSPOSE(MMULT($AO$40:$AQ$42,TRANSPOSE(C890:E890)))","v":{"$error":"#N/A"}},{"$error":"#N/A"},{"$error":"#N/A"},{"$error":"#N/A"},{"$error":"#N/A"},{"$error":"#N/A"}]
[891,{"$error":"#N/A"},{"$error":"#N/A"},{"$error":"#N/A"},{"$error":"#N/A"},{"$error":"#N/A"},{"$error":"#N/A"},{"$error":"#N/A"},{"$error":"#N/A"},{"$error":"#N/A"},{"$error":"#N/A"},{"$f":"IF($AK$38=0,TRANSPOSE(MMULT($O$10:$Q$12,TRANSPOSE(C891:E891))),TRANSPOSE(MMULT($O$10:$Q$12,TRANSPOSE(Y891:AA891))))","v":{"$error":"#N/A"}},{"$error":"#N/A"},{"$error":"#N/A"},{"$error":"#N/A"},{"$error":"#N/A"},{"$f":"TRANSPOSE(MMULT($AE$10:$AG$12,TRANSPOSE(F891:H891)))","v":{"$error":"#N/A"}},{"$error":"#N/A"},{"$error":"#N/A"},{"$error":"#N/A"},{"$error":"#N/A"},{"$f":"TRANSPOSE(MMULT($AO$40:$AQ$42,TRANSPOSE(C891:E891)))","v":{"$error":"#N/A"}},{"$error":"#N/A"},{"$error":"#N/A"},{"$error":"#N/A"},{"$error":"#N/A"},{"$error":"#N/A"}]
[892,{"$error":"#N/A"},{"$error":"#N/A"},{"$error":"#N/A"},{"$error":"#N/A"},{"$error":"#N/A"},{"$error":"#N/A"},{"$error":"#N/A"},{"$error":"#N/A"},{"$error":"#N/A"},{"$error":"#N/A"},{"$f":"IF($AK$38=0,TRANSPOSE(MMULT($O$10:$Q$12,TRANSPOSE(C892:E892))),TRANSPOSE(MMULT($O$10:$Q$12,TRANSPOSE(Y892:AA892))))","v":{"$error":"#N/A"}},{"$error":"#N/A"},{"$error":"#N/A"},{"$error":"#N/A"},{"$error":"#N/A"},{"$f":"TRANSPOSE(MMULT($AE$10:$AG$12,TRANSPOSE(F892:H892)))","v":{"$error":"#N/A"}},{"$error":"#N/A"},{"$error":"#N/A"},{"$error":"#N/A"},{"$error":"#N/A"},{"$f":"TRANSPOSE(MMULT($AO$40:$AQ$42,TRANSPOSE(C892:E892)))","v":{"$error":"#N/A"}},{"$error":"#N/A"},{"$error":"#N/A"},{"$error":"#N/A"},{"$error":"#N/A"},{"$error":"#N/A"}]
[893,{"$error":"#N/A"},{"$error":"#N/A"},{"$error":"#N/A"},{"$error":"#N/A"},{"$error":"#N/A"},{"$error":"#N/A"},{"$error":"#N/A"},{"$error":"#N/A"},{"$error":"#N/A"},{"$error":"#N/A"},{"$f":"IF($AK$38=0,TRANSPOSE(MMULT($O$10:$Q$12,TRANSPOSE(C893:E893))),TRANSPOSE(MMULT($O$10:$Q$12,TRANSPOSE(Y893:AA893))))","v":{"$error":"#N/A"}},{"$error":"#N/A"},{"$error":"#N/A"},{"$error":"#N/A"},{"$error":"#N/A"},{"$f":"TRANSPOSE(MMULT($AE$10:$AG$12,TRANSPOSE(F893:H893)))","v":{"$error":"#N/A"}},{"$error":"#N/A"},{"$error":"#N/A"},{"$error":"#N/A"},{"$error":"#N/A"},{"$f":"TRANSPOSE(MMULT($AO$40:$AQ$42,TRANSPOSE(C893:E893)))","v":{"$error":"#N/A"}},{"$error":"#N/A"},{"$error":"#N/A"},{"$error":"#N/A"},{"$error":"#N/A"},{"$error":"#N/A"}]
[894,{"$error":"#N/A"},{"$error":"#N/A"},{"$error":"#N/A"},{"$error":"#N/A"},{"$error":"#N/A"},{"$error":"#N/A"},{"$error":"#N/A"},{"$error":"#N/A"},{"$error":"#N/A"},{"$error":"#N/A"},{"$f":"IF($AK$38=0,TRANSPOSE(MMULT($O$10:$Q$12,TRANSPOSE(C894:E894))),TRANSPOSE(MMULT($O$10:$Q$12,TRANSPOSE(Y894:AA894))))","v":{"$error":"#N/A"}},{"$error":"#N/A"},{"$error":"#N/A"},{"$error":"#N/A"},{"$error":"#N/A"},{"$f":"TRANSPOSE(MMULT($AE$10:$AG$12,TRANSPOSE(F894:H894)))","v":{"$error":"#N/A"}},{"$error":"#N/A"},{"$error":"#N/A"},{"$error":"#N/A"},{"$error":"#N/A"},{"$f":"TRANSPOSE(MMULT($AO$40:$AQ$42,TRANSPOSE(C894:E894)))","v":{"$error":"#N/A"}},{"$error":"#N/A"},{"$error":"#N/A"},{"$error":"#N/A"},{"$error":"#N/A"},{"$error":"#N/A"}]
[895,{"$error":"#N/A"},{"$error":"#N/A"},{"$error":"#N/A"},{"$error":"#N/A"},{"$error":"#N/A"},{"$error":"#N/A"},{"$error":"#N/A"},{"$error":"#N/A"},{"$error":"#N/A"},{"$error":"#N/A"},{"$f":"IF($AK$38=0,TRANSPOSE(MMULT($O$10:$Q$12,TRANSPOSE(C895:E895))),TRANSPOSE(MMULT($O$10:$Q$12,TRANSPOSE(Y895:AA895))))","v":{"$error":"#N/A"}},{"$error":"#N/A"},{"$error":"#N/A"},{"$error":"#N/A"},{"$error":"#N/A"},{"$f":"TRANSPOSE(MMULT($AE$10:$AG$12,TRANSPOSE(F895:H895)))","v":{"$error":"#N/A"}},{"$error":"#N/A"},{"$error":"#N/A"},{"$error":"#N/A"},{"$error":"#N/A"},{"$f":"TRANSPOSE(MMULT($AO$40:$AQ$42,TRANSPOSE(C895:E895)))","v":{"$error":"#N/A"}},{"$error":"#N/A"},{"$error":"#N/A"},{"$error":"#N/A"},{"$error":"#N/A"},{"$error":"#N/A"}]
[896,{"$error":"#N/A"},{"$error":"#N/A"},{"$error":"#N/A"},{"$error":"#N/A"},{"$error":"#N/A"},{"$error":"#N/A"},{"$error":"#N/A"},{"$error":"#N/A"},{"$error":"#N/A"},{"$error":"#N/A"},{"$f":"IF($AK$38=0,TRANSPOSE(MMULT($O$10:$Q$12,TRANSPOSE(C896:E896))),TRANSPOSE(MMULT($O$10:$Q$12,TRANSPOSE(Y896:AA896))))","v":{"$error":"#N/A"}},{"$error":"#N/A"},{"$error":"#N/A"},{"$error":"#N/A"},{"$error":"#N/A"},{"$f":"TRANSPOSE(MMULT($AE$10:$AG$12,TRANSPOSE(F896:H896)))","v":{"$error":"#N/A"}},{"$error":"#N/A"},{"$error":"#N/A"},{"$error":"#N/A"},{"$error":"#N/A"},{"$f":"TRANSPOSE(MMULT($AO$40:$AQ$42,TRANSPOSE(C896:E896)))","v":{"$error":"#N/A"}},{"$error":"#N/A"},{"$error":"#N/A"},{"$error":"#N/A"},{"$error":"#N/A"},{"$error":"#N/A"}]
[897,{"$error":"#N/A"},{"$error":"#N/A"},{"$error":"#N/A"},{"$error":"#N/A"},{"$error":"#N/A"},{"$error":"#N/A"},{"$error":"#N/A"},{"$error":"#N/A"},{"$error":"#N/A"},{"$error":"#N/A"},{"$f":"IF($AK$38=0,TRANSPOSE(MMULT($O$10:$Q$12,TRANSPOSE(C897:E897))),TRANSPOSE(MMULT($O$10:$Q$12,TRANSPOSE(Y897:AA897))))","v":{"$error":"#N/A"}},{"$error":"#N/A"},{"$error":"#N/A"},{"$error":"#N/A"},{"$error":"#N/A"},{"$f":"TRANSPOSE(MMULT($AE$10:$AG$12,TRANSPOSE(F897:H897)))","v":{"$error":"#N/A"}},{"$error":"#N/A"},{"$error":"#N/A"},{"$error":"#N/A"},{"$error":"#N/A"},{"$f":"TRANSPOSE(MMULT($AO$40:$AQ$42,TRANSPOSE(C897:E897)))","v":{"$error":"#N/A"}},{"$error":"#N/A"},{"$error":"#N/A"},{"$error":"#N/A"},{"$error":"#N/A"},{"$error":"#N/A"}]
[898,{"$error":"#N/A"},{"$error":"#N/A"},{"$error":"#N/A"},{"$error":"#N/A"},{"$error":"#N/A"},{"$error":"#N/A"},{"$error":"#N/A"},{"$error":"#N/A"},{"$error":"#N/A"},{"$error":"#N/A"},{"$f":"IF($AK$38=0,TRANSPOSE(MMULT($O$10:$Q$12,TRANSPOSE(C898:E898))),TRANSPOSE(MMULT($O$10:$Q$12,TRANSPOSE(Y898:AA898))))","v":{"$error":"#N/A"}},{"$error":"#N/A"},{"$error":"#N/A"},{"$error":"#N/A"},{"$error":"#N/A"},{"$f":"TRANSPOSE(MMULT($AE$10:$AG$12,TRANSPOSE(F898:H898)))","v":{"$error":"#N/A"}},{"$error":"#N/A"},{"$error":"#N/A"},{"$error":"#N/A"},{"$error":"#N/A"},{"$f":"TRANSPOSE(MMULT($AO$40:$AQ$42,TRANSPOSE(C898:E898)))","v":{"$error":"#N/A"}},{"$error":"#N/A"},{"$error":"#N/A"},{"$error":"#N/A"},{"$error":"#N/A"},{"$error":"#N/A"}]
[899,{"$error":"#N/A"},{"$error":"#N/A"},{"$error":"#N/A"},{"$error":"#N/A"},{"$error":"#N/A"},{"$error":"#N/A"},{"$error":"#N/A"},{"$error":"#N/A"},{"$error":"#N/A"},{"$error":"#N/A"},{"$f":"IF($AK$38=0,TRANSPOSE(MMULT($O$10:$Q$12,TRANSPOSE(C899:E899))),TRANSPOSE(MMULT($O$10:$Q$12,TRANSPOSE(Y899:AA899))))","v":{"$error":"#N/A"}},{"$error":"#N/A"},{"$error":"#N/A"},{"$error":"#N/A"},{"$error":"#N/A"},{"$f":"TRANSPOSE(MMULT($AE$10:$AG$12,TRANSPOSE(F899:H899)))","v":{"$error":"#N/A"}},{"$error":"#N/A"},{"$error":"#N/A"},{"$error":"#N/A"},{"$error":"#N/A"},{"$f":"TRANSPOSE(MMULT($AO$40:$AQ$42,TRANSPOSE(C899:E899)))","v":{"$error":"#N/A"}},{"$error":"#N/A"},{"$error":"#N/A"},{"$error":"#N/A"},{"$error":"#N/A"},{"$error":"#N/A"}]
[900,{"$error":"#N/A"},{"$error":"#N/A"},{"$error":"#N/A"},{"$error":"#N/A"},{"$error":"#N/A"},{"$error":"#N/A"},{"$error":"#N/A"},{"$error":"#N/A"},{"$error":"#N/A"},{"$error":"#N/A"},{"$f":"IF($AK$38=0,TRANSPOSE(MMULT($O$10:$Q$12,TRANSPOSE(C900:E900))),TRANSPOSE(MMULT($O$10:$Q$12,TRANSPOSE(Y900:AA900))))","v":{"$error":"#N/A"}},{"$error":"#N/A"},{"$error":"#N/A"},{"$error":"#N/A"},{"$error":"#N/A"},{"$f":"TRANSPOSE(MMULT($AE$10:$AG$12,TRANSPOSE(F900:H900)))","v":{"$error":"#N/A"}},{"$error":"#N/A"},{"$error":"#N/A"},{"$error":"#N/A"},{"$error":"#N/A"},{"$f":"TRANSPOSE(MMULT($AO$40:$AQ$42,TRANSPOSE(C900:E900)))","v":{"$error":"#N/A"}},{"$error":"#N/A"},{"$error":"#N/A"},{"$error":"#N/A"},{"$error":"#N/A"},{"$error":"#N/A"}]
[901,{"$error":"#N/A"},{"$error":"#N/A"},{"$error":"#N/A"},{"$error":"#N/A"},{"$error":"#N/A"},{"$error":"#N/A"},{"$error":"#N/A"},{"$error":"#N/A"},{"$error":"#N/A"},{"$error":"#N/A"},{"$f":"IF($AK$38=0,TRANSPOSE(MMULT($O$10:$Q$12,TRANSPOSE(C901:E901))),TRANSPOSE(MMULT($O$10:$Q$12,TRANSPOSE(Y901:AA901))))","v":{"$error":"#N/A"}},{"$error":"#N/A"},{"$error":"#N/A"},{"$error":"#N/A"},{"$error":"#N/A"},{"$f":"TRANSPOSE(MMULT($AE$10:$AG$12,TRANSPOSE(F901:H901)))","v":{"$error":"#N/A"}},{"$error":"#N/A"},{"$error":"#N/A"},{"$error":"#N/A"},{"$error":"#N/A"},{"$f":"TRANSPOSE(MMULT($AO$40:$AQ$42,TRANSPOSE(C901:E901)))","v":{"$error":"#N/A"}},{"$error":"#N/A"},{"$error":"#N/A"},{"$error":"#N/A"},{"$error":"#N/A"},{"$error":"#N/A"}]
[902,{"$error":"#N/A"},{"$error":"#N/A"},{"$error":"#N/A"},{"$error":"#N/A"},{"$error":"#N/A"},{"$error":"#N/A"},{"$error":"#N/A"},{"$error":"#N/A"},{"$error":"#N/A"},{"$error":"#N/A"},{"$f":"IF($AK$38=0,TRANSPOSE(MMULT($O$10:$Q$12,TRANSPOSE(C902:E902))),TRANSPOSE(MMULT($O$10:$Q$12,TRANSPOSE(Y902:AA902))))","v":{"$error":"#N/A"}},{"$error":"#N/A"},{"$error":"#N/A"},{"$error":"#N/A"},{"$error":"#N/A"},{"$f":"TRANSPOSE(MMULT($AE$10:$AG$12,TRANSPOSE(F902:H902)))","v":{"$error":"#N/A"}},{"$error":"#N/A"},{"$error":"#N/A"},{"$error":"#N/A"},{"$error":"#N/A"},{"$f":"TRANSPOSE(MMULT($AO$40:$AQ$42,TRANSPOSE(C902:E902)))","v":{"$error":"#N/A"}},{"$error":"#N/A"},{"$error":"#N/A"},{"$error":"#N/A"},{"$error":"#N/A"},{"$error":"#N/A"}]
[903,{"$error":"#N/A"},{"$error":"#N/A"},{"$error":"#N/A"},{"$error":"#N/A"},{"$error":"#N/A"},{"$error":"#N/A"},{"$error":"#N/A"},{"$error":"#N/A"},{"$error":"#N/A"},{"$error":"#N/A"},{"$f":"IF($AK$38=0,TRANSPOSE(MMULT($O$10:$Q$12,TRANSPOSE(C903:E903))),TRANSPOSE(MMULT($O$10:$Q$12,TRANSPOSE(Y903:AA903))))","v":{"$error":"#N/A"}},{"$error":"#N/A"},{"$error":"#N/A"},{"$error":"#N/A"},{"$error":"#N/A"},{"$f":"TRANSPOSE(MMULT($AE$10:$AG$12,TRANSPOSE(F903:H903)))","v":{"$error":"#N/A"}},{"$error":"#N/A"},{"$error":"#N/A"},{"$error":"#N/A"},{"$error":"#N/A"},{"$f":"TRANSPOSE(MMULT($AO$40:$AQ$42,TRANSPOSE(C903:E903)))","v":{"$error":"#N/A"}},{"$error":"#N/A"},{"$error":"#N/A"},{"$error":"#N/A"},{"$error":"#N/A"},{"$error":"#N/A"}]
[904,{"$error":"#N/A"},{"$error":"#N/A"},{"$error":"#N/A"},{"$error":"#N/A"},{"$error":"#N/A"},{"$error":"#N/A"},{"$error":"#N/A"},{"$error":"#N/A"},{"$error":"#N/A"},{"$error":"#N/A"},{"$f":"IF($AK$38=0,TRANSPOSE(MMULT($O$10:$Q$12,TRANSPOSE(C904:E904))),TRANSPOSE(MMULT($O$10:$Q$12,TRANSPOSE(Y904:AA904))))","v":{"$error":"#N/A"}},{"$error":"#N/A"},{"$error":"#N/A"},{"$error":"#N/A"},{"$error":"#N/A"},{"$f":"TRANSPOSE(MMULT($AE$10:$AG$12,TRANSPOSE(F904:H904)))","v":{"$error":"#N/A"}},{"$error":"#N/A"},{"$error":"#N/A"},{"$error":"#N/A"},{"$error":"#N/A"},{"$f":"TRANSPOSE(MMULT($AO$40:$AQ$42,TRANSPOSE(C904:E904)))","v":{"$error":"#N/A"}},{"$error":"#N/A"},{"$error":"#N/A"},{"$error":"#N/A"},{"$error":"#N/A"},{"$error":"#N/A"}]
[905,{"$error":"#N/A"},{"$error":"#N/A"},{"$error":"#N/A"},{"$error":"#N/A"},{"$error":"#N/A"},{"$error":"#N/A"},{"$error":"#N/A"},{"$error":"#N/A"},{"$error":"#N/A"},{"$error":"#N/A"},{"$f":"IF($AK$38=0,TRANSPOSE(MMULT($O$10:$Q$12,TRANSPOSE(C905:E905))),TRANSPOSE(MMULT($O$10:$Q$12,TRANSPOSE(Y905:AA905))))","v":{"$error":"#N/A"}},{"$error":"#N/A"},{"$error":"#N/A"},{"$error":"#N/A"},{"$error":"#N/A"},{"$f":"TRANSPOSE(MMULT($AE$10:$AG$12,TRANSPOSE(F905:H905)))","v":{"$error":"#N/A"}},{"$error":"#N/A"},{"$error":"#N/A"},{"$error":"#N/A"},{"$error":"#N/A"},{"$f":"TRANSPOSE(MMULT($AO$40:$AQ$42,TRANSPOSE(C905:E905)))","v":{"$error":"#N/A"}},{"$error":"#N/A"},{"$error":"#N/A"},{"$error":"#N/A"},{"$error":"#N/A"},{"$error":"#N/A"}]
[906,{"$error":"#N/A"},{"$error":"#N/A"},{"$error":"#N/A"},{"$error":"#N/A"},{"$error":"#N/A"},{"$error":"#N/A"},{"$error":"#N/A"},{"$error":"#N/A"},{"$error":"#N/A"},{"$error":"#N/A"},{"$f":"IF($AK$38=0,TRANSPOSE(MMULT($O$10:$Q$12,TRANSPOSE(C906:E906))),TRANSPOSE(MMULT($O$10:$Q$12,TRANSPOSE(Y906:AA906))))","v":{"$error":"#N/A"}},{"$error":"#N/A"},{"$error":"#N/A"},{"$error":"#N/A"},{"$error":"#N/A"},{"$f":"TRANSPOSE(MMULT($AE$10:$AG$12,TRANSPOSE(F906:H906)))","v":{"$error":"#N/A"}},{"$error":"#N/A"},{"$error":"#N/A"},{"$error":"#N/A"},{"$error":"#N/A"},{"$f":"TRANSPOSE(MMULT($AO$40:$AQ$42,TRANSPOSE(C906:E906)))","v":{"$error":"#N/A"}},{"$error":"#N/A"},{"$error":"#N/A"},{"$error":"#N/A"},{"$error":"#N/A"},{"$error":"#N/A"}]
[907,{"$error":"#N/A"},{"$error":"#N/A"},{"$error":"#N/A"},{"$error":"#N/A"},{"$error":"#N/A"},{"$error":"#N/A"},{"$error":"#N/A"},{"$error":"#N/A"},{"$error":"#N/A"},{"$error":"#N/A"},{"$f":"IF($AK$38=0,TRANSPOSE(MMULT($O$10:$Q$12,TRANSPOSE(C907:E907))),TRANSPOSE(MMULT($O$10:$Q$12,TRANSPOSE(Y907:AA907))))","v":{"$error":"#N/A"}},{"$error":"#N/A"},{"$error":"#N/A"},{"$error":"#N/A"},{"$error":"#N/A"},{"$f":"TRANSPOSE(MMULT($AE$10:$AG$12,TRANSPOSE(F907:H907)))","v":{"$error":"#N/A"}},{"$error":"#N/A"},{"$error":"#N/A"},{"$error":"#N/A"},{"$error":"#N/A"},{"$f":"TRANSPOSE(MMULT($AO$40:$AQ$42,TRANSPOSE(C907:E907)))","v":{"$error":"#N/A"}},{"$error":"#N/A"},{"$error":"#N/A"},{"$error":"#N/A"},{"$error":"#N/A"},{"$error":"#N/A"}]
[908,{"$error":"#N/A"},{"$error":"#N/A"},{"$error":"#N/A"},{"$error":"#N/A"},{"$error":"#N/A"},{"$error":"#N/A"},{"$error":"#N/A"},{"$error":"#N/A"},{"$error":"#N/A"},{"$error":"#N/A"},{"$f":"IF($AK$38=0,TRANSPOSE(MMULT($O$10:$Q$12,TRANSPOSE(C908:E908))),TRANSPOSE(MMULT($O$10:$Q$12,TRANSPOSE(Y908:AA908))))","v":{"$error":"#N/A"}},{"$error":"#N/A"},{"$error":"#N/A"},{"$error":"#N/A"},{"$error":"#N/A"},{"$f":"TRANSPOSE(MMULT($AE$10:$AG$12,TRANSPOSE(F908:H908)))","v":{"$error":"#N/A"}},{"$error":"#N/A"},{"$error":"#N/A"},{"$error":"#N/A"},{"$error":"#N/A"},{"$f":"TRANSPOSE(MMULT($AO$40:$AQ$42,TRANSPOSE(C908:E908)))","v":{"$error":"#N/A"}},{"$error":"#N/A"},{"$error":"#N/A"},{"$error":"#N/A"},{"$error":"#N/A"},{"$error":"#N/A"}]
[909,{"$error":"#N/A"},{"$error":"#N/A"},{"$error":"#N/A"},{"$error":"#N/A"},{"$error":"#N/A"},{"$error":"#N/A"},{"$error":"#N/A"},{"$error":"#N/A"},{"$error":"#N/A"},{"$error":"#N/A"},{"$f":"IF($AK$38=0,TRANSPOSE(MMULT($O$10:$Q$12,TRANSPOSE(C909:E909))),TRANSPOSE(MMULT($O$10:$Q$12,TRANSPOSE(Y909:AA909))))","v":{"$error":"#N/A"}},{"$error":"#N/A"},{"$error":"#N/A"},{"$error":"#N/A"},{"$error":"#N/A"},{"$f":"TRANSPOSE(MMULT($AE$10:$AG$12,TRANSPOSE(F909:H909)))","v":{"$error":"#N/A"}},{"$error":"#N/A"},{"$error":"#N/A"},{"$error":"#N/A"},{"$error":"#N/A"},{"$f":"TRANSPOSE(MMULT($AO$40:$AQ$42,TRANSPOSE(C909:E909)))","v":{"$error":"#N/A"}},{"$error":"#N/A"},{"$error":"#N/A"},{"$error":"#N/A"},{"$error":"#N/A"},{"$error":"#N/A"}]
[910,{"$error":"#N/A"},{"$error":"#N/A"},{"$error":"#N/A"},{"$error":"#N/A"},{"$error":"#N/A"},{"$error":"#N/A"},{"$error":"#N/A"},{"$error":"#N/A"},{"$error":"#N/A"},{"$error":"#N/A"},{"$f":"IF($AK$38=0,TRANSPOSE(MMULT($O$10:$Q$12,TRANSPOSE(C910:E910))),TRANSPOSE(MMULT($O$10:$Q$12,TRANSPOSE(Y910:AA910))))","v":{"$error":"#N/A"}},{"$error":"#N/A"},{"$error":"#N/A"},{"$error":"#N/A"},{"$error":"#N/A"},{"$f":"TRANSPOSE(MMULT($AE$10:$AG$12,TRANSPOSE(F910:H910)))","v":{"$error":"#N/A"}},{"$error":"#N/A"},{"$error":"#N/A"},{"$error":"#N/A"},{"$error":"#N/A"},{"$f":"TRANSPOSE(MMULT($AO$40:$AQ$42,TRANSPOSE(C910:E910)))","v":{"$error":"#N/A"}},{"$error":"#N/A"},{"$error":"#N/A"},{"$error":"#N/A"},{"$error":"#N/A"},{"$error":"#N/A"}]
[911,{"$error":"#N/A"},{"$error":"#N/A"},{"$error":"#N/A"},{"$error":"#N/A"},{"$error":"#N/A"},{"$error":"#N/A"},{"$error":"#N/A"},{"$error":"#N/A"},{"$error":"#N/A"},{"$error":"#N/A"},{"$f":"IF($AK$38=0,TRANSPOSE(MMULT($O$10:$Q$12,TRANSPOSE(C911:E911))),TRANSPOSE(MMULT($O$10:$Q$12,TRANSPOSE(Y911:AA911))))","v":{"$error":"#N/A"}},{"$error":"#N/A"},{"$error":"#N/A"},{"$error":"#N/A"},{"$error":"#N/A"},{"$f":"TRANSPOSE(MMULT($AE$10:$AG$12,TRANSPOSE(F911:H911)))","v":{"$error":"#N/A"}},{"$error":"#N/A"},{"$error":"#N/A"},{"$error":"#N/A"},{"$error":"#N/A"},{"$f":"TRANSPOSE(MMULT($AO$40:$AQ$42,TRANSPOSE(C911:E911)))","v":{"$error":"#N/A"}},{"$error":"#N/A"},{"$error":"#N/A"},{"$error":"#N/A"},{"$error":"#N/A"},{"$error":"#N/A"}]
[912,{"$error":"#N/A"},{"$error":"#N/A"},{"$error":"#N/A"},{"$error":"#N/A"},{"$f":"(F$7+2*I$7*$B912+3*L$7*$B912^2+4*O$7*$B912^3)*SIN(O$8*$B912^4+L$8*$B912^3+I$8*$B912^2+F$8*$B912+C$8)+(F$8+2*I$8*$B912+3*L$8*$B912^2+4*O$8*$B912^3)*(C$7+F$7*$B912+I$7*$B912^2+L$7*$B912^3+O$7*$B912^4)*COS(O$8*$B912^4+L$8*$B912^3+I$8*$B912^2+F$8*$B912+C$8)-(F$6+2*I$6*$B912+3*L$6*$B912^2+4*O$6*$B912^3)*(C$5+F$5*$B912+I$5*$B912^2+L$5*$B912^3+O$5*$B912^4)*SIN(O$6*$B912^4+L$6*$B912^3+I$6*$B912^2+F$6*$B912+C$6)+(F$5+2*I$5*$B912+3*L$5*$B912^2+4*O$5*$B912^3)*COS(O$6*$B912^4+L$6*$B912^3+I$6*$B912^2+F$6*$B912+C$6)+4*O$4*$B912^3+3*L$4*$B912^2+2*I$4*$B912+F$4","v":{"$error":"#N/A"}},{"$f":"(G$7+2*J$7*$B912+3*M$7*$B912^2+4*P$7*$B912^3)*SIN(P$8*$B912^4+M$8*$B912^3+J$8*$B912^2+G$8*$B912+D$8)+(G$8+2*J$8*$B912+3*M$8*$B912^2+4*P$8*$B912^3)*(D$7+G$7*$B912+J$7*$B912^2+M$7*$B912^3+P$7*$B912^4)*COS(P$8*$B912^4+M$8*$B912^3+J$8*$B912^2+G$8*$B912+D$8)-(G$6+2*J$6*$B912+3*M$6*$B912^2+4*P$6*$B912^3)*(D$5+G$5*$B912+J$5*$B912^2+M$5*$B912^3+P$5*$B912^4)*SIN(P$6*$B912^4+M$6*$B912^3+J$6*$B912^2+G$6*$B912+D$6)+(G$5+2*J$5*$B912+3*M$5*$B912^2+4*P$5*$B912^3)*COS(P$6*$B912^4+M$6*$B912^3+J$6*$B912^2+G$6*$B912+D$6)+4*P$4*$B912^3+3*M$4*$B912^2+2*J$4*$B912+G$4","v":{"$error":"#N/A"}},{"$f":"(H$7+2*K$7*$B912+3*N$7*$B912^2+4*Q$7*$B912^3)*SIN(Q$8*$B912^4+N$8*$B912^3+K$8*$B912^2+H$8*$B912+E$8)+(H$8+2*K$8*$B912+3*N$8*$B912^2+4*Q$8*$B912^3)*(E$7+H$7*$B912+K$7*$B912^2+N$7*$B912^3+Q$7*$B912^4)*COS(Q$8*$B912^4+N$8*$B912^3+K$8*$B912^2+H$8*$B912+E$8)-(H$6+2*K$6*$B912+3*N$6*$B912^2+4*Q$6*$B912^3)*(E$5+H$5*$B912+K$5*$B912^2+N$5*$B912^3+Q$5*$B912^4)*SIN(Q$6*$B912^4+N$6*$B912^3+K$6*$B912^2+H$6*$B912+E$6)+(H$5+2*K$5*$B912+3*N$5*$B912^2+4*Q$5*$B912^3)*COS(Q$6*$B912^4+N$6*$B912^3+K$6*$B912^2+H$6*$B912+E$6)+4*Q$4*$B912^3+3*N$4*$B912^2+2*K$4*$B912+H$4","v":{"$error":"#N/A"}},{"$f":"-1*(F$8+2*I$8*$B912+3*L$8*$B912^2+4*O$8*$B912^3)^2*(C$7+F$7*$B912+I$7*$B912^2+L$7*$B912^3+O$7*$B912^4)*SIN(O$8*$B912^4+L$8*$B912^3+I$8*$B912^2+F$8*$B912+C$8)+(2*I$7+6*L$7*$B912+12*O$7*$B912^2)*SIN(O$8*$B912^4+L$8*$B912^3+I$8*$B912^2+F$8*$B912+C$8)+(2*I$8+6*L$8*$B912+12*O$8*$B912^2)*(C$7+F$7*$B912+I$7*$B912^2+L$7*$B912^3+O$7*$B912^4)*COS(O$8*$B912^4+L$8*$B912^3+I$8*$B912^2+F$8*$B912+C$8)+2*(F$7+2*I$7*$B912+3*L$7*$B912^2+4*O$7*$B912^3)*(F$8+2*I$8*$B912+3*L$8*$B912^2+4*O$8*$B912^3)*COS(O$8*$B912^4+L$8*$B912^3+I$8*$B912^2+F$8*$B912+C$8)-(2*I$6+6*L$6*$B912+12*O$6*$B912^2)*(C$5+F$5*$B912+I$5*$B912^2+L$5*$B912^3+O$5*$B912^4)*SIN(O$6*$B912^4+L$6*$B912^3+I$6*$B912^2+F$6*$B912+C$6)-2*(F$5+2*I$5*$B912+3*L$5*$B912^2+4*O$5*$B912^3)*(F$6+2*I$6*$B912+3*L$6*$B912^2+4*O$6*$B912^3)*SIN(O$6*$B912^4+L$6*$B912^3+I$6*$B912^2+F$6*$B912+C$6)-(F$6+2*I$6*$B912+3*L$6*$B912^2+4*O$6*$B912^3)^2*(C$5+F$5*$B912+I$5*$B912^2+L$5*$B912^3+O$5*$B912^4)*COS(O$6*$B912^4+L$6*$B912^3+I$6*$B912^2+F$6*$B912+C$6)+(2*I$5+6*L$5*$B912+12*O$5*$B912^2)*COS(O$6*$B912^4+L$6*$B912^3+I$6*$B912^2+F$6*$B912+C$6)+12*O$4*$B912^2+6*L$4*$B912+2*I$4","v":{"$error":"#N/A"}},{"$f":"-1*(G$8+2*J$8*$B912+3*M$8*$B912^2+4*P$8*$B912^3)^2*(D$7+G$7*$B912+J$7*$B912^2+M$7*$B912^3+P$7*$B912^4)*SIN(P$8*$B912^4+M$8*$B912^3+J$8*$B912^2+G$8*$B912+D$8)+(2*J$7+6*M$7*$B912+12*P$7*$B912^2)*SIN(P$8*$B912^4+M$8*$B912^3+J$8*$B912^2+G$8*$B912+D$8)+(2*J$8+6*M$8*$B912+12*P$8*$B912^2)*(D$7+G$7*$B912+J$7*$B912^2+M$7*$B912^3+P$7*$B912^4)*COS(P$8*$B912^4+M$8*$B912^3+J$8*$B912^2+G$8*$B912+D$8)+2*(G$7+2*J$7*$B912+3*M$7*$B912^2+4*P$7*$B912^3)*(G$8+2*J$8*$B912+3*M$8*$B912^2+4*P$8*$B912^3)*COS(P$8*$B912^4+M$8*$B912^3+J$8*$B912^2+G$8*$B912+D$8)-(2*J$6+6*M$6*$B912+12*P$6*$B912^2)*(D$5+G$5*$B912+J$5*$B912^2+M$5*$B912^3+P$5*$B912^4)*SIN(P$6*$B912^4+M$6*$B912^3+J$6*$B912^2+G$6*$B912+D$6)-2*(G$5+2*J$5*$B912+3*M$5*$B912^2+4*P$5*$B912^3)*(G$6+2*J$6*$B912+3*M$6*$B912^2+4*P$6*$B912^3)*SIN(P$6*$B912^4+M$6*$B912^3+J$6*$B912^2+G$6*$B912+D$6)-(G$6+2*J$6*$B912+3*M$6*$B912^2+4*P$6*$B912^3)^2*(D$5+G$5*$B912+J$5*$B912^2+M$5*$B912^3+P$5*$B912^4)*COS(P$6*$B912^4+M$6*$B912^3+J$6*$B912^2+G$6*$B912+D$6)+(2*J$5+6*M$5*$B912+12*P$5*$B912^2)*COS(P$6*$B912^4+M$6*$B912^3+J$6*$B912^2+G$6*$B912+D$6)+12*P$4*$B912^2+6*M$4*$B912+2*J$4","v":{"$error":"#N/A"}},{"$f":"-1*(H$8+2*K$8*$B912+3*N$8*$B912^2+4*Q$8*$B912^3)^2*(E$7+H$7*$B912+K$7*$B912^2+N$7*$B912^3+Q$7*$B912^4)*SIN(Q$8*$B912^4+N$8*$B912^3+K$8*$B912^2+H$8*$B912+E$8)+(2*K$7+6*N$7*$B912+12*Q$7*$B912^2)*SIN(Q$8*$B912^4+N$8*$B912^3+K$8*$B912^2+H$8*$B912+E$8)+(2*K$8+6*N$8*$B912+12*Q$8*$B912^2)*(E$7+H$7*$B912+K$7*$B912^2+N$7*$B912^3+Q$7*$B912^4)*COS(Q$8*$B912^4+N$8*$B912^3+K$8*$B912^2+H$8*$B912+E$8)+2*(H$7+2*K$7*$B912+3*N$7*$B912^2+4*Q$7*$B912^3)*(H$8+2*K$8*$B912+3*N$8*$B912^2+4*Q$8*$B912^3)*COS(Q$8*$B912^4+N$8*$B912^3+K$8*$B912^2+H$8*$B912+E$8)-(2*K$6+6*N$6*$B912+12*Q$6*$B912^2)*(E$5+H$5*$B912+K$5*$B912^2+N$5*$B912^3+Q$5*$B912^4)*SIN(Q$6*$B912^4+N$6*$B912^3+K$6*$B912^2+H$6*$B912+E$6)-2*(H$5+2*K$5*$B912+3*N$5*$B912^2+4*Q$5*$B912^3)*(H$6+2*K$6*$B912+3*N$6*$B912^2+4*Q$6*$B912^3)*SIN(Q$6*$B912^4+N$6*$B912^3+K$6*$B912^2+H$6*$B912+E$6)-(H$6+2*K$6*$B912+3*N$6*$B912^2+4*Q$6*$B912^3)^2*(E$5+H$5*$B912+K$5*$B912^2+N$5*$B912^3+Q$5*$B912^4)*COS(Q$6*$B912^4+N$6*$B912^3+K$6*$B912^2+H$6*$B912+E$6)+(2*K$5+6*N$5*$B912+12*Q$5*$B912^2)*COS(Q$6*$B912^4+N$6*$B912^3+K$6*$B912^2+H$6*$B912+E$6)+12*Q$4*$B912^2+6*N$4*$B912+2*K$4","v":{"$error":"#N/A"}},{"$f":"IF($AK$38=0,TRANSPOSE(MMULT($O$10:$Q$12,TRANSPOSE(C912:E912))),TRANSPOSE(MMULT($O$10:$Q$12,TRANSPOSE(Y912:AA912))))","v":{"$error":"#N/A"}},{"$error":"#N/A"},{"$error":"#N/A"},{"$error":"#N/A"},{"$error":"#N/A"},{"$f":"TRANSPOSE(MMULT($AE$10:$AG$12,TRANSPOSE(F912:H912)))","v":{"$error":"#N/A"}},{"$error":"#N/A"},{"$error":"#N/A"},{"$f":"$Y$5+$Y$4*IF($U$8=1,Q912,(Q912*$U$6)/($U$6+$U$7+R912))","v":{"$error":"#N/A"}},{"$f":"$Y$6+$Y$4*IF($U$8=1,R912,(S912*$U$6)/($U$6+$U$7+R912))","v":{"$error":"#N/A"}},{"$f":"TRANSPOSE(MMULT($AO$40:$AQ$42,TRANSPOSE(C912:E912)))","v":{"$error":"#N/A"}},{"$error":"#N/A"},{"$error":"#N/A"},{"$f":"V912+$AL$46","v":{"$error":"#N/A"}},{"$f":"W912+$AL$47","v":{"$error":"#N/A"}},{"$f":"X912+$AL$48","v":{"$error":"#N/A"}}]
[913,{"$error":"#N/A"},{"$error":"#N/A"},{"$error":"#N/A"},{"$error":"#N/A"},{"$error":"#N/A"},{"$error":"#N/A"},{"$error":"#N/A"},{"$error":"#N/A"},{"$error":"#N/A"},{"$error":"#N/A"},{"$f":"IF($AK$38=0,TRANSPOSE(MMULT($O$10:$Q$12,TRANSPOSE(C913:E913))),TRANSPOSE(MMULT($O$10:$Q$12,TRANSPOSE(Y913:AA913))))","v":{"$error":"#N/A"}},{"$error":"#N/A"},{"$error":"#N/A"},{"$f":"IF($AD$4=0,NA(),$X$5+$X$4*IF($U$8=1,L913,(L913*$U$6)/($U$6+$U$7+M913)))","v":{"$error":"#N/A"}},{"$f":"IF($AD$4=0,NA(),$X$6+$X$4*IF($U$8=1,M913,(N913*$U$6)/($U$6+$U$7+M913)))","v":{"$error":"#N/A"}},{"$f":"TRANSPOSE(MMULT($AE$10:$AG$12,TRANSPOSE(F913:H913)))","v":{"$error":"#N/A"}},{"$error":"#N/A"},{"$error":"#N/A"},{"$error":"#N/A"},{"$error":"#N/A"},{"$f":"TRANSPOSE(MMULT($AO$40:$AQ$42,TRANSPOSE(C913:E913)))","v":{"$error":"#N/A"}},{"$error":"#N/A"},{"$error":"#N/A"},{"$error":"#N/A"},{"$error":"#N/A"},{"$error":"#N/A"}]
[914,{"$f":"IF(B913<$B$3,B913+$S$3,NA())","v":{"$error":"#N/A"}},{"$error":"#N/A"},{"$error":"#N/A"},{"$error":"#N/A"},{"$error":"#N/A"},{"$error":"#N/A"},{"$error":"#N/A"},{"$error":"#N/A"},{"$error":"#N/A"},{"$error":"#N/A"},{"$f":"IF($AK$38=0,TRANSPOSE(MMULT($O$10:$Q$12,TRANSPOSE(C914:E914))),TRANSPOSE(MMULT($O$10:$Q$12,TRANSPOSE(Y914:AA914))))","v":{"$error":"#N/A"}},{"$error":"#N/A"},{"$error":"#N/A"},{"$error":"#N/A"},{"$error":"#N/A"},{"$f":"TRANSPOSE(MMULT($AE$10:$AG$12,TRANSPOSE(F914:H914)))","v":{"$error":"#N/A"}},{"$error":"#N/A"},{"$error":"#N/A"},{"$error":"#N/A"},{"$error":"#N/A"},{"$f":"TRANSPOSE(MMULT($AO$40:$AQ$42,TRANSPOSE(C914:E914)))","v":{"$error":"#N/A"}},{"$error":"#N/A"},{"$error":"#N/A"},{"$error":"#N/A"},{"$error":"#N/A"},{"$error":"#N/A"}]
[915,{"$error":"#N/A"},{"$error":"#N/A"},{"$error":"#N/A"},{"$error":"#N/A"},{"$error":"#N/A"},{"$error":"#N/A"},{"$error":"#N/A"},{"$error":"#N/A"},{"$error":"#N/A"},{"$error":"#N/A"},{"$f":"IF($AK$38=0,TRANSPOSE(MMULT($O$10:$Q$12,TRANSPOSE(C915:E915))),TRANSPOSE(MMULT($O$10:$Q$12,TRANSPOSE(Y915:AA915))))","v":{"$error":"#N/A"}},{"$error":"#N/A"},{"$error":"#N/A"},{"$error":"#N/A"},{"$error":"#N/A"},{"$f":"TRANSPOSE(MMULT($AE$10:$AG$12,TRANSPOSE(F915:H915)))","v":{"$error":"#N/A"}},{"$error":"#N/A"},{"$error":"#N/A"},{"$error":"#N/A"},{"$error":"#N/A"},{"$f":"TRANSPOSE(MMULT($AO$40:$AQ$42,TRANSPOSE(C915:E915)))","v":{"$error":"#N/A"}},{"$error":"#N/A"},{"$error":"#N/A"},{"$error":"#N/A"},{"$error":"#N/A"},{"$error":"#N/A"}]
[916,{"$error":"#N/A"},{"$error":"#N/A"},{"$error":"#N/A"},{"$error":"#N/A"},{"$error":"#N/A"},{"$error":"#N/A"},{"$error":"#N/A"},{"$error":"#N/A"},{"$error":"#N/A"},{"$error":"#N/A"},{"$f":"IF($AK$38=0,TRANSPOSE(MMULT($O$10:$Q$12,TRANSPOSE(C916:E916))),TRANSPOSE(MMULT($O$10:$Q$12,TRANSPOSE(Y916:AA916))))","v":{"$error":"#N/A"}},{"$error":"#N/A"},{"$error":"#N/A"},{"$error":"#N/A"},{"$error":"#N/A"},{"$f":"TRANSPOSE(MMULT($AE$10:$AG$12,TRANSPOSE(F916:H916)))","v":{"$error":"#N/A"}},{"$error":"#N/A"},{"$error":"#N/A"},{"$error":"#N/A"},{"$error":"#N/A"},{"$f":"TRANSPOSE(MMULT($AO$40:$AQ$42,TRANSPOSE(C916:E916)))","v":{"$error":"#N/A"}},{"$error":"#N/A"},{"$error":"#N/A"},{"$error":"#N/A"},{"$error":"#N/A"},{"$error":"#N/A"}]
[917,{"$error":"#N/A"},{"$error":"#N/A"},{"$error":"#N/A"},{"$error":"#N/A"},{"$error":"#N/A"},{"$error":"#N/A"},{"$error":"#N/A"},{"$error":"#N/A"},{"$error":"#N/A"},{"$error":"#N/A"},{"$f":"IF($AK$38=0,TRANSPOSE(MMULT($O$10:$Q$12,TRANSPOSE(C917:E917))),TRANSPOSE(MMULT($O$10:$Q$12,TRANSPOSE(Y917:AA917))))","v":{"$error":"#N/A"}},{"$error":"#N/A"},{"$error":"#N/A"},{"$error":"#N/A"},{"$error":"#N/A"},{"$f":"TRANSPOSE(MMULT($AE$10:$AG$12,TRANSPOSE(F917:H917)))","v":{"$error":"#N/A"}},{"$error":"#N/A"},{"$error":"#N/A"},{"$error":"#N/A"},{"$error":"#N/A"},{"$f":"TRANSPOSE(MMULT($AO$40:$AQ$42,TRANSPOSE(C917:E917)))","v":{"$error":"#N/A"}},{"$error":"#N/A"},{"$error":"#N/A"},{"$error":"#N/A"},{"$error":"#N/A"},{"$error":"#N/A"}]
[918,{"$error":"#N/A"},{"$error":"#N/A"},{"$error":"#N/A"},{"$error":"#N/A"},{"$error":"#N/A"},{"$error":"#N/A"},{"$error":"#N/A"},{"$error":"#N/A"},{"$error":"#N/A"},{"$error":"#N/A"},{"$f":"IF($AK$38=0,TRANSPOSE(MMULT($O$10:$Q$12,TRANSPOSE(C918:E918))),TRANSPOSE(MMULT($O$10:$Q$12,TRANSPOSE(Y918:AA918))))","v":{"$error":"#N/A"}},{"$error":"#N/A"},{"$error":"#N/A"},{"$error":"#N/A"},{"$error":"#N/A"},{"$f":"TRANSPOSE(MMULT($AE$10:$AG$12,TRANSPOSE(F918:H918)))","v":{"$error":"#N/A"}},{"$error":"#N/A"},{"$error":"#N/A"},{"$error":"#N/A"},{"$error":"#N/A"},{"$f":"TRANSPOSE(MMULT($AO$40:$AQ$42,TRANSPOSE(C918:E918)))","v":{"$error":"#N/A"}},{"$error":"#N/A"},{"$error":"#N/A"},{"$error":"#N/A"},{"$error":"#N/A"},{"$error":"#N/A"}]
[919,{"$error":"#N/A"},{"$error":"#N/A"},{"$error":"#N/A"},{"$error":"#N/A"},{"$error":"#N/A"},{"$error":"#N/A"},{"$error":"#N/A"},{"$error":"#N/A"},{"$error":"#N/A"},{"$error":"#N/A"},{"$f":"IF($AK$38=0,TRANSPOSE(MMULT($O$10:$Q$12,TRANSPOSE(C919:E919))),TRANSPOSE(MMULT($O$10:$Q$12,TRANSPOSE(Y919:AA919))))","v":{"$error":"#N/A"}},{"$error":"#N/A"},{"$error":"#N/A"},{"$error":"#N/A"},{"$error":"#N/A"},{"$f":"TRANSPOSE(MMULT($AE$10:$AG$12,TRANSPOSE(F919:H919)))","v":{"$error":"#N/A"}},{"$error":"#N/A"},{"$error":"#N/A"},{"$error":"#N/A"},{"$error":"#N/A"},{"$f":"TRANSPOSE(MMULT($AO$40:$AQ$42,TRANSPOSE(C919:E919)))","v":{"$error":"#N/A"}},{"$error":"#N/A"},{"$error":"#N/A"},{"$error":"#N/A"},{"$error":"#N/A"},{"$error":"#N/A"}]
[920,{"$error":"#N/A"},{"$error":"#N/A"},{"$error":"#N/A"},{"$error":"#N/A"},{"$error":"#N/A"},{"$error":"#N/A"},{"$error":"#N/A"},{"$error":"#N/A"},{"$error":"#N/A"},{"$error":"#N/A"},{"$f":"IF($AK$38=0,TRANSPOSE(MMULT($O$10:$Q$12,TRANSPOSE(C920:E920))),TRANSPOSE(MMULT($O$10:$Q$12,TRANSPOSE(Y920:AA920))))","v":{"$error":"#N/A"}},{"$error":"#N/A"},{"$error":"#N/A"},{"$error":"#N/A"},{"$error":"#N/A"},{"$f":"TRANSPOSE(MMULT($AE$10:$AG$12,TRANSPOSE(F920:H920)))","v":{"$error":"#N/A"}},{"$error":"#N/A"},{"$error":"#N/A"},{"$error":"#N/A"},{"$error":"#N/A"},{"$f":"TRANSPOSE(MMULT($AO$40:$AQ$42,TRANSPOSE(C920:E920)))","v":{"$error":"#N/A"}},{"$error":"#N/A"},{"$error":"#N/A"},{"$error":"#N/A"},{"$error":"#N/A"},{"$error":"#N/A"}]
[921,{"$error":"#N/A"},{"$error":"#N/A"},{"$error":"#N/A"},{"$error":"#N/A"},{"$error":"#N/A"},{"$error":"#N/A"},{"$error":"#N/A"},{"$error":"#N/A"},{"$error":"#N/A"},{"$error":"#N/A"},{"$f":"IF($AK$38=0,TRANSPOSE(MMULT($O$10:$Q$12,TRANSPOSE(C921:E921))),TRANSPOSE(MMULT($O$10:$Q$12,TRANSPOSE(Y921:AA921))))","v":{"$error":"#N/A"}},{"$error":"#N/A"},{"$error":"#N/A"},{"$error":"#N/A"},{"$error":"#N/A"},{"$f":"TRANSPOSE(MMULT($AE$10:$AG$12,TRANSPOSE(F921:H921)))","v":{"$error":"#N/A"}},{"$error":"#N/A"},{"$error":"#N/A"},{"$error":"#N/A"},{"$error":"#N/A"},{"$f":"TRANSPOSE(MMULT($AO$40:$AQ$42,TRANSPOSE(C921:E921)))","v":{"$error":"#N/A"}},{"$error":"#N/A"},{"$error":"#N/A"},{"$error":"#N/A"},{"$error":"#N/A"},{"$error":"#N/A"}]
[922,{"$error":"#N/A"},{"$error":"#N/A"},{"$error":"#N/A"},{"$error":"#N/A"},{"$error":"#N/A"},{"$error":"#N/A"},{"$error":"#N/A"},{"$error":"#N/A"},{"$error":"#N/A"},{"$error":"#N/A"},{"$f":"IF($AK$38=0,TRANSPOSE(MMULT($O$10:$Q$12,TRANSPOSE(C922:E922))),TRANSPOSE(MMULT($O$10:$Q$12,TRANSPOSE(Y922:AA922))))","v":{"$error":"#N/A"}},{"$error":"#N/A"},{"$error":"#N/A"},{"$error":"#N/A"},{"$error":"#N/A"},{"$f":"TRANSPOSE(MMULT($AE$10:$AG$12,TRANSPOSE(F922:H922)))","v":{"$error":"#N/A"}},{"$error":"#N/A"},{"$error":"#N/A"},{"$error":"#N/A"},{"$error":"#N/A"},{"$f":"TRANSPOSE(MMULT($AO$40:$AQ$42,TRANSPOSE(C922:E922)))","v":{"$error":"#N/A"}},{"$error":"#N/A"},{"$error":"#N/A"},{"$error":"#N/A"},{"$error":"#N/A"},{"$error":"#N/A"}]
[923,{"$error":"#N/A"},{"$error":"#N/A"},{"$error":"#N/A"},{"$error":"#N/A"},{"$error":"#N/A"},{"$error":"#N/A"},{"$error":"#N/A"},{"$error":"#N/A"},{"$error":"#N/A"},{"$error":"#N/A"},{"$f":"IF($AK$38=0,TRANSPOSE(MMULT($O$10:$Q$12,TRANSPOSE(C923:E923))),TRANSPOSE(MMULT($O$10:$Q$12,TRANSPOSE(Y923:AA923))))","v":{"$error":"#N/A"}},{"$error":"#N/A"},{"$error":"#N/A"},{"$error":"#N/A"},{"$error":"#N/A"},{"$f":"TRANSPOSE(MMULT($AE$10:$AG$12,TRANSPOSE(F923:H923)))","v":{"$error":"#N/A"}},{"$error":"#N/A"},{"$error":"#N/A"},{"$error":"#N/A"},{"$error":"#N/A"},{"$f":"TRANSPOSE(MMULT($AO$40:$AQ$42,TRANSPOSE(C923:E923)))","v":{"$error":"#N/A"}},{"$error":"#N/A"},{"$error":"#N/A"},{"$error":"#N/A"},{"$error":"#N/A"},{"$error":"#N/A"}]
[924,{"$error":"#N/A"},{"$error":"#N/A"},{"$error":"#N/A"},{"$error":"#N/A"},{"$error":"#N/A"},{"$error":"#N/A"},{"$error":"#N/A"},{"$error":"#N/A"},{"$error":"#N/A"},{"$error":"#N/A"},{"$f":"IF($AK$38=0,TRANSPOSE(MMULT($O$10:$Q$12,TRANSPOSE(C924:E924))),TRANSPOSE(MMULT($O$10:$Q$12,TRANSPOSE(Y924:AA924))))","v":{"$error":"#N/A"}},{"$error":"#N/A"},{"$error":"#N/A"},{"$error":"#N/A"},{"$error":"#N/A"},{"$f":"TRANSPOSE(MMULT($AE$10:$AG$12,TRANSPOSE(F924:H924)))","v":{"$error":"#N/A"}},{"$error":"#N/A"},{"$error":"#N/A"},{"$error":"#N/A"},{"$error":"#N/A"},{"$f":"TRANSPOSE(MMULT($AO$40:$AQ$42,TRANSPOSE(C924:E924)))","v":{"$error":"#N/A"}},{"$error":"#N/A"},{"$error":"#N/A"},{"$error":"#N/A"},{"$error":"#N/A"},{"$error":"#N/A"}]
[925,{"$error":"#N/A"},{"$error":"#N/A"},{"$error":"#N/A"},{"$error":"#N/A"},{"$error":"#N/A"},{"$error":"#N/A"},{"$error":"#N/A"},{"$error":"#N/A"},{"$error":"#N/A"},{"$error":"#N/A"},{"$f":"IF($AK$38=0,TRANSPOSE(MMULT($O$10:$Q$12,TRANSPOSE(C925:E925))),TRANSPOSE(MMULT($O$10:$Q$12,TRANSPOSE(Y925:AA925))))","v":{"$error":"#N/A"}},{"$error":"#N/A"},{"$error":"#N/A"},{"$error":"#N/A"},{"$error":"#N/A"},{"$f":"TRANSPOSE(MMULT($AE$10:$AG$12,TRANSPOSE(F925:H925)))","v":{"$error":"#N/A"}},{"$error":"#N/A"},{"$error":"#N/A"},{"$error":"#N/A"},{"$error":"#N/A"},{"$f":"TRANSPOSE(MMULT($AO$40:$AQ$42,TRANSPOSE(C925:E925)))","v":{"$error":"#N/A"}},{"$error":"#N/A"},{"$error":"#N/A"},{"$error":"#N/A"},{"$error":"#N/A"},{"$error":"#N/A"}]
[926,{"$error":"#N/A"},{"$error":"#N/A"},{"$error":"#N/A"},{"$error":"#N/A"},{"$error":"#N/A"},{"$error":"#N/A"},{"$error":"#N/A"},{"$error":"#N/A"},{"$error":"#N/A"},{"$error":"#N/A"},{"$f":"IF($AK$38=0,TRANSPOSE(MMULT($O$10:$Q$12,TRANSPOSE(C926:E926))),TRANSPOSE(MMULT($O$10:$Q$12,TRANSPOSE(Y926:AA926))))","v":{"$error":"#N/A"}},{"$error":"#N/A"},{"$error":"#N/A"},{"$error":"#N/A"},{"$error":"#N/A"},{"$f":"TRANSPOSE(MMULT($AE$10:$AG$12,TRANSPOSE(F926:H926)))","v":{"$error":"#N/A"}},{"$error":"#N/A"},{"$error":"#N/A"},{"$error":"#N/A"},{"$error":"#N/A"},{"$f":"TRANSPOSE(MMULT($AO$40:$AQ$42,TRANSPOSE(C926:E926)))","v":{"$error":"#N/A"}},{"$error":"#N/A"},{"$error":"#N/A"},{"$error":"#N/A"},{"$error":"#N/A"},{"$error":"#N/A"}]
[927,{"$error":"#N/A"},{"$error":"#N/A"},{"$error":"#N/A"},{"$error":"#N/A"},{"$error":"#N/A"},{"$error":"#N/A"},{"$error":"#N/A"},{"$error":"#N/A"},{"$error":"#N/A"},{"$error":"#N/A"},{"$f":"IF($AK$38=0,TRANSPOSE(MMULT($O$10:$Q$12,TRANSPOSE(C927:E927))),TRANSPOSE(MMULT($O$10:$Q$12,TRANSPOSE(Y927:AA927))))","v":{"$error":"#N/A"}},{"$error":"#N/A"},{"$error":"#N/A"},{"$error":"#N/A"},{"$error":"#N/A"},{"$f":"TRANSPOSE(MMULT($AE$10:$AG$12,TRANSPOSE(F927:H927)))","v":{"$error":"#N/A"}},{"$error":"#N/A"},{"$error":"#N/A"},{"$error":"#N/A"},{"$error":"#N/A"},{"$f":"TRANSPOSE(MMULT($AO$40:$AQ$42,TRANSPOSE(C927:E927)))","v":{"$error":"#N/A"}},{"$error":"#N/A"},{"$error":"#N/A"},{"$error":"#N/A"},{"$error":"#N/A"},{"$error":"#N/A"}]
[928,{"$error":"#N/A"},{"$error":"#N/A"},{"$error":"#N/A"},{"$error":"#N/A"},{"$error":"#N/A"},{"$error":"#N/A"},{"$error":"#N/A"},{"$error":"#N/A"},{"$error":"#N/A"},{"$error":"#N/A"},{"$f":"IF($AK$38=0,TRANSPOSE(MMULT($O$10:$Q$12,TRANSPOSE(C928:E928))),TRANSPOSE(MMULT($O$10:$Q$12,TRANSPOSE(Y928:AA928))))","v":{"$error":"#N/A"}},{"$error":"#N/A"},{"$error":"#N/A"},{"$error":"#N/A"},{"$error":"#N/A"},{"$f":"TRANSPOSE(MMULT($AE$10:$AG$12,TRANSPOSE(F928:H928)))","v":{"$error":"#N/A"}},{"$error":"#N/A"},{"$error":"#N/A"},{"$error":"#N/A"},{"$error":"#N/A"},{"$f":"TRANSPOSE(MMULT($AO$40:$AQ$42,TRANSPOSE(C928:E928)))","v":{"$error":"#N/A"}},{"$error":"#N/A"},{"$error":"#N/A"},{"$error":"#N/A"},{"$error":"#N/A"},{"$error":"#N/A"}]
[929,{"$error":"#N/A"},{"$error":"#N/A"},{"$error":"#N/A"},{"$error":"#N/A"},{"$error":"#N/A"},{"$error":"#N/A"},{"$error":"#N/A"},{"$error":"#N/A"},{"$error":"#N/A"},{"$error":"#N/A"},{"$f":"IF($AK$38=0,TRANSPOSE(MMULT($O$10:$Q$12,TRANSPOSE(C929:E929))),TRANSPOSE(MMULT($O$10:$Q$12,TRANSPOSE(Y929:AA929))))","v":{"$error":"#N/A"}},{"$error":"#N/A"},{"$error":"#N/A"},{"$error":"#N/A"},{"$error":"#N/A"},{"$f":"TRANSPOSE(MMULT($AE$10:$AG$12,TRANSPOSE(F929:H929)))","v":{"$error":"#N/A"}},{"$error":"#N/A"},{"$error":"#N/A"},{"$error":"#N/A"},{"$error":"#N/A"},{"$f":"TRANSPOSE(MMULT($AO$40:$AQ$42,TRANSPOSE(C929:E929)))","v":{"$error":"#N/A"}},{"$error":"#N/A"},{"$error":"#N/A"},{"$error":"#N/A"},{"$error":"#N/A"},{"$error":"#N/A"}]
[930,{"$error":"#N/A"},{"$error":"#N/A"},{"$error":"#N/A"},{"$error":"#N/A"},{"$error":"#N/A"},{"$error":"#N/A"},{"$error":"#N/A"},{"$error":"#N/A"},{"$error":"#N/A"},{"$error":"#N/A"},{"$f":"IF($AK$38=0,TRANSPOSE(MMULT($O$10:$Q$12,TRANSPOSE(C930:E930))),TRANSPOSE(MMULT($O$10:$Q$12,TRANSPOSE(Y930:AA930))))","v":{"$error":"#N/A"}},{"$error":"#N/A"},{"$error":"#N/A"},{"$error":"#N/A"},{"$error":"#N/A"},{"$f":"TRANSPOSE(MMULT($AE$10:$AG$12,TRANSPOSE(F930:H930)))","v":{"$error":"#N/A"}},{"$error":"#N/A"},{"$error":"#N/A"},{"$error":"#N/A"},{"$error":"#N/A"},{"$f":"TRANSPOSE(MMULT($AO$40:$AQ$42,TRANSPOSE(C930:E930)))","v":{"$error":"#N/A"}},{"$error":"#N/A"},{"$error":"#N/A"},{"$error":"#N/A"},{"$error":"#N/A"},{"$error":"#N/A"}]
[931,{"$error":"#N/A"},{"$error":"#N/A"},{"$error":"#N/A"},{"$error":"#N/A"},{"$error":"#N/A"},{"$error":"#N/A"},{"$error":"#N/A"},{"$error":"#N/A"},{"$error":"#N/A"},{"$error":"#N/A"},{"$f":"IF($AK$38=0,TRANSPOSE(MMULT($O$10:$Q$12,TRANSPOSE(C931:E931))),TRANSPOSE(MMULT($O$10:$Q$12,TRANSPOSE(Y931:AA931))))","v":{"$error":"#N/A"}},{"$error":"#N/A"},{"$error":"#N/A"},{"$error":"#N/A"},{"$error":"#N/A"},{"$f":"TRANSPOSE(MMULT($AE$10:$AG$12,TRANSPOSE(F931:H931)))","v":{"$error":"#N/A"}},{"$error":"#N/A"},{"$error":"#N/A"},{"$error":"#N/A"},{"$error":"#N/A"},{"$f":"TRANSPOSE(MMULT($AO$40:$AQ$42,TRANSPOSE(C931:E931)))","v":{"$error":"#N/A"}},{"$error":"#N/A"},{"$error":"#N/A"},{"$error":"#N/A"},{"$error":"#N/A"},{"$error":"#N/A"}]
[932,{"$error":"#N/A"},{"$error":"#N/A"},{"$error":"#N/A"},{"$error":"#N/A"},{"$error":"#N/A"},{"$error":"#N/A"},{"$error":"#N/A"},{"$error":"#N/A"},{"$error":"#N/A"},{"$error":"#N/A"},{"$f":"IF($AK$38=0,TRANSPOSE(MMULT($O$10:$Q$12,TRANSPOSE(C932:E932))),TRANSPOSE(MMULT($O$10:$Q$12,TRANSPOSE(Y932:AA932))))","v":{"$error":"#N/A"}},{"$error":"#N/A"},{"$error":"#N/A"},{"$error":"#N/A"},{"$error":"#N/A"},{"$f":"TRANSPOSE(MMULT($AE$10:$AG$12,TRANSPOSE(F932:H932)))","v":{"$error":"#N/A"}},{"$error":"#N/A"},{"$error":"#N/A"},{"$error":"#N/A"},{"$error":"#N/A"},{"$f":"TRANSPOSE(MMULT($AO$40:$AQ$42,TRANSPOSE(C932:E932)))","v":{"$error":"#N/A"}},{"$error":"#N/A"},{"$error":"#N/A"},{"$error":"#N/A"},{"$error":"#N/A"},{"$error":"#N/A"}]
[933,{"$error":"#N/A"},{"$error":"#N/A"},{"$error":"#N/A"},{"$error":"#N/A"},{"$error":"#N/A"},{"$error":"#N/A"},{"$error":"#N/A"},{"$error":"#N/A"},{"$error":"#N/A"},{"$error":"#N/A"},{"$f":"IF($AK$38=0,TRANSPOSE(MMULT($O$10:$Q$12,TRANSPOSE(C933:E933))),TRANSPOSE(MMULT($O$10:$Q$12,TRANSPOSE(Y933:AA933))))","v":{"$error":"#N/A"}},{"$error":"#N/A"},{"$error":"#N/A"},{"$error":"#N/A"},{"$error":"#N/A"},{"$f":"TRANSPOSE(MMULT($AE$10:$AG$12,TRANSPOSE(F933:H933)))","v":{"$error":"#N/A"}},{"$error":"#N/A"},{"$error":"#N/A"},{"$error":"#N/A"},{"$error":"#N/A"},{"$f":"TRANSPOSE(MMULT($AO$40:$AQ$42,TRANSPOSE(C933:E933)))","v":{"$error":"#N/A"}},{"$error":"#N/A"},{"$error":"#N/A"},{"$error":"#N/A"},{"$error":"#N/A"},{"$error":"#N/A"}]
[934,{"$error":"#N/A"},{"$error":"#N/A"},{"$error":"#N/A"},{"$error":"#N/A"},{"$error":"#N/A"},{"$error":"#N/A"},{"$error":"#N/A"},{"$error":"#N/A"},{"$error":"#N/A"},{"$error":"#N/A"},{"$f":"IF($AK$38=0,TRANSPOSE(MMULT($O$10:$Q$12,TRANSPOSE(C934:E934))),TRANSPOSE(MMULT($O$10:$Q$12,TRANSPOSE(Y934:AA934))))","v":{"$error":"#N/A"}},{"$error":"#N/A"},{"$error":"#N/A"},{"$error":"#N/A"},{"$error":"#N/A"},{"$f":"TRANSPOSE(MMULT($AE$10:$AG$12,TRANSPOSE(F934:H934)))","v":{"$error":"#N/A"}},{"$error":"#N/A"},{"$error":"#N/A"},{"$error":"#N/A"},{"$error":"#N/A"},{"$f":"TRANSPOSE(MMULT($AO$40:$AQ$42,TRANSPOSE(C934:E934)))","v":{"$error":"#N/A"}},{"$error":"#N/A"},{"$error":"#N/A"},{"$error":"#N/A"},{"$error":"#N/A"},{"$error":"#N/A"}]
[935,{"$error":"#N/A"},{"$error":"#N/A"},{"$error":"#N/A"},{"$error":"#N/A"},{"$error":"#N/A"},{"$error":"#N/A"},{"$error":"#N/A"},{"$error":"#N/A"},{"$error":"#N/A"},{"$error":"#N/A"},{"$f":"IF($AK$38=0,TRANSPOSE(MMULT($O$10:$Q$12,TRANSPOSE(C935:E935))),TRANSPOSE(MMULT($O$10:$Q$12,TRANSPOSE(Y935:AA935))))","v":{"$error":"#N/A"}},{"$error":"#N/A"},{"$error":"#N/A"},{"$error":"#N/A"},{"$error":"#N/A"},{"$f":"TRANSPOSE(MMULT($AE$10:$AG$12,TRANSPOSE(F935:H935)))","v":{"$error":"#N/A"}},{"$error":"#N/A"},{"$error":"#N/A"},{"$error":"#N/A"},{"$error":"#N/A"},{"$f":"TRANSPOSE(MMULT($AO$40:$AQ$42,TRANSPOSE(C935:E935)))","v":{"$error":"#N/A"}},{"$error":"#N/A"},{"$error":"#N/A"},{"$error":"#N/A"},{"$error":"#N/A"},{"$error":"#N/A"}]
[936,{"$error":"#N/A"},{"$error":"#N/A"},{"$error":"#N/A"},{"$error":"#N/A"},{"$error":"#N/A"},{"$error":"#N/A"},{"$error":"#N/A"},{"$error":"#N/A"},{"$error":"#N/A"},{"$error":"#N/A"},{"$f":"IF($AK$38=0,TRANSPOSE(MMULT($O$10:$Q$12,TRANSPOSE(C936:E936))),TRANSPOSE(MMULT($O$10:$Q$12,TRANSPOSE(Y936:AA936))))","v":{"$error":"#N/A"}},{"$error":"#N/A"},{"$error":"#N/A"},{"$error":"#N/A"},{"$error":"#N/A"},{"$f":"TRANSPOSE(MMULT($AE$10:$AG$12,TRANSPOSE(F936:H936)))","v":{"$error":"#N/A"}},{"$error":"#N/A"},{"$error":"#N/A"},{"$error":"#N/A"},{"$error":"#N/A"},{"$f":"TRANSPOSE(MMULT($AO$40:$AQ$42,TRANSPOSE(C936:E936)))","v":{"$error":"#N/A"}},{"$error":"#N/A"},{"$error":"#N/A"},{"$error":"#N/A"},{"$error":"#N/A"},{"$error":"#N/A"}]
[937,{"$error":"#N/A"},{"$error":"#N/A"},{"$error":"#N/A"},{"$error":"#N/A"},{"$error":"#N/A"},{"$error":"#N/A"},{"$error":"#N/A"},{"$error":"#N/A"},{"$error":"#N/A"},{"$error":"#N/A"},{"$f":"IF($AK$38=0,TRANSPOSE(MMULT($O$10:$Q$12,TRANSPOSE(C937:E937))),TRANSPOSE(MMULT($O$10:$Q$12,TRANSPOSE(Y937:AA937))))","v":{"$error":"#N/A"}},{"$error":"#N/A"},{"$error":"#N/A"},{"$error":"#N/A"},{"$error":"#N/A"},{"$f":"TRANSPOSE(MMULT($AE$10:$AG$12,TRANSPOSE(F937:H937)))","v":{"$error":"#N/A"}},{"$error":"#N/A"},{"$error":"#N/A"},{"$error":"#N/A"},{"$error":"#N/A"},{"$f":"TRANSPOSE(MMULT($AO$40:$AQ$42,TRANSPOSE(C937:E937)))","v":{"$error":"#N/A"}},{"$error":"#N/A"},{"$error":"#N/A"},{"$error":"#N/A"},{"$error":"#N/A"},{"$error":"#N/A"}]
[938,{"$error":"#N/A"},{"$error":"#N/A"},{"$error":"#N/A"},{"$error":"#N/A"},{"$error":"#N/A"},{"$error":"#N/A"},{"$error":"#N/A"},{"$error":"#N/A"},{"$error":"#N/A"},{"$error":"#N/A"},{"$f":"IF($AK$38=0,TRANSPOSE(MMULT($O$10:$Q$12,TRANSPOSE(C938:E938))),TRANSPOSE(MMULT($O$10:$Q$12,TRANSPOSE(Y938:AA938))))","v":{"$error":"#N/A"}},{"$error":"#N/A"},{"$error":"#N/A"},{"$error":"#N/A"},{"$error":"#N/A"},{"$f":"TRANSPOSE(MMULT($AE$10:$AG$12,TRANSPOSE(F938:H938)))","v":{"$error":"#N/A"}},{"$error":"#N/A"},{"$error":"#N/A"},{"$error":"#N/A"},{"$error":"#N/A"},{"$f":"TRANSPOSE(MMULT($AO$40:$AQ$42,TRANSPOSE(C938:E938)))","v":{"$error":"#N/A"}},{"$error":"#N/A"},{"$error":"#N/A"},{"$error":"#N/A"},{"$error":"#N/A"},{"$error":"#N/A"}]
[939,{"$error":"#N/A"},{"$error":"#N/A"},{"$error":"#N/A"},{"$error":"#N/A"},{"$error":"#N/A"},{"$error":"#N/A"},{"$error":"#N/A"},{"$error":"#N/A"},{"$error":"#N/A"},{"$error":"#N/A"},{"$f":"IF($AK$38=0,TRANSPOSE(MMULT($O$10:$Q$12,TRANSPOSE(C939:E939))),TRANSPOSE(MMULT($O$10:$Q$12,TRANSPOSE(Y939:AA939))))","v":{"$error":"#N/A"}},{"$error":"#N/A"},{"$error":"#N/A"},{"$error":"#N/A"},{"$error":"#N/A"},{"$f":"TRANSPOSE(MMULT($AE$10:$AG$12,TRANSPOSE(F939:H939)))","v":{"$error":"#N/A"}},{"$error":"#N/A"},{"$error":"#N/A"},{"$error":"#N/A"},{"$error":"#N/A"},{"$f":"TRANSPOSE(MMULT($AO$40:$AQ$42,TRANSPOSE(C939:E939)))","v":{"$error":"#N/A"}},{"$error":"#N/A"},{"$error":"#N/A"},{"$error":"#N/A"},{"$error":"#N/A"},{"$error":"#N/A"}]
[940,{"$error":"#N/A"},{"$error":"#N/A"},{"$error":"#N/A"},{"$error":"#N/A"},{"$error":"#N/A"},{"$error":"#N/A"},{"$error":"#N/A"},{"$error":"#N/A"},{"$error":"#N/A"},{"$error":"#N/A"},{"$f":"IF($AK$38=0,TRANSPOSE(MMULT($O$10:$Q$12,TRANSPOSE(C940:E940))),TRANSPOSE(MMULT($O$10:$Q$12,TRANSPOSE(Y940:AA940))))","v":{"$error":"#N/A"}},{"$error":"#N/A"},{"$error":"#N/A"},{"$error":"#N/A"},{"$error":"#N/A"},{"$f":"TRANSPOSE(MMULT($AE$10:$AG$12,TRANSPOSE(F940:H940)))","v":{"$error":"#N/A"}},{"$error":"#N/A"},{"$error":"#N/A"},{"$error":"#N/A"},{"$error":"#N/A"},{"$f":"TRANSPOSE(MMULT($AO$40:$AQ$42,TRANSPOSE(C940:E940)))","v":{"$error":"#N/A"}},{"$error":"#N/A"},{"$error":"#N/A"},{"$error":"#N/A"},{"$error":"#N/A"},{"$error":"#N/A"}]
[941,{"$error":"#N/A"},{"$error":"#N/A"},{"$error":"#N/A"},{"$error":"#N/A"},{"$error":"#N/A"},{"$error":"#N/A"},{"$error":"#N/A"},{"$error":"#N/A"},{"$error":"#N/A"},{"$error":"#N/A"},{"$f":"IF($AK$38=0,TRANSPOSE(MMULT($O$10:$Q$12,TRANSPOSE(C941:E941))),TRANSPOSE(MMULT($O$10:$Q$12,TRANSPOSE(Y941:AA941))))","v":{"$error":"#N/A"}},{"$error":"#N/A"},{"$error":"#N/A"},{"$error":"#N/A"},{"$error":"#N/A"},{"$f":"TRANSPOSE(MMULT($AE$10:$AG$12,TRANSPOSE(F941:H941)))","v":{"$error":"#N/A"}},{"$error":"#N/A"},{"$error":"#N/A"},{"$error":"#N/A"},{"$error":"#N/A"},{"$f":"TRANSPOSE(MMULT($AO$40:$AQ$42,TRANSPOSE(C941:E941)))","v":{"$error":"#N/A"}},{"$error":"#N/A"},{"$error":"#N/A"},{"$error":"#N/A"},{"$error":"#N/A"},{"$error":"#N/A"}]
[942,{"$error":"#N/A"},{"$error":"#N/A"},{"$error":"#N/A"},{"$error":"#N/A"},{"$error":"#N/A"},{"$error":"#N/A"},{"$error":"#N/A"},{"$error":"#N/A"},{"$error":"#N/A"},{"$error":"#N/A"},{"$f":"IF($AK$38=0,TRANSPOSE(MMULT($O$10:$Q$12,TRANSPOSE(C942:E942))),TRANSPOSE(MMULT($O$10:$Q$12,TRANSPOSE(Y942:AA942))))","v":{"$error":"#N/A"}},{"$error":"#N/A"},{"$error":"#N/A"},{"$error":"#N/A"},{"$error":"#N/A"},{"$f":"TRANSPOSE(MMULT($AE$10:$AG$12,TRANSPOSE(F942:H942)))","v":{"$error":"#N/A"}},{"$error":"#N/A"},{"$error":"#N/A"},{"$error":"#N/A"},{"$error":"#N/A"},{"$f":"TRANSPOSE(MMULT($AO$40:$AQ$42,TRANSPOSE(C942:E942)))","v":{"$error":"#N/A"}},{"$error":"#N/A"},{"$error":"#N/A"},{"$error":"#N/A"},{"$error":"#N/A"},{"$error":"#N/A"}]
[943,{"$error":"#N/A"},{"$error":"#N/A"},{"$error":"#N/A"},{"$error":"#N/A"},{"$error":"#N/A"},{"$error":"#N/A"},{"$error":"#N/A"},{"$error":"#N/A"},{"$error":"#N/A"},{"$error":"#N/A"},{"$f":"IF($AK$38=0,TRANSPOSE(MMULT($O$10:$Q$12,TRANSPOSE(C943:E943))),TRANSPOSE(MMULT($O$10:$Q$12,TRANSPOSE(Y943:AA943))))","v":{"$error":"#N/A"}},{"$error":"#N/A"},{"$error":"#N/A"},{"$error":"#N/A"},{"$error":"#N/A"},{"$f":"TRANSPOSE(MMULT($AE$10:$AG$12,TRANSPOSE(F943:H943)))","v":{"$error":"#N/A"}},{"$error":"#N/A"},{"$error":"#N/A"},{"$error":"#N/A"},{"$error":"#N/A"},{"$f":"TRANSPOSE(MMULT($AO$40:$AQ$42,TRANSPOSE(C943:E943)))","v":{"$error":"#N/A"}},{"$error":"#N/A"},{"$error":"#N/A"},{"$error":"#N/A"},{"$error":"#N/A"},{"$error":"#N/A"}]
[944,{"$error":"#N/A"},{"$error":"#N/A"},{"$error":"#N/A"},{"$error":"#N/A"},{"$error":"#N/A"},{"$error":"#N/A"},{"$error":"#N/A"},{"$error":"#N/A"},{"$error":"#N/A"},{"$error":"#N/A"},{"$f":"IF($AK$38=0,TRANSPOSE(MMULT($O$10:$Q$12,TRANSPOSE(C944:E944))),TRANSPOSE(MMULT($O$10:$Q$12,TRANSPOSE(Y944:AA944))))","v":{"$error":"#N/A"}},{"$error":"#N/A"},{"$error":"#N/A"},{"$error":"#N/A"},{"$error":"#N/A"},{"$f":"TRANSPOSE(MMULT($AE$10:$AG$12,TRANSPOSE(F944:H944)))","v":{"$error":"#N/A"}},{"$error":"#N/A"},{"$error":"#N/A"},{"$error":"#N/A"},{"$error":"#N/A"},{"$f":"TRANSPOSE(MMULT($AO$40:$AQ$42,TRANSPOSE(C944:E944)))","v":{"$error":"#N/A"}},{"$error":"#N/A"},{"$error":"#N/A"},{"$error":"#N/A"},{"$error":"#N/A"},{"$error":"#N/A"}]
[945,{"$error":"#N/A"},{"$error":"#N/A"},{"$error":"#N/A"},{"$error":"#N/A"},{"$error":"#N/A"},{"$error":"#N/A"},{"$error":"#N/A"},{"$error":"#N/A"},{"$error":"#N/A"},{"$error":"#N/A"},{"$f":"IF($AK$38=0,TRANSPOSE(MMULT($O$10:$Q$12,TRANSPOSE(C945:E945))),TRANSPOSE(MMULT($O$10:$Q$12,TRANSPOSE(Y945:AA945))))","v":{"$error":"#N/A"}},{"$error":"#N/A"},{"$error":"#N/A"},{"$error":"#N/A"},{"$error":"#N/A"},{"$f":"TRANSPOSE(MMULT($AE$10:$AG$12,TRANSPOSE(F945:H945)))","v":{"$error":"#N/A"}},{"$error":"#N/A"},{"$error":"#N/A"},{"$error":"#N/A"},{"$error":"#N/A"},{"$f":"TRANSPOSE(MMULT($AO$40:$AQ$42,TRANSPOSE(C945:E945)))","v":{"$error":"#N/A"}},{"$error":"#N/A"},{"$error":"#N/A"},{"$error":"#N/A"},{"$error":"#N/A"},{"$error":"#N/A"}]
[946,{"$error":"#N/A"},{"$error":"#N/A"},{"$error":"#N/A"},{"$error":"#N/A"},{"$error":"#N/A"},{"$error":"#N/A"},{"$error":"#N/A"},{"$error":"#N/A"},{"$error":"#N/A"},{"$error":"#N/A"},{"$f":"IF($AK$38=0,TRANSPOSE(MMULT($O$10:$Q$12,TRANSPOSE(C946:E946))),TRANSPOSE(MMULT($O$10:$Q$12,TRANSPOSE(Y946:AA946))))","v":{"$error":"#N/A"}},{"$error":"#N/A"},{"$error":"#N/A"},{"$error":"#N/A"},{"$error":"#N/A"},{"$f":"TRANSPOSE(MMULT($AE$10:$AG$12,TRANSPOSE(F946:H946)))","v":{"$error":"#N/A"}},{"$error":"#N/A"},{"$error":"#N/A"},{"$error":"#N/A"},{"$error":"#N/A"},{"$f":"TRANSPOSE(MMULT($AO$40:$AQ$42,TRANSPOSE(C946:E946)))","v":{"$error":"#N/A"}},{"$error":"#N/A"},{"$error":"#N/A"},{"$error":"#N/A"},{"$error":"#N/A"},{"$error":"#N/A"}]
[947,{"$error":"#N/A"},{"$error":"#N/A"},{"$error":"#N/A"},{"$error":"#N/A"},{"$error":"#N/A"},{"$error":"#N/A"},{"$error":"#N/A"},{"$error":"#N/A"},{"$error":"#N/A"},{"$error":"#N/A"},{"$f":"IF($AK$38=0,TRANSPOSE(MMULT($O$10:$Q$12,TRANSPOSE(C947:E947))),TRANSPOSE(MMULT($O$10:$Q$12,TRANSPOSE(Y947:AA947))))","v":{"$error":"#N/A"}},{"$error":"#N/A"},{"$error":"#N/A"},{"$error":"#N/A"},{"$error":"#N/A"},{"$f":"TRANSPOSE(MMULT($AE$10:$AG$12,TRANSPOSE(F947:H947)))","v":{"$error":"#N/A"}},{"$error":"#N/A"},{"$error":"#N/A"},{"$error":"#N/A"},{"$error":"#N/A"},{"$f":"TRANSPOSE(MMULT($AO$40:$AQ$42,TRANSPOSE(C947:E947)))","v":{"$error":"#N/A"}},{"$error":"#N/A"},{"$error":"#N/A"},{"$error":"#N/A"},{"$error":"#N/A"},{"$error":"#N/A"}]
[948,{"$error":"#N/A"},{"$f":"(C$4+F$4*$B948+I$4*$B948^2+L$4*$B948^3+O$4*$B948^4)+(C$5+F$5*$B948+I$5*$B948^2+L$5*$B948^3+O$5*$B948^5)*(COS(C$6+F$6*$B948+I$6*$B948^2+L$6*$B948^3+O$6*$B948^4))+(C$7+F$7*$B948+I$7*$B948^2+L$7*$B948^3+O$7*$B948^4)*(SIN(C$8+F$8*$B948+I$8*$B948^2+L$8*$B948^3+O$8*$B948^4))","v":{"$error":"#N/A"}},{"$f":"(D$4+G$4*$B948+J$4*$B948^2+M$4*$B948^3+P$4*$B948^4)+(D$5+G$5*$B948+J$5*$B948^2+M$5*$B948^3+P$5*$B948^5)*(COS(D$6+G$6*$B948+J$6*$B948^2+M$6*$B948^3+P$6*$B948^4))+(D$7+G$7*$B948+J$7*$B948^2+M$7*$B948^3+P$7*$B948^4)*(SIN(D$8+G$8*$B948+J$8*$B948^2+M$8*$B948^3+P$8*$B948^4))","v":{"$error":"#N/A"}},{"$f":"(E$4+H$4*$B948+K$4*$B948^2+N$4*$B948^3+Q$4*$B948^4)+(E$5+H$5*$B948+K$5*$B948^2+N$5*$B948^3+Q$5*$B948^5)*(COS(E$6+H$6*$B948+K$6*$B948^2+N$6*$B948^3+Q$6*$B948^4))+(E$7+H$7*$B948+K$7*$B948^2+N$7*$B948^3+Q$7*$B948^4)*(SIN(E$8+H$8*$B948+K$8*$B948^2+N$8*$B948^3+Q$8*$B948^4))","v":{"$error":"#N/A"}},{"$error":"#N/A"},{"$error":"#N/A"},{"$error":"#N/A"},{"$error":"#N/A"},{"$error":"#N/A"},{"$error":"#N/A"},{"$f":"IF($AK$38=0,TRANSPOSE(MMULT($O$10:$Q$12,TRANSPOSE(C948:E948))),TRANSPOSE(MMULT($O$10:$Q$12,TRANSPOSE(Y948:AA948))))","v":{"$error":"#N/A"}},{"$error":"#N/A"},{"$error":"#N/A"},{"$error":"#N/A"},{"$error":"#N/A"},{"$f":"TRANSPOSE(MMULT($AE$10:$AG$12,TRANSPOSE(F948:H948)))","v":{"$error":"#N/A"}},{"$error":"#N/A"},{"$error":"#N/A"},{"$error":"#N/A"},{"$error":"#N/A"},{"$f":"TRANSPOSE(MMULT($AO$40:$AQ$42,TRANSPOSE(C948:E948)))","v":{"$error":"#N/A"}},{"$error":"#N/A"},{"$error":"#N/A"},{"$error":"#N/A"},{"$error":"#N/A"},{"$error":"#N/A"}]
[949,{"$error":"#N/A"},{"$error":"#N/A"},{"$error":"#N/A"},{"$error":"#N/A"},{"$error":"#N/A"},{"$error":"#N/A"},{"$error":"#N/A"},{"$error":"#N/A"},{"$error":"#N/A"},{"$error":"#N/A"},{"$f":"IF($AK$38=0,TRANSPOSE(MMULT($O$10:$Q$12,TRANSPOSE(C949:E949))),TRANSPOSE(MMULT($O$10:$Q$12,TRANSPOSE(Y949:AA949))))","v":{"$error":"#N/A"}},{"$error":"#N/A"},{"$error":"#N/A"},{"$error":"#N/A"},{"$error":"#N/A"},{"$f":"TRANSPOSE(MMULT($AE$10:$AG$12,TRANSPOSE(F949:H949)))","v":{"$error":"#N/A"}},{"$error":"#N/A"},{"$error":"#N/A"},{"$error":"#N/A"},{"$error":"#N/A"},{"$f":"TRANSPOSE(MMULT($AO$40:$AQ$42,TRANSPOSE(C949:E949)))","v":{"$error":"#N/A"}},{"$error":"#N/A"},{"$error":"#N/A"},{"$error":"#N/A"},{"$error":"#N/A"},{"$error":"#N/A"}]
[950,{"$error":"#N/A"},{"$error":"#N/A"},{"$error":"#N/A"},{"$error":"#N/A"},{"$error":"#N/A"},{"$error":"#N/A"},{"$error":"#N/A"},{"$error":"#N/A"},{"$error":"#N/A"},{"$error":"#N/A"},{"$f":"IF($AK$38=0,TRANSPOSE(MMULT($O$10:$Q$12,TRANSPOSE(C950:E950))),TRANSPOSE(MMULT($O$10:$Q$12,TRANSPOSE(Y950:AA950))))","v":{"$error":"#N/A"}},{"$error":"#N/A"},{"$error":"#N/A"},{"$error":"#N/A"},{"$error":"#N/A"},{"$f":"TRANSPOSE(MMULT($AE$10:$AG$12,TRANSPOSE(F950:H950)))","v":{"$error":"#N/A"}},{"$error":"#N/A"},{"$error":"#N/A"},{"$error":"#N/A"},{"$error":"#N/A"},{"$f":"TRANSPOSE(MMULT($AO$40:$AQ$42,TRANSPOSE(C950:E950)))","v":{"$error":"#N/A"}},{"$error":"#N/A"},{"$error":"#N/A"},{"$error":"#N/A"},{"$error":"#N/A"},{"$error":"#N/A"}]
[951,{"$error":"#N/A"},{"$error":"#N/A"},{"$error":"#N/A"},{"$error":"#N/A"},{"$error":"#N/A"},{"$error":"#N/A"},{"$error":"#N/A"},{"$error":"#N/A"},{"$error":"#N/A"},{"$error":"#N/A"},{"$f":"IF($AK$38=0,TRANSPOSE(MMULT($O$10:$Q$12,TRANSPOSE(C951:E951))),TRANSPOSE(MMULT($O$10:$Q$12,TRANSPOSE(Y951:AA951))))","v":{"$error":"#N/A"}},{"$error":"#N/A"},{"$error":"#N/A"},{"$error":"#N/A"},{"$error":"#N/A"},{"$f":"TRANSPOSE(MMULT($AE$10:$AG$12,TRANSPOSE(F951:H951)))","v":{"$error":"#N/A"}},{"$error":"#N/A"},{"$error":"#N/A"},{"$error":"#N/A"},{"$error":"#N/A"},{"$f":"TRANSPOSE(MMULT($AO$40:$AQ$42,TRANSPOSE(C951:E951)))","v":{"$error":"#N/A"}},{"$error":"#N/A"},{"$error":"#N/A"},{"$error":"#N/A"},{"$error":"#N/A"},{"$error":"#N/A"}]
[952,{"$error":"#N/A"},{"$error":"#N/A"},{"$error":"#N/A"},{"$error":"#N/A"},{"$error":"#N/A"},{"$error":"#N/A"},{"$error":"#N/A"},{"$error":"#N/A"},{"$error":"#N/A"},{"$error":"#N/A"},{"$f":"IF($AK$38=0,TRANSPOSE(MMULT($O$10:$Q$12,TRANSPOSE(C952:E952))),TRANSPOSE(MMULT($O$10:$Q$12,TRANSPOSE(Y952:AA952))))","v":{"$error":"#N/A"}},{"$error":"#N/A"},{"$error":"#N/A"},{"$error":"#N/A"},{"$error":"#N/A"},{"$f":"TRANSPOSE(MMULT($AE$10:$AG$12,TRANSPOSE(F952:H952)))","v":{"$error":"#N/A"}},{"$error":"#N/A"},{"$error":"#N/A"},{"$error":"#N/A"},{"$error":"#N/A"},{"$f":"TRANSPOSE(MMULT($AO$40:$AQ$42,TRANSPOSE(C952:E952)))","v":{"$error":"#N/A"}},{"$error":"#N/A"},{"$error":"#N/A"},{"$error":"#N/A"},{"$error":"#N/A"},{"$error":"#N/A"}]
[953,{"$error":"#N/A"},{"$error":"#N/A"},{"$error":"#N/A"},{"$error":"#N/A"},{"$error":"#N/A"},{"$error":"#N/A"},{"$error":"#N/A"},{"$error":"#N/A"},{"$error":"#N/A"},{"$error":"#N/A"},{"$f":"IF($AK$38=0,TRANSPOSE(MMULT($O$10:$Q$12,TRANSPOSE(C953:E953))),TRANSPOSE(MMULT($O$10:$Q$12,TRANSPOSE(Y953:AA953))))","v":{"$error":"#N/A"}},{"$error":"#N/A"},{"$error":"#N/A"},{"$error":"#N/A"},{"$error":"#N/A"},{"$f":"TRANSPOSE(MMULT($AE$10:$AG$12,TRANSPOSE(F953:H953)))","v":{"$error":"#N/A"}},{"$error":"#N/A"},{"$error":"#N/A"},{"$error":"#N/A"},{"$error":"#N/A"},{"$f":"TRANSPOSE(MMULT($AO$40:$AQ$42,TRANSPOSE(C953:E953)))","v":{"$error":"#N/A"}},{"$error":"#N/A"},{"$error":"#N/A"},{"$error":"#N/A"},{"$error":"#N/A"},{"$error":"#N/A"}]
[954,{"$error":"#N/A"},{"$error":"#N/A"},{"$error":"#N/A"},{"$error":"#N/A"},{"$error":"#N/A"},{"$error":"#N/A"},{"$error":"#N/A"},{"$error":"#N/A"},{"$error":"#N/A"},{"$error":"#N/A"},{"$f":"IF($AK$38=0,TRANSPOSE(MMULT($O$10:$Q$12,TRANSPOSE(C954:E954))),TRANSPOSE(MMULT($O$10:$Q$12,TRANSPOSE(Y954:AA954))))","v":{"$error":"#N/A"}},{"$error":"#N/A"},{"$error":"#N/A"},{"$error":"#N/A"},{"$error":"#N/A"},{"$f":"TRANSPOSE(MMULT($AE$10:$AG$12,TRANSPOSE(F954:H954)))","v":{"$error":"#N/A"}},{"$error":"#N/A"},{"$error":"#N/A"},{"$error":"#N/A"},{"$error":"#N/A"},{"$f":"TRANSPOSE(MMULT($AO$40:$AQ$42,TRANSPOSE(C954:E954)))","v":{"$error":"#N/A"}},{"$error":"#N/A"},{"$error":"#N/A"},{"$error":"#N/A"},{"$error":"#N/A"},{"$error":"#N/A"}]
[955,{"$error":"#N/A"},{"$error":"#N/A"},{"$error":"#N/A"},{"$error":"#N/A"},{"$error":"#N/A"},{"$error":"#N/A"},{"$error":"#N/A"},{"$error":"#N/A"},{"$error":"#N/A"},{"$error":"#N/A"},{"$f":"IF($AK$38=0,TRANSPOSE(MMULT($O$10:$Q$12,TRANSPOSE(C955:E955))),TRANSPOSE(MMULT($O$10:$Q$12,TRANSPOSE(Y955:AA955))))","v":{"$error":"#N/A"}},{"$error":"#N/A"},{"$error":"#N/A"},{"$error":"#N/A"},{"$error":"#N/A"},{"$f":"TRANSPOSE(MMULT($AE$10:$AG$12,TRANSPOSE(F955:H955)))","v":{"$error":"#N/A"}},{"$error":"#N/A"},{"$error":"#N/A"},{"$error":"#N/A"},{"$error":"#N/A"},{"$f":"TRANSPOSE(MMULT($AO$40:$AQ$42,TRANSPOSE(C955:E955)))","v":{"$error":"#N/A"}},{"$error":"#N/A"},{"$error":"#N/A"},{"$error":"#N/A"},{"$error":"#N/A"},{"$error":"#N/A"}]
[956,{"$error":"#N/A"},{"$error":"#N/A"},{"$error":"#N/A"},{"$error":"#N/A"},{"$error":"#N/A"},{"$error":"#N/A"},{"$error":"#N/A"},{"$error":"#N/A"},{"$error":"#N/A"},{"$error":"#N/A"},{"$f":"IF($AK$38=0,TRANSPOSE(MMULT($O$10:$Q$12,TRANSPOSE(C956:E956))),TRANSPOSE(MMULT($O$10:$Q$12,TRANSPOSE(Y956:AA956))))","v":{"$error":"#N/A"}},{"$error":"#N/A"},{"$error":"#N/A"},{"$error":"#N/A"},{"$error":"#N/A"},{"$f":"TRANSPOSE(MMULT($AE$10:$AG$12,TRANSPOSE(F956:H956)))","v":{"$error":"#N/A"}},{"$error":"#N/A"},{"$error":"#N/A"},{"$error":"#N/A"},{"$error":"#N/A"},{"$f":"TRANSPOSE(MMULT($AO$40:$AQ$42,TRANSPOSE(C956:E956)))","v":{"$error":"#N/A"}},{"$error":"#N/A"},{"$error":"#N/A"},{"$error":"#N/A"},{"$error":"#N/A"},{"$error":"#N/A"}]
[957,{"$error":"#N/A"},{"$error":"#N/A"},{"$error":"#N/A"},{"$error":"#N/A"},{"$error":"#N/A"},{"$error":"#N/A"},{"$error":"#N/A"},{"$error":"#N/A"},{"$error":"#N/A"},{"$error":"#N/A"},{"$f":"IF($AK$38=0,TRANSPOSE(MMULT($O$10:$Q$12,TRANSPOSE(C957:E957))),TRANSPOSE(MMULT($O$10:$Q$12,TRANSPOSE(Y957:AA957))))","v":{"$error":"#N/A"}},{"$error":"#N/A"},{"$error":"#N/A"},{"$error":"#N/A"},{"$error":"#N/A"},{"$f":"TRANSPOSE(MMULT($AE$10:$AG$12,TRANSPOSE(F957:H957)))","v":{"$error":"#N/A"}},{"$error":"#N/A"},{"$error":"#N/A"},{"$error":"#N/A"},{"$error":"#N/A"},{"$f":"TRANSPOSE(MMULT($AO$40:$AQ$42,TRANSPOSE(C957:E957)))","v":{"$error":"#N/A"}},{"$error":"#N/A"},{"$error":"#N/A"},{"$error":"#N/A"},{"$error":"#N/A"},{"$error":"#N/A"}]
[958,{"$error":"#N/A"},{"$error":"#N/A"},{"$error":"#N/A"},{"$error":"#N/A"},{"$error":"#N/A"},{"$error":"#N/A"},{"$error":"#N/A"},{"$error":"#N/A"},{"$error":"#N/A"},{"$error":"#N/A"},{"$f":"IF($AK$38=0,TRANSPOSE(MMULT($O$10:$Q$12,TRANSPOSE(C958:E958))),TRANSPOSE(MMULT($O$10:$Q$12,TRANSPOSE(Y958:AA958))))","v":{"$error":"#N/A"}},{"$error":"#N/A"},{"$error":"#N/A"},{"$error":"#N/A"},{"$error":"#N/A"},{"$f":"TRANSPOSE(MMULT($AE$10:$AG$12,TRANSPOSE(F958:H958)))","v":{"$error":"#N/A"}},{"$error":"#N/A"},{"$error":"#N/A"},{"$error":"#N/A"},{"$error":"#N/A"},{"$f":"TRANSPOSE(MMULT($AO$40:$AQ$42,TRANSPOSE(C958:E958)))","v":{"$error":"#N/A"}},{"$error":"#N/A"},{"$error":"#N/A"},{"$error":"#N/A"},{"$error":"#N/A"},{"$error":"#N/A"}]
[959,{"$error":"#N/A"},{"$error":"#N/A"},{"$error":"#N/A"},{"$error":"#N/A"},{"$error":"#N/A"},{"$error":"#N/A"},{"$error":"#N/A"},{"$error":"#N/A"},{"$error":"#N/A"},{"$error":"#N/A"},{"$f":"IF($AK$38=0,TRANSPOSE(MMULT($O$10:$Q$12,TRANSPOSE(C959:E959))),TRANSPOSE(MMULT($O$10:$Q$12,TRANSPOSE(Y959:AA959))))","v":{"$error":"#N/A"}},{"$error":"#N/A"},{"$error":"#N/A"},{"$error":"#N/A"},{"$error":"#N/A"},{"$f":"TRANSPOSE(MMULT($AE$10:$AG$12,TRANSPOSE(F959:H959)))","v":{"$error":"#N/A"}},{"$error":"#N/A"},{"$error":"#N/A"},{"$error":"#N/A"},{"$error":"#N/A"},{"$f":"TRANSPOSE(MMULT($AO$40:$AQ$42,TRANSPOSE(C959:E959)))","v":{"$error":"#N/A"}},{"$error":"#N/A"},{"$error":"#N/A"},{"$error":"#N/A"},{"$error":"#N/A"},{"$error":"#N/A"}]
[960,{"$error":"#N/A"},{"$error":"#N/A"},{"$error":"#N/A"},{"$error":"#N/A"},{"$error":"#N/A"},{"$error":"#N/A"},{"$error":"#N/A"},{"$error":"#N/A"},{"$error":"#N/A"},{"$error":"#N/A"},{"$f":"IF($AK$38=0,TRANSPOSE(MMULT($O$10:$Q$12,TRANSPOSE(C960:E960))),TRANSPOSE(MMULT($O$10:$Q$12,TRANSPOSE(Y960:AA960))))","v":{"$error":"#N/A"}},{"$error":"#N/A"},{"$error":"#N/A"},{"$error":"#N/A"},{"$error":"#N/A"},{"$f":"TRANSPOSE(MMULT($AE$10:$AG$12,TRANSPOSE(F960:H960)))","v":{"$error":"#N/A"}},{"$error":"#N/A"},{"$error":"#N/A"},{"$error":"#N/A"},{"$error":"#N/A"},{"$f":"TRANSPOSE(MMULT($AO$40:$AQ$42,TRANSPOSE(C960:E960)))","v":{"$error":"#N/A"}},{"$error":"#N/A"},{"$error":"#N/A"},{"$error":"#N/A"},{"$error":"#N/A"},{"$error":"#N/A"}]
[961,{"$error":"#N/A"},{"$error":"#N/A"},{"$error":"#N/A"},{"$error":"#N/A"},{"$error":"#N/A"},{"$error":"#N/A"},{"$error":"#N/A"},{"$error":"#N/A"},{"$error":"#N/A"},{"$error":"#N/A"},{"$f":"IF($AK$38=0,TRANSPOSE(MMULT($O$10:$Q$12,TRANSPOSE(C961:E961))),TRANSPOSE(MMULT($O$10:$Q$12,TRANSPOSE(Y961:AA961))))","v":{"$error":"#N/A"}},{"$error":"#N/A"},{"$error":"#N/A"},{"$error":"#N/A"},{"$error":"#N/A"},{"$f":"TRANSPOSE(MMULT($AE$10:$AG$12,TRANSPOSE(F961:H961)))","v":{"$error":"#N/A"}},{"$error":"#N/A"},{"$error":"#N/A"},{"$error":"#N/A"},{"$error":"#N/A"},{"$f":"TRANSPOSE(MMULT($AO$40:$AQ$42,TRANSPOSE(C961:E961)))","v":{"$error":"#N/A"}},{"$error":"#N/A"},{"$error":"#N/A"},{"$error":"#N/A"},{"$error":"#N/A"},{"$error":"#N/A"}]
[962,{"$error":"#N/A"},{"$error":"#N/A"},{"$error":"#N/A"},{"$error":"#N/A"},{"$error":"#N/A"},{"$error":"#N/A"},{"$error":"#N/A"},{"$error":"#N/A"},{"$error":"#N/A"},{"$error":"#N/A"},{"$f":"IF($AK$38=0,TRANSPOSE(MMULT($O$10:$Q$12,TRANSPOSE(C962:E962))),TRANSPOSE(MMULT($O$10:$Q$12,TRANSPOSE(Y962:AA962))))","v":{"$error":"#N/A"}},{"$error":"#N/A"},{"$error":"#N/A"},{"$error":"#N/A"},{"$error":"#N/A"},{"$f":"TRANSPOSE(MMULT($AE$10:$AG$12,TRANSPOSE(F962:H962)))","v":{"$error":"#N/A"}},{"$error":"#N/A"},{"$error":"#N/A"},{"$error":"#N/A"},{"$error":"#N/A"},{"$f":"TRANSPOSE(MMULT($AO$40:$AQ$42,TRANSPOSE(C962:E962)))","v":{"$error":"#N/A"}},{"$error":"#N/A"},{"$error":"#N/A"},{"$error":"#N/A"},{"$error":"#N/A"},{"$error":"#N/A"}]
[963,{"$error":"#N/A"},{"$error":"#N/A"},{"$error":"#N/A"},{"$error":"#N/A"},{"$error":"#N/A"},{"$error":"#N/A"},{"$error":"#N/A"},{"$error":"#N/A"},{"$error":"#N/A"},{"$error":"#N/A"},{"$f":"IF($AK$38=0,TRANSPOSE(MMULT($O$10:$Q$12,TRANSPOSE(C963:E963))),TRANSPOSE(MMULT($O$10:$Q$12,TRANSPOSE(Y963:AA963))))","v":{"$error":"#N/A"}},{"$error":"#N/A"},{"$error":"#N/A"},{"$error":"#N/A"},{"$error":"#N/A"},{"$f":"TRANSPOSE(MMULT($AE$10:$AG$12,TRANSPOSE(F963:H963)))","v":{"$error":"#N/A"}},{"$error":"#N/A"},{"$error":"#N/A"},{"$error":"#N/A"},{"$error":"#N/A"},{"$f":"TRANSPOSE(MMULT($AO$40:$AQ$42,TRANSPOSE(C963:E963)))","v":{"$error":"#N/A"}},{"$error":"#N/A"},{"$error":"#N/A"},{"$error":"#N/A"},{"$error":"#N/A"},{"$error":"#N/A"}]
[964,{"$error":"#N/A"},{"$error":"#N/A"},{"$error":"#N/A"},{"$error":"#N/A"},{"$error":"#N/A"},{"$error":"#N/A"},{"$error":"#N/A"},{"$error":"#N/A"},{"$error":"#N/A"},{"$error":"#N/A"},{"$f":"IF($AK$38=0,TRANSPOSE(MMULT($O$10:$Q$12,TRANSPOSE(C964:E964))),TRANSPOSE(MMULT($O$10:$Q$12,TRANSPOSE(Y964:AA964))))","v":{"$error":"#N/A"}},{"$error":"#N/A"},{"$error":"#N/A"},{"$error":"#N/A"},{"$error":"#N/A"},{"$f":"TRANSPOSE(MMULT($AE$10:$AG$12,TRANSPOSE(F964:H964)))","v":{"$error":"#N/A"}},{"$error":"#N/A"},{"$error":"#N/A"},{"$error":"#N/A"},{"$error":"#N/A"},{"$f":"TRANSPOSE(MMULT($AO$40:$AQ$42,TRANSPOSE(C964:E964)))","v":{"$error":"#N/A"}},{"$error":"#N/A"},{"$error":"#N/A"},{"$error":"#N/A"},{"$error":"#N/A"},{"$error":"#N/A"}]
[965,{"$error":"#N/A"},{"$error":"#N/A"},{"$error":"#N/A"},{"$error":"#N/A"},{"$error":"#N/A"},{"$error":"#N/A"},{"$error":"#N/A"},{"$error":"#N/A"},{"$error":"#N/A"},{"$error":"#N/A"},{"$f":"IF($AK$38=0,TRANSPOSE(MMULT($O$10:$Q$12,TRANSPOSE(C965:E965))),TRANSPOSE(MMULT($O$10:$Q$12,TRANSPOSE(Y965:AA965))))","v":{"$error":"#N/A"}},{"$error":"#N/A"},{"$error":"#N/A"},{"$error":"#N/A"},{"$error":"#N/A"},{"$f":"TRANSPOSE(MMULT($AE$10:$AG$12,TRANSPOSE(F965:H965)))","v":{"$error":"#N/A"}},{"$error":"#N/A"},{"$error":"#N/A"},{"$error":"#N/A"},{"$error":"#N/A"},{"$f":"TRANSPOSE(MMULT($AO$40:$AQ$42,TRANSPOSE(C965:E965)))","v":{"$error":"#N/A"}},{"$error":"#N/A"},{"$error":"#N/A"},{"$error":"#N/A"},{"$error":"#N/A"},{"$error":"#N/A"}]
[966,{"$error":"#N/A"},{"$error":"#N/A"},{"$error":"#N/A"},{"$error":"#N/A"},{"$error":"#N/A"},{"$error":"#N/A"},{"$error":"#N/A"},{"$error":"#N/A"},{"$error":"#N/A"},{"$error":"#N/A"},{"$f":"IF($AK$38=0,TRANSPOSE(MMULT($O$10:$Q$12,TRANSPOSE(C966:E966))),TRANSPOSE(MMULT($O$10:$Q$12,TRANSPOSE(Y966:AA966))))","v":{"$error":"#N/A"}},{"$error":"#N/A"},{"$error":"#N/A"},{"$error":"#N/A"},{"$error":"#N/A"},{"$f":"TRANSPOSE(MMULT($AE$10:$AG$12,TRANSPOSE(F966:H966)))","v":{"$error":"#N/A"}},{"$error":"#N/A"},{"$error":"#N/A"},{"$error":"#N/A"},{"$error":"#N/A"},{"$f":"TRANSPOSE(MMULT($AO$40:$AQ$42,TRANSPOSE(C966:E966)))","v":{"$error":"#N/A"}},{"$error":"#N/A"},{"$error":"#N/A"},{"$error":"#N/A"},{"$error":"#N/A"},{"$error":"#N/A"}]
[967,{"$error":"#N/A"},{"$error":"#N/A"},{"$error":"#N/A"},{"$error":"#N/A"},{"$error":"#N/A"},{"$error":"#N/A"},{"$error":"#N/A"},{"$error":"#N/A"},{"$error":"#N/A"},{"$error":"#N/A"},{"$f":"IF($AK$38=0,TRANSPOSE(MMULT($O$10:$Q$12,TRANSPOSE(C967:E967))),TRANSPOSE(MMULT($O$10:$Q$12,TRANSPOSE(Y967:AA967))))","v":{"$error":"#N/A"}},{"$error":"#N/A"},{"$error":"#N/A"},{"$error":"#N/A"},{"$error":"#N/A"},{"$f":"TRANSPOSE(MMULT($AE$10:$AG$12,TRANSPOSE(F967:H967)))","v":{"$error":"#N/A"}},{"$error":"#N/A"},{"$error":"#N/A"},{"$error":"#N/A"},{"$error":"#N/A"},{"$f":"TRANSPOSE(MMULT($AO$40:$AQ$42,TRANSPOSE(C967:E967)))","v":{"$error":"#N/A"}},{"$error":"#N/A"},{"$error":"#N/A"},{"$error":"#N/A"},{"$error":"#N/A"},{"$error":"#N/A"}]
[968,{"$error":"#N/A"},{"$error":"#N/A"},{"$error":"#N/A"},{"$error":"#N/A"},{"$error":"#N/A"},{"$error":"#N/A"},{"$error":"#N/A"},{"$error":"#N/A"},{"$error":"#N/A"},{"$error":"#N/A"},{"$f":"IF($AK$38=0,TRANSPOSE(MMULT($O$10:$Q$12,TRANSPOSE(C968:E968))),TRANSPOSE(MMULT($O$10:$Q$12,TRANSPOSE(Y968:AA968))))","v":{"$error":"#N/A"}},{"$error":"#N/A"},{"$error":"#N/A"},{"$error":"#N/A"},{"$error":"#N/A"},{"$f":"TRANSPOSE(MMULT($AE$10:$AG$12,TRANSPOSE(F968:H968)))","v":{"$error":"#N/A"}},{"$error":"#N/A"},{"$error":"#N/A"},{"$error":"#N/A"},{"$error":"#N/A"},{"$f":"TRANSPOSE(MMULT($AO$40:$AQ$42,TRANSPOSE(C968:E968)))","v":{"$error":"#N/A"}},{"$error":"#N/A"},{"$error":"#N/A"},{"$error":"#N/A"},{"$error":"#N/A"},{"$error":"#N/A"}]
[969,{"$error":"#N/A"},{"$error":"#N/A"},{"$error":"#N/A"},{"$error":"#N/A"},{"$error":"#N/A"},{"$error":"#N/A"},{"$error":"#N/A"},{"$error":"#N/A"},{"$error":"#N/A"},{"$error":"#N/A"},{"$f":"IF($AK$38=0,TRANSPOSE(MMULT($O$10:$Q$12,TRANSPOSE(C969:E969))),TRANSPOSE(MMULT($O$10:$Q$12,TRANSPOSE(Y969:AA969))))","v":{"$error":"#N/A"}},{"$error":"#N/A"},{"$error":"#N/A"},{"$error":"#N/A"},{"$error":"#N/A"},{"$f":"TRANSPOSE(MMULT($AE$10:$AG$12,TRANSPOSE(F969:H969)))","v":{"$error":"#N/A"}},{"$error":"#N/A"},{"$error":"#N/A"},{"$error":"#N/A"},{"$error":"#N/A"},{"$f":"TRANSPOSE(MMULT($AO$40:$AQ$42,TRANSPOSE(C969:E969)))","v":{"$error":"#N/A"}},{"$error":"#N/A"},{"$error":"#N/A"},{"$error":"#N/A"},{"$error":"#N/A"},{"$error":"#N/A"}]
[970,{"$error":"#N/A"},{"$error":"#N/A"},{"$error":"#N/A"},{"$error":"#N/A"},{"$error":"#N/A"},{"$error":"#N/A"},{"$error":"#N/A"},{"$error":"#N/A"},{"$error":"#N/A"},{"$error":"#N/A"},{"$f":"IF($AK$38=0,TRANSPOSE(MMULT($O$10:$Q$12,TRANSPOSE(C970:E970))),TRANSPOSE(MMULT($O$10:$Q$12,TRANSPOSE(Y970:AA970))))","v":{"$error":"#N/A"}},{"$error":"#N/A"},{"$error":"#N/A"},{"$error":"#N/A"},{"$error":"#N/A"},{"$f":"TRANSPOSE(MMULT($AE$10:$AG$12,TRANSPOSE(F970:H970)))","v":{"$error":"#N/A"}},{"$error":"#N/A"},{"$error":"#N/A"},{"$error":"#N/A"},{"$error":"#N/A"},{"$f":"TRANSPOSE(MMULT($AO$40:$AQ$42,TRANSPOSE(C970:E970)))","v":{"$error":"#N/A"}},{"$error":"#N/A"},{"$error":"#N/A"},{"$error":"#N/A"},{"$error":"#N/A"},{"$error":"#N/A"}]
[971,{"$error":"#N/A"},{"$error":"#N/A"},{"$error":"#N/A"},{"$error":"#N/A"},{"$error":"#N/A"},{"$error":"#N/A"},{"$error":"#N/A"},{"$error":"#N/A"},{"$error":"#N/A"},{"$error":"#N/A"},{"$f":"IF($AK$38=0,TRANSPOSE(MMULT($O$10:$Q$12,TRANSPOSE(C971:E971))),TRANSPOSE(MMULT($O$10:$Q$12,TRANSPOSE(Y971:AA971))))","v":{"$error":"#N/A"}},{"$error":"#N/A"},{"$error":"#N/A"},{"$error":"#N/A"},{"$error":"#N/A"},{"$f":"TRANSPOSE(MMULT($AE$10:$AG$12,TRANSPOSE(F971:H971)))","v":{"$error":"#N/A"}},{"$error":"#N/A"},{"$error":"#N/A"},{"$error":"#N/A"},{"$error":"#N/A"},{"$f":"TRANSPOSE(MMULT($AO$40:$AQ$42,TRANSPOSE(C971:E971)))","v":{"$error":"#N/A"}},{"$error":"#N/A"},{"$error":"#N/A"},{"$error":"#N/A"},{"$error":"#N/A"},{"$error":"#N/A"}]
[972,{"$error":"#N/A"},{"$error":"#N/A"},{"$error":"#N/A"},{"$error":"#N/A"},{"$error":"#N/A"},{"$error":"#N/A"},{"$error":"#N/A"},{"$error":"#N/A"},{"$error":"#N/A"},{"$error":"#N/A"},{"$f":"IF($AK$38=0,TRANSPOSE(MMULT($O$10:$Q$12,TRANSPOSE(C972:E972))),TRANSPOSE(MMULT($O$10:$Q$12,TRANSPOSE(Y972:AA972))))","v":{"$error":"#N/A"}},{"$error":"#N/A"},{"$error":"#N/A"},{"$error":"#N/A"},{"$error":"#N/A"},{"$f":"TRANSPOSE(MMULT($AE$10:$AG$12,TRANSPOSE(F972:H972)))","v":{"$error":"#N/A"}},{"$error":"#N/A"},{"$error":"#N/A"},{"$error":"#N/A"},{"$error":"#N/A"},{"$f":"TRANSPOSE(MMULT($AO$40:$AQ$42,TRANSPOSE(C972:E972)))","v":{"$error":"#N/A"}},{"$error":"#N/A"},{"$error":"#N/A"},{"$error":"#N/A"},{"$error":"#N/A"},{"$error":"#N/A"}]
[973,{"$error":"#N/A"},{"$error":"#N/A"},{"$error":"#N/A"},{"$error":"#N/A"},{"$error":"#N/A"},{"$error":"#N/A"},{"$error":"#N/A"},{"$error":"#N/A"},{"$error":"#N/A"},{"$error":"#N/A"},{"$f":"IF($AK$38=0,TRANSPOSE(MMULT($O$10:$Q$12,TRANSPOSE(C973:E973))),TRANSPOSE(MMULT($O$10:$Q$12,TRANSPOSE(Y973:AA973))))","v":{"$error":"#N/A"}},{"$error":"#N/A"},{"$error":"#N/A"},{"$error":"#N/A"},{"$error":"#N/A"},{"$f":"TRANSPOSE(MMULT($AE$10:$AG$12,TRANSPOSE(F973:H973)))","v":{"$error":"#N/A"}},{"$error":"#N/A"},{"$error":"#N/A"},{"$error":"#N/A"},{"$error":"#N/A"},{"$f":"TRANSPOSE(MMULT($AO$40:$AQ$42,TRANSPOSE(C973:E973)))","v":{"$error":"#N/A"}},{"$error":"#N/A"},{"$error":"#N/A"},{"$error":"#N/A"},{"$error":"#N/A"},{"$error":"#N/A"}]
[974,{"$error":"#N/A"},{"$error":"#N/A"},{"$error":"#N/A"},{"$error":"#N/A"},{"$error":"#N/A"},{"$error":"#N/A"},{"$error":"#N/A"},{"$error":"#N/A"},{"$error":"#N/A"},{"$error":"#N/A"},{"$f":"IF($AK$38=0,TRANSPOSE(MMULT($O$10:$Q$12,TRANSPOSE(C974:E974))),TRANSPOSE(MMULT($O$10:$Q$12,TRANSPOSE(Y974:AA974))))","v":{"$error":"#N/A"}},{"$error":"#N/A"},{"$error":"#N/A"},{"$error":"#N/A"},{"$error":"#N/A"},{"$f":"TRANSPOSE(MMULT($AE$10:$AG$12,TRANSPOSE(F974:H974)))","v":{"$error":"#N/A"}},{"$error":"#N/A"},{"$error":"#N/A"},{"$error":"#N/A"},{"$error":"#N/A"},{"$f":"TRANSPOSE(MMULT($AO$40:$AQ$42,TRANSPOSE(C974:E974)))","v":{"$error":"#N/A"}},{"$error":"#N/A"},{"$error":"#N/A"},{"$error":"#N/A"},{"$error":"#N/A"},{"$error":"#N/A"}]
[975,{"$error":"#N/A"},{"$error":"#N/A"},{"$error":"#N/A"},{"$error":"#N/A"},{"$error":"#N/A"},{"$error":"#N/A"},{"$error":"#N/A"},{"$error":"#N/A"},{"$error":"#N/A"},{"$error":"#N/A"},{"$f":"IF($AK$38=0,TRANSPOSE(MMULT($O$10:$Q$12,TRANSPOSE(C975:E975))),TRANSPOSE(MMULT($O$10:$Q$12,TRANSPOSE(Y975:AA975))))","v":{"$error":"#N/A"}},{"$error":"#N/A"},{"$error":"#N/A"},{"$error":"#N/A"},{"$error":"#N/A"},{"$f":"TRANSPOSE(MMULT($AE$10:$AG$12,TRANSPOSE(F975:H975)))","v":{"$error":"#N/A"}},{"$error":"#N/A"},{"$error":"#N/A"},{"$error":"#N/A"},{"$error":"#N/A"},{"$f":"TRANSPOSE(MMULT($AO$40:$AQ$42,TRANSPOSE(C975:E975)))","v":{"$error":"#N/A"}},{"$error":"#N/A"},{"$error":"#N/A"},{"$error":"#N/A"},{"$error":"#N/A"},{"$error":"#N/A"}]
[976,{"$error":"#N/A"},{"$error":"#N/A"},{"$error":"#N/A"},{"$error":"#N/A"},{"$f":"(F$7+2*I$7*$B976+3*L$7*$B976^2+4*O$7*$B976^3)*SIN(O$8*$B976^4+L$8*$B976^3+I$8*$B976^2+F$8*$B976+C$8)+(F$8+2*I$8*$B976+3*L$8*$B976^2+4*O$8*$B976^3)*(C$7+F$7*$B976+I$7*$B976^2+L$7*$B976^3+O$7*$B976^4)*COS(O$8*$B976^4+L$8*$B976^3+I$8*$B976^2+F$8*$B976+C$8)-(F$6+2*I$6*$B976+3*L$6*$B976^2+4*O$6*$B976^3)*(C$5+F$5*$B976+I$5*$B976^2+L$5*$B976^3+O$5*$B976^4)*SIN(O$6*$B976^4+L$6*$B976^3+I$6*$B976^2+F$6*$B976+C$6)+(F$5+2*I$5*$B976+3*L$5*$B976^2+4*O$5*$B976^3)*COS(O$6*$B976^4+L$6*$B976^3+I$6*$B976^2+F$6*$B976+C$6)+4*O$4*$B976^3+3*L$4*$B976^2+2*I$4*$B976+F$4","v":{"$error":"#N/A"}},{"$f":"(G$7+2*J$7*$B976+3*M$7*$B976^2+4*P$7*$B976^3)*SIN(P$8*$B976^4+M$8*$B976^3+J$8*$B976^2+G$8*$B976+D$8)+(G$8+2*J$8*$B976+3*M$8*$B976^2+4*P$8*$B976^3)*(D$7+G$7*$B976+J$7*$B976^2+M$7*$B976^3+P$7*$B976^4)*COS(P$8*$B976^4+M$8*$B976^3+J$8*$B976^2+G$8*$B976+D$8)-(G$6+2*J$6*$B976+3*M$6*$B976^2+4*P$6*$B976^3)*(D$5+G$5*$B976+J$5*$B976^2+M$5*$B976^3+P$5*$B976^4)*SIN(P$6*$B976^4+M$6*$B976^3+J$6*$B976^2+G$6*$B976+D$6)+(G$5+2*J$5*$B976+3*M$5*$B976^2+4*P$5*$B976^3)*COS(P$6*$B976^4+M$6*$B976^3+J$6*$B976^2+G$6*$B976+D$6)+4*P$4*$B976^3+3*M$4*$B976^2+2*J$4*$B976+G$4","v":{"$error":"#N/A"}},{"$f":"(H$7+2*K$7*$B976+3*N$7*$B976^2+4*Q$7*$B976^3)*SIN(Q$8*$B976^4+N$8*$B976^3+K$8*$B976^2+H$8*$B976+E$8)+(H$8+2*K$8*$B976+3*N$8*$B976^2+4*Q$8*$B976^3)*(E$7+H$7*$B976+K$7*$B976^2+N$7*$B976^3+Q$7*$B976^4)*COS(Q$8*$B976^4+N$8*$B976^3+K$8*$B976^2+H$8*$B976+E$8)-(H$6+2*K$6*$B976+3*N$6*$B976^2+4*Q$6*$B976^3)*(E$5+H$5*$B976+K$5*$B976^2+N$5*$B976^3+Q$5*$B976^4)*SIN(Q$6*$B976^4+N$6*$B976^3+K$6*$B976^2+H$6*$B976+E$6)+(H$5+2*K$5*$B976+3*N$5*$B976^2+4*Q$5*$B976^3)*COS(Q$6*$B976^4+N$6*$B976^3+K$6*$B976^2+H$6*$B976+E$6)+4*Q$4*$B976^3+3*N$4*$B976^2+2*K$4*$B976+H$4","v":{"$error":"#N/A"}},{"$f":"-1*(F$8+2*I$8*$B976+3*L$8*$B976^2+4*O$8*$B976^3)^2*(C$7+F$7*$B976+I$7*$B976^2+L$7*$B976^3+O$7*$B976^4)*SIN(O$8*$B976^4+L$8*$B976^3+I$8*$B976^2+F$8*$B976+C$8)+(2*I$7+6*L$7*$B976+12*O$7*$B976^2)*SIN(O$8*$B976^4+L$8*$B976^3+I$8*$B976^2+F$8*$B976+C$8)+(2*I$8+6*L$8*$B976+12*O$8*$B976^2)*(C$7+F$7*$B976+I$7*$B976^2+L$7*$B976^3+O$7*$B976^4)*COS(O$8*$B976^4+L$8*$B976^3+I$8*$B976^2+F$8*$B976+C$8)+2*(F$7+2*I$7*$B976+3*L$7*$B976^2+4*O$7*$B976^3)*(F$8+2*I$8*$B976+3*L$8*$B976^2+4*O$8*$B976^3)*COS(O$8*$B976^4+L$8*$B976^3+I$8*$B976^2+F$8*$B976+C$8)-(2*I$6+6*L$6*$B976+12*O$6*$B976^2)*(C$5+F$5*$B976+I$5*$B976^2+L$5*$B976^3+O$5*$B976^4)*SIN(O$6*$B976^4+L$6*$B976^3+I$6*$B976^2+F$6*$B976+C$6)-2*(F$5+2*I$5*$B976+3*L$5*$B976^2+4*O$5*$B976^3)*(F$6+2*I$6*$B976+3*L$6*$B976^2+4*O$6*$B976^3)*SIN(O$6*$B976^4+L$6*$B976^3+I$6*$B976^2+F$6*$B976+C$6)-(F$6+2*I$6*$B976+3*L$6*$B976^2+4*O$6*$B976^3)^2*(C$5+F$5*$B976+I$5*$B976^2+L$5*$B976^3+O$5*$B976^4)*COS(O$6*$B976^4+L$6*$B976^3+I$6*$B976^2+F$6*$B976+C$6)+(2*I$5+6*L$5*$B976+12*O$5*$B976^2)*COS(O$6*$B976^4+L$6*$B976^3+I$6*$B976^2+F$6*$B976+C$6)+12*O$4*$B976^2+6*L$4*$B976+2*I$4","v":{"$error":"#N/A"}},{"$f":"-1*(G$8+2*J$8*$B976+3*M$8*$B976^2+4*P$8*$B976^3)^2*(D$7+G$7*$B976+J$7*$B976^2+M$7*$B976^3+P$7*$B976^4)*SIN(P$8*$B976^4+M$8*$B976^3+J$8*$B976^2+G$8*$B976+D$8)+(2*J$7+6*M$7*$B976+12*P$7*$B976^2)*SIN(P$8*$B976^4+M$8*$B976^3+J$8*$B976^2+G$8*$B976+D$8)+(2*J$8+6*M$8*$B976+12*P$8*$B976^2)*(D$7+G$7*$B976+J$7*$B976^2+M$7*$B976^3+P$7*$B976^4)*COS(P$8*$B976^4+M$8*$B976^3+J$8*$B976^2+G$8*$B976+D$8)+2*(G$7+2*J$7*$B976+3*M$7*$B976^2+4*P$7*$B976^3)*(G$8+2*J$8*$B976+3*M$8*$B976^2+4*P$8*$B976^3)*COS(P$8*$B976^4+M$8*$B976^3+J$8*$B976^2+G$8*$B976+D$8)-(2*J$6+6*M$6*$B976+12*P$6*$B976^2)*(D$5+G$5*$B976+J$5*$B976^2+M$5*$B976^3+P$5*$B976^4)*SIN(P$6*$B976^4+M$6*$B976^3+J$6*$B976^2+G$6*$B976+D$6)-2*(G$5+2*J$5*$B976+3*M$5*$B976^2+4*P$5*$B976^3)*(G$6+2*J$6*$B976+3*M$6*$B976^2+4*P$6*$B976^3)*SIN(P$6*$B976^4+M$6*$B976^3+J$6*$B976^2+G$6*$B976+D$6)-(G$6+2*J$6*$B976+3*M$6*$B976^2+4*P$6*$B976^3)^2*(D$5+G$5*$B976+J$5*$B976^2+M$5*$B976^3+P$5*$B976^4)*COS(P$6*$B976^4+M$6*$B976^3+J$6*$B976^2+G$6*$B976+D$6)+(2*J$5+6*M$5*$B976+12*P$5*$B976^2)*COS(P$6*$B976^4+M$6*$B976^3+J$6*$B976^2+G$6*$B976+D$6)+12*P$4*$B976^2+6*M$4*$B976+2*J$4","v":{"$error":"#N/A"}},{"$f":"-1*(H$8+2*K$8*$B976+3*N$8*$B976^2+4*Q$8*$B976^3)^2*(E$7+H$7*$B976+K$7*$B976^2+N$7*$B976^3+Q$7*$B976^4)*SIN(Q$8*$B976^4+N$8*$B976^3+K$8*$B976^2+H$8*$B976+E$8)+(2*K$7+6*N$7*$B976+12*Q$7*$B976^2)*SIN(Q$8*$B976^4+N$8*$B976^3+K$8*$B976^2+H$8*$B976+E$8)+(2*K$8+6*N$8*$B976+12*Q$8*$B976^2)*(E$7+H$7*$B976+K$7*$B976^2+N$7*$B976^3+Q$7*$B976^4)*COS(Q$8*$B976^4+N$8*$B976^3+K$8*$B976^2+H$8*$B976+E$8)+2*(H$7+2*K$7*$B976+3*N$7*$B976^2+4*Q$7*$B976^3)*(H$8+2*K$8*$B976+3*N$8*$B976^2+4*Q$8*$B976^3)*COS(Q$8*$B976^4+N$8*$B976^3+K$8*$B976^2+H$8*$B976+E$8)-(2*K$6+6*N$6*$B976+12*Q$6*$B976^2)*(E$5+H$5*$B976+K$5*$B976^2+N$5*$B976^3+Q$5*$B976^4)*SIN(Q$6*$B976^4+N$6*$B976^3+K$6*$B976^2+H$6*$B976+E$6)-2*(H$5+2*K$5*$B976+3*N$5*$B976^2+4*Q$5*$B976^3)*(H$6+2*K$6*$B976+3*N$6*$B976^2+4*Q$6*$B976^3)*SIN(Q$6*$B976^4+N$6*$B976^3+K$6*$B976^2+H$6*$B976+E$6)-(H$6+2*K$6*$B976+3*N$6*$B976^2+4*Q$6*$B976^3)^2*(E$5+H$5*$B976+K$5*$B976^2+N$5*$B976^3+Q$5*$B976^4)*COS(Q$6*$B976^4+N$6*$B976^3+K$6*$B976^2+H$6*$B976+E$6)+(2*K$5+6*N$5*$B976+12*Q$5*$B976^2)*COS(Q$6*$B976^4+N$6*$B976^3+K$6*$B976^2+H$6*$B976+E$6)+12*Q$4*$B976^2+6*N$4*$B976+2*K$4","v":{"$error":"#N/A"}},{"$f":"IF($AK$38=0,TRANSPOSE(MMULT($O$10:$Q$12,TRANSPOSE(C976:E976))),TRANSPOSE(MMULT($O$10:$Q$12,TRANSPOSE(Y976:AA976))))","v":{"$error":"#N/A"}},{"$error":"#N/A"},{"$error":"#N/A"},{"$error":"#N/A"},{"$error":"#N/A"},{"$f":"TRANSPOSE(MMULT($AE$10:$AG$12,TRANSPOSE(F976:H976)))","v":{"$error":"#N/A"}},{"$error":"#N/A"},{"$error":"#N/A"},{"$f":"$Y$5+$Y$4*IF($U$8=1,Q976,(Q976*$U$6)/($U$6+$U$7+R976))","v":{"$error":"#N/A"}},{"$f":"$Y$6+$Y$4*IF($U$8=1,R976,(S976*$U$6)/($U$6+$U$7+R976))","v":{"$error":"#N/A"}},{"$f":"TRANSPOSE(MMULT($AO$40:$AQ$42,TRANSPOSE(C976:E976)))","v":{"$error":"#N/A"}},{"$error":"#N/A"},{"$error":"#N/A"},{"$f":"V976+$AL$46","v":{"$error":"#N/A"}},{"$f":"W976+$AL$47","v":{"$error":"#N/A"}},{"$f":"X976+$AL$48","v":{"$error":"#N/A"}}]
[977,{"$error":"#N/A"},{"$error":"#N/A"},{"$error":"#N/A"},{"$error":"#N/A"},{"$error":"#N/A"},{"$error":"#N/A"},{"$error":"#N/A"},{"$error":"#N/A"},{"$error":"#N/A"},{"$error":"#N/A"},{"$f":"IF($AK$38=0,TRANSPOSE(MMULT($O$10:$Q$12,TRANSPOSE(C977:E977))),TRANSPOSE(MMULT($O$10:$Q$12,TRANSPOSE(Y977:AA977))))","v":{"$error":"#N/A"}},{"$error":"#N/A"},{"$error":"#N/A"},{"$f":"IF($AD$4=0,NA(),$X$5+$X$4*IF($U$8=1,L977,(L977*$U$6)/($U$6+$U$7+M977)))","v":{"$error":"#N/A"}},{"$f":"IF($AD$4=0,NA(),$X$6+$X$4*IF($U$8=1,M977,(N977*$U$6)/($U$6+$U$7+M977)))","v":{"$error":"#N/A"}},{"$f":"TRANSPOSE(MMULT($AE$10:$AG$12,TRANSPOSE(F977:H977)))","v":{"$error":"#N/A"}},{"$error":"#N/A"},{"$error":"#N/A"},{"$error":"#N/A"},{"$error":"#N/A"},{"$f":"TRANSPOSE(MMULT($AO$40:$AQ$42,TRANSPOSE(C977:E977)))","v":{"$error":"#N/A"}},{"$error":"#N/A"},{"$error":"#N/A"},{"$error":"#N/A"},{"$error":"#N/A"},{"$error":"#N/A"}]
[978,{"$f":"IF(B977<$B$3,B977+$S$3,NA())","v":{"$error":"#N/A"}},{"$error":"#N/A"},{"$error":"#N/A"},{"$error":"#N/A"},{"$error":"#N/A"},{"$error":"#N/A"},{"$error":"#N/A"},{"$error":"#N/A"},{"$error":"#N/A"},{"$error":"#N/A"},{"$f":"IF($AK$38=0,TRANSPOSE(MMULT($O$10:$Q$12,TRANSPOSE(C978:E978))),TRANSPOSE(MMULT($O$10:$Q$12,TRANSPOSE(Y978:AA978))))","v":{"$error":"#N/A"}},{"$error":"#N/A"},{"$error":"#N/A"},{"$error":"#N/A"},{"$error":"#N/A"},{"$f":"TRANSPOSE(MMULT($AE$10:$AG$12,TRANSPOSE(F978:H978)))","v":{"$error":"#N/A"}},{"$error":"#N/A"},{"$error":"#N/A"},{"$error":"#N/A"},{"$error":"#N/A"},{"$f":"TRANSPOSE(MMULT($AO$40:$AQ$42,TRANSPOSE(C978:E978)))","v":{"$error":"#N/A"}},{"$error":"#N/A"},{"$error":"#N/A"},{"$error":"#N/A"},{"$error":"#N/A"},{"$error":"#N/A"}]
[979,{"$error":"#N/A"},{"$error":"#N/A"},{"$error":"#N/A"},{"$error":"#N/A"},{"$error":"#N/A"},{"$error":"#N/A"},{"$error":"#N/A"},{"$error":"#N/A"},{"$error":"#N/A"},{"$error":"#N/A"},{"$f":"IF($AK$38=0,TRANSPOSE(MMULT($O$10:$Q$12,TRANSPOSE(C979:E979))),TRANSPOSE(MMULT($O$10:$Q$12,TRANSPOSE(Y979:AA979))))","v":{"$error":"#N/A"}},{"$error":"#N/A"},{"$error":"#N/A"},{"$error":"#N/A"},{"$error":"#N/A"},{"$f":"TRANSPOSE(MMULT($AE$10:$AG$12,TRANSPOSE(F979:H979)))","v":{"$error":"#N/A"}},{"$error":"#N/A"},{"$error":"#N/A"},{"$error":"#N/A"},{"$error":"#N/A"},{"$f":"TRANSPOSE(MMULT($AO$40:$AQ$42,TRANSPOSE(C979:E979)))","v":{"$error":"#N/A"}},{"$error":"#N/A"},{"$error":"#N/A"},{"$error":"#N/A"},{"$error":"#N/A"},{"$error":"#N/A"}]
[980,{"$error":"#N/A"},{"$error":"#N/A"},{"$error":"#N/A"},{"$error":"#N/A"},{"$error":"#N/A"},{"$error":"#N/A"},{"$error":"#N/A"},{"$error":"#N/A"},{"$error":"#N/A"},{"$error":"#N/A"},{"$f":"IF($AK$38=0,TRANSPOSE(MMULT($O$10:$Q$12,TRANSPOSE(C980:E980))),TRANSPOSE(MMULT($O$10:$Q$12,TRANSPOSE(Y980:AA980))))","v":{"$error":"#N/A"}},{"$error":"#N/A"},{"$error":"#N/A"},{"$error":"#N/A"},{"$error":"#N/A"},{"$f":"TRANSPOSE(MMULT($AE$10:$AG$12,TRANSPOSE(F980:H980)))","v":{"$error":"#N/A"}},{"$error":"#N/A"},{"$error":"#N/A"},{"$error":"#N/A"},{"$error":"#N/A"},{"$f":"TRANSPOSE(MMULT($AO$40:$AQ$42,TRANSPOSE(C980:E980)))","v":{"$error":"#N/A"}},{"$error":"#N/A"},{"$error":"#N/A"},{"$error":"#N/A"},{"$error":"#N/A"},{"$error":"#N/A"}]
[981,{"$error":"#N/A"},{"$error":"#N/A"},{"$error":"#N/A"},{"$error":"#N/A"},{"$error":"#N/A"},{"$error":"#N/A"},{"$error":"#N/A"},{"$error":"#N/A"},{"$error":"#N/A"},{"$error":"#N/A"},{"$f":"IF($AK$38=0,TRANSPOSE(MMULT($O$10:$Q$12,TRANSPOSE(C981:E981))),TRANSPOSE(MMULT($O$10:$Q$12,TRANSPOSE(Y981:AA981))))","v":{"$error":"#N/A"}},{"$error":"#N/A"},{"$error":"#N/A"},{"$error":"#N/A"},{"$error":"#N/A"},{"$f":"TRANSPOSE(MMULT($AE$10:$AG$12,TRANSPOSE(F981:H981)))","v":{"$error":"#N/A"}},{"$error":"#N/A"},{"$error":"#N/A"},{"$error":"#N/A"},{"$error":"#N/A"},{"$f":"TRANSPOSE(MMULT($AO$40:$AQ$42,TRANSPOSE(C981:E981)))","v":{"$error":"#N/A"}},{"$error":"#N/A"},{"$error":"#N/A"},{"$error":"#N/A"},{"$error":"#N/A"},{"$error":"#N/A"}]
[982,{"$error":"#N/A"},{"$error":"#N/A"},{"$error":"#N/A"},{"$error":"#N/A"},{"$error":"#N/A"},{"$error":"#N/A"},{"$error":"#N/A"},{"$error":"#N/A"},{"$error":"#N/A"},{"$error":"#N/A"},{"$f":"IF($AK$38=0,TRANSPOSE(MMULT($O$10:$Q$12,TRANSPOSE(C982:E982))),TRANSPOSE(MMULT($O$10:$Q$12,TRANSPOSE(Y982:AA982))))","v":{"$error":"#N/A"}},{"$error":"#N/A"},{"$error":"#N/A"},{"$error":"#N/A"},{"$error":"#N/A"},{"$f":"TRANSPOSE(MMULT($AE$10:$AG$12,TRANSPOSE(F982:H982)))","v":{"$error":"#N/A"}},{"$error":"#N/A"},{"$error":"#N/A"},{"$error":"#N/A"},{"$error":"#N/A"},{"$f":"TRANSPOSE(MMULT($AO$40:$AQ$42,TRANSPOSE(C982:E982)))","v":{"$error":"#N/A"}},{"$error":"#N/A"},{"$error":"#N/A"},{"$error":"#N/A"},{"$error":"#N/A"},{"$error":"#N/A"}]
[983,{"$error":"#N/A"},{"$error":"#N/A"},{"$error":"#N/A"},{"$error":"#N/A"},{"$error":"#N/A"},{"$error":"#N/A"},{"$error":"#N/A"},{"$error":"#N/A"},{"$error":"#N/A"},{"$error":"#N/A"},{"$f":"IF($AK$38=0,TRANSPOSE(MMULT($O$10:$Q$12,TRANSPOSE(C983:E983))),TRANSPOSE(MMULT($O$10:$Q$12,TRANSPOSE(Y983:AA983))))","v":{"$error":"#N/A"}},{"$error":"#N/A"},{"$error":"#N/A"},{"$error":"#N/A"},{"$error":"#N/A"},{"$f":"TRANSPOSE(MMULT($AE$10:$AG$12,TRANSPOSE(F983:H983)))","v":{"$error":"#N/A"}},{"$error":"#N/A"},{"$error":"#N/A"},{"$error":"#N/A"},{"$error":"#N/A"},{"$f":"TRANSPOSE(MMULT($AO$40:$AQ$42,TRANSPOSE(C983:E983)))","v":{"$error":"#N/A"}},{"$error":"#N/A"},{"$error":"#N/A"},{"$error":"#N/A"},{"$error":"#N/A"},{"$error":"#N/A"}]
[984,{"$error":"#N/A"},{"$error":"#N/A"},{"$error":"#N/A"},{"$error":"#N/A"},{"$error":"#N/A"},{"$error":"#N/A"},{"$error":"#N/A"},{"$error":"#N/A"},{"$error":"#N/A"},{"$error":"#N/A"},{"$f":"IF($AK$38=0,TRANSPOSE(MMULT($O$10:$Q$12,TRANSPOSE(C984:E984))),TRANSPOSE(MMULT($O$10:$Q$12,TRANSPOSE(Y984:AA984))))","v":{"$error":"#N/A"}},{"$error":"#N/A"},{"$error":"#N/A"},{"$error":"#N/A"},{"$error":"#N/A"},{"$f":"TRANSPOSE(MMULT($AE$10:$AG$12,TRANSPOSE(F984:H984)))","v":{"$error":"#N/A"}},{"$error":"#N/A"},{"$error":"#N/A"},{"$error":"#N/A"},{"$error":"#N/A"},{"$f":"TRANSPOSE(MMULT($AO$40:$AQ$42,TRANSPOSE(C984:E984)))","v":{"$error":"#N/A"}},{"$error":"#N/A"},{"$error":"#N/A"},{"$error":"#N/A"},{"$error":"#N/A"},{"$error":"#N/A"}]
[985,{"$error":"#N/A"},{"$error":"#N/A"},{"$error":"#N/A"},{"$error":"#N/A"},{"$error":"#N/A"},{"$error":"#N/A"},{"$error":"#N/A"},{"$error":"#N/A"},{"$error":"#N/A"},{"$error":"#N/A"},{"$f":"IF($AK$38=0,TRANSPOSE(MMULT($O$10:$Q$12,TRANSPOSE(C985:E985))),TRANSPOSE(MMULT($O$10:$Q$12,TRANSPOSE(Y985:AA985))))","v":{"$error":"#N/A"}},{"$error":"#N/A"},{"$error":"#N/A"},{"$error":"#N/A"},{"$error":"#N/A"},{"$f":"TRANSPOSE(MMULT($AE$10:$AG$12,TRANSPOSE(F985:H985)))","v":{"$error":"#N/A"}},{"$error":"#N/A"},{"$error":"#N/A"},{"$error":"#N/A"},{"$error":"#N/A"},{"$f":"TRANSPOSE(MMULT($AO$40:$AQ$42,TRANSPOSE(C985:E985)))","v":{"$error":"#N/A"}},{"$error":"#N/A"},{"$error":"#N/A"},{"$error":"#N/A"},{"$error":"#N/A"},{"$error":"#N/A"}]
[986,{"$error":"#N/A"},{"$error":"#N/A"},{"$error":"#N/A"},{"$error":"#N/A"},{"$error":"#N/A"},{"$error":"#N/A"},{"$error":"#N/A"},{"$error":"#N/A"},{"$error":"#N/A"},{"$error":"#N/A"},{"$f":"IF($AK$38=0,TRANSPOSE(MMULT($O$10:$Q$12,TRANSPOSE(C986:E986))),TRANSPOSE(MMULT($O$10:$Q$12,TRANSPOSE(Y986:AA986))))","v":{"$error":"#N/A"}},{"$error":"#N/A"},{"$error":"#N/A"},{"$error":"#N/A"},{"$error":"#N/A"},{"$f":"TRANSPOSE(MMULT($AE$10:$AG$12,TRANSPOSE(F986:H986)))","v":{"$error":"#N/A"}},{"$error":"#N/A"},{"$error":"#N/A"},{"$error":"#N/A"},{"$error":"#N/A"},{"$f":"TRANSPOSE(MMULT($AO$40:$AQ$42,TRANSPOSE(C986:E986)))","v":{"$error":"#N/A"}},{"$error":"#N/A"},{"$error":"#N/A"},{"$error":"#N/A"},{"$error":"#N/A"},{"$error":"#N/A"}]
[987,{"$error":"#N/A"},{"$error":"#N/A"},{"$error":"#N/A"},{"$error":"#N/A"},{"$error":"#N/A"},{"$error":"#N/A"},{"$error":"#N/A"},{"$error":"#N/A"},{"$error":"#N/A"},{"$error":"#N/A"},{"$f":"IF($AK$38=0,TRANSPOSE(MMULT($O$10:$Q$12,TRANSPOSE(C987:E987))),TRANSPOSE(MMULT($O$10:$Q$12,TRANSPOSE(Y987:AA987))))","v":{"$error":"#N/A"}},{"$error":"#N/A"},{"$error":"#N/A"},{"$error":"#N/A"},{"$error":"#N/A"},{"$f":"TRANSPOSE(MMULT($AE$10:$AG$12,TRANSPOSE(F987:H987)))","v":{"$error":"#N/A"}},{"$error":"#N/A"},{"$error":"#N/A"},{"$error":"#N/A"},{"$error":"#N/A"},{"$f":"TRANSPOSE(MMULT($AO$40:$AQ$42,TRANSPOSE(C987:E987)))","v":{"$error":"#N/A"}},{"$error":"#N/A"},{"$error":"#N/A"},{"$error":"#N/A"},{"$error":"#N/A"},{"$error":"#N/A"}]
[988,{"$error":"#N/A"},{"$error":"#N/A"},{"$error":"#N/A"},{"$error":"#N/A"},{"$error":"#N/A"},{"$error":"#N/A"},{"$error":"#N/A"},{"$error":"#N/A"},{"$error":"#N/A"},{"$error":"#N/A"},{"$f":"IF($AK$38=0,TRANSPOSE(MMULT($O$10:$Q$12,TRANSPOSE(C988:E988))),TRANSPOSE(MMULT($O$10:$Q$12,TRANSPOSE(Y988:AA988))))","v":{"$error":"#N/A"}},{"$error":"#N/A"},{"$error":"#N/A"},{"$error":"#N/A"},{"$error":"#N/A"},{"$f":"TRANSPOSE(MMULT($AE$10:$AG$12,TRANSPOSE(F988:H988)))","v":{"$error":"#N/A"}},{"$error":"#N/A"},{"$error":"#N/A"},{"$error":"#N/A"},{"$error":"#N/A"},{"$f":"TRANSPOSE(MMULT($AO$40:$AQ$42,TRANSPOSE(C988:E988)))","v":{"$error":"#N/A"}},{"$error":"#N/A"},{"$error":"#N/A"},{"$error":"#N/A"},{"$error":"#N/A"},{"$error":"#N/A"}]
[989,{"$error":"#N/A"},{"$error":"#N/A"},{"$error":"#N/A"},{"$error":"#N/A"},{"$error":"#N/A"},{"$error":"#N/A"},{"$error":"#N/A"},{"$error":"#N/A"},{"$error":"#N/A"},{"$error":"#N/A"},{"$f":"IF($AK$38=0,TRANSPOSE(MMULT($O$10:$Q$12,TRANSPOSE(C989:E989))),TRANSPOSE(MMULT($O$10:$Q$12,TRANSPOSE(Y989:AA989))))","v":{"$error":"#N/A"}},{"$error":"#N/A"},{"$error":"#N/A"},{"$error":"#N/A"},{"$error":"#N/A"},{"$f":"TRANSPOSE(MMULT($AE$10:$AG$12,TRANSPOSE(F989:H989)))","v":{"$error":"#N/A"}},{"$error":"#N/A"},{"$error":"#N/A"},{"$error":"#N/A"},{"$error":"#N/A"},{"$f":"TRANSPOSE(MMULT($AO$40:$AQ$42,TRANSPOSE(C989:E989)))","v":{"$error":"#N/A"}},{"$error":"#N/A"},{"$error":"#N/A"},{"$error":"#N/A"},{"$error":"#N/A"},{"$error":"#N/A"}]
[990,{"$error":"#N/A"},{"$error":"#N/A"},{"$error":"#N/A"},{"$error":"#N/A"},{"$error":"#N/A"},{"$error":"#N/A"},{"$error":"#N/A"},{"$error":"#N/A"},{"$error":"#N/A"},{"$error":"#N/A"},{"$f":"IF($AK$38=0,TRANSPOSE(MMULT($O$10:$Q$12,TRANSPOSE(C990:E990))),TRANSPOSE(MMULT($O$10:$Q$12,TRANSPOSE(Y990:AA990))))","v":{"$error":"#N/A"}},{"$error":"#N/A"},{"$error":"#N/A"},{"$error":"#N/A"},{"$error":"#N/A"},{"$f":"TRANSPOSE(MMULT($AE$10:$AG$12,TRANSPOSE(F990:H990)))","v":{"$error":"#N/A"}},{"$error":"#N/A"},{"$error":"#N/A"},{"$error":"#N/A"},{"$error":"#N/A"},{"$f":"TRANSPOSE(MMULT($AO$40:$AQ$42,TRANSPOSE(C990:E990)))","v":{"$error":"#N/A"}},{"$error":"#N/A"},{"$error":"#N/A"},{"$error":"#N/A"},{"$error":"#N/A"},{"$error":"#N/A"}]
[991,{"$error":"#N/A"},{"$error":"#N/A"},{"$error":"#N/A"},{"$error":"#N/A"},{"$error":"#N/A"},{"$error":"#N/A"},{"$error":"#N/A"},{"$error":"#N/A"},{"$error":"#N/A"},{"$error":"#N/A"},{"$f":"IF($AK$38=0,TRANSPOSE(MMULT($O$10:$Q$12,TRANSPOSE(C991:E991))),TRANSPOSE(MMULT($O$10:$Q$12,TRANSPOSE(Y991:AA991))))","v":{"$error":"#N/A"}},{"$error":"#N/A"},{"$error":"#N/A"},{"$error":"#N/A"},{"$error":"#N/A"},{"$f":"TRANSPOSE(MMULT($AE$10:$AG$12,TRANSPOSE(F991:H991)))","v":{"$error":"#N/A"}},{"$error":"#N/A"},{"$error":"#N/A"},{"$error":"#N/A"},{"$error":"#N/A"},{"$f":"TRANSPOSE(MMULT($AO$40:$AQ$42,TRANSPOSE(C991:E991)))","v":{"$error":"#N/A"}},{"$error":"#N/A"},{"$error":"#N/A"},{"$error":"#N/A"},{"$error":"#N/A"},{"$error":"#N/A"}]
[992,{"$error":"#N/A"},{"$error":"#N/A"},{"$error":"#N/A"},{"$error":"#N/A"},{"$error":"#N/A"},{"$error":"#N/A"},{"$error":"#N/A"},{"$error":"#N/A"},{"$error":"#N/A"},{"$error":"#N/A"},{"$f":"IF($AK$38=0,TRANSPOSE(MMULT($O$10:$Q$12,TRANSPOSE(C992:E992))),TRANSPOSE(MMULT($O$10:$Q$12,TRANSPOSE(Y992:AA992))))","v":{"$error":"#N/A"}},{"$error":"#N/A"},{"$error":"#N/A"},{"$error":"#N/A"},{"$error":"#N/A"},{"$f":"TRANSPOSE(MMULT($AE$10:$AG$12,TRANSPOSE(F992:H992)))","v":{"$error":"#N/A"}},{"$error":"#N/A"},{"$error":"#N/A"},{"$error":"#N/A"},{"$error":"#N/A"},{"$f":"TRANSPOSE(MMULT($AO$40:$AQ$42,TRANSPOSE(C992:E992)))","v":{"$error":"#N/A"}},{"$error":"#N/A"},{"$error":"#N/A"},{"$error":"#N/A"},{"$error":"#N/A"},{"$error":"#N/A"}]
[993,{"$error":"#N/A"},{"$error":"#N/A"},{"$error":"#N/A"},{"$error":"#N/A"},{"$error":"#N/A"},{"$error":"#N/A"},{"$error":"#N/A"},{"$error":"#N/A"},{"$error":"#N/A"},{"$error":"#N/A"},{"$f":"IF($AK$38=0,TRANSPOSE(MMULT($O$10:$Q$12,TRANSPOSE(C993:E993))),TRANSPOSE(MMULT($O$10:$Q$12,TRANSPOSE(Y993:AA993))))","v":{"$error":"#N/A"}},{"$error":"#N/A"},{"$error":"#N/A"},{"$error":"#N/A"},{"$error":"#N/A"},{"$f":"TRANSPOSE(MMULT($AE$10:$AG$12,TRANSPOSE(F993:H993)))","v":{"$error":"#N/A"}},{"$error":"#N/A"},{"$error":"#N/A"},{"$error":"#N/A"},{"$error":"#N/A"},{"$f":"TRANSPOSE(MMULT($AO$40:$AQ$42,TRANSPOSE(C993:E993)))","v":{"$error":"#N/A"}},{"$error":"#N/A"},{"$error":"#N/A"},{"$error":"#N/A"},{"$error":"#N/A"},{"$error":"#N/A"}]
[994,{"$error":"#N/A"},{"$error":"#N/A"},{"$error":"#N/A"},{"$error":"#N/A"},{"$error":"#N/A"},{"$error":"#N/A"},{"$error":"#N/A"},{"$error":"#N/A"},{"$error":"#N/A"},{"$error":"#N/A"},{"$f":"IF($AK$38=0,TRANSPOSE(MMULT($O$10:$Q$12,TRANSPOSE(C994:E994))),TRANSPOSE(MMULT($O$10:$Q$12,TRANSPOSE(Y994:AA994))))","v":{"$error":"#N/A"}},{"$error":"#N/A"},{"$error":"#N/A"},{"$error":"#N/A"},{"$error":"#N/A"},{"$f":"TRANSPOSE(MMULT($AE$10:$AG$12,TRANSPOSE(F994:H994)))","v":{"$error":"#N/A"}},{"$error":"#N/A"},{"$error":"#N/A"},{"$error":"#N/A"},{"$error":"#N/A"},{"$f":"TRANSPOSE(MMULT($AO$40:$AQ$42,TRANSPOSE(C994:E994)))","v":{"$error":"#N/A"}},{"$error":"#N/A"},{"$error":"#N/A"},{"$error":"#N/A"},{"$error":"#N/A"},{"$error":"#N/A"}]
[995,{"$error":"#N/A"},{"$error":"#N/A"},{"$error":"#N/A"},{"$error":"#N/A"},{"$error":"#N/A"},{"$error":"#N/A"},{"$error":"#N/A"},{"$error":"#N/A"},{"$error":"#N/A"},{"$error":"#N/A"},{"$f":"IF($AK$38=0,TRANSPOSE(MMULT($O$10:$Q$12,TRANSPOSE(C995:E995))),TRANSPOSE(MMULT($O$10:$Q$12,TRANSPOSE(Y995:AA995))))","v":{"$error":"#N/A"}},{"$error":"#N/A"},{"$error":"#N/A"},{"$error":"#N/A"},{"$error":"#N/A"},{"$f":"TRANSPOSE(MMULT($AE$10:$AG$12,TRANSPOSE(F995:H995)))","v":{"$error":"#N/A"}},{"$error":"#N/A"},{"$error":"#N/A"},{"$error":"#N/A"},{"$error":"#N/A"},{"$f":"TRANSPOSE(MMULT($AO$40:$AQ$42,TRANSPOSE(C995:E995)))","v":{"$error":"#N/A"}},{"$error":"#N/A"},{"$error":"#N/A"},{"$error":"#N/A"},{"$error":"#N/A"},{"$error":"#N/A"}]
[996,{"$error":"#N/A"},{"$error":"#N/A"},{"$error":"#N/A"},{"$error":"#N/A"},{"$error":"#N/A"},{"$error":"#N/A"},{"$error":"#N/A"},{"$error":"#N/A"},{"$error":"#N/A"},{"$error":"#N/A"},{"$f":"IF($AK$38=0,TRANSPOSE(MMULT($O$10:$Q$12,TRANSPOSE(C996:E996))),TRANSPOSE(MMULT($O$10:$Q$12,TRANSPOSE(Y996:AA996))))","v":{"$error":"#N/A"}},{"$error":"#N/A"},{"$error":"#N/A"},{"$error":"#N/A"},{"$error":"#N/A"},{"$f":"TRANSPOSE(MMULT($AE$10:$AG$12,TRANSPOSE(F996:H996)))","v":{"$error":"#N/A"}},{"$error":"#N/A"},{"$error":"#N/A"},{"$error":"#N/A"},{"$error":"#N/A"},{"$f":"TRANSPOSE(MMULT($AO$40:$AQ$42,TRANSPOSE(C996:E996)))","v":{"$error":"#N/A"}},{"$error":"#N/A"},{"$error":"#N/A"},{"$error":"#N/A"},{"$error":"#N/A"},{"$error":"#N/A"}]
[997,{"$error":"#N/A"},{"$error":"#N/A"},{"$error":"#N/A"},{"$error":"#N/A"},{"$error":"#N/A"},{"$error":"#N/A"},{"$error":"#N/A"},{"$error":"#N/A"},{"$error":"#N/A"},{"$error":"#N/A"},{"$f":"IF($AK$38=0,TRANSPOSE(MMULT($O$10:$Q$12,TRANSPOSE(C997:E997))),TRANSPOSE(MMULT($O$10:$Q$12,TRANSPOSE(Y997:AA997))))","v":{"$error":"#N/A"}},{"$error":"#N/A"},{"$error":"#N/A"},{"$error":"#N/A"},{"$error":"#N/A"},{"$f":"TRANSPOSE(MMULT($AE$10:$AG$12,TRANSPOSE(F997:H997)))","v":{"$error":"#N/A"}},{"$error":"#N/A"},{"$error":"#N/A"},{"$error":"#N/A"},{"$error":"#N/A"},{"$f":"TRANSPOSE(MMULT($AO$40:$AQ$42,TRANSPOSE(C997:E997)))","v":{"$error":"#N/A"}},{"$error":"#N/A"},{"$error":"#N/A"},{"$error":"#N/A"},{"$error":"#N/A"},{"$error":"#N/A"}]
[998,{"$error":"#N/A"},{"$error":"#N/A"},{"$error":"#N/A"},{"$error":"#N/A"},{"$error":"#N/A"},{"$error":"#N/A"},{"$error":"#N/A"},{"$error":"#N/A"},{"$error":"#N/A"},{"$error":"#N/A"},{"$f":"IF($AK$38=0,TRANSPOSE(MMULT($O$10:$Q$12,TRANSPOSE(C998:E998))),TRANSPOSE(MMULT($O$10:$Q$12,TRANSPOSE(Y998:AA998))))","v":{"$error":"#N/A"}},{"$error":"#N/A"},{"$error":"#N/A"},{"$error":"#N/A"},{"$error":"#N/A"},{"$f":"TRANSPOSE(MMULT($AE$10:$AG$12,TRANSPOSE(F998:H998)))","v":{"$error":"#N/A"}},{"$error":"#N/A"},{"$error":"#N/A"},{"$error":"#N/A"},{"$error":"#N/A"},{"$f":"TRANSPOSE(MMULT($AO$40:$AQ$42,TRANSPOSE(C998:E998)))","v":{"$error":"#N/A"}},{"$error":"#N/A"},{"$error":"#N/A"},{"$error":"#N/A"},{"$error":"#N/A"},{"$error":"#N/A"}]
[999,{"$error":"#N/A"},{"$error":"#N/A"},{"$error":"#N/A"},{"$error":"#N/A"},{"$error":"#N/A"},{"$error":"#N/A"},{"$error":"#N/A"},{"$error":"#N/A"},{"$error":"#N/A"},{"$error":"#N/A"},{"$f":"IF($AK$38=0,TRANSPOSE(MMULT($O$10:$Q$12,TRANSPOSE(C999:E999))),TRANSPOSE(MMULT($O$10:$Q$12,TRANSPOSE(Y999:AA999))))","v":{"$error":"#N/A"}},{"$error":"#N/A"},{"$error":"#N/A"},{"$error":"#N/A"},{"$error":"#N/A"},{"$f":"TRANSPOSE(MMULT($AE$10:$AG$12,TRANSPOSE(F999:H999)))","v":{"$error":"#N/A"}},{"$error":"#N/A"},{"$error":"#N/A"},{"$error":"#N/A"},{"$error":"#N/A"},{"$f":"TRANSPOSE(MMULT($AO$40:$AQ$42,TRANSPOSE(C999:E999)))","v":{"$error":"#N/A"}},{"$error":"#N/A"},{"$error":"#N/A"},{"$error":"#N/A"},{"$error":"#N/A"},{"$error":"#N/A"}]
[1000,{"$error":"#N/A"},{"$error":"#N/A"},{"$error":"#N/A"},{"$error":"#N/A"},{"$error":"#N/A"},{"$error":"#N/A"},{"$error":"#N/A"},{"$error":"#N/A"},{"$error":"#N/A"},{"$error":"#N/A"},{"$f":"IF($AK$38=0,TRANSPOSE(MMULT($O$10:$Q$12,TRANSPOSE(C1000:E1000))),TRANSPOSE(MMULT($O$10:$Q$12,TRANSPOSE(Y1000:AA1000))))","v":{"$error":"#N/A"}},{"$error":"#N/A"},{"$error":"#N/A"},{"$error":"#N/A"},{"$error":"#N/A"},{"$f":"TRANSPOSE(MMULT($AE$10:$AG$12,TRANSPOSE(F1000:H1000)))","v":{"$error":"#N/A"}},{"$error":"#N/A"},{"$error":"#N/A"},{"$error":"#N/A"},{"$error":"#N/A"},{"$f":"TRANSPOSE(MMULT($AO$40:$AQ$42,TRANSPOSE(C1000:E1000)))","v":{"$error":"#N/A"}},{"$error":"#N/A"},{"$error":"#N/A"},{"$error":"#N/A"},{"$error":"#N/A"},{"$error":"#N/A"}]
[1001,{"$error":"#N/A"},{"$error":"#N/A"},{"$error":"#N/A"},{"$error":"#N/A"},{"$error":"#N/A"},{"$error":"#N/A"},{"$error":"#N/A"},{"$error":"#N/A"},{"$error":"#N/A"},{"$error":"#N/A"},{"$f":"IF($AK$38=0,TRANSPOSE(MMULT($O$10:$Q$12,TRANSPOSE(C1001:E1001))),TRANSPOSE(MMULT($O$10:$Q$12,TRANSPOSE(Y1001:AA1001))))","v":{"$error":"#N/A"}},{"$error":"#N/A"},{"$error":"#N/A"},{"$error":"#N/A"},{"$error":"#N/A"},{"$f":"TRANSPOSE(MMULT($AE$10:$AG$12,TRANSPOSE(F1001:H1001)))","v":{"$error":"#N/A"}},{"$error":"#N/A"},{"$error":"#N/A"},{"$error":"#N/A"},{"$error":"#N/A"},{"$f":"TRANSPOSE(MMULT($AO$40:$AQ$42,TRANSPOSE(C1001:E1001)))","v":{"$error":"#N/A"}},{"$error":"#N/A"},{"$error":"#N/A"},{"$error":"#N/A"},{"$error":"#N/A"},{"$error":"#N/A"}]
[1002,{"$error":"#N/A"},{"$error":"#N/A"},{"$error":"#N/A"},{"$error":"#N/A"},{"$error":"#N/A"},{"$error":"#N/A"},{"$error":"#N/A"},{"$error":"#N/A"},{"$error":"#N/A"},{"$error":"#N/A"},{"$f":"IF($AK$38=0,TRANSPOSE(MMULT($O$10:$Q$12,TRANSPOSE(C1002:E1002))),TRANSPOSE(MMULT($O$10:$Q$12,TRANSPOSE(Y1002:AA1002))))","v":{"$error":"#N/A"}},{"$error":"#N/A"},{"$error":"#N/A"},{"$error":"#N/A"},{"$error":"#N/A"},{"$f":"TRANSPOSE(MMULT($AE$10:$AG$12,TRANSPOSE(F1002:H1002)))","v":{"$error":"#N/A"}},{"$error":"#N/A"},{"$error":"#N/A"},{"$error":"#N/A"},{"$error":"#N/A"},{"$f":"TRANSPOSE(MMULT($AO$40:$AQ$42,TRANSPOSE(C1002:E1002)))","v":{"$error":"#N/A"}},{"$error":"#N/A"},{"$error":"#N/A"},{"$error":"#N/A"},{"$error":"#N/A"},{"$error":"#N/A"}]
[1003,{"$error":"#N/A"},{"$error":"#N/A"},{"$error":"#N/A"},{"$error":"#N/A"},{"$error":"#N/A"},{"$error":"#N/A"},{"$error":"#N/A"},{"$error":"#N/A"},{"$error":"#N/A"},{"$error":"#N/A"},{"$f":"IF($AK$38=0,TRANSPOSE(MMULT($O$10:$Q$12,TRANSPOSE(C1003:E1003))),TRANSPOSE(MMULT($O$10:$Q$12,TRANSPOSE(Y1003:AA1003))))","v":{"$error":"#N/A"}},{"$error":"#N/A"},{"$error":"#N/A"},{"$error":"#N/A"},{"$error":"#N/A"},{"$f":"TRANSPOSE(MMULT($AE$10:$AG$12,TRANSPOSE(F1003:H1003)))","v":{"$error":"#N/A"}},{"$error":"#N/A"},{"$error":"#N/A"},{"$error":"#N/A"},{"$error":"#N/A"},{"$f":"TRANSPOSE(MMULT($AO$40:$AQ$42,TRANSPOSE(C1003:E1003)))","v":{"$error":"#N/A"}},{"$error":"#N/A"},{"$error":"#N/A"},{"$error":"#N/A"},{"$error":"#N/A"},{"$error":"#N/A"}]
[1004,{"$error":"#N/A"},{"$error":"#N/A"},{"$error":"#N/A"},{"$error":"#N/A"},{"$error":"#N/A"},{"$error":"#N/A"},{"$error":"#N/A"},{"$error":"#N/A"},{"$error":"#N/A"},{"$error":"#N/A"},{"$f":"IF($AK$38=0,TRANSPOSE(MMULT($O$10:$Q$12,TRANSPOSE(C1004:E1004))),TRANSPOSE(MMULT($O$10:$Q$12,TRANSPOSE(Y1004:AA1004))))","v":{"$error":"#N/A"}},{"$error":"#N/A"},{"$error":"#N/A"},{"$error":"#N/A"},{"$error":"#N/A"},{"$f":"TRANSPOSE(MMULT($AE$10:$AG$12,TRANSPOSE(F1004:H1004)))","v":{"$error":"#N/A"}},{"$error":"#N/A"},{"$error":"#N/A"},{"$error":"#N/A"},{"$error":"#N/A"},{"$f":"TRANSPOSE(MMULT($AO$40:$AQ$42,TRANSPOSE(C1004:E1004)))","v":{"$error":"#N/A"}},{"$error":"#N/A"},{"$error":"#N/A"},{"$error":"#N/A"},{"$error":"#N/A"},{"$error":"#N/A"}]
[1005,{"$error":"#N/A"},{"$error":"#N/A"},{"$error":"#N/A"},{"$error":"#N/A"},{"$error":"#N/A"},{"$error":"#N/A"},{"$error":"#N/A"},{"$error":"#N/A"},{"$error":"#N/A"},{"$error":"#N/A"},{"$f":"IF($AK$38=0,TRANSPOSE(MMULT($O$10:$Q$12,TRANSPOSE(C1005:E1005))),TRANSPOSE(MMULT($O$10:$Q$12,TRANSPOSE(Y1005:AA1005))))","v":{"$error":"#N/A"}},{"$error":"#N/A"},{"$error":"#N/A"},{"$error":"#N/A"},{"$error":"#N/A"},{"$f":"TRANSPOSE(MMULT($AE$10:$AG$12,TRANSPOSE(F1005:H1005)))","v":{"$error":"#N/A"}},{"$error":"#N/A"},{"$error":"#N/A"},{"$error":"#N/A"},{"$error":"#N/A"},{"$f":"TRANSPOSE(MMULT($AO$40:$AQ$42,TRANSPOSE(C1005:E1005)))","v":{"$error":"#N/A"}},{"$error":"#N/A"},{"$error":"#N/A"},{"$error":"#N/A"},{"$error":"#N/A"},{"$error":"#N/A"}]
[1006,{"$error":"#N/A"},{"$error":"#N/A"},{"$error":"#N/A"},{"$error":"#N/A"},{"$error":"#N/A"},{"$error":"#N/A"},{"$error":"#N/A"},{"$error":"#N/A"},{"$error":"#N/A"},{"$error":"#N/A"},{"$f":"IF($AK$38=0,TRANSPOSE(MMULT($O$10:$Q$12,TRANSPOSE(C1006:E1006))),TRANSPOSE(MMULT($O$10:$Q$12,TRANSPOSE(Y1006:AA1006))))","v":{"$error":"#N/A"}},{"$error":"#N/A"},{"$error":"#N/A"},{"$error":"#N/A"},{"$error":"#N/A"},{"$f":"TRANSPOSE(MMULT($AE$10:$AG$12,TRANSPOSE(F1006:H1006)))","v":{"$error":"#N/A"}},{"$error":"#N/A"},{"$error":"#N/A"},{"$error":"#N/A"},{"$error":"#N/A"},{"$f":"TRANSPOSE(MMULT($AO$40:$AQ$42,TRANSPOSE(C1006:E1006)))","v":{"$error":"#N/A"}},{"$error":"#N/A"},{"$error":"#N/A"},{"$error":"#N/A"},{"$error":"#N/A"},{"$error":"#N/A"}]
[1007,{"$error":"#N/A"},{"$error":"#N/A"},{"$error":"#N/A"},{"$error":"#N/A"},{"$error":"#N/A"},{"$error":"#N/A"},{"$error":"#N/A"},{"$error":"#N/A"},{"$error":"#N/A"},{"$error":"#N/A"},{"$f":"IF($AK$38=0,TRANSPOSE(MMULT($O$10:$Q$12,TRANSPOSE(C1007:E1007))),TRANSPOSE(MMULT($O$10:$Q$12,TRANSPOSE(Y1007:AA1007))))","v":{"$error":"#N/A"}},{"$error":"#N/A"},{"$error":"#N/A"},{"$error":"#N/A"},{"$error":"#N/A"},{"$f":"TRANSPOSE(MMULT($AE$10:$AG$12,TRANSPOSE(F1007:H1007)))","v":{"$error":"#N/A"}},{"$error":"#N/A"},{"$error":"#N/A"},{"$error":"#N/A"},{"$error":"#N/A"},{"$f":"TRANSPOSE(MMULT($AO$40:$AQ$42,TRANSPOSE(C1007:E1007)))","v":{"$error":"#N/A"}},{"$error":"#N/A"},{"$error":"#N/A"},{"$error":"#N/A"},{"$error":"#N/A"},{"$error":"#N/A"}]
[1008,{"$error":"#N/A"},{"$error":"#N/A"},{"$error":"#N/A"},{"$error":"#N/A"},{"$error":"#N/A"},{"$error":"#N/A"},{"$error":"#N/A"},{"$error":"#N/A"},{"$error":"#N/A"},{"$error":"#N/A"},{"$f":"IF($AK$38=0,TRANSPOSE(MMULT($O$10:$Q$12,TRANSPOSE(C1008:E1008))),TRANSPOSE(MMULT($O$10:$Q$12,TRANSPOSE(Y1008:AA1008))))","v":{"$error":"#N/A"}},{"$error":"#N/A"},{"$error":"#N/A"},{"$error":"#N/A"},{"$error":"#N/A"},{"$f":"TRANSPOSE(MMULT($AE$10:$AG$12,TRANSPOSE(F1008:H1008)))","v":{"$error":"#N/A"}},{"$error":"#N/A"},{"$error":"#N/A"},{"$error":"#N/A"},{"$error":"#N/A"},{"$f":"TRANSPOSE(MMULT($AO$40:$AQ$42,TRANSPOSE(C1008:E1008)))","v":{"$error":"#N/A"}},{"$error":"#N/A"},{"$error":"#N/A"},{"$error":"#N/A"},{"$error":"#N/A"},{"$error":"#N/A"}]
[1009,{"$error":"#N/A"},{"$error":"#N/A"},{"$error":"#N/A"},{"$error":"#N/A"},{"$error":"#N/A"},{"$error":"#N/A"},{"$error":"#N/A"},{"$error":"#N/A"},{"$error":"#N/A"},{"$error":"#N/A"},{"$f":"IF($AK$38=0,TRANSPOSE(MMULT($O$10:$Q$12,TRANSPOSE(C1009:E1009))),TRANSPOSE(MMULT($O$10:$Q$12,TRANSPOSE(Y1009:AA1009))))","v":{"$error":"#N/A"}},{"$error":"#N/A"},{"$error":"#N/A"},{"$error":"#N/A"},{"$error":"#N/A"},{"$f":"TRANSPOSE(MMULT($AE$10:$AG$12,TRANSPOSE(F1009:H1009)))","v":{"$error":"#N/A"}},{"$error":"#N/A"},{"$error":"#N/A"},{"$error":"#N/A"},{"$error":"#N/A"},{"$f":"TRANSPOSE(MMULT($AO$40:$AQ$42,TRANSPOSE(C1009:E1009)))","v":{"$error":"#N/A"}},{"$error":"#N/A"},{"$error":"#N/A"},{"$error":"#N/A"},{"$error":"#N/A"},{"$error":"#N/A"}]
[1010,{"$error":"#N/A"},{"$error":"#N/A"},{"$error":"#N/A"},{"$error":"#N/A"},{"$error":"#N/A"},{"$error":"#N/A"},{"$error":"#N/A"},{"$error":"#N/A"},{"$error":"#N/A"},{"$error":"#N/A"},{"$f":"IF($AK$38=0,TRANSPOSE(MMULT($O$10:$Q$12,TRANSPOSE(C1010:E1010))),TRANSPOSE(MMULT($O$10:$Q$12,TRANSPOSE(Y1010:AA1010))))","v":{"$error":"#N/A"}},{"$error":"#N/A"},{"$error":"#N/A"},{"$error":"#N/A"},{"$error":"#N/A"},{"$f":"TRANSPOSE(MMULT($AE$10:$AG$12,TRANSPOSE(F1010:H1010)))","v":{"$error":"#N/A"}},{"$error":"#N/A"},{"$error":"#N/A"},{"$error":"#N/A"},{"$error":"#N/A"},{"$f":"TRANSPOSE(MMULT($AO$40:$AQ$42,TRANSPOSE(C1010:E1010)))","v":{"$error":"#N/A"}},{"$error":"#N/A"},{"$error":"#N/A"},{"$error":"#N/A"},{"$error":"#N/A"},{"$error":"#N/A"}]
[1011,{"$error":"#N/A"},{"$error":"#N/A"},{"$error":"#N/A"},{"$error":"#N/A"},{"$error":"#N/A"},{"$error":"#N/A"},{"$error":"#N/A"},{"$error":"#N/A"},{"$error":"#N/A"},{"$error":"#N/A"},{"$f":"IF($AK$38=0,TRANSPOSE(MMULT($O$10:$Q$12,TRANSPOSE(C1011:E1011))),TRANSPOSE(MMULT($O$10:$Q$12,TRANSPOSE(Y1011:AA1011))))","v":{"$error":"#N/A"}},{"$error":"#N/A"},{"$error":"#N/A"},{"$error":"#N/A"},{"$error":"#N/A"},{"$f":"TRANSPOSE(MMULT($AE$10:$AG$12,TRANSPOSE(F1011:H1011)))","v":{"$error":"#N/A"}},{"$error":"#N/A"},{"$error":"#N/A"},{"$error":"#N/A"},{"$error":"#N/A"},{"$f":"TRANSPOSE(MMULT($AO$40:$AQ$42,TRANSPOSE(C1011:E1011)))","v":{"$error":"#N/A"}},{"$error":"#N/A"},{"$error":"#N/A"},{"$error":"#N/A"},{"$error":"#N/A"},{"$error":"#N/A"}]
[1012,{"$error":"#N/A"},{"$f":"(C$4+F$4*$B1012+I$4*$B1012^2+L$4*$B1012^3+O$4*$B1012^4)+(C$5+F$5*$B1012+I$5*$B1012^2+L$5*$B1012^3+O$5*$B1012^5)*(COS(C$6+F$6*$B1012+I$6*$B1012^2+L$6*$B1012^3+O$6*$B1012^4))+(C$7+F$7*$B1012+I$7*$B1012^2+L$7*$B1012^3+O$7*$B1012^4)*(SIN(C$8+F$8*$B1012+I$8*$B1012^2+L$8*$B1012^3+O$8*$B1012^4))","v":{"$error":"#N/A"}},{"$f":"(D$4+G$4*$B1012+J$4*$B1012^2+M$4*$B1012^3+P$4*$B1012^4)+(D$5+G$5*$B1012+J$5*$B1012^2+M$5*$B1012^3+P$5*$B1012^5)*(COS(D$6+G$6*$B1012+J$6*$B1012^2+M$6*$B1012^3+P$6*$B1012^4))+(D$7+G$7*$B1012+J$7*$B1012^2+M$7*$B1012^3+P$7*$B1012^4)*(SIN(D$8+G$8*$B1012+J$8*$B1012^2+M$8*$B1012^3+P$8*$B1012^4))","v":{"$error":"#N/A"}},{"$f":"(E$4+H$4*$B1012+K$4*$B1012^2+N$4*$B1012^3+Q$4*$B1012^4)+(E$5+H$5*$B1012+K$5*$B1012^2+N$5*$B1012^3+Q$5*$B1012^5)*(COS(E$6+H$6*$B1012+K$6*$B1012^2+N$6*$B1012^3+Q$6*$B1012^4))+(E$7+H$7*$B1012+K$7*$B1012^2+N$7*$B1012^3+Q$7*$B1012^4)*(SIN(E$8+H$8*$B1012+K$8*$B1012^2+N$8*$B1012^3+Q$8*$B1012^4))","v":{"$error":"#N/A"}},{"$error":"#N/A"},{"$error":"#N/A"},{"$error":"#N/A"},{"$error":"#N/A"},{"$error":"#N/A"},{"$error":"#N/A"},{"$f":"IF($AK$38=0,TRANSPOSE(MMULT($O$10:$Q$12,TRANSPOSE(C1012:E1012))),TRANSPOSE(MMULT($O$10:$Q$12,TRANSPOSE(Y1012:AA1012))))","v":{"$error":"#N/A"}},{"$error":"#N/A"},{"$error":"#N/A"},{"$error":"#N/A"},{"$error":"#N/A"},{"$f":"TRANSPOSE(MMULT($AE$10:$AG$12,TRANSPOSE(F1012:H1012)))","v":{"$error":"#N/A"}},{"$error":"#N/A"},{"$error":"#N/A"},{"$error":"#N/A"},{"$error":"#N/A"},{"$f":"TRANSPOSE(MMULT($AO$40:$AQ$42,TRANSPOSE(C1012:E1012)))","v":{"$error":"#N/A"}},{"$error":"#N/A"},{"$error":"#N/A"},{"$error":"#N/A"},{"$error":"#N/A"},{"$error":"#N/A"}]
[1013,{"$error":"#N/A"},{"$error":"#N/A"},{"$error":"#N/A"},{"$error":"#N/A"},{"$error":"#N/A"},{"$error":"#N/A"},{"$error":"#N/A"},{"$error":"#N/A"},{"$error":"#N/A"},{"$error":"#N/A"},{"$f":"IF($AK$38=0,TRANSPOSE(MMULT($O$10:$Q$12,TRANSPOSE(C1013:E1013))),TRANSPOSE(MMULT($O$10:$Q$12,TRANSPOSE(Y1013:AA1013))))","v":{"$error":"#N/A"}},{"$error":"#N/A"},{"$error":"#N/A"},{"$error":"#N/A"},{"$error":"#N/A"},{"$f":"TRANSPOSE(MMULT($AE$10:$AG$12,TRANSPOSE(F1013:H1013)))","v":{"$error":"#N/A"}},{"$error":"#N/A"},{"$error":"#N/A"},{"$error":"#N/A"},{"$error":"#N/A"},{"$f":"TRANSPOSE(MMULT($AO$40:$AQ$42,TRANSPOSE(C1013:E1013)))","v":{"$error":"#N/A"}},{"$error":"#N/A"},{"$error":"#N/A"},{"$error":"#N/A"},{"$error":"#N/A"},{"$error":"#N/A"}]
[1014,{"$error":"#N/A"},{"$error":"#N/A"},{"$error":"#N/A"},{"$error":"#N/A"},{"$error":"#N/A"},{"$error":"#N/A"},{"$error":"#N/A"},{"$error":"#N/A"},{"$error":"#N/A"},{"$error":"#N/A"},{"$f":"IF($AK$38=0,TRANSPOSE(MMULT($O$10:$Q$12,TRANSPOSE(C1014:E1014))),TRANSPOSE(MMULT($O$10:$Q$12,TRANSPOSE(Y1014:AA1014))))","v":{"$error":"#N/A"}},{"$error":"#N/A"},{"$error":"#N/A"},{"$error":"#N/A"},{"$error":"#N/A"},{"$f":"TRANSPOSE(MMULT($AE$10:$AG$12,TRANSPOSE(F1014:H1014)))","v":{"$error":"#N/A"}},{"$error":"#N/A"},{"$error":"#N/A"},{"$error":"#N/A"},{"$error":"#N/A"},{"$f":"TRANSPOSE(MMULT($AO$40:$AQ$42,TRANSPOSE(C1014:E1014)))","v":{"$error":"#N/A"}},{"$error":"#N/A"},{"$error":"#N/A"},{"$error":"#N/A"},{"$error":"#N/A"},{"$error":"#N/A"}]
[1015,{"$error":"#N/A"},{"$error":"#N/A"},{"$error":"#N/A"},{"$error":"#N/A"},{"$error":"#N/A"},{"$error":"#N/A"},{"$error":"#N/A"},{"$error":"#N/A"},{"$error":"#N/A"},{"$error":"#N/A"},{"$f":"IF($AK$38=0,TRANSPOSE(MMULT($O$10:$Q$12,TRANSPOSE(C1015:E1015))),TRANSPOSE(MMULT($O$10:$Q$12,TRANSPOSE(Y1015:AA1015))))","v":{"$error":"#N/A"}},{"$error":"#N/A"},{"$error":"#N/A"},{"$error":"#N/A"},{"$error":"#N/A"},{"$f":"TRANSPOSE(MMULT($AE$10:$AG$12,TRANSPOSE(F1015:H1015)))","v":{"$error":"#N/A"}},{"$error":"#N/A"},{"$error":"#N/A"},{"$error":"#N/A"},{"$error":"#N/A"},{"$f":"TRANSPOSE(MMULT($AO$40:$AQ$42,TRANSPOSE(C1015:E1015)))","v":{"$error":"#N/A"}},{"$error":"#N/A"},{"$error":"#N/A"},{"$error":"#N/A"},{"$error":"#N/A"},{"$error":"#N/A"}]
[1016,{"$error":"#N/A"},{"$error":"#N/A"},{"$error":"#N/A"},{"$error":"#N/A"},{"$error":"#N/A"},{"$error":"#N/A"},{"$error":"#N/A"},{"$error":"#N/A"},{"$error":"#N/A"},{"$error":"#N/A"},{"$f":"IF($AK$38=0,TRANSPOSE(MMULT($O$10:$Q$12,TRANSPOSE(C1016:E1016))),TRANSPOSE(MMULT($O$10:$Q$12,TRANSPOSE(Y1016:AA1016))))","v":{"$error":"#N/A"}},{"$error":"#N/A"},{"$error":"#N/A"},{"$error":"#N/A"},{"$error":"#N/A"},{"$f":"TRANSPOSE(MMULT($AE$10:$AG$12,TRANSPOSE(F1016:H1016)))","v":{"$error":"#N/A"}},{"$error":"#N/A"},{"$error":"#N/A"},{"$error":"#N/A"},{"$error":"#N/A"},{"$f":"TRANSPOSE(MMULT($AO$40:$AQ$42,TRANSPOSE(C1016:E1016)))","v":{"$error":"#N/A"}},{"$error":"#N/A"},{"$error":"#N/A"},{"$error":"#N/A"},{"$error":"#N/A"},{"$error":"#N/A"}]

{"sheet":"Munka3","index":2,"n_rows":0,"n_cols":0,"rows_kept":0}